{"text_format":"1","workbook":"xlsx","n_sheets":8,"sheets":["Besoin Interim","Synthese","Modop","Prevision","Cycles","Calendrier","Annexe","Presence"],"not_rendered":{"charts":0,"images":0,"macros":1,"external_links":0,"defined_names":4,"comments":1,"pivot_tables":0},"unopened":[],"bounds":{"document_bytes":16777216,"sheet_cells":100000,"rows_first":2000,"rows_last":500,"rows_between":2000,"halvings":0,"cell_chars":16384,"cell_head_chars":4096},"cells_cut":0,"cells_raw":0,"read":"whole","date_system":"1900"}

{"sheet":"Besoin Interim","index":0,"n_rows":1625,"n_cols":30,"rows_kept":1625,"cut":false,"hidden":false,"merged":[]}
[]
[]
[]
[]
[]
[null,null,null,null,3,4,5,6,7,8,"1900-01-09","1900-01-10",11,12,13,14,15,16,17,18,19,20,21,22,23,24,25,"1900-01-26",27]
["Sem","Prévisions",null,null,"Nom","Prénom","Groupe","Sté Intérim","Cyc.","Ilôt","Date entrée","Date de fin","Remplacement / surcroit","nom agent rempl.","miss complement","Date fin 1er Avenant","Date fin 2nd Avenant","Valid. Déf. RT","Command. RH","saisie GA","Commentaires",null,null,null,null,null,null,"Date Debut","Date Fin","Délai de carence"]
[{"$f":"IF(K8=\"\",\"\",CONCATENATE(YEAR($K8),\"_S\",_xlfn.ISOWEEKNUM($K8)))","v":"2019_S1"},{"$f":"IF(K8=\"\",\"\",CONCATENATE(\"INT_\",ROW()))","v":"INT_8"},null,null,"AGENT","MOHAMED","FIXE MATIN","MANPOWER","FM-C01-S2","Stock","2019-01-02","2019-01-05","Surcroit d'activité","PEAK PERIODE",null,null,null,"rh","2019-01-02","NON",null,null,null,null,null,null,null,{"$f":"IF($K8>0,$K8,\"\")","v":"2019-01-02"},{"$f":"IF($L8>0,MAX($L8,$P8,$Q8),\"\")","v":"2019-01-05"}]
[{"$f":"IF(K9=\"\",\"\",CONCATENATE(YEAR($K9),\"_S\",_xlfn.ISOWEEKNUM($K9)))","v":"2019_S2"},{"$f":"IF(K9=\"\",\"\",CONCATENATE(\"INT_\",ROW()))","v":"INT_9"},null,null,"AGENT","SEBASTIEN","FIXE MATIN","ADECCO","FM-C01","Stock","2019-01-09","2019-01-11","Remplacement d'un agent absent","LEBOURGEOIS DAVID ATM",null,"2019-01-15",null,"RPROD","2019-01-09","NON",null,null,null,null,null,null,null,{"$f":"IF($K9>0,$K9,\"\")","v":"2019-01-09"},{"$f":"IF($L9>0,MAX($L9,$P9,$Q9),\"\")","v":"2019-01-15"}]
[{"$f":"IF(K10=\"\",\"\",CONCATENATE(YEAR($K10),\"_S\",_xlfn.ISOWEEKNUM($K10)))","v":"2019_S2"},{"$f":"IF(K10=\"\",\"\",CONCATENATE(\"INT_\",ROW()))","v":"INT_10"},null,null,"AGENT","ROSELYNE","FIXE MATIN","ADECCO","FM-C01","Stock","2019-01-09","2019-01-11","Remplacement d'un agent absent","DAMIANO SYLVIE ATM",null,"2019-01-15",null,"RPROD","2019-01-09","NON",null,null,null,null,null,null,null,{"$f":"IF($K10>0,$K10,\"\")","v":"2019-01-09"},{"$f":"IF($L10>0,MAX($L10,$P10,$Q10),\"\")","v":"2019-01-15"}]
[{"$f":"IF(K11=\"\",\"\",CONCATENATE(YEAR($K11),\"_S\",_xlfn.ISOWEEKNUM($K11)))","v":"2019_S2"},{"$f":"IF(K11=\"\",\"\",CONCATENATE(\"INT_\",ROW()))","v":"INT_11"},null,null,"AGENT","VALENTIN","FIXE MATIN","MANPOWER","FM-C01","Stock","2019-01-09","2019-01-11","Remplacement d'un agent absent","SIMON MARJOLAINE EN ATM",null,"2019-01-15",null,"RPROD","2019-01-09","NON",null,null,null,null,null,null,null,{"$f":"IF($K11>0,$K11,\"\")","v":"2019-01-09"},{"$f":"IF($L11>0,MAX($L11,$P11,$Q11),\"\")","v":"2019-01-15"}]
[{"$f":"IF(K12=\"\",\"\",CONCATENATE(YEAR($K12),\"_S\",_xlfn.ISOWEEKNUM($K12)))","v":"2019_S2"},{"$f":"IF(K12=\"\",\"\",CONCATENATE(\"INT_\",ROW()))","v":"INT_12"},null,null,"AGENT","KAYRA","FIXE MATIN","MANPOWER","FM-C01","Stock","2019-01-09","2019-01-11","Remplacement d'un agent absent","PAYET MAREI ANNICK CA",null,"2019-01-15",null,"RPROD","2019-01-09","NON",null,null,null,null,null,null,null,{"$f":"IF($K12>0,$K12,\"\")","v":"2019-01-09"},{"$f":"IF($L12>0,MAX($L12,$P12,$Q12),\"\")","v":"2019-01-15"}]
[{"$f":"IF(K13=\"\",\"\",CONCATENATE(YEAR($K13),\"_S\",_xlfn.ISOWEEKNUM($K13)))","v":"2019_S2"},{"$f":"IF(K13=\"\",\"\",CONCATENATE(\"INT_\",ROW()))","v":"INT_13"},null,null,"AGENT","SOPHIAN","FIXE MATIN","START PEOPLE","FM-C01","Stock","2019-01-09","2019-01-11","Remplacement d'un agent absent","BECQUERAEU JULIEN CA",null,"2019-01-12",null,"RPROD","2019-01-09","NON","KAFIF Youcef ou DE LAGASNERIE Pierre START PEOPLE",null,null,null,null,null,null,{"$f":"IF($K13>0,$K13,\"\")","v":"2019-01-09"},{"$f":"IF($L13>0,MAX($L13,$P13,$Q13),\"\")","v":"2019-01-12"}]
[{"$f":"IF(K14=\"\",\"\",CONCATENATE(YEAR($K14),\"_S\",_xlfn.ISOWEEKNUM($K14)))","v":"2019_S2"},{"$f":"IF(K14=\"\",\"\",CONCATENATE(\"INT_\",ROW()))","v":"INT_14"},null,null,"AGENT","Haingohasina","FIXE MATIN","RAS","FM-C01-S2","Stock","2019-01-09","2019-01-11","Remplacement d'un agent absent","LIGNE FLORENCE CA",null,"2019-01-15",null,"RPROD","2019-01-09","NON","VAROTTO Yann ou ROUZIES Kimberley ou LAABID Kaoutar MANPOWER",null,null,null,null,null,null,{"$f":"IF($K14>0,$K14,\"\")","v":"2019-01-09"},{"$f":"IF($L14>0,MAX($L14,$P14,$Q14),\"\")","v":"2019-01-15"}]
[]
[]
[]
[]
[]
[]
[]
[]
[]
[]
[]
[]
[]
[]
[]
[]
[{"$f":"IF(K31=\"\",\"\",CONCATENATE(YEAR($K31),\"_S\",_xlfn.ISOWEEKNUM($K31)))","v":""},{"$f":"IF(K31=\"\",\"\",CONCATENATE(\"INT_\",ROW()))","v":""},null,null,null,null,null,null,null,null,null,null,null,null,null,null,null,null,null,null,null,null,null,null,null,null,null,{"$f":"IF($K31>0,$K31,\"\")","v":""},{"$f":"IF($L31>0,MAX($L31,$P31,$Q31),\"\")","v":""}]
[{"$f":"IF(K32=\"\",\"\",CONCATENATE(YEAR($K32),\"_S\",_xlfn.ISOWEEKNUM($K32)))","v":""},{"$f":"IF(K32=\"\",\"\",CONCATENATE(\"INT_\",ROW()))","v":""},null,null,null,null,null,null,null,null,null,null,null,null,null,null,null,null,null,null,null,null,null,null,null,null,null,{"$f":"IF($K32>0,$K32,\"\")","v":""},{"$f":"IF($L32>0,MAX($L32,$P32,$Q32),\"\")","v":""}]
[{"$f":"IF(K33=\"\",\"\",CONCATENATE(YEAR($K33),\"_S\",_xlfn.ISOWEEKNUM($K33)))","v":""},{"$f":"IF(K33=\"\",\"\",CONCATENATE(\"INT_\",ROW()))","v":""},null,null,null,null,null,null,null,null,null,null,null,null,null,null,null,null,null,null,null,null,null,null,null,null,null,{"$f":"IF($K33>0,$K33,\"\")","v":""},{"$f":"IF($L33>0,MAX($L33,$P33,$Q33),\"\")","v":""}]
[{"$f":"IF(K34=\"\",\"\",CONCATENATE(YEAR($K34),\"_S\",_xlfn.ISOWEEKNUM($K34)))","v":""},{"$f":"IF(K34=\"\",\"\",CONCATENATE(\"INT_\",ROW()))","v":""},null,null,null,null,null,null,null,null,null,null,null,null,null,null,null,null,null,null,null,null,null,null,null,null,null,{"$f":"IF($K34>0,$K34,\"\")","v":""},{"$f":"IF($L34>0,MAX($L34,$P34,$Q34),\"\")","v":""}]
[{"$f":"IF(K35=\"\",\"\",CONCATENATE(YEAR($K35),\"_S\",_xlfn.ISOWEEKNUM($K35)))","v":""},{"$f":"IF(K35=\"\",\"\",CONCATENATE(\"INT_\",ROW()))","v":""},null,null,null,null,null,null,null,null,null,null,null,null,null,null,null,null,null,null,null,null,null,null,null,null,null,{"$f":"IF($K35>0,$K35,\"\")","v":""},{"$f":"IF($L35>0,MAX($L35,$P35,$Q35),\"\")","v":""}]
[{"$f":"IF(K36=\"\",\"\",CONCATENATE(YEAR($K36),\"_S\",_xlfn.ISOWEEKNUM($K36)))","v":""},{"$f":"IF(K36=\"\",\"\",CONCATENATE(\"INT_\",ROW()))","v":""},null,null,null,null,null,null,null,null,null,null,null,null,null,null,null,null,null,null,null,null,null,null,null,null,null,{"$f":"IF($K36>0,$K36,\"\")","v":""},{"$f":"IF($L36>0,MAX($L36,$P36,$Q36),\"\")","v":""}]
[{"$f":"IF(K37=\"\",\"\",CONCATENATE(YEAR($K37),\"_S\",_xlfn.ISOWEEKNUM($K37)))","v":""},{"$f":"IF(K37=\"\",\"\",CONCATENATE(\"INT_\",ROW()))","v":""},null,null,null,null,null,null,null,null,null,null,null,null,null,null,null,null,null,null,null,null,null,null,null,null,null,{"$f":"IF($K37>0,$K37,\"\")","v":""},{"$f":"IF($L37>0,MAX($L37,$P37,$Q37),\"\")","v":""}]
[{"$f":"IF(K38=\"\",\"\",CONCATENATE(YEAR($K38),\"_S\",_xlfn.ISOWEEKNUM($K38)))","v":""},{"$f":"IF(K38=\"\",\"\",CONCATENATE(\"INT_\",ROW()))","v":""},null,null,null,null,null,null,null,null,null,null,null,null,null,null,null,null,null,null,null,null,null,null,null,null,null,{"$f":"IF($K38>0,$K38,\"\")","v":""},{"$f":"IF($L38>0,MAX($L38,$P38,$Q38),\"\")","v":""}]
[{"$f":"IF(K39=\"\",\"\",CONCATENATE(YEAR($K39),\"_S\",_xlfn.ISOWEEKNUM($K39)))","v":""},{"$f":"IF(K39=\"\",\"\",CONCATENATE(\"INT_\",ROW()))","v":""},null,null,null,null,null,null,null,null,null,null,null,null,null,null,null,null,null,null,null,null,null,null,null,null,null,{"$f":"IF($K39>0,$K39,\"\")","v":""},{"$f":"IF($L39>0,MAX($L39,$P39,$Q39),\"\")","v":""}]
[{"$f":"IF(K40=\"\",\"\",CONCATENATE(YEAR($K40),\"_S\",_xlfn.ISOWEEKNUM($K40)))","v":""},{"$f":"IF(K40=\"\",\"\",CONCATENATE(\"INT_\",ROW()))","v":""},null,null,null,null,null,null,null,null,null,null,null,null,null,null,null,null,null,null,null,null,null,null,null,null,null,{"$f":"IF($K40>0,$K40,\"\")","v":""},{"$f":"IF($L40>0,MAX($L40,$P40,$Q40),\"\")","v":""}]
[{"$f":"IF(K41=\"\",\"\",CONCATENATE(YEAR($K41),\"_S\",_xlfn.ISOWEEKNUM($K41)))","v":""},{"$f":"IF(K41=\"\",\"\",CONCATENATE(\"INT_\",ROW()))","v":""},null,null,null,null,null,null,null,null,null,null,null,null,null,null,null,null,null,null,null,null,null,null,null,null,null,{"$f":"IF($K41>0,$K41,\"\")","v":""},{"$f":"IF($L41>0,MAX($L41,$P41,$Q41),\"\")","v":""}]
[{"$f":"IF(K42=\"\",\"\",CONCATENATE(YEAR($K42),\"_S\",_xlfn.ISOWEEKNUM($K42)))","v":""},{"$f":"IF(K42=\"\",\"\",CONCATENATE(\"INT_\",ROW()))","v":""},null,null,null,null,null,null,null,null,null,null,null,null,null,null,null,null,null,null,null,null,null,null,null,null,null,{"$f":"IF($K42>0,$K42,\"\")","v":""},{"$f":"IF($L42>0,MAX($L42,$P42,$Q42),\"\")","v":""}]
[{"$f":"IF(K43=\"\",\"\",CONCATENATE(YEAR($K43),\"_S\",_xlfn.ISOWEEKNUM($K43)))","v":""},{"$f":"IF(K43=\"\",\"\",CONCATENATE(\"INT_\",ROW()))","v":""},null,null,null,null,null,null,null,null,null,null,null,null,null,null,null,null,null,null,null,null,null,null,null,null,null,{"$f":"IF($K43>0,$K43,\"\")","v":""},{"$f":"IF($L43>0,MAX($L43,$P43,$Q43),\"\")","v":""}]
[{"$f":"IF(K44=\"\",\"\",CONCATENATE(YEAR($K44),\"_S\",_xlfn.ISOWEEKNUM($K44)))","v":""},{"$f":"IF(K44=\"\",\"\",CONCATENATE(\"INT_\",ROW()))","v":""},null,null,null,null,null,null,null,null,null,null,null,null,null,null,null,null,null,null,null,null,null,null,null,null,null,{"$f":"IF($K44>0,$K44,\"\")","v":""},{"$f":"IF($L44>0,MAX($L44,$P44,$Q44),\"\")","v":""}]
[{"$f":"IF(K45=\"\",\"\",CONCATENATE(YEAR($K45),\"_S\",_xlfn.ISOWEEKNUM($K45)))","v":""},{"$f":"IF(K45=\"\",\"\",CONCATENATE(\"INT_\",ROW()))","v":""},null,null,null,null,null,null,null,null,null,null,null,null,null,null,null,null,null,null,null,null,null,null,null,null,null,{"$f":"IF($K45>0,$K45,\"\")","v":""},{"$f":"IF($L45>0,MAX($L45,$P45,$Q45),\"\")","v":""}]
[{"$f":"IF(K46=\"\",\"\",CONCATENATE(YEAR($K46),\"_S\",_xlfn.ISOWEEKNUM($K46)))","v":""},{"$f":"IF(K46=\"\",\"\",CONCATENATE(\"INT_\",ROW()))","v":""},null,null,null,null,null,null,null,null,null,null,null,null,null,null,null,null,null,null,null,null,null,null,null,null,null,{"$f":"IF($K46>0,$K46,\"\")","v":""},{"$f":"IF($L46>0,MAX($L46,$P46,$Q46),\"\")","v":""}]
[{"$f":"IF(K47=\"\",\"\",CONCATENATE(YEAR($K47),\"_S\",_xlfn.ISOWEEKNUM($K47)))","v":""},{"$f":"IF(K47=\"\",\"\",CONCATENATE(\"INT_\",ROW()))","v":""},null,null,null,null,null,null,null,null,null,null,null,null,null,null,null,null,null,null,null,null,null,null,null,null,null,{"$f":"IF($K47>0,$K47,\"\")","v":""},{"$f":"IF($L47>0,MAX($L47,$P47,$Q47),\"\")","v":""}]
[{"$f":"IF(K48=\"\",\"\",CONCATENATE(YEAR($K48),\"_S\",_xlfn.ISOWEEKNUM($K48)))","v":""},{"$f":"IF(K48=\"\",\"\",CONCATENATE(\"INT_\",ROW()))","v":""},null,null,null,null,null,null,null,null,null,null,null,null,null,null,null,null,null,null,null,null,null,null,null,null,null,{"$f":"IF($K48>0,$K48,\"\")","v":""},{"$f":"IF($L48>0,MAX($L48,$P48,$Q48),\"\")","v":""}]
[{"$f":"IF(K49=\"\",\"\",CONCATENATE(YEAR($K49),\"_S\",_xlfn.ISOWEEKNUM($K49)))","v":""},{"$f":"IF(K49=\"\",\"\",CONCATENATE(\"INT_\",ROW()))","v":""},null,null,null,null,null,null,null,null,null,null,null,null,null,null,null,null,null,null,null,null,null,null,null,null,null,{"$f":"IF($K49>0,$K49,\"\")","v":""},{"$f":"IF($L49>0,MAX($L49,$P49,$Q49),\"\")","v":""}]
[{"$f":"IF(K50=\"\",\"\",CONCATENATE(YEAR($K50),\"_S\",_xlfn.ISOWEEKNUM($K50)))","v":""},{"$f":"IF(K50=\"\",\"\",CONCATENATE(\"INT_\",ROW()))","v":""},null,null,null,null,null,null,null,null,null,null,null,null,null,null,null,null,null,null,null,null,null,null,null,null,null,{"$f":"IF($K50>0,$K50,\"\")","v":""},{"$f":"IF($L50>0,MAX($L50,$P50,$Q50),\"\")","v":""}]
[{"$f":"IF(K51=\"\",\"\",CONCATENATE(YEAR($K51),\"_S\",_xlfn.ISOWEEKNUM($K51)))","v":""},{"$f":"IF(K51=\"\",\"\",CONCATENATE(\"INT_\",ROW()))","v":""},null,null,null,null,null,null,null,null,null,null,null,null,null,null,null,null,null,null,null,null,null,null,null,null,null,{"$f":"IF($K51>0,$K51,\"\")","v":""},{"$f":"IF($L51>0,MAX($L51,$P51,$Q51),\"\")","v":""}]
[{"$f":"IF(K52=\"\",\"\",CONCATENATE(YEAR($K52),\"_S\",_xlfn.ISOWEEKNUM($K52)))","v":""},{"$f":"IF(K52=\"\",\"\",CONCATENATE(\"INT_\",ROW()))","v":""},null,null,null,null,null,null,null,null,null,null,null,null,null,null,null,null,null,null,null,null,null,null,null,null,null,{"$f":"IF($K52>0,$K52,\"\")","v":""},{"$f":"IF($L52>0,MAX($L52,$P52,$Q52),\"\")","v":""}]
[{"$f":"IF(K53=\"\",\"\",CONCATENATE(YEAR($K53),\"_S\",_xlfn.ISOWEEKNUM($K53)))","v":""},{"$f":"IF(K53=\"\",\"\",CONCATENATE(\"INT_\",ROW()))","v":""},null,null,null,null,null,null,null,null,null,null,null,null,null,null,null,null,null,null,null,null,null,null,null,null,null,{"$f":"IF($K53>0,$K53,\"\")","v":""},{"$f":"IF($L53>0,MAX($L53,$P53,$Q53),\"\")","v":""}]
[{"$f":"IF(K54=\"\",\"\",CONCATENATE(YEAR($K54),\"_S\",_xlfn.ISOWEEKNUM($K54)))","v":""},{"$f":"IF(K54=\"\",\"\",CONCATENATE(\"INT_\",ROW()))","v":""},null,null,null,null,null,null,null,null,null,null,null,null,null,null,null,null,null,null,null,null,null,null,null,null,null,{"$f":"IF($K54>0,$K54,\"\")","v":""},{"$f":"IF($L54>0,MAX($L54,$P54,$Q54),\"\")","v":""}]
[{"$f":"IF(K55=\"\",\"\",CONCATENATE(YEAR($K55),\"_S\",_xlfn.ISOWEEKNUM($K55)))","v":""},{"$f":"IF(K55=\"\",\"\",CONCATENATE(\"INT_\",ROW()))","v":""},null,null,null,null,null,null,null,null,null,null,null,null,null,null,null,null,null,null,null,null,null,null,null,null,null,{"$f":"IF($K55>0,$K55,\"\")","v":""},{"$f":"IF($L55>0,MAX($L55,$P55,$Q55),\"\")","v":""}]
[{"$f":"IF(K56=\"\",\"\",CONCATENATE(YEAR($K56),\"_S\",_xlfn.ISOWEEKNUM($K56)))","v":""},{"$f":"IF(K56=\"\",\"\",CONCATENATE(\"INT_\",ROW()))","v":""},null,null,null,null,null,null,null,null,null,null,null,null,null,null,null,null,null,null,null,null,null,null,null,null,null,{"$f":"IF($K56>0,$K56,\"\")","v":""},{"$f":"IF($L56>0,MAX($L56,$P56,$Q56),\"\")","v":""}]
[{"$f":"IF(K57=\"\",\"\",CONCATENATE(YEAR($K57),\"_S\",_xlfn.ISOWEEKNUM($K57)))","v":""},{"$f":"IF(K57=\"\",\"\",CONCATENATE(\"INT_\",ROW()))","v":""},null,null,null,null,null,null,null,null,null,null,null,null,null,null,null,null,null,null,null,null,null,null,null,null,null,{"$f":"IF($K57>0,$K57,\"\")","v":""},{"$f":"IF($L57>0,MAX($L57,$P57,$Q57),\"\")","v":""}]
[{"$f":"IF(K58=\"\",\"\",CONCATENATE(YEAR($K58),\"_S\",_xlfn.ISOWEEKNUM($K58)))","v":""},{"$f":"IF(K58=\"\",\"\",CONCATENATE(\"INT_\",ROW()))","v":""},null,null,null,null,null,null,null,null,null,null,null,null,null,null,null,null,null,null,null,null,null,null,null,null,null,{"$f":"IF($K58>0,$K58,\"\")","v":""},{"$f":"IF($L58>0,MAX($L58,$P58,$Q58),\"\")","v":""}]
[{"$f":"IF(K59=\"\",\"\",CONCATENATE(YEAR($K59),\"_S\",_xlfn.ISOWEEKNUM($K59)))","v":""},{"$f":"IF(K59=\"\",\"\",CONCATENATE(\"INT_\",ROW()))","v":""},null,null,null,null,null,null,null,null,null,null,null,null,null,null,null,null,null,null,null,null,null,null,null,null,null,{"$f":"IF($K59>0,$K59,\"\")","v":""},{"$f":"IF($L59>0,MAX($L59,$P59,$Q59),\"\")","v":""}]
[{"$f":"IF(K60=\"\",\"\",CONCATENATE(YEAR($K60),\"_S\",_xlfn.ISOWEEKNUM($K60)))","v":""},{"$f":"IF(K60=\"\",\"\",CONCATENATE(\"INT_\",ROW()))","v":""},null,null,null,null,null,null,null,null,null,null,null,null,null,null,null,null,null,null,null,null,null,null,null,null,null,{"$f":"IF($K60>0,$K60,\"\")","v":""},{"$f":"IF($L60>0,MAX($L60,$P60,$Q60),\"\")","v":""}]
[{"$f":"IF(K61=\"\",\"\",CONCATENATE(YEAR($K61),\"_S\",_xlfn.ISOWEEKNUM($K61)))","v":""},{"$f":"IF(K61=\"\",\"\",CONCATENATE(\"INT_\",ROW()))","v":""},null,null,null,null,null,null,null,null,null,null,null,null,null,null,null,null,null,null,null,null,null,null,null,null,null,{"$f":"IF($K61>0,$K61,\"\")","v":""},{"$f":"IF($L61>0,MAX($L61,$P61,$Q61),\"\")","v":""}]
[{"$f":"IF(K62=\"\",\"\",CONCATENATE(YEAR($K62),\"_S\",_xlfn.ISOWEEKNUM($K62)))","v":""},{"$f":"IF(K62=\"\",\"\",CONCATENATE(\"INT_\",ROW()))","v":""},null,null,null,null,null,null,null,null,null,null,null,null,null,null,null,null,null,null,null,null,null,null,null,null,null,{"$f":"IF($K62>0,$K62,\"\")","v":""},{"$f":"IF($L62>0,MAX($L62,$P62,$Q62),\"\")","v":""}]
[{"$f":"IF(K63=\"\",\"\",CONCATENATE(YEAR($K63),\"_S\",_xlfn.ISOWEEKNUM($K63)))","v":""},{"$f":"IF(K63=\"\",\"\",CONCATENATE(\"INT_\",ROW()))","v":""},null,null,null,null,null,null,null,null,null,null,null,null,null,null,null,null,null,null,null,null,null,null,null,null,null,{"$f":"IF($K63>0,$K63,\"\")","v":""},{"$f":"IF($L63>0,MAX($L63,$P63,$Q63),\"\")","v":""}]
[{"$f":"IF(K64=\"\",\"\",CONCATENATE(YEAR($K64),\"_S\",_xlfn.ISOWEEKNUM($K64)))","v":""},{"$f":"IF(K64=\"\",\"\",CONCATENATE(\"INT_\",ROW()))","v":""},null,null,null,null,null,null,null,null,null,null,null,null,null,null,null,null,null,null,null,null,null,null,null,null,null,{"$f":"IF($K64>0,$K64,\"\")","v":""},{"$f":"IF($L64>0,MAX($L64,$P64,$Q64),\"\")","v":""}]
[{"$f":"IF(K65=\"\",\"\",CONCATENATE(YEAR($K65),\"_S\",_xlfn.ISOWEEKNUM($K65)))","v":""},{"$f":"IF(K65=\"\",\"\",CONCATENATE(\"INT_\",ROW()))","v":""},null,null,null,null,null,null,null,null,null,null,null,null,null,null,null,null,null,null,null,null,null,null,null,null,null,{"$f":"IF($K65>0,$K65,\"\")","v":""},{"$f":"IF($L65>0,MAX($L65,$P65,$Q65),\"\")","v":""}]
[{"$f":"IF(K66=\"\",\"\",CONCATENATE(YEAR($K66),\"_S\",_xlfn.ISOWEEKNUM($K66)))","v":""},{"$f":"IF(K66=\"\",\"\",CONCATENATE(\"INT_\",ROW()))","v":""},null,null,null,null,null,null,null,null,null,null,null,null,null,null,null,null,null,null,null,null,null,null,null,null,null,{"$f":"IF($K66>0,$K66,\"\")","v":""},{"$f":"IF($L66>0,MAX($L66,$P66,$Q66),\"\")","v":""}]
[{"$f":"IF(K67=\"\",\"\",CONCATENATE(YEAR($K67),\"_S\",_xlfn.ISOWEEKNUM($K67)))","v":""},{"$f":"IF(K67=\"\",\"\",CONCATENATE(\"INT_\",ROW()))","v":""},null,null,null,null,null,null,null,null,null,null,null,null,null,null,null,null,null,null,null,null,null,null,null,null,null,{"$f":"IF($K67>0,$K67,\"\")","v":""},{"$f":"IF($L67>0,MAX($L67,$P67,$Q67),\"\")","v":""}]
[{"$f":"IF(K68=\"\",\"\",CONCATENATE(YEAR($K68),\"_S\",_xlfn.ISOWEEKNUM($K68)))","v":""},{"$f":"IF(K68=\"\",\"\",CONCATENATE(\"INT_\",ROW()))","v":""},null,null,null,null,null,null,null,null,null,null,null,null,null,null,null,null,null,null,null,null,null,null,null,null,null,{"$f":"IF($K68>0,$K68,\"\")","v":""},{"$f":"IF($L68>0,MAX($L68,$P68,$Q68),\"\")","v":""}]
[{"$f":"IF(K69=\"\",\"\",CONCATENATE(YEAR($K69),\"_S\",_xlfn.ISOWEEKNUM($K69)))","v":""},{"$f":"IF(K69=\"\",\"\",CONCATENATE(\"INT_\",ROW()))","v":""},null,null,null,null,null,null,null,null,null,null,null,null,null,null,null,null,null,null,null,null,null,null,null,null,null,{"$f":"IF($K69>0,$K69,\"\")","v":""},{"$f":"IF($L69>0,MAX($L69,$P69,$Q69),\"\")","v":""}]
[{"$f":"IF(K70=\"\",\"\",CONCATENATE(YEAR($K70),\"_S\",_xlfn.ISOWEEKNUM($K70)))","v":""},{"$f":"IF(K70=\"\",\"\",CONCATENATE(\"INT_\",ROW()))","v":""},null,null,null,null,null,null,null,null,null,null,null,null,null,null,null,null,null,null,null,null,null,null,null,null,null,{"$f":"IF($K70>0,$K70,\"\")","v":""},{"$f":"IF($L70>0,MAX($L70,$P70,$Q70),\"\")","v":""}]
[{"$f":"IF(K71=\"\",\"\",CONCATENATE(YEAR($K71),\"_S\",_xlfn.ISOWEEKNUM($K71)))","v":""},{"$f":"IF(K71=\"\",\"\",CONCATENATE(\"INT_\",ROW()))","v":""},null,null,null,null,null,null,null,null,null,null,null,null,null,null,null,null,null,null,null,null,null,null,null,null,null,{"$f":"IF($K71>0,$K71,\"\")","v":""},{"$f":"IF($L71>0,MAX($L71,$P71,$Q71),\"\")","v":""}]
[{"$f":"IF(K72=\"\",\"\",CONCATENATE(YEAR($K72),\"_S\",_xlfn.ISOWEEKNUM($K72)))","v":""},{"$f":"IF(K72=\"\",\"\",CONCATENATE(\"INT_\",ROW()))","v":""},null,null,null,null,null,null,null,null,null,null,null,null,null,null,null,null,null,null,null,null,null,null,null,null,null,{"$f":"IF($K72>0,$K72,\"\")","v":""},{"$f":"IF($L72>0,MAX($L72,$P72,$Q72),\"\")","v":""}]
[{"$f":"IF(K73=\"\",\"\",CONCATENATE(YEAR($K73),\"_S\",_xlfn.ISOWEEKNUM($K73)))","v":""},{"$f":"IF(K73=\"\",\"\",CONCATENATE(\"INT_\",ROW()))","v":""},null,null,null,null,null,null,null,null,null,null,null,null,null,null,null,null,null,null,null,null,null,null,null,null,null,{"$f":"IF($K73>0,$K73,\"\")","v":""},{"$f":"IF($L73>0,MAX($L73,$P73,$Q73),\"\")","v":""}]
[{"$f":"IF(K74=\"\",\"\",CONCATENATE(YEAR($K74),\"_S\",_xlfn.ISOWEEKNUM($K74)))","v":""},{"$f":"IF(K74=\"\",\"\",CONCATENATE(\"INT_\",ROW()))","v":""},null,null,null,null,null,null,null,null,null,null,null,null,null,null,null,null,null,null,null,null,null,null,null,null,null,{"$f":"IF($K74>0,$K74,\"\")","v":""},{"$f":"IF($L74>0,MAX($L74,$P74,$Q74),\"\")","v":""}]
[{"$f":"IF(K75=\"\",\"\",CONCATENATE(YEAR($K75),\"_S\",_xlfn.ISOWEEKNUM($K75)))","v":""},{"$f":"IF(K75=\"\",\"\",CONCATENATE(\"INT_\",ROW()))","v":""},null,null,null,null,null,null,null,null,null,null,null,null,null,null,null,null,null,null,null,null,null,null,null,null,null,{"$f":"IF($K75>0,$K75,\"\")","v":""},{"$f":"IF($L75>0,MAX($L75,$P75,$Q75),\"\")","v":""}]
[{"$f":"IF(K76=\"\",\"\",CONCATENATE(YEAR($K76),\"_S\",_xlfn.ISOWEEKNUM($K76)))","v":""},{"$f":"IF(K76=\"\",\"\",CONCATENATE(\"INT_\",ROW()))","v":""},null,null,null,null,null,null,null,null,null,null,null,null,null,null,null,null,null,null,null,null,null,null,null,null,null,{"$f":"IF($K76>0,$K76,\"\")","v":""},{"$f":"IF($L76>0,MAX($L76,$P76,$Q76),\"\")","v":""}]
[{"$f":"IF(K77=\"\",\"\",CONCATENATE(YEAR($K77),\"_S\",_xlfn.ISOWEEKNUM($K77)))","v":""},{"$f":"IF(K77=\"\",\"\",CONCATENATE(\"INT_\",ROW()))","v":""},null,null,null,null,null,null,null,null,null,null,null,null,null,null,null,null,null,null,null,null,null,null,null,null,null,{"$f":"IF($K77>0,$K77,\"\")","v":""},{"$f":"IF($L77>0,MAX($L77,$P77,$Q77),\"\")","v":""}]
[{"$f":"IF(K78=\"\",\"\",CONCATENATE(YEAR($K78),\"_S\",_xlfn.ISOWEEKNUM($K78)))","v":""},{"$f":"IF(K78=\"\",\"\",CONCATENATE(\"INT_\",ROW()))","v":""},null,null,null,null,null,null,null,null,null,null,null,null,null,null,null,null,null,null,null,null,null,null,null,null,null,{"$f":"IF($K78>0,$K78,\"\")","v":""},{"$f":"IF($L78>0,MAX($L78,$P78,$Q78),\"\")","v":""}]
[{"$f":"IF(K79=\"\",\"\",CONCATENATE(YEAR($K79),\"_S\",_xlfn.ISOWEEKNUM($K79)))","v":""},{"$f":"IF(K79=\"\",\"\",CONCATENATE(\"INT_\",ROW()))","v":""},null,null,null,null,null,null,null,null,null,null,null,null,null,null,null,null,null,null,null,null,null,null,null,null,null,{"$f":"IF($K79>0,$K79,\"\")","v":""},{"$f":"IF($L79>0,MAX($L79,$P79,$Q79),\"\")","v":""}]
[{"$f":"IF(K80=\"\",\"\",CONCATENATE(YEAR($K80),\"_S\",_xlfn.ISOWEEKNUM($K80)))","v":""},{"$f":"IF(K80=\"\",\"\",CONCATENATE(\"INT_\",ROW()))","v":""},null,null,null,null,null,null,null,null,null,null,null,null,null,null,null,null,null,null,null,null,null,null,null,null,null,{"$f":"IF($K80>0,$K80,\"\")","v":""},{"$f":"IF($L80>0,MAX($L80,$P80,$Q80),\"\")","v":""}]
[{"$f":"IF(K81=\"\",\"\",CONCATENATE(YEAR($K81),\"_S\",_xlfn.ISOWEEKNUM($K81)))","v":""},{"$f":"IF(K81=\"\",\"\",CONCATENATE(\"INT_\",ROW()))","v":""},null,null,null,null,null,null,null,null,null,null,null,null,null,null,null,null,null,null,null,null,null,null,null,null,null,{"$f":"IF($K81>0,$K81,\"\")","v":""},{"$f":"IF($L81>0,MAX($L81,$P81,$Q81),\"\")","v":""}]
[{"$f":"IF(K82=\"\",\"\",CONCATENATE(YEAR($K82),\"_S\",_xlfn.ISOWEEKNUM($K82)))","v":""},{"$f":"IF(K82=\"\",\"\",CONCATENATE(\"INT_\",ROW()))","v":""},null,null,null,null,null,null,null,null,null,null,null,null,null,null,null,null,null,null,null,null,null,null,null,null,null,{"$f":"IF($K82>0,$K82,\"\")","v":""},{"$f":"IF($L82>0,MAX($L82,$P82,$Q82),\"\")","v":""}]
[{"$f":"IF(K83=\"\",\"\",CONCATENATE(YEAR($K83),\"_S\",_xlfn.ISOWEEKNUM($K83)))","v":""},{"$f":"IF(K83=\"\",\"\",CONCATENATE(\"INT_\",ROW()))","v":""},null,null,null,null,null,null,null,null,null,null,null,null,null,null,null,null,null,null,null,null,null,null,null,null,null,{"$f":"IF($K83>0,$K83,\"\")","v":""},{"$f":"IF($L83>0,MAX($L83,$P83,$Q83),\"\")","v":""}]
[{"$f":"IF(K84=\"\",\"\",CONCATENATE(YEAR($K84),\"_S\",_xlfn.ISOWEEKNUM($K84)))","v":""},{"$f":"IF(K84=\"\",\"\",CONCATENATE(\"INT_\",ROW()))","v":""},null,null,null,null,null,null,null,null,null,null,null,null,null,null,null,null,null,null,null,null,null,null,null,null,null,{"$f":"IF($K84>0,$K84,\"\")","v":""},{"$f":"IF($L84>0,MAX($L84,$P84,$Q84),\"\")","v":""}]
[{"$f":"IF(K85=\"\",\"\",CONCATENATE(YEAR($K85),\"_S\",_xlfn.ISOWEEKNUM($K85)))","v":""},{"$f":"IF(K85=\"\",\"\",CONCATENATE(\"INT_\",ROW()))","v":""},null,null,null,null,null,null,null,null,null,null,null,null,null,null,null,null,null,null,null,null,null,null,null,null,null,{"$f":"IF($K85>0,$K85,\"\")","v":""},{"$f":"IF($L85>0,MAX($L85,$P85,$Q85),\"\")","v":""}]
[{"$f":"IF(K86=\"\",\"\",CONCATENATE(YEAR($K86),\"_S\",_xlfn.ISOWEEKNUM($K86)))","v":""},{"$f":"IF(K86=\"\",\"\",CONCATENATE(\"INT_\",ROW()))","v":""},null,null,null,null,null,null,null,null,null,null,null,null,null,null,null,null,null,null,null,null,null,null,null,null,null,{"$f":"IF($K86>0,$K86,\"\")","v":""},{"$f":"IF($L86>0,MAX($L86,$P86,$Q86),\"\")","v":""}]
[{"$f":"IF(K87=\"\",\"\",CONCATENATE(YEAR($K87),\"_S\",_xlfn.ISOWEEKNUM($K87)))","v":""},{"$f":"IF(K87=\"\",\"\",CONCATENATE(\"INT_\",ROW()))","v":""},null,null,null,null,null,null,null,null,null,null,null,null,null,null,null,null,null,null,null,null,null,null,null,null,null,{"$f":"IF($K87>0,$K87,\"\")","v":""},{"$f":"IF($L87>0,MAX($L87,$P87,$Q87),\"\")","v":""}]
[{"$f":"IF(K88=\"\",\"\",CONCATENATE(YEAR($K88),\"_S\",_xlfn.ISOWEEKNUM($K88)))","v":""},{"$f":"IF(K88=\"\",\"\",CONCATENATE(\"INT_\",ROW()))","v":""},null,null,null,null,null,null,null,null,null,null,null,null,null,null,null,null,null,null,null,null,null,null,null,null,null,{"$f":"IF($K88>0,$K88,\"\")","v":""},{"$f":"IF($L88>0,MAX($L88,$P88,$Q88),\"\")","v":""}]
[{"$f":"IF(K89=\"\",\"\",CONCATENATE(YEAR($K89),\"_S\",_xlfn.ISOWEEKNUM($K89)))","v":""},{"$f":"IF(K89=\"\",\"\",CONCATENATE(\"INT_\",ROW()))","v":""},null,null,null,null,null,null,null,null,null,null,null,null,null,null,null,null,null,null,null,null,null,null,null,null,null,{"$f":"IF($K89>0,$K89,\"\")","v":""},{"$f":"IF($L89>0,MAX($L89,$P89,$Q89),\"\")","v":""}]
[{"$f":"IF(K90=\"\",\"\",CONCATENATE(YEAR($K90),\"_S\",_xlfn.ISOWEEKNUM($K90)))","v":""},{"$f":"IF(K90=\"\",\"\",CONCATENATE(\"INT_\",ROW()))","v":""},null,null,null,null,null,null,null,null,null,null,null,null,null,null,null,null,null,null,null,null,null,null,null,null,null,{"$f":"IF($K90>0,$K90,\"\")","v":""},{"$f":"IF($L90>0,MAX($L90,$P90,$Q90),\"\")","v":""}]
[{"$f":"IF(K91=\"\",\"\",CONCATENATE(YEAR($K91),\"_S\",_xlfn.ISOWEEKNUM($K91)))","v":""},{"$f":"IF(K91=\"\",\"\",CONCATENATE(\"INT_\",ROW()))","v":""},null,null,null,null,null,null,null,null,null,null,null,null,null,null,null,null,null,null,null,null,null,null,null,null,null,{"$f":"IF($K91>0,$K91,\"\")","v":""},{"$f":"IF($L91>0,MAX($L91,$P91,$Q91),\"\")","v":""}]
[{"$f":"IF(K92=\"\",\"\",CONCATENATE(YEAR($K92),\"_S\",_xlfn.ISOWEEKNUM($K92)))","v":""},{"$f":"IF(K92=\"\",\"\",CONCATENATE(\"INT_\",ROW()))","v":""},null,null,null,null,null,null,null,null,null,null,null,null,null,null,null,null,null,null,null,null,null,null,null,null,null,{"$f":"IF($K92>0,$K92,\"\")","v":""},{"$f":"IF($L92>0,MAX($L92,$P92,$Q92),\"\")","v":""}]
[{"$f":"IF(K93=\"\",\"\",CONCATENATE(YEAR($K93),\"_S\",_xlfn.ISOWEEKNUM($K93)))","v":""},{"$f":"IF(K93=\"\",\"\",CONCATENATE(\"INT_\",ROW()))","v":""},null,null,null,null,null,null,null,null,null,null,null,null,null,null,null,null,null,null,null,null,null,null,null,null,null,{"$f":"IF($K93>0,$K93,\"\")","v":""},{"$f":"IF($L93>0,MAX($L93,$P93,$Q93),\"\")","v":""}]
[{"$f":"IF(K94=\"\",\"\",CONCATENATE(YEAR($K94),\"_S\",_xlfn.ISOWEEKNUM($K94)))","v":""},{"$f":"IF(K94=\"\",\"\",CONCATENATE(\"INT_\",ROW()))","v":""},null,null,null,null,null,null,null,null,null,null,null,null,null,null,null,null,null,null,null,null,null,null,null,null,null,{"$f":"IF($K94>0,$K94,\"\")","v":""},{"$f":"IF($L94>0,MAX($L94,$P94,$Q94),\"\")","v":""}]
[{"$f":"IF(K95=\"\",\"\",CONCATENATE(YEAR($K95),\"_S\",_xlfn.ISOWEEKNUM($K95)))","v":""},{"$f":"IF(K95=\"\",\"\",CONCATENATE(\"INT_\",ROW()))","v":""},null,null,null,null,null,null,null,null,null,null,null,null,null,null,null,null,null,null,null,null,null,null,null,null,null,{"$f":"IF($K95>0,$K95,\"\")","v":""},{"$f":"IF($L95>0,MAX($L95,$P95,$Q95),\"\")","v":""}]
[{"$f":"IF(K96=\"\",\"\",CONCATENATE(YEAR($K96),\"_S\",_xlfn.ISOWEEKNUM($K96)))","v":""},{"$f":"IF(K96=\"\",\"\",CONCATENATE(\"INT_\",ROW()))","v":""},null,null,null,null,null,null,null,null,null,null,null,null,null,null,null,null,null,null,null,null,null,null,null,null,null,{"$f":"IF($K96>0,$K96,\"\")","v":""},{"$f":"IF($L96>0,MAX($L96,$P96,$Q96),\"\")","v":""}]
[{"$f":"IF(K97=\"\",\"\",CONCATENATE(YEAR($K97),\"_S\",_xlfn.ISOWEEKNUM($K97)))","v":""},{"$f":"IF(K97=\"\",\"\",CONCATENATE(\"INT_\",ROW()))","v":""},null,null,null,null,null,null,null,null,null,null,null,null,null,null,null,null,null,null,null,null,null,null,null,null,null,{"$f":"IF($K97>0,$K97,\"\")","v":""},{"$f":"IF($L97>0,MAX($L97,$P97,$Q97),\"\")","v":""}]
[{"$f":"IF(K98=\"\",\"\",CONCATENATE(YEAR($K98),\"_S\",_xlfn.ISOWEEKNUM($K98)))","v":""},{"$f":"IF(K98=\"\",\"\",CONCATENATE(\"INT_\",ROW()))","v":""},null,null,null,null,null,null,null,null,null,null,null,null,null,null,null,null,null,null,null,null,null,null,null,null,null,{"$f":"IF($K98>0,$K98,\"\")","v":""},{"$f":"IF($L98>0,MAX($L98,$P98,$Q98),\"\")","v":""}]
[{"$f":"IF(K99=\"\",\"\",CONCATENATE(YEAR($K99),\"_S\",_xlfn.ISOWEEKNUM($K99)))","v":""},{"$f":"IF(K99=\"\",\"\",CONCATENATE(\"INT_\",ROW()))","v":""},null,null,null,null,null,null,null,null,null,null,null,null,null,null,null,null,null,null,null,null,null,null,null,null,null,{"$f":"IF($K99>0,$K99,\"\")","v":""},{"$f":"IF($L99>0,MAX($L99,$P99,$Q99),\"\")","v":""}]
[{"$f":"IF(K100=\"\",\"\",CONCATENATE(YEAR($K100),\"_S\",_xlfn.ISOWEEKNUM($K100)))","v":""},{"$f":"IF(K100=\"\",\"\",CONCATENATE(\"INT_\",ROW()))","v":""},null,null,null,null,null,null,null,null,null,null,null,null,null,null,null,null,null,null,null,null,null,null,null,null,null,{"$f":"IF($K100>0,$K100,\"\")","v":""},{"$f":"IF($L100>0,MAX($L100,$P100,$Q100),\"\")","v":""}]
[{"$f":"IF(K101=\"\",\"\",CONCATENATE(YEAR($K101),\"_S\",_xlfn.ISOWEEKNUM($K101)))","v":""},{"$f":"IF(K101=\"\",\"\",CONCATENATE(\"INT_\",ROW()))","v":""},null,null,null,null,null,null,null,null,null,null,null,null,null,null,null,null,null,null,null,null,null,null,null,null,null,{"$f":"IF($K101>0,$K101,\"\")","v":""},{"$f":"IF($L101>0,MAX($L101,$P101,$Q101),\"\")","v":""}]
[{"$f":"IF(K102=\"\",\"\",CONCATENATE(YEAR($K102),\"_S\",_xlfn.ISOWEEKNUM($K102)))","v":""},{"$f":"IF(K102=\"\",\"\",CONCATENATE(\"INT_\",ROW()))","v":""},null,null,null,null,null,null,null,null,null,null,null,null,null,null,null,null,null,null,null,null,null,null,null,null,null,{"$f":"IF($K102>0,$K102,\"\")","v":""},{"$f":"IF($L102>0,MAX($L102,$P102,$Q102),\"\")","v":""}]
[{"$f":"IF(K103=\"\",\"\",CONCATENATE(YEAR($K103),\"_S\",_xlfn.ISOWEEKNUM($K103)))","v":""},{"$f":"IF(K103=\"\",\"\",CONCATENATE(\"INT_\",ROW()))","v":""},null,null,null,null,null,null,null,null,null,null,null,null,null,null,null,null,null,null,null,null,null,null,null,null,null,{"$f":"IF($K103>0,$K103,\"\")","v":""},{"$f":"IF($L103>0,MAX($L103,$P103,$Q103),\"\")","v":""}]
[{"$f":"IF(K104=\"\",\"\",CONCATENATE(YEAR($K104),\"_S\",_xlfn.ISOWEEKNUM($K104)))","v":""},{"$f":"IF(K104=\"\",\"\",CONCATENATE(\"INT_\",ROW()))","v":""},null,null,null,null,null,null,null,null,null,null,null,null,null,null,null,null,null,null,null,null,null,null,null,null,null,{"$f":"IF($K104>0,$K104,\"\")","v":""},{"$f":"IF($L104>0,MAX($L104,$P104,$Q104),\"\")","v":""}]
[{"$f":"IF(K105=\"\",\"\",CONCATENATE(YEAR($K105),\"_S\",_xlfn.ISOWEEKNUM($K105)))","v":""},{"$f":"IF(K105=\"\",\"\",CONCATENATE(\"INT_\",ROW()))","v":""},null,null,null,null,null,null,null,null,null,null,null,null,null,null,null,null,null,null,null,null,null,null,null,null,null,{"$f":"IF($K105>0,$K105,\"\")","v":""},{"$f":"IF($L105>0,MAX($L105,$P105,$Q105),\"\")","v":""}]
[{"$f":"IF(K106=\"\",\"\",CONCATENATE(YEAR($K106),\"_S\",_xlfn.ISOWEEKNUM($K106)))","v":""},{"$f":"IF(K106=\"\",\"\",CONCATENATE(\"INT_\",ROW()))","v":""},null,null,null,null,null,null,null,null,null,null,null,null,null,null,null,null,null,null,null,null,null,null,null,null,null,{"$f":"IF($K106>0,$K106,\"\")","v":""},{"$f":"IF($L106>0,MAX($L106,$P106,$Q106),\"\")","v":""}]
[{"$f":"IF(K107=\"\",\"\",CONCATENATE(YEAR($K107),\"_S\",_xlfn.ISOWEEKNUM($K107)))","v":""},{"$f":"IF(K107=\"\",\"\",CONCATENATE(\"INT_\",ROW()))","v":""},null,null,null,null,null,null,null,null,null,null,null,null,null,null,null,null,null,null,null,null,null,null,null,null,null,{"$f":"IF($K107>0,$K107,\"\")","v":""},{"$f":"IF($L107>0,MAX($L107,$P107,$Q107),\"\")","v":""}]
[{"$f":"IF(K108=\"\",\"\",CONCATENATE(YEAR($K108),\"_S\",_xlfn.ISOWEEKNUM($K108)))","v":""},{"$f":"IF(K108=\"\",\"\",CONCATENATE(\"INT_\",ROW()))","v":""},null,null,null,null,null,null,null,null,null,null,null,null,null,null,null,null,null,null,null,null,null,null,null,null,null,{"$f":"IF($K108>0,$K108,\"\")","v":""},{"$f":"IF($L108>0,MAX($L108,$P108,$Q108),\"\")","v":""}]
[{"$f":"IF(K109=\"\",\"\",CONCATENATE(YEAR($K109),\"_S\",_xlfn.ISOWEEKNUM($K109)))","v":""},{"$f":"IF(K109=\"\",\"\",CONCATENATE(\"INT_\",ROW()))","v":""},null,null,null,null,null,null,null,null,null,null,null,null,null,null,null,null,null,null,null,null,null,null,null,null,null,{"$f":"IF($K109>0,$K109,\"\")","v":""},{"$f":"IF($L109>0,MAX($L109,$P109,$Q109),\"\")","v":""}]
[{"$f":"IF(K110=\"\",\"\",CONCATENATE(YEAR($K110),\"_S\",_xlfn.ISOWEEKNUM($K110)))","v":""},{"$f":"IF(K110=\"\",\"\",CONCATENATE(\"INT_\",ROW()))","v":""},null,null,null,null,null,null,null,null,null,null,null,null,null,null,null,null,null,null,null,null,null,null,null,null,null,{"$f":"IF($K110>0,$K110,\"\")","v":""},{"$f":"IF($L110>0,MAX($L110,$P110,$Q110),\"\")","v":""}]
[{"$f":"IF(K111=\"\",\"\",CONCATENATE(YEAR($K111),\"_S\",_xlfn.ISOWEEKNUM($K111)))","v":""},{"$f":"IF(K111=\"\",\"\",CONCATENATE(\"INT_\",ROW()))","v":""},null,null,null,null,null,null,null,null,null,null,null,null,null,null,null,null,null,null,null,null,null,null,null,null,null,{"$f":"IF($K111>0,$K111,\"\")","v":""},{"$f":"IF($L111>0,MAX($L111,$P111,$Q111),\"\")","v":""}]
[{"$f":"IF(K112=\"\",\"\",CONCATENATE(YEAR($K112),\"_S\",_xlfn.ISOWEEKNUM($K112)))","v":""},{"$f":"IF(K112=\"\",\"\",CONCATENATE(\"INT_\",ROW()))","v":""},null,null,null,null,null,null,null,null,null,null,null,null,null,null,null,null,null,null,null,null,null,null,null,null,null,{"$f":"IF($K112>0,$K112,\"\")","v":""},{"$f":"IF($L112>0,MAX($L112,$P112,$Q112),\"\")","v":""}]
[{"$f":"IF(K113=\"\",\"\",CONCATENATE(YEAR($K113),\"_S\",_xlfn.ISOWEEKNUM($K113)))","v":""},{"$f":"IF(K113=\"\",\"\",CONCATENATE(\"INT_\",ROW()))","v":""},null,null,null,null,null,null,null,null,null,null,null,null,null,null,null,null,null,null,null,null,null,null,null,null,null,{"$f":"IF($K113>0,$K113,\"\")","v":""},{"$f":"IF($L113>0,MAX($L113,$P113,$Q113),\"\")","v":""}]
[{"$f":"IF(K114=\"\",\"\",CONCATENATE(YEAR($K114),\"_S\",_xlfn.ISOWEEKNUM($K114)))","v":""},{"$f":"IF(K114=\"\",\"\",CONCATENATE(\"INT_\",ROW()))","v":""},null,null,null,null,null,null,null,null,null,null,null,null,null,null,null,null,null,null,null,null,null,null,null,null,null,{"$f":"IF($K114>0,$K114,\"\")","v":""},{"$f":"IF($L114>0,MAX($L114,$P114,$Q114),\"\")","v":""}]
[{"$f":"IF(K115=\"\",\"\",CONCATENATE(YEAR($K115),\"_S\",_xlfn.ISOWEEKNUM($K115)))","v":""},{"$f":"IF(K115=\"\",\"\",CONCATENATE(\"INT_\",ROW()))","v":""},null,null,null,null,null,null,null,null,null,null,null,null,null,null,null,null,null,null,null,null,null,null,null,null,null,{"$f":"IF($K115>0,$K115,\"\")","v":""},{"$f":"IF($L115>0,MAX($L115,$P115,$Q115),\"\")","v":""}]
[{"$f":"IF(K116=\"\",\"\",CONCATENATE(YEAR($K116),\"_S\",_xlfn.ISOWEEKNUM($K116)))","v":""},{"$f":"IF(K116=\"\",\"\",CONCATENATE(\"INT_\",ROW()))","v":""},null,null,null,null,null,null,null,null,null,null,null,null,null,null,null,null,null,null,null,null,null,null,null,null,null,{"$f":"IF($K116>0,$K116,\"\")","v":""},{"$f":"IF($L116>0,MAX($L116,$P116,$Q116),\"\")","v":""}]
[{"$f":"IF(K117=\"\",\"\",CONCATENATE(YEAR($K117),\"_S\",_xlfn.ISOWEEKNUM($K117)))","v":""},{"$f":"IF(K117=\"\",\"\",CONCATENATE(\"INT_\",ROW()))","v":""},null,null,null,null,null,null,null,null,null,null,null,null,null,null,null,null,null,null,null,null,null,null,null,null,null,{"$f":"IF($K117>0,$K117,\"\")","v":""},{"$f":"IF($L117>0,MAX($L117,$P117,$Q117),\"\")","v":""}]
[{"$f":"IF(K118=\"\",\"\",CONCATENATE(YEAR($K118),\"_S\",_xlfn.ISOWEEKNUM($K118)))","v":""},{"$f":"IF(K118=\"\",\"\",CONCATENATE(\"INT_\",ROW()))","v":""},null,null,null,null,null,null,null,null,null,null,null,null,null,null,null,null,null,null,null,null,null,null,null,null,null,{"$f":"IF($K118>0,$K118,\"\")","v":""},{"$f":"IF($L118>0,MAX($L118,$P118,$Q118),\"\")","v":""}]
[{"$f":"IF(K119=\"\",\"\",CONCATENATE(YEAR($K119),\"_S\",_xlfn.ISOWEEKNUM($K119)))","v":""},{"$f":"IF(K119=\"\",\"\",CONCATENATE(\"INT_\",ROW()))","v":""},null,null,null,null,null,null,null,null,null,null,null,null,null,null,null,null,null,null,null,null,null,null,null,null,null,{"$f":"IF($K119>0,$K119,\"\")","v":""},{"$f":"IF($L119>0,MAX($L119,$P119,$Q119),\"\")","v":""}]
[{"$f":"IF(K120=\"\",\"\",CONCATENATE(YEAR($K120),\"_S\",_xlfn.ISOWEEKNUM($K120)))","v":""},{"$f":"IF(K120=\"\",\"\",CONCATENATE(\"INT_\",ROW()))","v":""},null,null,null,null,null,null,null,null,null,null,null,null,null,null,null,null,null,null,null,null,null,null,null,null,null,{"$f":"IF($K120>0,$K120,\"\")","v":""},{"$f":"IF($L120>0,MAX($L120,$P120,$Q120),\"\")","v":""}]
[{"$f":"IF(K121=\"\",\"\",CONCATENATE(YEAR($K121),\"_S\",_xlfn.ISOWEEKNUM($K121)))","v":""},{"$f":"IF(K121=\"\",\"\",CONCATENATE(\"INT_\",ROW()))","v":""},null,null,null,null,null,null,null,null,null,null,null,null,null,null,null,null,null,null,null,null,null,null,null,null,null,{"$f":"IF($K121>0,$K121,\"\")","v":""},{"$f":"IF($L121>0,MAX($L121,$P121,$Q121),\"\")","v":""}]
[{"$f":"IF(K122=\"\",\"\",CONCATENATE(YEAR($K122),\"_S\",_xlfn.ISOWEEKNUM($K122)))","v":""},{"$f":"IF(K122=\"\",\"\",CONCATENATE(\"INT_\",ROW()))","v":""},null,null,null,null,null,null,null,null,null,null,null,null,null,null,null,null,null,null,null,null,null,null,null,null,null,{"$f":"IF($K122>0,$K122,\"\")","v":""},{"$f":"IF($L122>0,MAX($L122,$P122,$Q122),\"\")","v":""}]
[{"$f":"IF(K123=\"\",\"\",CONCATENATE(YEAR($K123),\"_S\",_xlfn.ISOWEEKNUM($K123)))","v":""},{"$f":"IF(K123=\"\",\"\",CONCATENATE(\"INT_\",ROW()))","v":""},null,null,null,null,null,null,null,null,null,null,null,null,null,null,null,null,null,null,null,null,null,null,null,null,null,{"$f":"IF($K123>0,$K123,\"\")","v":""},{"$f":"IF($L123>0,MAX($L123,$P123,$Q123),\"\")","v":""}]
[{"$f":"IF(K124=\"\",\"\",CONCATENATE(YEAR($K124),\"_S\",_xlfn.ISOWEEKNUM($K124)))","v":""},{"$f":"IF(K124=\"\",\"\",CONCATENATE(\"INT_\",ROW()))","v":""},null,null,null,null,null,null,null,null,null,null,null,null,null,null,null,null,null,null,null,null,null,null,null,null,null,{"$f":"IF($K124>0,$K124,\"\")","v":""},{"$f":"IF($L124>0,MAX($L124,$P124,$Q124),\"\")","v":""}]
[{"$f":"IF(K125=\"\",\"\",CONCATENATE(YEAR($K125),\"_S\",_xlfn.ISOWEEKNUM($K125)))","v":""},{"$f":"IF(K125=\"\",\"\",CONCATENATE(\"INT_\",ROW()))","v":""},null,null,null,null,null,null,null,null,null,null,null,null,null,null,null,null,null,null,null,null,null,null,null,null,null,{"$f":"IF($K125>0,$K125,\"\")","v":""},{"$f":"IF($L125>0,MAX($L125,$P125,$Q125),\"\")","v":""}]
[{"$f":"IF(K126=\"\",\"\",CONCATENATE(YEAR($K126),\"_S\",_xlfn.ISOWEEKNUM($K126)))","v":""},{"$f":"IF(K126=\"\",\"\",CONCATENATE(\"INT_\",ROW()))","v":""},null,null,null,null,null,null,null,null,null,null,null,null,null,null,null,null,null,null,null,null,null,null,null,null,null,{"$f":"IF($K126>0,$K126,\"\")","v":""},{"$f":"IF($L126>0,MAX($L126,$P126,$Q126),\"\")","v":""}]
[{"$f":"IF(K127=\"\",\"\",CONCATENATE(YEAR($K127),\"_S\",_xlfn.ISOWEEKNUM($K127)))","v":""},{"$f":"IF(K127=\"\",\"\",CONCATENATE(\"INT_\",ROW()))","v":""},null,null,null,null,null,null,null,null,null,null,null,null,null,null,null,null,null,null,null,null,null,null,null,null,null,{"$f":"IF($K127>0,$K127,\"\")","v":""},{"$f":"IF($L127>0,MAX($L127,$P127,$Q127),\"\")","v":""}]
[{"$f":"IF(K128=\"\",\"\",CONCATENATE(YEAR($K128),\"_S\",_xlfn.ISOWEEKNUM($K128)))","v":""},{"$f":"IF(K128=\"\",\"\",CONCATENATE(\"INT_\",ROW()))","v":""},null,null,null,null,null,null,null,null,null,null,null,null,null,null,null,null,null,null,null,null,null,null,null,null,null,{"$f":"IF($K128>0,$K128,\"\")","v":""},{"$f":"IF($L128>0,MAX($L128,$P128,$Q128),\"\")","v":""}]
[{"$f":"IF(K129=\"\",\"\",CONCATENATE(YEAR($K129),\"_S\",_xlfn.ISOWEEKNUM($K129)))","v":""},{"$f":"IF(K129=\"\",\"\",CONCATENATE(\"INT_\",ROW()))","v":""},null,null,null,null,null,null,null,null,null,null,null,null,null,null,null,null,null,null,null,null,null,null,null,null,null,{"$f":"IF($K129>0,$K129,\"\")","v":""},{"$f":"IF($L129>0,MAX($L129,$P129,$Q129),\"\")","v":""}]
[{"$f":"IF(K130=\"\",\"\",CONCATENATE(YEAR($K130),\"_S\",_xlfn.ISOWEEKNUM($K130)))","v":""},{"$f":"IF(K130=\"\",\"\",CONCATENATE(\"INT_\",ROW()))","v":""},null,null,null,null,null,null,null,null,null,null,null,null,null,null,null,null,null,null,null,null,null,null,null,null,null,{"$f":"IF($K130>0,$K130,\"\")","v":""},{"$f":"IF($L130>0,MAX($L130,$P130,$Q130),\"\")","v":""}]
[{"$f":"IF(K131=\"\",\"\",CONCATENATE(YEAR($K131),\"_S\",_xlfn.ISOWEEKNUM($K131)))","v":""},{"$f":"IF(K131=\"\",\"\",CONCATENATE(\"INT_\",ROW()))","v":""},null,null,null,null,null,null,null,null,null,null,null,null,null,null,null,null,null,null,null,null,null,null,null,null,null,{"$f":"IF($K131>0,$K131,\"\")","v":""},{"$f":"IF($L131>0,MAX($L131,$P131,$Q131),\"\")","v":""}]
[{"$f":"IF(K132=\"\",\"\",CONCATENATE(YEAR($K132),\"_S\",_xlfn.ISOWEEKNUM($K132)))","v":""},{"$f":"IF(K132=\"\",\"\",CONCATENATE(\"INT_\",ROW()))","v":""},null,null,null,null,null,null,null,null,null,null,null,null,null,null,null,null,null,null,null,null,null,null,null,null,null,{"$f":"IF($K132>0,$K132,\"\")","v":""},{"$f":"IF($L132>0,MAX($L132,$P132,$Q132),\"\")","v":""}]
[{"$f":"IF(K133=\"\",\"\",CONCATENATE(YEAR($K133),\"_S\",_xlfn.ISOWEEKNUM($K133)))","v":""},{"$f":"IF(K133=\"\",\"\",CONCATENATE(\"INT_\",ROW()))","v":""},null,null,null,null,null,null,null,null,null,null,null,null,null,null,null,null,null,null,null,null,null,null,null,null,null,{"$f":"IF($K133>0,$K133,\"\")","v":""},{"$f":"IF($L133>0,MAX($L133,$P133,$Q133),\"\")","v":""}]
[{"$f":"IF(K134=\"\",\"\",CONCATENATE(YEAR($K134),\"_S\",_xlfn.ISOWEEKNUM($K134)))","v":""},{"$f":"IF(K134=\"\",\"\",CONCATENATE(\"INT_\",ROW()))","v":""},null,null,null,null,null,null,null,null,null,null,null,null,null,null,null,null,null,null,null,null,null,null,null,null,null,{"$f":"IF($K134>0,$K134,\"\")","v":""},{"$f":"IF($L134>0,MAX($L134,$P134,$Q134),\"\")","v":""}]
[{"$f":"IF(K135=\"\",\"\",CONCATENATE(YEAR($K135),\"_S\",_xlfn.ISOWEEKNUM($K135)))","v":""},{"$f":"IF(K135=\"\",\"\",CONCATENATE(\"INT_\",ROW()))","v":""},null,null,null,null,null,null,null,null,null,null,null,null,null,null,null,null,null,null,null,null,null,null,null,null,null,{"$f":"IF($K135>0,$K135,\"\")","v":""},{"$f":"IF($L135>0,MAX($L135,$P135,$Q135),\"\")","v":""}]
[{"$f":"IF(K136=\"\",\"\",CONCATENATE(YEAR($K136),\"_S\",_xlfn.ISOWEEKNUM($K136)))","v":""},{"$f":"IF(K136=\"\",\"\",CONCATENATE(\"INT_\",ROW()))","v":""},null,null,null,null,null,null,null,null,null,null,null,null,null,null,null,null,null,null,null,null,null,null,null,null,null,{"$f":"IF($K136>0,$K136,\"\")","v":""},{"$f":"IF($L136>0,MAX($L136,$P136,$Q136),\"\")","v":""}]
[{"$f":"IF(K137=\"\",\"\",CONCATENATE(YEAR($K137),\"_S\",_xlfn.ISOWEEKNUM($K137)))","v":""},{"$f":"IF(K137=\"\",\"\",CONCATENATE(\"INT_\",ROW()))","v":""},null,null,null,null,null,null,null,null,null,null,null,null,null,null,null,null,null,null,null,null,null,null,null,null,null,{"$f":"IF($K137>0,$K137,\"\")","v":""},{"$f":"IF($L137>0,MAX($L137,$P137,$Q137),\"\")","v":""}]
[{"$f":"IF(K138=\"\",\"\",CONCATENATE(YEAR($K138),\"_S\",_xlfn.ISOWEEKNUM($K138)))","v":""},{"$f":"IF(K138=\"\",\"\",CONCATENATE(\"INT_\",ROW()))","v":""},null,null,null,null,null,null,null,null,null,null,null,null,null,null,null,null,null,null,null,null,null,null,null,null,null,{"$f":"IF($K138>0,$K138,\"\")","v":""},{"$f":"IF($L138>0,MAX($L138,$P138,$Q138),\"\")","v":""}]
[{"$f":"IF(K139=\"\",\"\",CONCATENATE(YEAR($K139),\"_S\",_xlfn.ISOWEEKNUM($K139)))","v":""},{"$f":"IF(K139=\"\",\"\",CONCATENATE(\"INT_\",ROW()))","v":""},null,null,null,null,null,null,null,null,null,null,null,null,null,null,null,null,null,null,null,null,null,null,null,null,null,{"$f":"IF($K139>0,$K139,\"\")","v":""},{"$f":"IF($L139>0,MAX($L139,$P139,$Q139),\"\")","v":""}]
[{"$f":"IF(K140=\"\",\"\",CONCATENATE(YEAR($K140),\"_S\",_xlfn.ISOWEEKNUM($K140)))","v":""},{"$f":"IF(K140=\"\",\"\",CONCATENATE(\"INT_\",ROW()))","v":""},null,null,null,null,null,null,null,null,null,null,null,null,null,null,null,null,null,null,null,null,null,null,null,null,null,{"$f":"IF($K140>0,$K140,\"\")","v":""},{"$f":"IF($L140>0,MAX($L140,$P140,$Q140),\"\")","v":""}]
[{"$f":"IF(K141=\"\",\"\",CONCATENATE(YEAR($K141),\"_S\",_xlfn.ISOWEEKNUM($K141)))","v":""},{"$f":"IF(K141=\"\",\"\",CONCATENATE(\"INT_\",ROW()))","v":""},null,null,null,null,null,null,null,null,null,null,null,null,null,null,null,null,null,null,null,null,null,null,null,null,null,{"$f":"IF($K141>0,$K141,\"\")","v":""},{"$f":"IF($L141>0,MAX($L141,$P141,$Q141),\"\")","v":""}]
[{"$f":"IF(K142=\"\",\"\",CONCATENATE(YEAR($K142),\"_S\",_xlfn.ISOWEEKNUM($K142)))","v":""},{"$f":"IF(K142=\"\",\"\",CONCATENATE(\"INT_\",ROW()))","v":""},null,null,null,null,null,null,null,null,null,null,null,null,null,null,null,null,null,null,null,null,null,null,null,null,null,{"$f":"IF($K142>0,$K142,\"\")","v":""},{"$f":"IF($L142>0,MAX($L142,$P142,$Q142),\"\")","v":""}]
[{"$f":"IF(K143=\"\",\"\",CONCATENATE(YEAR($K143),\"_S\",_xlfn.ISOWEEKNUM($K143)))","v":""},{"$f":"IF(K143=\"\",\"\",CONCATENATE(\"INT_\",ROW()))","v":""},null,null,null,null,null,null,null,null,null,null,null,null,null,null,null,null,null,null,null,null,null,null,null,null,null,{"$f":"IF($K143>0,$K143,\"\")","v":""},{"$f":"IF($L143>0,MAX($L143,$P143,$Q143),\"\")","v":""}]
[{"$f":"IF(K144=\"\",\"\",CONCATENATE(YEAR($K144),\"_S\",_xlfn.ISOWEEKNUM($K144)))","v":""},{"$f":"IF(K144=\"\",\"\",CONCATENATE(\"INT_\",ROW()))","v":""},null,null,null,null,null,null,null,null,null,null,null,null,null,null,null,null,null,null,null,null,null,null,null,null,null,{"$f":"IF($K144>0,$K144,\"\")","v":""},{"$f":"IF($L144>0,MAX($L144,$P144,$Q144),\"\")","v":""}]
[{"$f":"IF(K145=\"\",\"\",CONCATENATE(YEAR($K145),\"_S\",_xlfn.ISOWEEKNUM($K145)))","v":""},null,null,null,null,null,null,null,null,null,null,null,null,null,null,null,null,null,null,null,null,null,null,null,null,null,null,{"$f":"IF($K145>0,$K145,\"\")","v":""},{"$f":"IF($L145>0,MAX($L145,$P145,$Q145),\"\")","v":""}]
[{"$f":"IF(K146=\"\",\"\",CONCATENATE(YEAR($K146),\"_S\",_xlfn.ISOWEEKNUM($K146)))","v":""},null,null,null,null,null,null,null,null,null,null,null,null,null,null,null,null,null,null,null,null,null,null,null,null,null,null,{"$f":"IF($K146>0,$K146,\"\")","v":""},{"$f":"IF($L146>0,MAX($L146,$P146,$Q146),\"\")","v":""}]
[{"$f":"IF(K147=\"\",\"\",CONCATENATE(YEAR($K147),\"_S\",_xlfn.ISOWEEKNUM($K147)))","v":""},null,null,null,null,null,null,null,null,null,null,null,null,null,null,null,null,null,null,null,null,null,null,null,null,null,null,{"$f":"IF($K147>0,$K147,\"\")","v":""},{"$f":"IF($L147>0,MAX($L147,$P147,$Q147),\"\")","v":""}]
[{"$f":"IF(K148=\"\",\"\",CONCATENATE(YEAR($K148),\"_S\",_xlfn.ISOWEEKNUM($K148)))","v":""},null,null,null,null,null,null,null,null,null,null,null,null,null,null,null,null,null,null,null,null,null,null,null,null,null,null,{"$f":"IF($K148>0,$K148,\"\")","v":""},{"$f":"IF($L148>0,MAX($L148,$P148,$Q148),\"\")","v":""}]
[{"$f":"IF(K149=\"\",\"\",CONCATENATE(YEAR($K149),\"_S\",_xlfn.ISOWEEKNUM($K149)))","v":""},null,null,null,null,null,null,null,null,null,null,null,null,null,null,null,null,null,null,null,null,null,null,null,null,null,null,{"$f":"IF($K149>0,$K149,\"\")","v":""},{"$f":"IF($L149>0,MAX($L149,$P149,$Q149),\"\")","v":""}]
[{"$f":"IF(K150=\"\",\"\",CONCATENATE(YEAR($K150),\"_S\",_xlfn.ISOWEEKNUM($K150)))","v":""},null,null,null,null,null,null,null,null,null,null,null,null,null,null,null,null,null,null,null,null,null,null,null,null,null,null,{"$f":"IF($K150>0,$K150,\"\")","v":""},{"$f":"IF($L150>0,MAX($L150,$P150,$Q150),\"\")","v":""}]
[{"$f":"IF(K151=\"\",\"\",CONCATENATE(YEAR($K151),\"_S\",_xlfn.ISOWEEKNUM($K151)))","v":""},null,null,null,null,null,null,null,null,null,null,null,null,null,null,null,null,null,null,null,null,null,null,null,null,null,null,{"$f":"IF($K151>0,$K151,\"\")","v":""},{"$f":"IF($L151>0,MAX($L151,$P151,$Q151),\"\")","v":""}]
[{"$f":"IF(K152=\"\",\"\",CONCATENATE(YEAR($K152),\"_S\",_xlfn.ISOWEEKNUM($K152)))","v":""},null,null,null,null,null,null,null,null,null,null,null,null,null,null,null,null,null,null,null,null,null,null,null,null,null,null,{"$f":"IF($K152>0,$K152,\"\")","v":""},{"$f":"IF($L152>0,MAX($L152,$P152,$Q152),\"\")","v":""}]
[{"$f":"IF(K153=\"\",\"\",CONCATENATE(YEAR($K153),\"_S\",_xlfn.ISOWEEKNUM($K153)))","v":""},null,null,null,null,null,null,null,null,null,null,null,null,null,null,null,null,null,null,null,null,null,null,null,null,null,null,{"$f":"IF($K153>0,$K153,\"\")","v":""},{"$f":"IF($L153>0,MAX($L153,$P153,$Q153),\"\")","v":""}]
[{"$f":"IF(K154=\"\",\"\",CONCATENATE(YEAR($K154),\"_S\",_xlfn.ISOWEEKNUM($K154)))","v":""},null,null,null,null,null,null,null,null,null,null,null,null,null,null,null,null,null,null,null,null,null,null,null,null,null,null,{"$f":"IF($K154>0,$K154,\"\")","v":""},{"$f":"IF($L154>0,MAX($L154,$P154,$Q154),\"\")","v":""}]
[{"$f":"IF(K155=\"\",\"\",CONCATENATE(YEAR($K155),\"_S\",_xlfn.ISOWEEKNUM($K155)))","v":""},null,null,null,null,null,null,null,null,null,null,null,null,null,null,null,null,null,null,null,null,null,null,null,null,null,null,{"$f":"IF($K155>0,$K155,\"\")","v":""},{"$f":"IF($L155>0,MAX($L155,$P155,$Q155),\"\")","v":""}]
[{"$f":"IF(K156=\"\",\"\",CONCATENATE(YEAR($K156),\"_S\",_xlfn.ISOWEEKNUM($K156)))","v":""},null,null,null,null,null,null,null,null,null,null,null,null,null,null,null,null,null,null,null,null,null,null,null,null,null,null,{"$f":"IF($K156>0,$K156,\"\")","v":""},{"$f":"IF($L156>0,MAX($L156,$P156,$Q156),\"\")","v":""}]
[{"$f":"IF(K157=\"\",\"\",CONCATENATE(YEAR($K157),\"_S\",_xlfn.ISOWEEKNUM($K157)))","v":""},null,null,null,null,null,null,null,null,null,null,null,null,null,null,null,null,null,null,null,null,null,null,null,null,null,null,{"$f":"IF($K157>0,$K157,\"\")","v":""},{"$f":"IF($L157>0,MAX($L157,$P157,$Q157),\"\")","v":""}]
[{"$f":"IF(K158=\"\",\"\",CONCATENATE(YEAR($K158),\"_S\",_xlfn.ISOWEEKNUM($K158)))","v":""},null,null,null,null,null,null,null,null,null,null,null,null,null,null,null,null,null,null,null,null,null,null,null,null,null,null,{"$f":"IF($K158>0,$K158,\"\")","v":""},{"$f":"IF($L158>0,MAX($L158,$P158,$Q158),\"\")","v":""}]
[{"$f":"IF(K159=\"\",\"\",CONCATENATE(YEAR($K159),\"_S\",_xlfn.ISOWEEKNUM($K159)))","v":""},null,null,null,null,null,null,null,null,null,null,null,null,null,null,null,null,null,null,null,null,null,null,null,null,null,null,{"$f":"IF($K159>0,$K159,\"\")","v":""},{"$f":"IF($L159>0,MAX($L159,$P159,$Q159),\"\")","v":""}]
[{"$f":"IF(K160=\"\",\"\",CONCATENATE(YEAR($K160),\"_S\",_xlfn.ISOWEEKNUM($K160)))","v":""},null,null,null,null,null,null,null,null,null,null,null,null,null,null,null,null,null,null,null,null,null,null,null,null,null,null,{"$f":"IF($K160>0,$K160,\"\")","v":""},{"$f":"IF($L160>0,MAX($L160,$P160,$Q160),\"\")","v":""}]
[{"$f":"IF(K161=\"\",\"\",CONCATENATE(YEAR($K161),\"_S\",_xlfn.ISOWEEKNUM($K161)))","v":""},null,null,null,null,null,null,null,null,null,null,null,null,null,null,null,null,null,null,null,null,null,null,null,null,null,null,{"$f":"IF($K161>0,$K161,\"\")","v":""},{"$f":"IF($L161>0,MAX($L161,$P161,$Q161),\"\")","v":""}]
[{"$f":"IF(K162=\"\",\"\",CONCATENATE(YEAR($K162),\"_S\",_xlfn.ISOWEEKNUM($K162)))","v":""},null,null,null,null,null,null,null,null,null,null,null,null,null,null,null,null,null,null,null,null,null,null,null,null,null,null,{"$f":"IF($K162>0,$K162,\"\")","v":""},{"$f":"IF($L162>0,MAX($L162,$P162,$Q162),\"\")","v":""}]
[{"$f":"IF(K163=\"\",\"\",CONCATENATE(YEAR($K163),\"_S\",_xlfn.ISOWEEKNUM($K163)))","v":""},null,null,null,null,null,null,null,null,null,null,null,null,null,null,null,null,null,null,null,null,null,null,null,null,null,null,{"$f":"IF($K163>0,$K163,\"\")","v":""},{"$f":"IF($L163>0,MAX($L163,$P163,$Q163),\"\")","v":""}]
[{"$f":"IF(K164=\"\",\"\",CONCATENATE(YEAR($K164),\"_S\",_xlfn.ISOWEEKNUM($K164)))","v":""},null,null,null,null,null,null,null,null,null,null,null,null,null,null,null,null,null,null,null,null,null,null,null,null,null,null,{"$f":"IF($K164>0,$K164,\"\")","v":""},{"$f":"IF($L164>0,MAX($L164,$P164,$Q164),\"\")","v":""}]
[{"$f":"IF(K165=\"\",\"\",CONCATENATE(YEAR($K165),\"_S\",_xlfn.ISOWEEKNUM($K165)))","v":""},null,null,null,null,null,null,null,null,null,null,null,null,null,null,null,null,null,null,null,null,null,null,null,null,null,null,{"$f":"IF($K165>0,$K165,\"\")","v":""},{"$f":"IF($L165>0,MAX($L165,$P165,$Q165),\"\")","v":""}]
[{"$f":"IF(K166=\"\",\"\",CONCATENATE(YEAR($K166),\"_S\",_xlfn.ISOWEEKNUM($K166)))","v":""},null,null,null,null,null,null,null,null,null,null,null,null,null,null,null,null,null,null,null,null,null,null,null,null,null,null,{"$f":"IF($K166>0,$K166,\"\")","v":""},{"$f":"IF($L166>0,MAX($L166,$P166,$Q166),\"\")","v":""}]
[{"$f":"IF(K167=\"\",\"\",CONCATENATE(YEAR($K167),\"_S\",_xlfn.ISOWEEKNUM($K167)))","v":""},null,null,null,null,null,null,null,null,null,null,null,null,null,null,null,null,null,null,null,null,null,null,null,null,null,null,{"$f":"IF($K167>0,$K167,\"\")","v":""},{"$f":"IF($L167>0,MAX($L167,$P167,$Q167),\"\")","v":""}]
[{"$f":"IF(K168=\"\",\"\",CONCATENATE(YEAR($K168),\"_S\",_xlfn.ISOWEEKNUM($K168)))","v":""},null,null,null,null,null,null,null,null,null,null,null,null,null,null,null,null,null,null,null,null,null,null,null,null,null,null,{"$f":"IF($K168>0,$K168,\"\")","v":""},{"$f":"IF($L168>0,MAX($L168,$P168,$Q168),\"\")","v":""}]
[{"$f":"IF(K169=\"\",\"\",CONCATENATE(YEAR($K169),\"_S\",_xlfn.ISOWEEKNUM($K169)))","v":""},null,null,null,null,null,null,null,null,null,null,null,null,null,null,null,null,null,null,null,null,null,null,null,null,null,null,{"$f":"IF($K169>0,$K169,\"\")","v":""},{"$f":"IF($L169>0,MAX($L169,$P169,$Q169),\"\")","v":""}]
[{"$f":"IF(K170=\"\",\"\",CONCATENATE(YEAR($K170),\"_S\",_xlfn.ISOWEEKNUM($K170)))","v":""},null,null,null,null,null,null,null,null,null,null,null,null,null,null,null,null,null,null,null,null,null,null,null,null,null,null,{"$f":"IF($K170>0,$K170,\"\")","v":""},{"$f":"IF($L170>0,MAX($L170,$P170,$Q170),\"\")","v":""}]
[{"$f":"IF(K171=\"\",\"\",CONCATENATE(YEAR($K171),\"_S\",_xlfn.ISOWEEKNUM($K171)))","v":""},null,null,null,null,null,null,null,null,null,null,null,null,null,null,null,null,null,null,null,null,null,null,null,null,null,null,{"$f":"IF($K171>0,$K171,\"\")","v":""},{"$f":"IF($L171>0,MAX($L171,$P171,$Q171),\"\")","v":""}]
[{"$f":"IF(K172=\"\",\"\",CONCATENATE(YEAR($K172),\"_S\",_xlfn.ISOWEEKNUM($K172)))","v":""},null,null,null,null,null,null,null,null,null,null,null,null,null,null,null,null,null,null,null,null,null,null,null,null,null,null,{"$f":"IF($K172>0,$K172,\"\")","v":""},{"$f":"IF($L172>0,MAX($L172,$P172,$Q172),\"\")","v":""}]
[{"$f":"IF(K173=\"\",\"\",CONCATENATE(YEAR($K173),\"_S\",_xlfn.ISOWEEKNUM($K173)))","v":""},null,null,null,null,null,null,null,null,null,null,null,null,null,null,null,null,null,null,null,null,null,null,null,null,null,null,{"$f":"IF($K173>0,$K173,\"\")","v":""},{"$f":"IF($L173>0,MAX($L173,$P173,$Q173),\"\")","v":""}]
[{"$f":"IF(K174=\"\",\"\",CONCATENATE(YEAR($K174),\"_S\",_xlfn.ISOWEEKNUM($K174)))","v":""},null,null,null,null,null,null,null,null,null,null,null,null,null,null,null,null,null,null,null,null,null,null,null,null,null,null,{"$f":"IF($K174>0,$K174,\"\")","v":""},{"$f":"IF($L174>0,MAX($L174,$P174,$Q174),\"\")","v":""}]
[{"$f":"IF(K175=\"\",\"\",CONCATENATE(YEAR($K175),\"_S\",_xlfn.ISOWEEKNUM($K175)))","v":""},null,null,null,null,null,null,null,null,null,null,null,null,null,null,null,null,null,null,null,null,null,null,null,null,null,null,{"$f":"IF($K175>0,$K175,\"\")","v":""},{"$f":"IF($L175>0,MAX($L175,$P175,$Q175),\"\")","v":""}]
[{"$f":"IF(K176=\"\",\"\",CONCATENATE(YEAR($K176),\"_S\",_xlfn.ISOWEEKNUM($K176)))","v":""},null,null,null,null,null,null,null,null,null,null,null,null,null,null,null,null,null,null,null,null,null,null,null,null,null,null,{"$f":"IF($K176>0,$K176,\"\")","v":""},{"$f":"IF($L176>0,MAX($L176,$P176,$Q176),\"\")","v":""}]
[{"$f":"IF(K177=\"\",\"\",CONCATENATE(YEAR($K177),\"_S\",_xlfn.ISOWEEKNUM($K177)))","v":""},null,null,null,null,null,null,null,null,null,null,null,null,null,null,null,null,null,null,null,null,null,null,null,null,null,null,{"$f":"IF($K177>0,$K177,\"\")","v":""},{"$f":"IF($L177>0,MAX($L177,$P177,$Q177),\"\")","v":""}]
[{"$f":"IF(K178=\"\",\"\",CONCATENATE(YEAR($K178),\"_S\",_xlfn.ISOWEEKNUM($K178)))","v":""},null,null,null,null,null,null,null,null,null,null,null,null,null,null,null,null,null,null,null,null,null,null,null,null,null,null,{"$f":"IF($K178>0,$K178,\"\")","v":""},{"$f":"IF($L178>0,MAX($L178,$P178,$Q178),\"\")","v":""}]
[{"$f":"IF(K179=\"\",\"\",CONCATENATE(YEAR($K179),\"_S\",_xlfn.ISOWEEKNUM($K179)))","v":""},null,null,null,null,null,null,null,null,null,null,null,null,null,null,null,null,null,null,null,null,null,null,null,null,null,null,{"$f":"IF($K179>0,$K179,\"\")","v":""},{"$f":"IF($L179>0,MAX($L179,$P179,$Q179),\"\")","v":""}]
[{"$f":"IF(K180=\"\",\"\",CONCATENATE(YEAR($K180),\"_S\",_xlfn.ISOWEEKNUM($K180)))","v":""},null,null,null,null,null,null,null,null,null,null,null,null,null,null,null,null,null,null,null,null,null,null,null,null,null,null,{"$f":"IF($K180>0,$K180,\"\")","v":""},{"$f":"IF($L180>0,MAX($L180,$P180,$Q180),\"\")","v":""}]
[{"$f":"IF(K181=\"\",\"\",CONCATENATE(YEAR($K181),\"_S\",_xlfn.ISOWEEKNUM($K181)))","v":""},null,null,null,null,null,null,null,null,null,null,null,null,null,null,null,null,null,null,null,null,null,null,null,null,null,null,{"$f":"IF($K181>0,$K181,\"\")","v":""},{"$f":"IF($L181>0,MAX($L181,$P181,$Q181),\"\")","v":""}]
[{"$f":"IF(K182=\"\",\"\",CONCATENATE(YEAR($K182),\"_S\",_xlfn.ISOWEEKNUM($K182)))","v":""},null,null,null,null,null,null,null,null,null,null,null,null,null,null,null,null,null,null,null,null,null,null,null,null,null,null,{"$f":"IF($K182>0,$K182,\"\")","v":""},{"$f":"IF($L182>0,MAX($L182,$P182,$Q182),\"\")","v":""}]
[{"$f":"IF(K183=\"\",\"\",CONCATENATE(YEAR($K183),\"_S\",_xlfn.ISOWEEKNUM($K183)))","v":""},null,null,null,null,null,null,null,null,null,null,null,null,null,null,null,null,null,null,null,null,null,null,null,null,null,null,{"$f":"IF($K183>0,$K183,\"\")","v":""},{"$f":"IF($L183>0,MAX($L183,$P183,$Q183),\"\")","v":""}]
[{"$f":"IF(K184=\"\",\"\",CONCATENATE(YEAR($K184),\"_S\",_xlfn.ISOWEEKNUM($K184)))","v":""},null,null,null,null,null,null,null,null,null,null,null,null,null,null,null,null,null,null,null,null,null,null,null,null,null,null,{"$f":"IF($K184>0,$K184,\"\")","v":""},{"$f":"IF($L184>0,MAX($L184,$P184,$Q184),\"\")","v":""}]
[{"$f":"IF(K185=\"\",\"\",CONCATENATE(YEAR($K185),\"_S\",_xlfn.ISOWEEKNUM($K185)))","v":""},null,null,null,null,null,null,null,null,null,null,null,null,null,null,null,null,null,null,null,null,null,null,null,null,null,null,{"$f":"IF($K185>0,$K185,\"\")","v":""},{"$f":"IF($L185>0,MAX($L185,$P185,$Q185),\"\")","v":""}]
[{"$f":"IF(K186=\"\",\"\",CONCATENATE(YEAR($K186),\"_S\",_xlfn.ISOWEEKNUM($K186)))","v":""},null,null,null,null,null,null,null,null,null,null,null,null,null,null,null,null,null,null,null,null,null,null,null,null,null,null,{"$f":"IF($K186>0,$K186,\"\")","v":""},{"$f":"IF($L186>0,MAX($L186,$P186,$Q186),\"\")","v":""}]
[{"$f":"IF(K187=\"\",\"\",CONCATENATE(YEAR($K187),\"_S\",_xlfn.ISOWEEKNUM($K187)))","v":""},null,null,null,null,null,null,null,null,null,null,null,null,null,null,null,null,null,null,null,null,null,null,null,null,null,null,{"$f":"IF($K187>0,$K187,\"\")","v":""},{"$f":"IF($L187>0,MAX($L187,$P187,$Q187),\"\")","v":""}]
[{"$f":"IF(K188=\"\",\"\",CONCATENATE(YEAR($K188),\"_S\",_xlfn.ISOWEEKNUM($K188)))","v":""},null,null,null,null,null,null,null,null,null,null,null,null,null,null,null,null,null,null,null,null,null,null,null,null,null,null,{"$f":"IF($K188>0,$K188,\"\")","v":""},{"$f":"IF($L188>0,MAX($L188,$P188,$Q188),\"\")","v":""}]
[{"$f":"IF(K189=\"\",\"\",CONCATENATE(YEAR($K189),\"_S\",_xlfn.ISOWEEKNUM($K189)))","v":""},null,null,null,null,null,null,null,null,null,null,null,null,null,null,null,null,null,null,null,null,null,null,null,null,null,null,{"$f":"IF($K189>0,$K189,\"\")","v":""},{"$f":"IF($L189>0,MAX($L189,$P189,$Q189),\"\")","v":""}]
[{"$f":"IF(K190=\"\",\"\",CONCATENATE(YEAR($K190),\"_S\",_xlfn.ISOWEEKNUM($K190)))","v":""},null,null,null,null,null,null,null,null,null,null,null,null,null,null,null,null,null,null,null,null,null,null,null,null,null,null,{"$f":"IF($K190>0,$K190,\"\")","v":""},{"$f":"IF($L190>0,MAX($L190,$P190,$Q190),\"\")","v":""}]
[{"$f":"IF(K191=\"\",\"\",CONCATENATE(YEAR($K191),\"_S\",_xlfn.ISOWEEKNUM($K191)))","v":""},null,null,null,null,null,null,null,null,null,null,null,null,null,null,null,null,null,null,null,null,null,null,null,null,null,null,{"$f":"IF($K191>0,$K191,\"\")","v":""},{"$f":"IF($L191>0,MAX($L191,$P191,$Q191),\"\")","v":""}]
[{"$f":"IF(K192=\"\",\"\",CONCATENATE(YEAR($K192),\"_S\",_xlfn.ISOWEEKNUM($K192)))","v":""},null,null,null,null,null,null,null,null,null,null,null,null,null,null,null,null,null,null,null,null,null,null,null,null,null,null,{"$f":"IF($K192>0,$K192,\"\")","v":""},{"$f":"IF($L192>0,MAX($L192,$P192,$Q192),\"\")","v":""}]
[{"$f":"IF(K193=\"\",\"\",CONCATENATE(YEAR($K193),\"_S\",_xlfn.ISOWEEKNUM($K193)))","v":""},null,null,null,null,null,null,null,null,null,null,null,null,null,null,null,null,null,null,null,null,null,null,null,null,null,null,{"$f":"IF($K193>0,$K193,\"\")","v":""},{"$f":"IF($L193>0,MAX($L193,$P193,$Q193),\"\")","v":""}]
[{"$f":"IF(K194=\"\",\"\",CONCATENATE(YEAR($K194),\"_S\",_xlfn.ISOWEEKNUM($K194)))","v":""},null,null,null,null,null,null,null,null,null,null,null,null,null,null,null,null,null,null,null,null,null,null,null,null,null,null,{"$f":"IF($K194>0,$K194,\"\")","v":""},{"$f":"IF($L194>0,MAX($L194,$P194,$Q194),\"\")","v":""}]
[{"$f":"IF(K195=\"\",\"\",CONCATENATE(YEAR($K195),\"_S\",_xlfn.ISOWEEKNUM($K195)))","v":""},null,null,null,null,null,null,null,null,null,null,null,null,null,null,null,null,null,null,null,null,null,null,null,null,null,null,{"$f":"IF($K195>0,$K195,\"\")","v":""},{"$f":"IF($L195>0,MAX($L195,$P195,$Q195),\"\")","v":""}]
[{"$f":"IF(K196=\"\",\"\",CONCATENATE(YEAR($K196),\"_S\",_xlfn.ISOWEEKNUM($K196)))","v":""},null,null,null,null,null,null,null,null,null,null,null,null,null,null,null,null,null,null,null,null,null,null,null,null,null,null,{"$f":"IF($K196>0,$K196,\"\")","v":""},{"$f":"IF($L196>0,MAX($L196,$P196,$Q196),\"\")","v":""}]
[{"$f":"IF(K197=\"\",\"\",CONCATENATE(YEAR($K197),\"_S\",_xlfn.ISOWEEKNUM($K197)))","v":""},null,null,null,null,null,null,null,null,null,null,null,null,null,null,null,null,null,null,null,null,null,null,null,null,null,null,{"$f":"IF($K197>0,$K197,\"\")","v":""},{"$f":"IF($L197>0,MAX($L197,$P197,$Q197),\"\")","v":""}]
[{"$f":"IF(K198=\"\",\"\",CONCATENATE(YEAR($K198),\"_S\",_xlfn.ISOWEEKNUM($K198)))","v":""},null,null,null,null,null,null,null,null,null,null,null,null,null,null,null,null,null,null,null,null,null,null,null,null,null,null,{"$f":"IF($K198>0,$K198,\"\")","v":""},{"$f":"IF($L198>0,MAX($L198,$P198,$Q198),\"\")","v":""}]
[{"$f":"IF(K199=\"\",\"\",CONCATENATE(YEAR($K199),\"_S\",_xlfn.ISOWEEKNUM($K199)))","v":""},null,null,null,null,null,null,null,null,null,null,null,null,null,null,null,null,null,null,null,null,null,null,null,null,null,null,{"$f":"IF($K199>0,$K199,\"\")","v":""},{"$f":"IF($L199>0,MAX($L199,$P199,$Q199),\"\")","v":""}]
[{"$f":"IF(K200=\"\",\"\",CONCATENATE(YEAR($K200),\"_S\",_xlfn.ISOWEEKNUM($K200)))","v":""},null,null,null,null,null,null,null,null,null,null,null,null,null,null,null,null,null,null,null,null,null,null,null,null,null,null,{"$f":"IF($K200>0,$K200,\"\")","v":""},{"$f":"IF($L200>0,MAX($L200,$P200,$Q200),\"\")","v":""}]
[{"$f":"IF(K201=\"\",\"\",CONCATENATE(YEAR($K201),\"_S\",_xlfn.ISOWEEKNUM($K201)))","v":""},null,null,null,null,null,null,null,null,null,null,null,null,null,null,null,null,null,null,null,null,null,null,null,null,null,null,{"$f":"IF($K201>0,$K201,\"\")","v":""},{"$f":"IF($L201>0,MAX($L201,$P201,$Q201),\"\")","v":""}]
[{"$f":"IF(K202=\"\",\"\",CONCATENATE(YEAR($K202),\"_S\",_xlfn.ISOWEEKNUM($K202)))","v":""},null,null,null,null,null,null,null,null,null,null,null,null,null,null,null,null,null,null,null,null,null,null,null,null,null,null,{"$f":"IF($K202>0,$K202,\"\")","v":""},{"$f":"IF($L202>0,MAX($L202,$P202,$Q202),\"\")","v":""}]
[{"$f":"IF(K203=\"\",\"\",CONCATENATE(YEAR($K203),\"_S\",_xlfn.ISOWEEKNUM($K203)))","v":""},null,null,null,null,null,null,null,null,null,null,null,null,null,null,null,null,null,null,null,null,null,null,null,null,null,null,{"$f":"IF($K203>0,$K203,\"\")","v":""},{"$f":"IF($L203>0,MAX($L203,$P203,$Q203),\"\")","v":""}]
[{"$f":"IF(K204=\"\",\"\",CONCATENATE(YEAR($K204),\"_S\",_xlfn.ISOWEEKNUM($K204)))","v":""},null,null,null,null,null,null,null,null,null,null,null,null,null,null,null,null,null,null,null,null,null,null,null,null,null,null,{"$f":"IF($K204>0,$K204,\"\")","v":""},{"$f":"IF($L204>0,MAX($L204,$P204,$Q204),\"\")","v":""}]
[{"$f":"IF(K205=\"\",\"\",CONCATENATE(YEAR($K205),\"_S\",_xlfn.ISOWEEKNUM($K205)))","v":""},null,null,null,null,null,null,null,null,null,null,null,null,null,null,null,null,null,null,null,null,null,null,null,null,null,null,{"$f":"IF($K205>0,$K205,\"\")","v":""},{"$f":"IF($L205>0,MAX($L205,$P205,$Q205),\"\")","v":""}]
[{"$f":"IF(K206=\"\",\"\",CONCATENATE(YEAR($K206),\"_S\",_xlfn.ISOWEEKNUM($K206)))","v":""},null,null,null,null,null,null,null,null,null,null,null,null,null,null,null,null,null,null,null,null,null,null,null,null,null,null,{"$f":"IF($K206>0,$K206,\"\")","v":""},{"$f":"IF($L206>0,MAX($L206,$P206,$Q206),\"\")","v":""}]
[{"$f":"IF(K207=\"\",\"\",CONCATENATE(YEAR($K207),\"_S\",_xlfn.ISOWEEKNUM($K207)))","v":""},null,null,null,null,null,null,null,null,null,null,null,null,null,null,null,null,null,null,null,null,null,null,null,null,null,null,{"$f":"IF($K207>0,$K207,\"\")","v":""},{"$f":"IF($L207>0,MAX($L207,$P207,$Q207),\"\")","v":""}]
[{"$f":"IF(K208=\"\",\"\",CONCATENATE(YEAR($K208),\"_S\",_xlfn.ISOWEEKNUM($K208)))","v":""},null,null,null,null,null,null,null,null,null,null,null,null,null,null,null,null,null,null,null,null,null,null,null,null,null,null,{"$f":"IF($K208>0,$K208,\"\")","v":""},{"$f":"IF($L208>0,MAX($L208,$P208,$Q208),\"\")","v":""}]
[{"$f":"IF(K209=\"\",\"\",CONCATENATE(YEAR($K209),\"_S\",_xlfn.ISOWEEKNUM($K209)))","v":""},null,null,null,null,null,null,null,null,null,null,null,null,null,null,null,null,null,null,null,null,null,null,null,null,null,null,{"$f":"IF($K209>0,$K209,\"\")","v":""},{"$f":"IF($L209>0,MAX($L209,$P209,$Q209),\"\")","v":""}]
[{"$f":"IF(K210=\"\",\"\",CONCATENATE(YEAR($K210),\"_S\",_xlfn.ISOWEEKNUM($K210)))","v":""},null,null,null,null,null,null,null,null,null,null,null,null,null,null,null,null,null,null,null,null,null,null,null,null,null,null,{"$f":"IF($K210>0,$K210,\"\")","v":""},{"$f":"IF($L210>0,MAX($L210,$P210,$Q210),\"\")","v":""}]
[{"$f":"IF(K211=\"\",\"\",CONCATENATE(YEAR($K211),\"_S\",_xlfn.ISOWEEKNUM($K211)))","v":""},null,null,null,null,null,null,null,null,null,null,null,null,null,null,null,null,null,null,null,null,null,null,null,null,null,null,{"$f":"IF($K211>0,$K211,\"\")","v":""},{"$f":"IF($L211>0,MAX($L211,$P211,$Q211),\"\")","v":""}]
[{"$f":"IF(K212=\"\",\"\",CONCATENATE(YEAR($K212),\"_S\",_xlfn.ISOWEEKNUM($K212)))","v":""},null,null,null,null,null,null,null,null,null,null,null,null,null,null,null,null,null,null,null,null,null,null,null,null,null,null,{"$f":"IF($K212>0,$K212,\"\")","v":""},{"$f":"IF($L212>0,MAX($L212,$P212,$Q212),\"\")","v":""}]
[{"$f":"IF(K213=\"\",\"\",CONCATENATE(YEAR($K213),\"_S\",_xlfn.ISOWEEKNUM($K213)))","v":""},null,null,null,null,null,null,null,null,null,null,null,null,null,null,null,null,null,null,null,null,null,null,null,null,null,null,{"$f":"IF($K213>0,$K213,\"\")","v":""},{"$f":"IF($L213>0,MAX($L213,$P213,$Q213),\"\")","v":""}]
[{"$f":"IF(K214=\"\",\"\",CONCATENATE(YEAR($K214),\"_S\",_xlfn.ISOWEEKNUM($K214)))","v":""},null,null,null,null,null,null,null,null,null,null,null,null,null,null,null,null,null,null,null,null,null,null,null,null,null,null,{"$f":"IF($K214>0,$K214,\"\")","v":""},{"$f":"IF($L214>0,MAX($L214,$P214,$Q214),\"\")","v":""}]
[{"$f":"IF(K215=\"\",\"\",CONCATENATE(YEAR($K215),\"_S\",_xlfn.ISOWEEKNUM($K215)))","v":""},null,null,null,null,null,null,null,null,null,null,null,null,null,null,null,null,null,null,null,null,null,null,null,null,null,null,{"$f":"IF($K215>0,$K215,\"\")","v":""},{"$f":"IF($L215>0,MAX($L215,$P215,$Q215),\"\")","v":""}]
[{"$f":"IF(K216=\"\",\"\",CONCATENATE(YEAR($K216),\"_S\",_xlfn.ISOWEEKNUM($K216)))","v":""},null,null,null,null,null,null,null,null,null,null,null,null,null,null,null,null,null,null,null,null,null,null,null,null,null,null,{"$f":"IF($K216>0,$K216,\"\")","v":""},{"$f":"IF($L216>0,MAX($L216,$P216,$Q216),\"\")","v":""}]
[{"$f":"IF(K217=\"\",\"\",CONCATENATE(YEAR($K217),\"_S\",_xlfn.ISOWEEKNUM($K217)))","v":""},null,null,null,null,null,null,null,null,null,null,null,null,null,null,null,null,null,null,null,null,null,null,null,null,null,null,{"$f":"IF($K217>0,$K217,\"\")","v":""},{"$f":"IF($L217>0,MAX($L217,$P217,$Q217),\"\")","v":""}]
[{"$f":"IF(K218=\"\",\"\",CONCATENATE(YEAR($K218),\"_S\",_xlfn.ISOWEEKNUM($K218)))","v":""},null,null,null,null,null,null,null,null,null,null,null,null,null,null,null,null,null,null,null,null,null,null,null,null,null,null,{"$f":"IF($K218>0,$K218,\"\")","v":""},{"$f":"IF($L218>0,MAX($L218,$P218,$Q218),\"\")","v":""}]
[{"$f":"IF(K219=\"\",\"\",CONCATENATE(YEAR($K219),\"_S\",_xlfn.ISOWEEKNUM($K219)))","v":""},null,null,null,null,null,null,null,null,null,null,null,null,null,null,null,null,null,null,null,null,null,null,null,null,null,null,{"$f":"IF($K219>0,$K219,\"\")","v":""},{"$f":"IF($L219>0,MAX($L219,$P219,$Q219),\"\")","v":""}]
[{"$f":"IF(K220=\"\",\"\",CONCATENATE(YEAR($K220),\"_S\",_xlfn.ISOWEEKNUM($K220)))","v":""},null,null,null,null,null,null,null,null,null,null,null,null,null,null,null,null,null,null,null,null,null,null,null,null,null,null,{"$f":"IF($K220>0,$K220,\"\")","v":""},{"$f":"IF($L220>0,MAX($L220,$P220,$Q220),\"\")","v":""}]
[{"$f":"IF(K221=\"\",\"\",CONCATENATE(YEAR($K221),\"_S\",_xlfn.ISOWEEKNUM($K221)))","v":""},null,null,null,null,null,null,null,null,null,null,null,null,null,null,null,null,null,null,null,null,null,null,null,null,null,null,{"$f":"IF($K221>0,$K221,\"\")","v":""},{"$f":"IF($L221>0,MAX($L221,$P221,$Q221),\"\")","v":""}]
[{"$f":"IF(K222=\"\",\"\",CONCATENATE(YEAR($K222),\"_S\",_xlfn.ISOWEEKNUM($K222)))","v":""},null,null,null,null,null,null,null,null,null,null,null,null,null,null,null,null,null,null,null,null,null,null,null,null,null,null,{"$f":"IF($K222>0,$K222,\"\")","v":""},{"$f":"IF($L222>0,MAX($L222,$P222,$Q222),\"\")","v":""}]
[{"$f":"IF(K223=\"\",\"\",CONCATENATE(YEAR($K223),\"_S\",_xlfn.ISOWEEKNUM($K223)))","v":""},null,null,null,null,null,null,null,null,null,null,null,null,null,null,null,null,null,null,null,null,null,null,null,null,null,null,{"$f":"IF($K223>0,$K223,\"\")","v":""},{"$f":"IF($L223>0,MAX($L223,$P223,$Q223),\"\")","v":""}]
[{"$f":"IF(K224=\"\",\"\",CONCATENATE(YEAR($K224),\"_S\",_xlfn.ISOWEEKNUM($K224)))","v":""},null,null,null,null,null,null,null,null,null,null,null,null,null,null,null,null,null,null,null,null,null,null,null,null,null,null,{"$f":"IF($K224>0,$K224,\"\")","v":""},{"$f":"IF($L224>0,MAX($L224,$P224,$Q224),\"\")","v":""}]
[{"$f":"IF(K225=\"\",\"\",CONCATENATE(YEAR($K225),\"_S\",_xlfn.ISOWEEKNUM($K225)))","v":""},null,null,null,null,null,null,null,null,null,null,null,null,null,null,null,null,null,null,null,null,null,null,null,null,null,null,{"$f":"IF($K225>0,$K225,\"\")","v":""},{"$f":"IF($L225>0,MAX($L225,$P225,$Q225),\"\")","v":""}]
[{"$f":"IF(K226=\"\",\"\",CONCATENATE(YEAR($K226),\"_S\",_xlfn.ISOWEEKNUM($K226)))","v":""},null,null,null,null,null,null,null,null,null,null,null,null,null,null,null,null,null,null,null,null,null,null,null,null,null,null,{"$f":"IF($K226>0,$K226,\"\")","v":""},{"$f":"IF($L226>0,MAX($L226,$P226,$Q226),\"\")","v":""}]
[{"$f":"IF(K227=\"\",\"\",CONCATENATE(YEAR($K227),\"_S\",_xlfn.ISOWEEKNUM($K227)))","v":""},null,null,null,null,null,null,null,null,null,null,null,null,null,null,null,null,null,null,null,null,null,null,null,null,null,null,{"$f":"IF($K227>0,$K227,\"\")","v":""},{"$f":"IF($L227>0,MAX($L227,$P227,$Q227),\"\")","v":""}]
[{"$f":"IF(K228=\"\",\"\",CONCATENATE(YEAR($K228),\"_S\",_xlfn.ISOWEEKNUM($K228)))","v":""},null,null,null,null,null,null,null,null,null,null,null,null,null,null,null,null,null,null,null,null,null,null,null,null,null,null,{"$f":"IF($K228>0,$K228,\"\")","v":""},{"$f":"IF($L228>0,MAX($L228,$P228,$Q228),\"\")","v":""}]
[{"$f":"IF(K229=\"\",\"\",CONCATENATE(YEAR($K229),\"_S\",_xlfn.ISOWEEKNUM($K229)))","v":""},null,null,null,null,null,null,null,null,null,null,null,null,null,null,null,null,null,null,null,null,null,null,null,null,null,null,{"$f":"IF($K229>0,$K229,\"\")","v":""},{"$f":"IF($L229>0,MAX($L229,$P229,$Q229),\"\")","v":""}]
[{"$f":"IF(K230=\"\",\"\",CONCATENATE(YEAR($K230),\"_S\",_xlfn.ISOWEEKNUM($K230)))","v":""},null,null,null,null,null,null,null,null,null,null,null,null,null,null,null,null,null,null,null,null,null,null,null,null,null,null,{"$f":"IF($K230>0,$K230,\"\")","v":""},{"$f":"IF($L230>0,MAX($L230,$P230,$Q230),\"\")","v":""}]
[{"$f":"IF(K231=\"\",\"\",CONCATENATE(YEAR($K231),\"_S\",_xlfn.ISOWEEKNUM($K231)))","v":""},null,null,null,null,null,null,null,null,null,null,null,null,null,null,null,null,null,null,null,null,null,null,null,null,null,null,{"$f":"IF($K231>0,$K231,\"\")","v":""},{"$f":"IF($L231>0,MAX($L231,$P231,$Q231),\"\")","v":""}]
[{"$f":"IF(K232=\"\",\"\",CONCATENATE(YEAR($K232),\"_S\",_xlfn.ISOWEEKNUM($K232)))","v":""},null,null,null,null,null,null,null,null,null,null,null,null,null,null,null,null,null,null,null,null,null,null,null,null,null,null,{"$f":"IF($K232>0,$K232,\"\")","v":""},{"$f":"IF($L232>0,MAX($L232,$P232,$Q232),\"\")","v":""}]
[{"$f":"IF(K233=\"\",\"\",CONCATENATE(YEAR($K233),\"_S\",_xlfn.ISOWEEKNUM($K233)))","v":""},null,null,null,null,null,null,null,null,null,null,null,null,null,null,null,null,null,null,null,null,null,null,null,null,null,null,{"$f":"IF($K233>0,$K233,\"\")","v":""},{"$f":"IF($L233>0,MAX($L233,$P233,$Q233),\"\")","v":""}]
[{"$f":"IF(K234=\"\",\"\",CONCATENATE(YEAR($K234),\"_S\",_xlfn.ISOWEEKNUM($K234)))","v":""},null,null,null,null,null,null,null,null,null,null,null,null,null,null,null,null,null,null,null,null,null,null,null,null,null,null,{"$f":"IF($K234>0,$K234,\"\")","v":""},{"$f":"IF($L234>0,MAX($L234,$P234,$Q234),\"\")","v":""}]
[{"$f":"IF(K235=\"\",\"\",CONCATENATE(YEAR($K235),\"_S\",_xlfn.ISOWEEKNUM($K235)))","v":""},null,null,null,null,null,null,null,null,null,null,null,null,null,null,null,null,null,null,null,null,null,null,null,null,null,null,{"$f":"IF($K235>0,$K235,\"\")","v":""},{"$f":"IF($L235>0,MAX($L235,$P235,$Q235),\"\")","v":""}]
[{"$f":"IF(K236=\"\",\"\",CONCATENATE(YEAR($K236),\"_S\",_xlfn.ISOWEEKNUM($K236)))","v":""},null,null,null,null,null,null,null,null,null,null,null,null,null,null,null,null,null,null,null,null,null,null,null,null,null,null,{"$f":"IF($K236>0,$K236,\"\")","v":""},{"$f":"IF($L236>0,MAX($L236,$P236,$Q236),\"\")","v":""}]
[{"$f":"IF(K237=\"\",\"\",CONCATENATE(YEAR($K237),\"_S\",_xlfn.ISOWEEKNUM($K237)))","v":""},null,null,null,null,null,null,null,null,null,null,null,null,null,null,null,null,null,null,null,null,null,null,null,null,null,null,{"$f":"IF($K237>0,$K237,\"\")","v":""},{"$f":"IF($L237>0,MAX($L237,$P237,$Q237),\"\")","v":""}]
[{"$f":"IF(K238=\"\",\"\",CONCATENATE(YEAR($K238),\"_S\",_xlfn.ISOWEEKNUM($K238)))","v":""},null,null,null,null,null,null,null,null,null,null,null,null,null,null,null,null,null,null,null,null,null,null,null,null,null,null,{"$f":"IF($K238>0,$K238,\"\")","v":""},{"$f":"IF($L238>0,MAX($L238,$P238,$Q238),\"\")","v":""}]
[{"$f":"IF(K239=\"\",\"\",CONCATENATE(YEAR($K239),\"_S\",_xlfn.ISOWEEKNUM($K239)))","v":""},null,null,null,null,null,null,null,null,null,null,null,null,null,null,null,null,null,null,null,null,null,null,null,null,null,null,{"$f":"IF($K239>0,$K239,\"\")","v":""},{"$f":"IF($L239>0,MAX($L239,$P239,$Q239),\"\")","v":""}]
[{"$f":"IF(K240=\"\",\"\",CONCATENATE(YEAR($K240),\"_S\",_xlfn.ISOWEEKNUM($K240)))","v":""},null,null,null,null,null,null,null,null,null,null,null,null,null,null,null,null,null,null,null,null,null,null,null,null,null,null,{"$f":"IF($K240>0,$K240,\"\")","v":""},{"$f":"IF($L240>0,MAX($L240,$P240,$Q240),\"\")","v":""}]
[{"$f":"IF(K241=\"\",\"\",CONCATENATE(YEAR($K241),\"_S\",_xlfn.ISOWEEKNUM($K241)))","v":""},null,null,null,null,null,null,null,null,null,null,null,null,null,null,null,null,null,null,null,null,null,null,null,null,null,null,{"$f":"IF($K241>0,$K241,\"\")","v":""},{"$f":"IF($L241>0,MAX($L241,$P241,$Q241),\"\")","v":""}]
[{"$f":"IF(K242=\"\",\"\",CONCATENATE(YEAR($K242),\"_S\",_xlfn.ISOWEEKNUM($K242)))","v":""},null,null,null,null,null,null,null,null,null,null,null,null,null,null,null,null,null,null,null,null,null,null,null,null,null,null,{"$f":"IF($K242>0,$K242,\"\")","v":""},{"$f":"IF($L242>0,MAX($L242,$P242,$Q242),\"\")","v":""}]
[{"$f":"IF(K243=\"\",\"\",CONCATENATE(YEAR($K243),\"_S\",_xlfn.ISOWEEKNUM($K243)))","v":""},null,null,null,null,null,null,null,null,null,null,null,null,null,null,null,null,null,null,null,null,null,null,null,null,null,null,{"$f":"IF($K243>0,$K243,\"\")","v":""},{"$f":"IF($L243>0,MAX($L243,$P243,$Q243),\"\")","v":""}]
[{"$f":"IF(K244=\"\",\"\",CONCATENATE(YEAR($K244),\"_S\",_xlfn.ISOWEEKNUM($K244)))","v":""},null,null,null,null,null,null,null,null,null,null,null,null,null,null,null,null,null,null,null,null,null,null,null,null,null,null,{"$f":"IF($K244>0,$K244,\"\")","v":""},{"$f":"IF($L244>0,MAX($L244,$P244,$Q244),\"\")","v":""}]
[{"$f":"IF(K245=\"\",\"\",CONCATENATE(YEAR($K245),\"_S\",_xlfn.ISOWEEKNUM($K245)))","v":""},null,null,null,null,null,null,null,null,null,null,null,null,null,null,null,null,null,null,null,null,null,null,null,null,null,null,{"$f":"IF($K245>0,$K245,\"\")","v":""},{"$f":"IF($L245>0,MAX($L245,$P245,$Q245),\"\")","v":""}]
[{"$f":"IF(K246=\"\",\"\",CONCATENATE(YEAR($K246),\"_S\",_xlfn.ISOWEEKNUM($K246)))","v":""},null,null,null,null,null,null,null,null,null,null,null,null,null,null,null,null,null,null,null,null,null,null,null,null,null,null,{"$f":"IF($K246>0,$K246,\"\")","v":""},{"$f":"IF($L246>0,MAX($L246,$P246,$Q246),\"\")","v":""}]
[{"$f":"IF(K247=\"\",\"\",CONCATENATE(YEAR($K247),\"_S\",_xlfn.ISOWEEKNUM($K247)))","v":""},null,null,null,null,null,null,null,null,null,null,null,null,null,null,null,null,null,null,null,null,null,null,null,null,null,null,{"$f":"IF($K247>0,$K247,\"\")","v":""},{"$f":"IF($L247>0,MAX($L247,$P247,$Q247),\"\")","v":""}]
[{"$f":"IF(K248=\"\",\"\",CONCATENATE(YEAR($K248),\"_S\",_xlfn.ISOWEEKNUM($K248)))","v":""},null,null,null,null,null,null,null,null,null,null,null,null,null,null,null,null,null,null,null,null,null,null,null,null,null,null,{"$f":"IF($K248>0,$K248,\"\")","v":""},{"$f":"IF($L248>0,MAX($L248,$P248,$Q248),\"\")","v":""}]
[{"$f":"IF(K249=\"\",\"\",CONCATENATE(YEAR($K249),\"_S\",_xlfn.ISOWEEKNUM($K249)))","v":""},null,null,null,null,null,null,null,null,null,null,null,null,null,null,null,null,null,null,null,null,null,null,null,null,null,null,{"$f":"IF($K249>0,$K249,\"\")","v":""},{"$f":"IF($L249>0,MAX($L249,$P249,$Q249),\"\")","v":""}]
[{"$f":"IF(K250=\"\",\"\",CONCATENATE(YEAR($K250),\"_S\",_xlfn.ISOWEEKNUM($K250)))","v":""},null,null,null,null,null,null,null,null,null,null,null,null,null,null,null,null,null,null,null,null,null,null,null,null,null,null,{"$f":"IF($K250>0,$K250,\"\")","v":""},{"$f":"IF($L250>0,MAX($L250,$P250,$Q250),\"\")","v":""}]
[{"$f":"IF(K251=\"\",\"\",CONCATENATE(YEAR($K251),\"_S\",_xlfn.ISOWEEKNUM($K251)))","v":""},null,null,null,null,null,null,null,null,null,null,null,null,null,null,null,null,null,null,null,null,null,null,null,null,null,null,{"$f":"IF($K251>0,$K251,\"\")","v":""},{"$f":"IF($L251>0,MAX($L251,$P251,$Q251),\"\")","v":""}]
[{"$f":"IF(K252=\"\",\"\",CONCATENATE(YEAR($K252),\"_S\",_xlfn.ISOWEEKNUM($K252)))","v":""},null,null,null,null,null,null,null,null,null,null,null,null,null,null,null,null,null,null,null,null,null,null,null,null,null,null,{"$f":"IF($K252>0,$K252,\"\")","v":""},{"$f":"IF($L252>0,MAX($L252,$P252,$Q252),\"\")","v":""}]
[{"$f":"IF(K253=\"\",\"\",CONCATENATE(YEAR($K253),\"_S\",_xlfn.ISOWEEKNUM($K253)))","v":""},null,null,null,null,null,null,null,null,null,null,null,null,null,null,null,null,null,null,null,null,null,null,null,null,null,null,{"$f":"IF($K253>0,$K253,\"\")","v":""},{"$f":"IF($L253>0,MAX($L253,$P253,$Q253),\"\")","v":""}]
[{"$f":"IF(K254=\"\",\"\",CONCATENATE(YEAR($K254),\"_S\",_xlfn.ISOWEEKNUM($K254)))","v":""},null,null,null,null,null,null,null,null,null,null,null,null,null,null,null,null,null,null,null,null,null,null,null,null,null,null,{"$f":"IF($K254>0,$K254,\"\")","v":""},{"$f":"IF($L254>0,MAX($L254,$P254,$Q254),\"\")","v":""}]
[{"$f":"IF(K255=\"\",\"\",CONCATENATE(YEAR($K255),\"_S\",_xlfn.ISOWEEKNUM($K255)))","v":""},null,null,null,null,null,null,null,null,null,null,null,null,null,null,null,null,null,null,null,null,null,null,null,null,null,null,{"$f":"IF($K255>0,$K255,\"\")","v":""},{"$f":"IF($L255>0,MAX($L255,$P255,$Q255),\"\")","v":""}]
[{"$f":"IF(K256=\"\",\"\",CONCATENATE(YEAR($K256),\"_S\",_xlfn.ISOWEEKNUM($K256)))","v":""},null,null,null,null,null,null,null,null,null,null,null,null,null,null,null,null,null,null,null,null,null,null,null,null,null,null,{"$f":"IF($K256>0,$K256,\"\")","v":""},{"$f":"IF($L256>0,MAX($L256,$P256,$Q256),\"\")","v":""}]
[{"$f":"IF(K257=\"\",\"\",CONCATENATE(YEAR($K257),\"_S\",_xlfn.ISOWEEKNUM($K257)))","v":""},null,null,null,null,null,null,null,null,null,null,null,null,null,null,null,null,null,null,null,null,null,null,null,null,null,null,{"$f":"IF($K257>0,$K257,\"\")","v":""},{"$f":"IF($L257>0,MAX($L257,$P257,$Q257),\"\")","v":""}]
[{"$f":"IF(K258=\"\",\"\",CONCATENATE(YEAR($K258),\"_S\",_xlfn.ISOWEEKNUM($K258)))","v":""},null,null,null,null,null,null,null,null,null,null,null,null,null,null,null,null,null,null,null,null,null,null,null,null,null,null,{"$f":"IF($K258>0,$K258,\"\")","v":""},{"$f":"IF($L258>0,MAX($L258,$P258,$Q258),\"\")","v":""}]
[{"$f":"IF(K259=\"\",\"\",CONCATENATE(YEAR($K259),\"_S\",_xlfn.ISOWEEKNUM($K259)))","v":""},null,null,null,null,null,null,null,null,null,null,null,null,null,null,null,null,null,null,null,null,null,null,null,null,null,null,{"$f":"IF($K259>0,$K259,\"\")","v":""},{"$f":"IF($L259>0,MAX($L259,$P259,$Q259),\"\")","v":""}]
[{"$f":"IF(K260=\"\",\"\",CONCATENATE(YEAR($K260),\"_S\",_xlfn.ISOWEEKNUM($K260)))","v":""},null,null,null,null,null,null,null,null,null,null,null,null,null,null,null,null,null,null,null,null,null,null,null,null,null,null,{"$f":"IF($K260>0,$K260,\"\")","v":""},{"$f":"IF($L260>0,MAX($L260,$P260,$Q260),\"\")","v":""}]
[{"$f":"IF(K261=\"\",\"\",CONCATENATE(YEAR($K261),\"_S\",_xlfn.ISOWEEKNUM($K261)))","v":""},null,null,null,null,null,null,null,null,null,null,null,null,null,null,null,null,null,null,null,null,null,null,null,null,null,null,{"$f":"IF($K261>0,$K261,\"\")","v":""},{"$f":"IF($L261>0,MAX($L261,$P261,$Q261),\"\")","v":""}]
[{"$f":"IF(K262=\"\",\"\",CONCATENATE(YEAR($K262),\"_S\",_xlfn.ISOWEEKNUM($K262)))","v":""},null,null,null,null,null,null,null,null,null,null,null,null,null,null,null,null,null,null,null,null,null,null,null,null,null,null,{"$f":"IF($K262>0,$K262,\"\")","v":""},{"$f":"IF($L262>0,MAX($L262,$P262,$Q262),\"\")","v":""}]
[{"$f":"IF(K263=\"\",\"\",CONCATENATE(YEAR($K263),\"_S\",_xlfn.ISOWEEKNUM($K263)))","v":""},null,null,null,null,null,null,null,null,null,null,null,null,null,null,null,null,null,null,null,null,null,null,null,null,null,null,{"$f":"IF($K263>0,$K263,\"\")","v":""},{"$f":"IF($L263>0,MAX($L263,$P263,$Q263),\"\")","v":""}]
[{"$f":"IF(K264=\"\",\"\",CONCATENATE(YEAR($K264),\"_S\",_xlfn.ISOWEEKNUM($K264)))","v":""},null,null,null,null,null,null,null,null,null,null,null,null,null,null,null,null,null,null,null,null,null,null,null,null,null,null,{"$f":"IF($K264>0,$K264,\"\")","v":""},{"$f":"IF($L264>0,MAX($L264,$P264,$Q264),\"\")","v":""}]
[{"$f":"IF(K265=\"\",\"\",CONCATENATE(YEAR($K265),\"_S\",_xlfn.ISOWEEKNUM($K265)))","v":""},null,null,null,null,null,null,null,null,null,null,null,null,null,null,null,null,null,null,null,null,null,null,null,null,null,null,{"$f":"IF($K265>0,$K265,\"\")","v":""},{"$f":"IF($L265>0,MAX($L265,$P265,$Q265),\"\")","v":""}]
[{"$f":"IF(K266=\"\",\"\",CONCATENATE(YEAR($K266),\"_S\",_xlfn.ISOWEEKNUM($K266)))","v":""},null,null,null,null,null,null,null,null,null,null,null,null,null,null,null,null,null,null,null,null,null,null,null,null,null,null,{"$f":"IF($K266>0,$K266,\"\")","v":""},{"$f":"IF($L266>0,MAX($L266,$P266,$Q266),\"\")","v":""}]
[{"$f":"IF(K267=\"\",\"\",CONCATENATE(YEAR($K267),\"_S\",_xlfn.ISOWEEKNUM($K267)))","v":""},null,null,null,null,null,null,null,null,null,null,null,null,null,null,null,null,null,null,null,null,null,null,null,null,null,null,{"$f":"IF($K267>0,$K267,\"\")","v":""},{"$f":"IF($L267>0,MAX($L267,$P267,$Q267),\"\")","v":""}]
[{"$f":"IF(K268=\"\",\"\",CONCATENATE(YEAR($K268),\"_S\",_xlfn.ISOWEEKNUM($K268)))","v":""},null,null,null,null,null,null,null,null,null,null,null,null,null,null,null,null,null,null,null,null,null,null,null,null,null,null,{"$f":"IF($K268>0,$K268,\"\")","v":""},{"$f":"IF($L268>0,MAX($L268,$P268,$Q268),\"\")","v":""}]
[{"$f":"IF(K269=\"\",\"\",CONCATENATE(YEAR($K269),\"_S\",_xlfn.ISOWEEKNUM($K269)))","v":""},null,null,null,null,null,null,null,null,null,null,null,null,null,null,null,null,null,null,null,null,null,null,null,null,null,null,{"$f":"IF($K269>0,$K269,\"\")","v":""},{"$f":"IF($L269>0,MAX($L269,$P269,$Q269),\"\")","v":""}]
[{"$f":"IF(K270=\"\",\"\",CONCATENATE(YEAR($K270),\"_S\",_xlfn.ISOWEEKNUM($K270)))","v":""},null,null,null,null,null,null,null,null,null,null,null,null,null,null,null,null,null,null,null,null,null,null,null,null,null,null,{"$f":"IF($K270>0,$K270,\"\")","v":""},{"$f":"IF($L270>0,MAX($L270,$P270,$Q270),\"\")","v":""}]
[{"$f":"IF(K271=\"\",\"\",CONCATENATE(YEAR($K271),\"_S\",_xlfn.ISOWEEKNUM($K271)))","v":""},null,null,null,null,null,null,null,null,null,null,null,null,null,null,null,null,null,null,null,null,null,null,null,null,null,null,{"$f":"IF($K271>0,$K271,\"\")","v":""},{"$f":"IF($L271>0,MAX($L271,$P271,$Q271),\"\")","v":""}]
[{"$f":"IF(K272=\"\",\"\",CONCATENATE(YEAR($K272),\"_S\",_xlfn.ISOWEEKNUM($K272)))","v":""},null,null,null,null,null,null,null,null,null,null,null,null,null,null,null,null,null,null,null,null,null,null,null,null,null,null,{"$f":"IF($K272>0,$K272,\"\")","v":""},{"$f":"IF($L272>0,MAX($L272,$P272,$Q272),\"\")","v":""}]
[{"$f":"IF(K273=\"\",\"\",CONCATENATE(YEAR($K273),\"_S\",_xlfn.ISOWEEKNUM($K273)))","v":""},null,null,null,null,null,null,null,null,null,null,null,null,null,null,null,null,null,null,null,null,null,null,null,null,null,null,{"$f":"IF($K273>0,$K273,\"\")","v":""},{"$f":"IF($L273>0,MAX($L273,$P273,$Q273),\"\")","v":""}]
[{"$f":"IF(K274=\"\",\"\",CONCATENATE(YEAR($K274),\"_S\",_xlfn.ISOWEEKNUM($K274)))","v":""},null,null,null,null,null,null,null,null,null,null,null,null,null,null,null,null,null,null,null,null,null,null,null,null,null,null,{"$f":"IF($K274>0,$K274,\"\")","v":""},{"$f":"IF($L274>0,MAX($L274,$P274,$Q274),\"\")","v":""}]
[{"$f":"IF(K275=\"\",\"\",CONCATENATE(YEAR($K275),\"_S\",_xlfn.ISOWEEKNUM($K275)))","v":""},null,null,null,null,null,null,null,null,null,null,null,null,null,null,null,null,null,null,null,null,null,null,null,null,null,null,{"$f":"IF($K275>0,$K275,\"\")","v":""},{"$f":"IF($L275>0,MAX($L275,$P275,$Q275),\"\")","v":""}]
[{"$f":"IF(K276=\"\",\"\",CONCATENATE(YEAR($K276),\"_S\",_xlfn.ISOWEEKNUM($K276)))","v":""},null,null,null,null,null,null,null,null,null,null,null,null,null,null,null,null,null,null,null,null,null,null,null,null,null,null,{"$f":"IF($K276>0,$K276,\"\")","v":""},{"$f":"IF($L276>0,MAX($L276,$P276,$Q276),\"\")","v":""}]
[{"$f":"IF(K277=\"\",\"\",CONCATENATE(YEAR($K277),\"_S\",_xlfn.ISOWEEKNUM($K277)))","v":""},null,null,null,null,null,null,null,null,null,null,null,null,null,null,null,null,null,null,null,null,null,null,null,null,null,null,{"$f":"IF($K277>0,$K277,\"\")","v":""},{"$f":"IF($L277>0,MAX($L277,$P277,$Q277),\"\")","v":""}]
[{"$f":"IF(K278=\"\",\"\",CONCATENATE(YEAR($K278),\"_S\",_xlfn.ISOWEEKNUM($K278)))","v":""},null,null,null,null,null,null,null,null,null,null,null,null,null,null,null,null,null,null,null,null,null,null,null,null,null,null,{"$f":"IF($K278>0,$K278,\"\")","v":""},{"$f":"IF($L278>0,MAX($L278,$P278,$Q278),\"\")","v":""}]
[{"$f":"IF(K279=\"\",\"\",CONCATENATE(YEAR($K279),\"_S\",_xlfn.ISOWEEKNUM($K279)))","v":""},null,null,null,null,null,null,null,null,null,null,null,null,null,null,null,null,null,null,null,null,null,null,null,null,null,null,{"$f":"IF($K279>0,$K279,\"\")","v":""},{"$f":"IF($L279>0,MAX($L279,$P279,$Q279),\"\")","v":""}]
[{"$f":"IF(K280=\"\",\"\",CONCATENATE(YEAR($K280),\"_S\",_xlfn.ISOWEEKNUM($K280)))","v":""},null,null,null,null,null,null,null,null,null,null,null,null,null,null,null,null,null,null,null,null,null,null,null,null,null,null,{"$f":"IF($K280>0,$K280,\"\")","v":""},{"$f":"IF($L280>0,MAX($L280,$P280,$Q280),\"\")","v":""}]
[{"$f":"IF(K281=\"\",\"\",CONCATENATE(YEAR($K281),\"_S\",_xlfn.ISOWEEKNUM($K281)))","v":""},null,null,null,null,null,null,null,null,null,null,null,null,null,null,null,null,null,null,null,null,null,null,null,null,null,null,{"$f":"IF($K281>0,$K281,\"\")","v":""},{"$f":"IF($L281>0,MAX($L281,$P281,$Q281),\"\")","v":""}]
[{"$f":"IF(K282=\"\",\"\",CONCATENATE(YEAR($K282),\"_S\",_xlfn.ISOWEEKNUM($K282)))","v":""},null,null,null,null,null,null,null,null,null,null,null,null,null,null,null,null,null,null,null,null,null,null,null,null,null,null,{"$f":"IF($K282>0,$K282,\"\")","v":""},{"$f":"IF($L282>0,MAX($L282,$P282,$Q282),\"\")","v":""}]
[{"$f":"IF(K283=\"\",\"\",CONCATENATE(YEAR($K283),\"_S\",_xlfn.ISOWEEKNUM($K283)))","v":""},null,null,null,null,null,null,null,null,null,null,null,null,null,null,null,null,null,null,null,null,null,null,null,null,null,null,{"$f":"IF($K283>0,$K283,\"\")","v":""},{"$f":"IF($L283>0,MAX($L283,$P283,$Q283),\"\")","v":""}]
[{"$f":"IF(K284=\"\",\"\",CONCATENATE(YEAR($K284),\"_S\",_xlfn.ISOWEEKNUM($K284)))","v":""},null,null,null,null,null,null,null,null,null,null,null,null,null,null,null,null,null,null,null,null,null,null,null,null,null,null,{"$f":"IF($K284>0,$K284,\"\")","v":""},{"$f":"IF($L284>0,MAX($L284,$P284,$Q284),\"\")","v":""}]
[{"$f":"IF(K285=\"\",\"\",CONCATENATE(YEAR($K285),\"_S\",_xlfn.ISOWEEKNUM($K285)))","v":""},null,null,null,null,null,null,null,null,null,null,null,null,null,null,null,null,null,null,null,null,null,null,null,null,null,null,{"$f":"IF($K285>0,$K285,\"\")","v":""},{"$f":"IF($L285>0,MAX($L285,$P285,$Q285),\"\")","v":""}]
[{"$f":"IF(K286=\"\",\"\",CONCATENATE(YEAR($K286),\"_S\",_xlfn.ISOWEEKNUM($K286)))","v":""},null,null,null,null,null,null,null,null,null,null,null,null,null,null,null,null,null,null,null,null,null,null,null,null,null,null,{"$f":"IF($K286>0,$K286,\"\")","v":""},{"$f":"IF($L286>0,MAX($L286,$P286,$Q286),\"\")","v":""}]
[{"$f":"IF(K287=\"\",\"\",CONCATENATE(YEAR($K287),\"_S\",_xlfn.ISOWEEKNUM($K287)))","v":""},null,null,null,null,null,null,null,null,null,null,null,null,null,null,null,null,null,null,null,null,null,null,null,null,null,null,{"$f":"IF($K287>0,$K287,\"\")","v":""},{"$f":"IF($L287>0,MAX($L287,$P287,$Q287),\"\")","v":""}]
[{"$f":"IF(K288=\"\",\"\",CONCATENATE(YEAR($K288),\"_S\",_xlfn.ISOWEEKNUM($K288)))","v":""},null,null,null,null,null,null,null,null,null,null,null,null,null,null,null,null,null,null,null,null,null,null,null,null,null,null,{"$f":"IF($K288>0,$K288,\"\")","v":""},{"$f":"IF($L288>0,MAX($L288,$P288,$Q288),\"\")","v":""}]
[{"$f":"IF(K289=\"\",\"\",CONCATENATE(YEAR($K289),\"_S\",_xlfn.ISOWEEKNUM($K289)))","v":""},null,null,null,null,null,null,null,null,null,null,null,null,null,null,null,null,null,null,null,null,null,null,null,null,null,null,{"$f":"IF($K289>0,$K289,\"\")","v":""},{"$f":"IF($L289>0,MAX($L289,$P289,$Q289),\"\")","v":""}]
[{"$f":"IF(K290=\"\",\"\",CONCATENATE(YEAR($K290),\"_S\",_xlfn.ISOWEEKNUM($K290)))","v":""},null,null,null,null,null,null,null,null,null,null,null,null,null,null,null,null,null,null,null,null,null,null,null,null,null,null,{"$f":"IF($K290>0,$K290,\"\")","v":""},{"$f":"IF($L290>0,MAX($L290,$P290,$Q290),\"\")","v":""}]
[{"$f":"IF(K291=\"\",\"\",CONCATENATE(YEAR($K291),\"_S\",_xlfn.ISOWEEKNUM($K291)))","v":""},null,null,null,null,null,null,null,null,null,null,null,null,null,null,null,null,null,null,null,null,null,null,null,null,null,null,{"$f":"IF($K291>0,$K291,\"\")","v":""},{"$f":"IF($L291>0,MAX($L291,$P291,$Q291),\"\")","v":""}]
[{"$f":"IF(K292=\"\",\"\",CONCATENATE(YEAR($K292),\"_S\",_xlfn.ISOWEEKNUM($K292)))","v":""},null,null,null,null,null,null,null,null,null,null,null,null,null,null,null,null,null,null,null,null,null,null,null,null,null,null,{"$f":"IF($K292>0,$K292,\"\")","v":""},{"$f":"IF($L292>0,MAX($L292,$P292,$Q292),\"\")","v":""}]
[{"$f":"IF(K293=\"\",\"\",CONCATENATE(YEAR($K293),\"_S\",_xlfn.ISOWEEKNUM($K293)))","v":""},null,null,null,null,null,null,null,null,null,null,null,null,null,null,null,null,null,null,null,null,null,null,null,null,null,null,{"$f":"IF($K293>0,$K293,\"\")","v":""},{"$f":"IF($L293>0,MAX($L293,$P293,$Q293),\"\")","v":""}]
[{"$f":"IF(K294=\"\",\"\",CONCATENATE(YEAR($K294),\"_S\",_xlfn.ISOWEEKNUM($K294)))","v":""},null,null,null,null,null,null,null,null,null,null,null,null,null,null,null,null,null,null,null,null,null,null,null,null,null,null,{"$f":"IF($K294>0,$K294,\"\")","v":""},{"$f":"IF($L294>0,MAX($L294,$P294,$Q294),\"\")","v":""}]
[{"$f":"IF(K295=\"\",\"\",CONCATENATE(YEAR($K295),\"_S\",_xlfn.ISOWEEKNUM($K295)))","v":""},null,null,null,null,null,null,null,null,null,null,null,null,null,null,null,null,null,null,null,null,null,null,null,null,null,null,{"$f":"IF($K295>0,$K295,\"\")","v":""},{"$f":"IF($L295>0,MAX($L295,$P295,$Q295),\"\")","v":""}]
[{"$f":"IF(K296=\"\",\"\",CONCATENATE(YEAR($K296),\"_S\",_xlfn.ISOWEEKNUM($K296)))","v":""},null,null,null,null,null,null,null,null,null,null,null,null,null,null,null,null,null,null,null,null,null,null,null,null,null,null,{"$f":"IF($K296>0,$K296,\"\")","v":""},{"$f":"IF($L296>0,MAX($L296,$P296,$Q296),\"\")","v":""}]
[{"$f":"IF(K297=\"\",\"\",CONCATENATE(YEAR($K297),\"_S\",_xlfn.ISOWEEKNUM($K297)))","v":""},null,null,null,null,null,null,null,null,null,null,null,null,null,null,null,null,null,null,null,null,null,null,null,null,null,null,{"$f":"IF($K297>0,$K297,\"\")","v":""},{"$f":"IF($L297>0,MAX($L297,$P297,$Q297),\"\")","v":""}]
[{"$f":"IF(K298=\"\",\"\",CONCATENATE(YEAR($K298),\"_S\",_xlfn.ISOWEEKNUM($K298)))","v":""},null,null,null,null,null,null,null,null,null,null,null,null,null,null,null,null,null,null,null,null,null,null,null,null,null,null,{"$f":"IF($K298>0,$K298,\"\")","v":""},{"$f":"IF($L298>0,MAX($L298,$P298,$Q298),\"\")","v":""}]
[{"$f":"IF(K299=\"\",\"\",CONCATENATE(YEAR($K299),\"_S\",_xlfn.ISOWEEKNUM($K299)))","v":""},null,null,null,null,null,null,null,null,null,null,null,null,null,null,null,null,null,null,null,null,null,null,null,null,null,null,{"$f":"IF($K299>0,$K299,\"\")","v":""},{"$f":"IF($L299>0,MAX($L299,$P299,$Q299),\"\")","v":""}]
[{"$f":"IF(K300=\"\",\"\",CONCATENATE(YEAR($K300),\"_S\",_xlfn.ISOWEEKNUM($K300)))","v":""},null,null,null,null,null,null,null,null,null,null,null,null,null,null,null,null,null,null,null,null,null,null,null,null,null,null,{"$f":"IF($K300>0,$K300,\"\")","v":""},{"$f":"IF($L300>0,MAX($L300,$P300,$Q300),\"\")","v":""}]
[{"$f":"IF(K301=\"\",\"\",CONCATENATE(YEAR($K301),\"_S\",_xlfn.ISOWEEKNUM($K301)))","v":""},null,null,null,null,null,null,null,null,null,null,null,null,null,null,null,null,null,null,null,null,null,null,null,null,null,null,{"$f":"IF($K301>0,$K301,\"\")","v":""},{"$f":"IF($L301>0,MAX($L301,$P301,$Q301),\"\")","v":""}]
[{"$f":"IF(K302=\"\",\"\",CONCATENATE(YEAR($K302),\"_S\",_xlfn.ISOWEEKNUM($K302)))","v":""},null,null,null,null,null,null,null,null,null,null,null,null,null,null,null,null,null,null,null,null,null,null,null,null,null,null,{"$f":"IF($K302>0,$K302,\"\")","v":""},{"$f":"IF($L302>0,MAX($L302,$P302,$Q302),\"\")","v":""}]
[{"$f":"IF(K303=\"\",\"\",CONCATENATE(YEAR($K303),\"_S\",_xlfn.ISOWEEKNUM($K303)))","v":""},null,null,null,null,null,null,null,null,null,null,null,null,null,null,null,null,null,null,null,null,null,null,null,null,null,null,{"$f":"IF($K303>0,$K303,\"\")","v":""},{"$f":"IF($L303>0,MAX($L303,$P303,$Q303),\"\")","v":""}]
[{"$f":"IF(K304=\"\",\"\",CONCATENATE(YEAR($K304),\"_S\",_xlfn.ISOWEEKNUM($K304)))","v":""},null,null,null,null,null,null,null,null,null,null,null,null,null,null,null,null,null,null,null,null,null,null,null,null,null,null,{"$f":"IF($K304>0,$K304,\"\")","v":""},{"$f":"IF($L304>0,MAX($L304,$P304,$Q304),\"\")","v":""}]
[{"$f":"IF(K305=\"\",\"\",CONCATENATE(YEAR($K305),\"_S\",_xlfn.ISOWEEKNUM($K305)))","v":""},null,null,null,null,null,null,null,null,null,null,null,null,null,null,null,null,null,null,null,null,null,null,null,null,null,null,{"$f":"IF($K305>0,$K305,\"\")","v":""},{"$f":"IF($L305>0,MAX($L305,$P305,$Q305),\"\")","v":""}]
[{"$f":"IF(K306=\"\",\"\",CONCATENATE(YEAR($K306),\"_S\",_xlfn.ISOWEEKNUM($K306)))","v":""},null,null,null,null,null,null,null,null,null,null,null,null,null,null,null,null,null,null,null,null,null,null,null,null,null,null,{"$f":"IF($K306>0,$K306,\"\")","v":""},{"$f":"IF($L306>0,MAX($L306,$P306,$Q306),\"\")","v":""}]
[{"$f":"IF(K307=\"\",\"\",CONCATENATE(YEAR($K307),\"_S\",_xlfn.ISOWEEKNUM($K307)))","v":""},null,null,null,null,null,null,null,null,null,null,null,null,null,null,null,null,null,null,null,null,null,null,null,null,null,null,{"$f":"IF($K307>0,$K307,\"\")","v":""},{"$f":"IF($L307>0,MAX($L307,$P307,$Q307),\"\")","v":""}]
[{"$f":"IF(K308=\"\",\"\",CONCATENATE(YEAR($K308),\"_S\",_xlfn.ISOWEEKNUM($K308)))","v":""},null,null,null,null,null,null,null,null,null,null,null,null,null,null,null,null,null,null,null,null,null,null,null,null,null,null,{"$f":"IF($K308>0,$K308,\"\")","v":""},{"$f":"IF($L308>0,MAX($L308,$P308,$Q308),\"\")","v":""}]
[{"$f":"IF(K309=\"\",\"\",CONCATENATE(YEAR($K309),\"_S\",_xlfn.ISOWEEKNUM($K309)))","v":""},null,null,null,null,null,null,null,null,null,null,null,null,null,null,null,null,null,null,null,null,null,null,null,null,null,null,{"$f":"IF($K309>0,$K309,\"\")","v":""},{"$f":"IF($L309>0,MAX($L309,$P309,$Q309),\"\")","v":""}]
[{"$f":"IF(K310=\"\",\"\",CONCATENATE(YEAR($K310),\"_S\",_xlfn.ISOWEEKNUM($K310)))","v":""},null,null,null,null,null,null,null,null,null,null,null,null,null,null,null,null,null,null,null,null,null,null,null,null,null,null,{"$f":"IF($K310>0,$K310,\"\")","v":""},{"$f":"IF($L310>0,MAX($L310,$P310,$Q310),\"\")","v":""}]
[{"$f":"IF(K311=\"\",\"\",CONCATENATE(YEAR($K311),\"_S\",_xlfn.ISOWEEKNUM($K311)))","v":""},null,null,null,null,null,null,null,null,null,null,null,null,null,null,null,null,null,null,null,null,null,null,null,null,null,null,{"$f":"IF($K311>0,$K311,\"\")","v":""},{"$f":"IF($L311>0,MAX($L311,$P311,$Q311),\"\")","v":""}]
[{"$f":"IF(K312=\"\",\"\",CONCATENATE(YEAR($K312),\"_S\",_xlfn.ISOWEEKNUM($K312)))","v":""},null,null,null,null,null,null,null,null,null,null,null,null,null,null,null,null,null,null,null,null,null,null,null,null,null,null,{"$f":"IF($K312>0,$K312,\"\")","v":""},{"$f":"IF($L312>0,MAX($L312,$P312,$Q312),\"\")","v":""}]
[{"$f":"IF(K313=\"\",\"\",CONCATENATE(YEAR($K313),\"_S\",_xlfn.ISOWEEKNUM($K313)))","v":""},null,null,null,null,null,null,null,null,null,null,null,null,null,null,null,null,null,null,null,null,null,null,null,null,null,null,{"$f":"IF($K313>0,$K313,\"\")","v":""},{"$f":"IF($L313>0,MAX($L313,$P313,$Q313),\"\")","v":""}]
[{"$f":"IF(K314=\"\",\"\",CONCATENATE(YEAR($K314),\"_S\",_xlfn.ISOWEEKNUM($K314)))","v":""},null,null,null,null,null,null,null,null,null,null,null,null,null,null,null,null,null,null,null,null,null,null,null,null,null,null,{"$f":"IF($K314>0,$K314,\"\")","v":""},{"$f":"IF($L314>0,MAX($L314,$P314,$Q314),\"\")","v":""}]
[{"$f":"IF(K315=\"\",\"\",CONCATENATE(YEAR($K315),\"_S\",_xlfn.ISOWEEKNUM($K315)))","v":""},null,null,null,null,null,null,null,null,null,null,null,null,null,null,null,null,null,null,null,null,null,null,null,null,null,null,{"$f":"IF($K315>0,$K315,\"\")","v":""},{"$f":"IF($L315>0,MAX($L315,$P315,$Q315),\"\")","v":""}]
[{"$f":"IF(K316=\"\",\"\",CONCATENATE(YEAR($K316),\"_S\",_xlfn.ISOWEEKNUM($K316)))","v":""},null,null,null,null,null,null,null,null,null,null,null,null,null,null,null,null,null,null,null,null,null,null,null,null,null,null,{"$f":"IF($K316>0,$K316,\"\")","v":""},{"$f":"IF($L316>0,MAX($L316,$P316,$Q316),\"\")","v":""}]
[{"$f":"IF(K317=\"\",\"\",CONCATENATE(YEAR($K317),\"_S\",_xlfn.ISOWEEKNUM($K317)))","v":""},null,null,null,null,null,null,null,null,null,null,null,null,null,null,null,null,null,null,null,null,null,null,null,null,null,null,{"$f":"IF($K317>0,$K317,\"\")","v":""},{"$f":"IF($L317>0,MAX($L317,$P317,$Q317),\"\")","v":""}]
[{"$f":"IF(K318=\"\",\"\",CONCATENATE(YEAR($K318),\"_S\",_xlfn.ISOWEEKNUM($K318)))","v":""},null,null,null,null,null,null,null,null,null,null,null,null,null,null,null,null,null,null,null,null,null,null,null,null,null,null,{"$f":"IF($K318>0,$K318,\"\")","v":""},{"$f":"IF($L318>0,MAX($L318,$P318,$Q318),\"\")","v":""}]
[{"$f":"IF(K319=\"\",\"\",CONCATENATE(YEAR($K319),\"_S\",_xlfn.ISOWEEKNUM($K319)))","v":""},null,null,null,null,null,null,null,null,null,null,null,null,null,null,null,null,null,null,null,null,null,null,null,null,null,null,{"$f":"IF($K319>0,$K319,\"\")","v":""},{"$f":"IF($L319>0,MAX($L319,$P319,$Q319),\"\")","v":""}]
[{"$f":"IF(K320=\"\",\"\",CONCATENATE(YEAR($K320),\"_S\",_xlfn.ISOWEEKNUM($K320)))","v":""},null,null,null,null,null,null,null,null,null,null,null,null,null,null,null,null,null,null,null,null,null,null,null,null,null,null,{"$f":"IF($K320>0,$K320,\"\")","v":""},{"$f":"IF($L320>0,MAX($L320,$P320,$Q320),\"\")","v":""}]
[{"$f":"IF(K321=\"\",\"\",CONCATENATE(YEAR($K321),\"_S\",_xlfn.ISOWEEKNUM($K321)))","v":""},null,null,null,null,null,null,null,null,null,null,null,null,null,null,null,null,null,null,null,null,null,null,null,null,null,null,{"$f":"IF($K321>0,$K321,\"\")","v":""},{"$f":"IF($L321>0,MAX($L321,$P321,$Q321),\"\")","v":""}]
[{"$f":"IF(K322=\"\",\"\",CONCATENATE(YEAR($K322),\"_S\",_xlfn.ISOWEEKNUM($K322)))","v":""},null,null,null,null,null,null,null,null,null,null,null,null,null,null,null,null,null,null,null,null,null,null,null,null,null,null,{"$f":"IF($K322>0,$K322,\"\")","v":""},{"$f":"IF($L322>0,MAX($L322,$P322,$Q322),\"\")","v":""}]
[{"$f":"IF(K323=\"\",\"\",CONCATENATE(YEAR($K323),\"_S\",_xlfn.ISOWEEKNUM($K323)))","v":""},null,null,null,null,null,null,null,null,null,null,null,null,null,null,null,null,null,null,null,null,null,null,null,null,null,null,{"$f":"IF($K323>0,$K323,\"\")","v":""},{"$f":"IF($L323>0,MAX($L323,$P323,$Q323),\"\")","v":""}]
[{"$f":"IF(K324=\"\",\"\",CONCATENATE(YEAR($K324),\"_S\",_xlfn.ISOWEEKNUM($K324)))","v":""},null,null,null,null,null,null,null,null,null,null,null,null,null,null,null,null,null,null,null,null,null,null,null,null,null,null,{"$f":"IF($K324>0,$K324,\"\")","v":""},{"$f":"IF($L324>0,MAX($L324,$P324,$Q324),\"\")","v":""}]
[{"$f":"IF(K325=\"\",\"\",CONCATENATE(YEAR($K325),\"_S\",_xlfn.ISOWEEKNUM($K325)))","v":""},null,null,null,null,null,null,null,null,null,null,null,null,null,null,null,null,null,null,null,null,null,null,null,null,null,null,{"$f":"IF($K325>0,$K325,\"\")","v":""},{"$f":"IF($L325>0,MAX($L325,$P325,$Q325),\"\")","v":""}]
[{"$f":"IF(K326=\"\",\"\",CONCATENATE(YEAR($K326),\"_S\",_xlfn.ISOWEEKNUM($K326)))","v":""},null,null,null,null,null,null,null,null,null,null,null,null,null,null,null,null,null,null,null,null,null,null,null,null,null,null,{"$f":"IF($K326>0,$K326,\"\")","v":""},{"$f":"IF($L326>0,MAX($L326,$P326,$Q326),\"\")","v":""}]
[{"$f":"IF(K327=\"\",\"\",CONCATENATE(YEAR($K327),\"_S\",_xlfn.ISOWEEKNUM($K327)))","v":""},null,null,null,null,null,null,null,null,null,null,null,null,null,null,null,null,null,null,null,null,null,null,null,null,null,null,{"$f":"IF($K327>0,$K327,\"\")","v":""},{"$f":"IF($L327>0,MAX($L327,$P327,$Q327),\"\")","v":""}]
[{"$f":"IF(K328=\"\",\"\",CONCATENATE(YEAR($K328),\"_S\",_xlfn.ISOWEEKNUM($K328)))","v":""},null,null,null,null,null,null,null,null,null,null,null,null,null,null,null,null,null,null,null,null,null,null,null,null,null,null,{"$f":"IF($K328>0,$K328,\"\")","v":""},{"$f":"IF($L328>0,MAX($L328,$P328,$Q328),\"\")","v":""}]
[{"$f":"IF(K329=\"\",\"\",CONCATENATE(YEAR($K329),\"_S\",_xlfn.ISOWEEKNUM($K329)))","v":""},null,null,null,null,null,null,null,null,null,null,null,null,null,null,null,null,null,null,null,null,null,null,null,null,null,null,{"$f":"IF($K329>0,$K329,\"\")","v":""},{"$f":"IF($L329>0,MAX($L329,$P329,$Q329),\"\")","v":""}]
[{"$f":"IF(K330=\"\",\"\",CONCATENATE(YEAR($K330),\"_S\",_xlfn.ISOWEEKNUM($K330)))","v":""},null,null,null,null,null,null,null,null,null,null,null,null,null,null,null,null,null,null,null,null,null,null,null,null,null,null,{"$f":"IF($K330>0,$K330,\"\")","v":""},{"$f":"IF($L330>0,MAX($L330,$P330,$Q330),\"\")","v":""}]
[{"$f":"IF(K331=\"\",\"\",CONCATENATE(YEAR($K331),\"_S\",_xlfn.ISOWEEKNUM($K331)))","v":""},null,null,null,null,null,null,null,null,null,null,null,null,null,null,null,null,null,null,null,null,null,null,null,null,null,null,{"$f":"IF($K331>0,$K331,\"\")","v":""},{"$f":"IF($L331>0,MAX($L331,$P331,$Q331),\"\")","v":""}]
[{"$f":"IF(K332=\"\",\"\",CONCATENATE(YEAR($K332),\"_S\",_xlfn.ISOWEEKNUM($K332)))","v":""},null,null,null,null,null,null,null,null,null,null,null,null,null,null,null,null,null,null,null,null,null,null,null,null,null,null,{"$f":"IF($K332>0,$K332,\"\")","v":""},{"$f":"IF($L332>0,MAX($L332,$P332,$Q332),\"\")","v":""}]
[{"$f":"IF(K333=\"\",\"\",CONCATENATE(YEAR($K333),\"_S\",_xlfn.ISOWEEKNUM($K333)))","v":""},null,null,null,null,null,null,null,null,null,null,null,null,null,null,null,null,null,null,null,null,null,null,null,null,null,null,{"$f":"IF($K333>0,$K333,\"\")","v":""},{"$f":"IF($L333>0,MAX($L333,$P333,$Q333),\"\")","v":""}]
[{"$f":"IF(K334=\"\",\"\",CONCATENATE(YEAR($K334),\"_S\",_xlfn.ISOWEEKNUM($K334)))","v":""},null,null,null,null,null,null,null,null,null,null,null,null,null,null,null,null,null,null,null,null,null,null,null,null,null,null,{"$f":"IF($K334>0,$K334,\"\")","v":""},{"$f":"IF($L334>0,MAX($L334,$P334,$Q334),\"\")","v":""}]
[{"$f":"IF(K335=\"\",\"\",CONCATENATE(YEAR($K335),\"_S\",_xlfn.ISOWEEKNUM($K335)))","v":""},null,null,null,null,null,null,null,null,null,null,null,null,null,null,null,null,null,null,null,null,null,null,null,null,null,null,{"$f":"IF($K335>0,$K335,\"\")","v":""},{"$f":"IF($L335>0,MAX($L335,$P335,$Q335),\"\")","v":""}]
[{"$f":"IF(K336=\"\",\"\",CONCATENATE(YEAR($K336),\"_S\",_xlfn.ISOWEEKNUM($K336)))","v":""},null,null,null,null,null,null,null,null,null,null,null,null,null,null,null,null,null,null,null,null,null,null,null,null,null,null,{"$f":"IF($K336>0,$K336,\"\")","v":""},{"$f":"IF($L336>0,MAX($L336,$P336,$Q336),\"\")","v":""}]
[{"$f":"IF(K337=\"\",\"\",CONCATENATE(YEAR($K337),\"_S\",_xlfn.ISOWEEKNUM($K337)))","v":""},null,null,null,null,null,null,null,null,null,null,null,null,null,null,null,null,null,null,null,null,null,null,null,null,null,null,{"$f":"IF($K337>0,$K337,\"\")","v":""},{"$f":"IF($L337>0,MAX($L337,$P337,$Q337),\"\")","v":""}]
[{"$f":"IF(K338=\"\",\"\",CONCATENATE(YEAR($K338),\"_S\",_xlfn.ISOWEEKNUM($K338)))","v":""},null,null,null,null,null,null,null,null,null,null,null,null,null,null,null,null,null,null,null,null,null,null,null,null,null,null,{"$f":"IF($K338>0,$K338,\"\")","v":""},{"$f":"IF($L338>0,MAX($L338,$P338,$Q338),\"\")","v":""}]
[{"$f":"IF(K339=\"\",\"\",CONCATENATE(YEAR($K339),\"_S\",_xlfn.ISOWEEKNUM($K339)))","v":""},null,null,null,null,null,null,null,null,null,null,null,null,null,null,null,null,null,null,null,null,null,null,null,null,null,null,{"$f":"IF($K339>0,$K339,\"\")","v":""},{"$f":"IF($L339>0,MAX($L339,$P339,$Q339),\"\")","v":""}]
[{"$f":"IF(K340=\"\",\"\",CONCATENATE(YEAR($K340),\"_S\",_xlfn.ISOWEEKNUM($K340)))","v":""},null,null,null,null,null,null,null,null,null,null,null,null,null,null,null,null,null,null,null,null,null,null,null,null,null,null,{"$f":"IF($K340>0,$K340,\"\")","v":""},{"$f":"IF($L340>0,MAX($L340,$P340,$Q340),\"\")","v":""}]
[{"$f":"IF(K341=\"\",\"\",CONCATENATE(YEAR($K341),\"_S\",_xlfn.ISOWEEKNUM($K341)))","v":""},null,null,null,null,null,null,null,null,null,null,null,null,null,null,null,null,null,null,null,null,null,null,null,null,null,null,{"$f":"IF($K341>0,$K341,\"\")","v":""},{"$f":"IF($L341>0,MAX($L341,$P341,$Q341),\"\")","v":""}]
[{"$f":"IF(K342=\"\",\"\",CONCATENATE(YEAR($K342),\"_S\",_xlfn.ISOWEEKNUM($K342)))","v":""},null,null,null,null,null,null,null,null,null,null,null,null,null,null,null,null,null,null,null,null,null,null,null,null,null,null,{"$f":"IF($K342>0,$K342,\"\")","v":""},{"$f":"IF($L342>0,MAX($L342,$P342,$Q342),\"\")","v":""}]
[{"$f":"IF(K343=\"\",\"\",CONCATENATE(YEAR($K343),\"_S\",_xlfn.ISOWEEKNUM($K343)))","v":""},null,null,null,null,null,null,null,null,null,null,null,null,null,null,null,null,null,null,null,null,null,null,null,null,null,null,{"$f":"IF($K343>0,$K343,\"\")","v":""},{"$f":"IF($L343>0,MAX($L343,$P343,$Q343),\"\")","v":""}]
[{"$f":"IF(K344=\"\",\"\",CONCATENATE(YEAR($K344),\"_S\",_xlfn.ISOWEEKNUM($K344)))","v":""},null,null,null,null,null,null,null,null,null,null,null,null,null,null,null,null,null,null,null,null,null,null,null,null,null,null,{"$f":"IF($K344>0,$K344,\"\")","v":""},{"$f":"IF($L344>0,MAX($L344,$P344,$Q344),\"\")","v":""}]
[{"$f":"IF(K345=\"\",\"\",CONCATENATE(YEAR($K345),\"_S\",_xlfn.ISOWEEKNUM($K345)))","v":""},null,null,null,null,null,null,null,null,null,null,null,null,null,null,null,null,null,null,null,null,null,null,null,null,null,null,{"$f":"IF($K345>0,$K345,\"\")","v":""},{"$f":"IF($L345>0,MAX($L345,$P345,$Q345),\"\")","v":""}]
[{"$f":"IF(K346=\"\",\"\",CONCATENATE(YEAR($K346),\"_S\",_xlfn.ISOWEEKNUM($K346)))","v":""},null,null,null,null,null,null,null,null,null,null,null,null,null,null,null,null,null,null,null,null,null,null,null,null,null,null,{"$f":"IF($K346>0,$K346,\"\")","v":""},{"$f":"IF($L346>0,MAX($L346,$P346,$Q346),\"\")","v":""}]
[{"$f":"IF(K347=\"\",\"\",CONCATENATE(YEAR($K347),\"_S\",_xlfn.ISOWEEKNUM($K347)))","v":""},null,null,null,null,null,null,null,null,null,null,null,null,null,null,null,null,null,null,null,null,null,null,null,null,null,null,{"$f":"IF($K347>0,$K347,\"\")","v":""},{"$f":"IF($L347>0,MAX($L347,$P347,$Q347),\"\")","v":""}]
[{"$f":"IF(K348=\"\",\"\",CONCATENATE(YEAR($K348),\"_S\",_xlfn.ISOWEEKNUM($K348)))","v":""},null,null,null,null,null,null,null,null,null,null,null,null,null,null,null,null,null,null,null,null,null,null,null,null,null,null,{"$f":"IF($K348>0,$K348,\"\")","v":""},{"$f":"IF($L348>0,MAX($L348,$P348,$Q348),\"\")","v":""}]
[{"$f":"IF(K349=\"\",\"\",CONCATENATE(YEAR($K349),\"_S\",_xlfn.ISOWEEKNUM($K349)))","v":""},null,null,null,null,null,null,null,null,null,null,null,null,null,null,null,null,null,null,null,null,null,null,null,null,null,null,{"$f":"IF($K349>0,$K349,\"\")","v":""},{"$f":"IF($L349>0,MAX($L349,$P349,$Q349),\"\")","v":""}]
[{"$f":"IF(K350=\"\",\"\",CONCATENATE(YEAR($K350),\"_S\",_xlfn.ISOWEEKNUM($K350)))","v":""},null,null,null,null,null,null,null,null,null,null,null,null,null,null,null,null,null,null,null,null,null,null,null,null,null,null,{"$f":"IF($K350>0,$K350,\"\")","v":""},{"$f":"IF($L350>0,MAX($L350,$P350,$Q350),\"\")","v":""}]
[{"$f":"IF(K351=\"\",\"\",CONCATENATE(YEAR($K351),\"_S\",_xlfn.ISOWEEKNUM($K351)))","v":""},null,null,null,null,null,null,null,null,null,null,null,null,null,null,null,null,null,null,null,null,null,null,null,null,null,null,{"$f":"IF($K351>0,$K351,\"\")","v":""},{"$f":"IF($L351>0,MAX($L351,$P351,$Q351),\"\")","v":""}]
[{"$f":"IF(K352=\"\",\"\",CONCATENATE(YEAR($K352),\"_S\",_xlfn.ISOWEEKNUM($K352)))","v":""},null,null,null,null,null,null,null,null,null,null,null,null,null,null,null,null,null,null,null,null,null,null,null,null,null,null,{"$f":"IF($K352>0,$K352,\"\")","v":""},{"$f":"IF($L352>0,MAX($L352,$P352,$Q352),\"\")","v":""}]
[{"$f":"IF(K353=\"\",\"\",CONCATENATE(YEAR($K353),\"_S\",_xlfn.ISOWEEKNUM($K353)))","v":""},null,null,null,null,null,null,null,null,null,null,null,null,null,null,null,null,null,null,null,null,null,null,null,null,null,null,{"$f":"IF($K353>0,$K353,\"\")","v":""},{"$f":"IF($L353>0,MAX($L353,$P353,$Q353),\"\")","v":""}]
[{"$f":"IF(K354=\"\",\"\",CONCATENATE(YEAR($K354),\"_S\",_xlfn.ISOWEEKNUM($K354)))","v":""},null,null,null,null,null,null,null,null,null,null,null,null,null,null,null,null,null,null,null,null,null,null,null,null,null,null,{"$f":"IF($K354>0,$K354,\"\")","v":""},{"$f":"IF($L354>0,MAX($L354,$P354,$Q354),\"\")","v":""}]
[{"$f":"IF(K355=\"\",\"\",CONCATENATE(YEAR($K355),\"_S\",_xlfn.ISOWEEKNUM($K355)))","v":""},null,null,null,null,null,null,null,null,null,null,null,null,null,null,null,null,null,null,null,null,null,null,null,null,null,null,{"$f":"IF($K355>0,$K355,\"\")","v":""},{"$f":"IF($L355>0,MAX($L355,$P355,$Q355),\"\")","v":""}]
[{"$f":"IF(K356=\"\",\"\",CONCATENATE(YEAR($K356),\"_S\",_xlfn.ISOWEEKNUM($K356)))","v":""},null,null,null,null,null,null,null,null,null,null,null,null,null,null,null,null,null,null,null,null,null,null,null,null,null,null,{"$f":"IF($K356>0,$K356,\"\")","v":""},{"$f":"IF($L356>0,MAX($L356,$P356,$Q356),\"\")","v":""}]
[{"$f":"IF(K357=\"\",\"\",CONCATENATE(YEAR($K357),\"_S\",_xlfn.ISOWEEKNUM($K357)))","v":""},null,null,null,null,null,null,null,null,null,null,null,null,null,null,null,null,null,null,null,null,null,null,null,null,null,null,{"$f":"IF($K357>0,$K357,\"\")","v":""},{"$f":"IF($L357>0,MAX($L357,$P357,$Q357),\"\")","v":""}]
[{"$f":"IF(K358=\"\",\"\",CONCATENATE(YEAR($K358),\"_S\",_xlfn.ISOWEEKNUM($K358)))","v":""},null,null,null,null,null,null,null,null,null,null,null,null,null,null,null,null,null,null,null,null,null,null,null,null,null,null,{"$f":"IF($K358>0,$K358,\"\")","v":""},{"$f":"IF($L358>0,MAX($L358,$P358,$Q358),\"\")","v":""}]
[{"$f":"IF(K359=\"\",\"\",CONCATENATE(YEAR($K359),\"_S\",_xlfn.ISOWEEKNUM($K359)))","v":""},null,null,null,null,null,null,null,null,null,null,null,null,null,null,null,null,null,null,null,null,null,null,null,null,null,null,{"$f":"IF($K359>0,$K359,\"\")","v":""},{"$f":"IF($L359>0,MAX($L359,$P359,$Q359),\"\")","v":""}]
[{"$f":"IF(K360=\"\",\"\",CONCATENATE(YEAR($K360),\"_S\",_xlfn.ISOWEEKNUM($K360)))","v":""},null,null,null,null,null,null,null,null,null,null,null,null,null,null,null,null,null,null,null,null,null,null,null,null,null,null,{"$f":"IF($K360>0,$K360,\"\")","v":""},{"$f":"IF($L360>0,MAX($L360,$P360,$Q360),\"\")","v":""}]
[{"$f":"IF(K361=\"\",\"\",CONCATENATE(YEAR($K361),\"_S\",_xlfn.ISOWEEKNUM($K361)))","v":""},null,null,null,null,null,null,null,null,null,null,null,null,null,null,null,null,null,null,null,null,null,null,null,null,null,null,{"$f":"IF($K361>0,$K361,\"\")","v":""},{"$f":"IF($L361>0,MAX($L361,$P361,$Q361),\"\")","v":""}]
[{"$f":"IF(K362=\"\",\"\",CONCATENATE(YEAR($K362),\"_S\",_xlfn.ISOWEEKNUM($K362)))","v":""},null,null,null,null,null,null,null,null,null,null,null,null,null,null,null,null,null,null,null,null,null,null,null,null,null,null,{"$f":"IF($K362>0,$K362,\"\")","v":""},{"$f":"IF($L362>0,MAX($L362,$P362,$Q362),\"\")","v":""}]
[{"$f":"IF(K363=\"\",\"\",CONCATENATE(YEAR($K363),\"_S\",_xlfn.ISOWEEKNUM($K363)))","v":""},null,null,null,null,null,null,null,null,null,null,null,null,null,null,null,null,null,null,null,null,null,null,null,null,null,null,{"$f":"IF($K363>0,$K363,\"\")","v":""},{"$f":"IF($L363>0,MAX($L363,$P363,$Q363),\"\")","v":""}]
[{"$f":"IF(K364=\"\",\"\",CONCATENATE(YEAR($K364),\"_S\",_xlfn.ISOWEEKNUM($K364)))","v":""},null,null,null,null,null,null,null,null,null,null,null,null,null,null,null,null,null,null,null,null,null,null,null,null,null,null,{"$f":"IF($K364>0,$K364,\"\")","v":""},{"$f":"IF($L364>0,MAX($L364,$P364,$Q364),\"\")","v":""}]
[{"$f":"IF(K365=\"\",\"\",CONCATENATE(YEAR($K365),\"_S\",_xlfn.ISOWEEKNUM($K365)))","v":""},null,null,null,null,null,null,null,null,null,null,null,null,null,null,null,null,null,null,null,null,null,null,null,null,null,null,{"$f":"IF($K365>0,$K365,\"\")","v":""},{"$f":"IF($L365>0,MAX($L365,$P365,$Q365),\"\")","v":""}]
[{"$f":"IF(K366=\"\",\"\",CONCATENATE(YEAR($K366),\"_S\",_xlfn.ISOWEEKNUM($K366)))","v":""},null,null,null,null,null,null,null,null,null,null,null,null,null,null,null,null,null,null,null,null,null,null,null,null,null,null,{"$f":"IF($K366>0,$K366,\"\")","v":""},{"$f":"IF($L366>0,MAX($L366,$P366,$Q366),\"\")","v":""}]
[{"$f":"IF(K367=\"\",\"\",CONCATENATE(YEAR($K367),\"_S\",_xlfn.ISOWEEKNUM($K367)))","v":""},null,null,null,null,null,null,null,null,null,null,null,null,null,null,null,null,null,null,null,null,null,null,null,null,null,null,{"$f":"IF($K367>0,$K367,\"\")","v":""},{"$f":"IF($L367>0,MAX($L367,$P367,$Q367),\"\")","v":""}]
[{"$f":"IF(K368=\"\",\"\",CONCATENATE(YEAR($K368),\"_S\",_xlfn.ISOWEEKNUM($K368)))","v":""},null,null,null,null,null,null,null,null,null,null,null,null,null,null,null,null,null,null,null,null,null,null,null,null,null,null,{"$f":"IF($K368>0,$K368,\"\")","v":""},{"$f":"IF($L368>0,MAX($L368,$P368,$Q368),\"\")","v":""}]
[{"$f":"IF(K369=\"\",\"\",CONCATENATE(YEAR($K369),\"_S\",_xlfn.ISOWEEKNUM($K369)))","v":""},null,null,null,null,null,null,null,null,null,null,null,null,null,null,null,null,null,null,null,null,null,null,null,null,null,null,{"$f":"IF($K369>0,$K369,\"\")","v":""},{"$f":"IF($L369>0,MAX($L369,$P369,$Q369),\"\")","v":""}]
[{"$f":"IF(K370=\"\",\"\",CONCATENATE(YEAR($K370),\"_S\",_xlfn.ISOWEEKNUM($K370)))","v":""},null,null,null,null,null,null,null,null,null,null,null,null,null,null,null,null,null,null,null,null,null,null,null,null,null,null,{"$f":"IF($K370>0,$K370,\"\")","v":""},{"$f":"IF($L370>0,MAX($L370,$P370,$Q370),\"\")","v":""}]
[{"$f":"IF(K371=\"\",\"\",CONCATENATE(YEAR($K371),\"_S\",_xlfn.ISOWEEKNUM($K371)))","v":""},null,null,null,null,null,null,null,null,null,null,null,null,null,null,null,null,null,null,null,null,null,null,null,null,null,null,{"$f":"IF($K371>0,$K371,\"\")","v":""},{"$f":"IF($L371>0,MAX($L371,$P371,$Q371),\"\")","v":""}]
[{"$f":"IF(K372=\"\",\"\",CONCATENATE(YEAR($K372),\"_S\",_xlfn.ISOWEEKNUM($K372)))","v":""},null,null,null,null,null,null,null,null,null,null,null,null,null,null,null,null,null,null,null,null,null,null,null,null,null,null,{"$f":"IF($K372>0,$K372,\"\")","v":""},{"$f":"IF($L372>0,MAX($L372,$P372,$Q372),\"\")","v":""}]
[{"$f":"IF(K373=\"\",\"\",CONCATENATE(YEAR($K373),\"_S\",_xlfn.ISOWEEKNUM($K373)))","v":""},null,null,null,null,null,null,null,null,null,null,null,null,null,null,null,null,null,null,null,null,null,null,null,null,null,null,{"$f":"IF($K373>0,$K373,\"\")","v":""},{"$f":"IF($L373>0,MAX($L373,$P373,$Q373),\"\")","v":""}]
[{"$f":"IF(K374=\"\",\"\",CONCATENATE(YEAR($K374),\"_S\",_xlfn.ISOWEEKNUM($K374)))","v":""},null,null,null,null,null,null,null,null,null,null,null,null,null,null,null,null,null,null,null,null,null,null,null,null,null,null,{"$f":"IF($K374>0,$K374,\"\")","v":""},{"$f":"IF($L374>0,MAX($L374,$P374,$Q374),\"\")","v":""}]
[{"$f":"IF(K375=\"\",\"\",CONCATENATE(YEAR($K375),\"_S\",_xlfn.ISOWEEKNUM($K375)))","v":""},null,null,null,null,null,null,null,null,null,null,null,null,null,null,null,null,null,null,null,null,null,null,null,null,null,null,{"$f":"IF($K375>0,$K375,\"\")","v":""},{"$f":"IF($L375>0,MAX($L375,$P375,$Q375),\"\")","v":""}]
[{"$f":"IF(K376=\"\",\"\",CONCATENATE(YEAR($K376),\"_S\",_xlfn.ISOWEEKNUM($K376)))","v":""},null,null,null,null,null,null,null,null,null,null,null,null,null,null,null,null,null,null,null,null,null,null,null,null,null,null,{"$f":"IF($K376>0,$K376,\"\")","v":""},{"$f":"IF($L376>0,MAX($L376,$P376,$Q376),\"\")","v":""}]
[{"$f":"IF(K377=\"\",\"\",CONCATENATE(YEAR($K377),\"_S\",_xlfn.ISOWEEKNUM($K377)))","v":""},null,null,null,null,null,null,null,null,null,null,null,null,null,null,null,null,null,null,null,null,null,null,null,null,null,null,{"$f":"IF($K377>0,$K377,\"\")","v":""},{"$f":"IF($L377>0,MAX($L377,$P377,$Q377),\"\")","v":""}]
[{"$f":"IF(K378=\"\",\"\",CONCATENATE(YEAR($K378),\"_S\",_xlfn.ISOWEEKNUM($K378)))","v":""},null,null,null,null,null,null,null,null,null,null,null,null,null,null,null,null,null,null,null,null,null,null,null,null,null,null,{"$f":"IF($K378>0,$K378,\"\")","v":""},{"$f":"IF($L378>0,MAX($L378,$P378,$Q378),\"\")","v":""}]
[{"$f":"IF(K379=\"\",\"\",CONCATENATE(YEAR($K379),\"_S\",_xlfn.ISOWEEKNUM($K379)))","v":""},null,null,null,null,null,null,null,null,null,null,null,null,null,null,null,null,null,null,null,null,null,null,null,null,null,null,{"$f":"IF($K379>0,$K379,\"\")","v":""},{"$f":"IF($L379>0,MAX($L379,$P379,$Q379),\"\")","v":""}]
[{"$f":"IF(K380=\"\",\"\",CONCATENATE(YEAR($K380),\"_S\",_xlfn.ISOWEEKNUM($K380)))","v":""},null,null,null,null,null,null,null,null,null,null,null,null,null,null,null,null,null,null,null,null,null,null,null,null,null,null,{"$f":"IF($K380>0,$K380,\"\")","v":""},{"$f":"IF($L380>0,MAX($L380,$P380,$Q380),\"\")","v":""}]
[{"$f":"IF(K381=\"\",\"\",CONCATENATE(YEAR($K381),\"_S\",_xlfn.ISOWEEKNUM($K381)))","v":""},null,null,null,null,null,null,null,null,null,null,null,null,null,null,null,null,null,null,null,null,null,null,null,null,null,null,{"$f":"IF($K381>0,$K381,\"\")","v":""},{"$f":"IF($L381>0,MAX($L381,$P381,$Q381),\"\")","v":""}]
[{"$f":"IF(K382=\"\",\"\",CONCATENATE(YEAR($K382),\"_S\",_xlfn.ISOWEEKNUM($K382)))","v":""},null,null,null,null,null,null,null,null,null,null,null,null,null,null,null,null,null,null,null,null,null,null,null,null,null,null,{"$f":"IF($K382>0,$K382,\"\")","v":""},{"$f":"IF($L382>0,MAX($L382,$P382,$Q382),\"\")","v":""}]
[{"$f":"IF(K383=\"\",\"\",CONCATENATE(YEAR($K383),\"_S\",_xlfn.ISOWEEKNUM($K383)))","v":""},null,null,null,null,null,null,null,null,null,null,null,null,null,null,null,null,null,null,null,null,null,null,null,null,null,null,{"$f":"IF($K383>0,$K383,\"\")","v":""},{"$f":"IF($L383>0,MAX($L383,$P383,$Q383),\"\")","v":""}]
[{"$f":"IF(K384=\"\",\"\",CONCATENATE(YEAR($K384),\"_S\",_xlfn.ISOWEEKNUM($K384)))","v":""},null,null,null,null,null,null,null,null,null,null,null,null,null,null,null,null,null,null,null,null,null,null,null,null,null,null,{"$f":"IF($K384>0,$K384,\"\")","v":""},{"$f":"IF($L384>0,MAX($L384,$P384,$Q384),\"\")","v":""}]
[{"$f":"IF(K385=\"\",\"\",CONCATENATE(YEAR($K385),\"_S\",_xlfn.ISOWEEKNUM($K385)))","v":""},null,null,null,null,null,null,null,null,null,null,null,null,null,null,null,null,null,null,null,null,null,null,null,null,null,null,{"$f":"IF($K385>0,$K385,\"\")","v":""},{"$f":"IF($L385>0,MAX($L385,$P385,$Q385),\"\")","v":""}]
[{"$f":"IF(K386=\"\",\"\",CONCATENATE(YEAR($K386),\"_S\",_xlfn.ISOWEEKNUM($K386)))","v":""},null,null,null,null,null,null,null,null,null,null,null,null,null,null,null,null,null,null,null,null,null,null,null,null,null,null,{"$f":"IF($K386>0,$K386,\"\")","v":""},{"$f":"IF($L386>0,MAX($L386,$P386,$Q386),\"\")","v":""}]
[{"$f":"IF(K387=\"\",\"\",CONCATENATE(YEAR($K387),\"_S\",_xlfn.ISOWEEKNUM($K387)))","v":""},null,null,null,null,null,null,null,null,null,null,null,null,null,null,null,null,null,null,null,null,null,null,null,null,null,null,{"$f":"IF($K387>0,$K387,\"\")","v":""},{"$f":"IF($L387>0,MAX($L387,$P387,$Q387),\"\")","v":""}]
[{"$f":"IF(K388=\"\",\"\",CONCATENATE(YEAR($K388),\"_S\",_xlfn.ISOWEEKNUM($K388)))","v":""},null,null,null,null,null,null,null,null,null,null,null,null,null,null,null,null,null,null,null,null,null,null,null,null,null,null,{"$f":"IF($K388>0,$K388,\"\")","v":""},{"$f":"IF($L388>0,MAX($L388,$P388,$Q388),\"\")","v":""}]
[{"$f":"IF(K389=\"\",\"\",CONCATENATE(YEAR($K389),\"_S\",_xlfn.ISOWEEKNUM($K389)))","v":""},null,null,null,null,null,null,null,null,null,null,null,null,null,null,null,null,null,null,null,null,null,null,null,null,null,null,{"$f":"IF($K389>0,$K389,\"\")","v":""},{"$f":"IF($L389>0,MAX($L389,$P389,$Q389),\"\")","v":""}]
[{"$f":"IF(K390=\"\",\"\",CONCATENATE(YEAR($K390),\"_S\",_xlfn.ISOWEEKNUM($K390)))","v":""},null,null,null,null,null,null,null,null,null,null,null,null,null,null,null,null,null,null,null,null,null,null,null,null,null,null,{"$f":"IF($K390>0,$K390,\"\")","v":""},{"$f":"IF($L390>0,MAX($L390,$P390,$Q390),\"\")","v":""}]
[{"$f":"IF(K391=\"\",\"\",CONCATENATE(YEAR($K391),\"_S\",_xlfn.ISOWEEKNUM($K391)))","v":""},null,null,null,null,null,null,null,null,null,null,null,null,null,null,null,null,null,null,null,null,null,null,null,null,null,null,{"$f":"IF($K391>0,$K391,\"\")","v":""},{"$f":"IF($L391>0,MAX($L391,$P391,$Q391),\"\")","v":""}]
[{"$f":"IF(K392=\"\",\"\",CONCATENATE(YEAR($K392),\"_S\",_xlfn.ISOWEEKNUM($K392)))","v":""},null,null,null,null,null,null,null,null,null,null,null,null,null,null,null,null,null,null,null,null,null,null,null,null,null,null,{"$f":"IF($K392>0,$K392,\"\")","v":""},{"$f":"IF($L392>0,MAX($L392,$P392,$Q392),\"\")","v":""}]
[{"$f":"IF(K393=\"\",\"\",CONCATENATE(YEAR($K393),\"_S\",_xlfn.ISOWEEKNUM($K393)))","v":""},null,null,null,null,null,null,null,null,null,null,null,null,null,null,null,null,null,null,null,null,null,null,null,null,null,null,{"$f":"IF($K393>0,$K393,\"\")","v":""},{"$f":"IF($L393>0,MAX($L393,$P393,$Q393),\"\")","v":""}]
[{"$f":"IF(K394=\"\",\"\",CONCATENATE(YEAR($K394),\"_S\",_xlfn.ISOWEEKNUM($K394)))","v":""},null,null,null,null,null,null,null,null,null,null,null,null,null,null,null,null,null,null,null,null,null,null,null,null,null,null,{"$f":"IF($K394>0,$K394,\"\")","v":""},{"$f":"IF($L394>0,MAX($L394,$P394,$Q394),\"\")","v":""}]
[{"$f":"IF(K395=\"\",\"\",CONCATENATE(YEAR($K395),\"_S\",_xlfn.ISOWEEKNUM($K395)))","v":""},null,null,null,null,null,null,null,null,null,null,null,null,null,null,null,null,null,null,null,null,null,null,null,null,null,null,{"$f":"IF($K395>0,$K395,\"\")","v":""},{"$f":"IF($L395>0,MAX($L395,$P395,$Q395),\"\")","v":""}]
[{"$f":"IF(K396=\"\",\"\",CONCATENATE(YEAR($K396),\"_S\",_xlfn.ISOWEEKNUM($K396)))","v":""},null,null,null,null,null,null,null,null,null,null,null,null,null,null,null,null,null,null,null,null,null,null,null,null,null,null,{"$f":"IF($K396>0,$K396,\"\")","v":""},{"$f":"IF($L396>0,MAX($L396,$P396,$Q396),\"\")","v":""}]
[{"$f":"IF(K397=\"\",\"\",CONCATENATE(YEAR($K397),\"_S\",_xlfn.ISOWEEKNUM($K397)))","v":""},null,null,null,null,null,null,null,null,null,null,null,null,null,null,null,null,null,null,null,null,null,null,null,null,null,null,{"$f":"IF($K397>0,$K397,\"\")","v":""},{"$f":"IF($L397>0,MAX($L397,$P397,$Q397),\"\")","v":""}]
[{"$f":"IF(K398=\"\",\"\",CONCATENATE(YEAR($K398),\"_S\",_xlfn.ISOWEEKNUM($K398)))","v":""},null,null,null,null,null,null,null,null,null,null,null,null,null,null,null,null,null,null,null,null,null,null,null,null,null,null,{"$f":"IF($K398>0,$K398,\"\")","v":""},{"$f":"IF($L398>0,MAX($L398,$P398,$Q398),\"\")","v":""}]
[{"$f":"IF(K399=\"\",\"\",CONCATENATE(YEAR($K399),\"_S\",_xlfn.ISOWEEKNUM($K399)))","v":""},null,null,null,null,null,null,null,null,null,null,null,null,null,null,null,null,null,null,null,null,null,null,null,null,null,null,{"$f":"IF($K399>0,$K399,\"\")","v":""},{"$f":"IF($L399>0,MAX($L399,$P399,$Q399),\"\")","v":""}]
[{"$f":"IF(K400=\"\",\"\",CONCATENATE(YEAR($K400),\"_S\",_xlfn.ISOWEEKNUM($K400)))","v":""},null,null,null,null,null,null,null,null,null,null,null,null,null,null,null,null,null,null,null,null,null,null,null,null,null,null,{"$f":"IF($K400>0,$K400,\"\")","v":""},{"$f":"IF($L400>0,MAX($L400,$P400,$Q400),\"\")","v":""}]
[{"$f":"IF(K401=\"\",\"\",CONCATENATE(YEAR($K401),\"_S\",_xlfn.ISOWEEKNUM($K401)))","v":""},null,null,null,null,null,null,null,null,null,null,null,null,null,null,null,null,null,null,null,null,null,null,null,null,null,null,{"$f":"IF($K401>0,$K401,\"\")","v":""},{"$f":"IF($L401>0,MAX($L401,$P401,$Q401),\"\")","v":""}]
[{"$f":"IF(K402=\"\",\"\",CONCATENATE(YEAR($K402),\"_S\",_xlfn.ISOWEEKNUM($K402)))","v":""},null,null,null,null,null,null,null,null,null,null,null,null,null,null,null,null,null,null,null,null,null,null,null,null,null,null,{"$f":"IF($K402>0,$K402,\"\")","v":""},{"$f":"IF($L402>0,MAX($L402,$P402,$Q402),\"\")","v":""}]
[{"$f":"IF(K403=\"\",\"\",CONCATENATE(YEAR($K403),\"_S\",_xlfn.ISOWEEKNUM($K403)))","v":""},null,null,null,null,null,null,null,null,null,null,null,null,null,null,null,null,null,null,null,null,null,null,null,null,null,null,{"$f":"IF($K403>0,$K403,\"\")","v":""},{"$f":"IF($L403>0,MAX($L403,$P403,$Q403),\"\")","v":""}]
[{"$f":"IF(K404=\"\",\"\",CONCATENATE(YEAR($K404),\"_S\",_xlfn.ISOWEEKNUM($K404)))","v":""},null,null,null,null,null,null,null,null,null,null,null,null,null,null,null,null,null,null,null,null,null,null,null,null,null,null,{"$f":"IF($K404>0,$K404,\"\")","v":""},{"$f":"IF($L404>0,MAX($L404,$P404,$Q404),\"\")","v":""}]
[{"$f":"IF(K405=\"\",\"\",CONCATENATE(YEAR($K405),\"_S\",_xlfn.ISOWEEKNUM($K405)))","v":""},null,null,null,null,null,null,null,null,null,null,null,null,null,null,null,null,null,null,null,null,null,null,null,null,null,null,{"$f":"IF($K405>0,$K405,\"\")","v":""},{"$f":"IF($L405>0,MAX($L405,$P405,$Q405),\"\")","v":""}]
[{"$f":"IF(K406=\"\",\"\",CONCATENATE(YEAR($K406),\"_S\",_xlfn.ISOWEEKNUM($K406)))","v":""},null,null,null,null,null,null,null,null,null,null,null,null,null,null,null,null,null,null,null,null,null,null,null,null,null,null,{"$f":"IF($K406>0,$K406,\"\")","v":""},{"$f":"IF($L406>0,MAX($L406,$P406,$Q406),\"\")","v":""}]
[{"$f":"IF(K407=\"\",\"\",CONCATENATE(YEAR($K407),\"_S\",_xlfn.ISOWEEKNUM($K407)))","v":""},null,null,null,null,null,null,null,null,null,null,null,null,null,null,null,null,null,null,null,null,null,null,null,null,null,null,{"$f":"IF($K407>0,$K407,\"\")","v":""},{"$f":"IF($L407>0,MAX($L407,$P407,$Q407),\"\")","v":""}]
[{"$f":"IF(K408=\"\",\"\",CONCATENATE(YEAR($K408),\"_S\",_xlfn.ISOWEEKNUM($K408)))","v":""},null,null,null,null,null,null,null,null,null,null,null,null,null,null,null,null,null,null,null,null,null,null,null,null,null,null,{"$f":"IF($K408>0,$K408,\"\")","v":""},{"$f":"IF($L408>0,MAX($L408,$P408,$Q408),\"\")","v":""}]
[{"$f":"IF(K409=\"\",\"\",CONCATENATE(YEAR($K409),\"_S\",_xlfn.ISOWEEKNUM($K409)))","v":""},null,null,null,null,null,null,null,null,null,null,null,null,null,null,null,null,null,null,null,null,null,null,null,null,null,null,{"$f":"IF($K409>0,$K409,\"\")","v":""},{"$f":"IF($L409>0,MAX($L409,$P409,$Q409),\"\")","v":""}]
[{"$f":"IF(K410=\"\",\"\",CONCATENATE(YEAR($K410),\"_S\",_xlfn.ISOWEEKNUM($K410)))","v":""},null,null,null,null,null,null,null,null,null,null,null,null,null,null,null,null,null,null,null,null,null,null,null,null,null,null,{"$f":"IF($K410>0,$K410,\"\")","v":""},{"$f":"IF($L410>0,MAX($L410,$P410,$Q410),\"\")","v":""}]
[{"$f":"IF(K411=\"\",\"\",CONCATENATE(YEAR($K411),\"_S\",_xlfn.ISOWEEKNUM($K411)))","v":""},null,null,null,null,null,null,null,null,null,null,null,null,null,null,null,null,null,null,null,null,null,null,null,null,null,null,{"$f":"IF($K411>0,$K411,\"\")","v":""},{"$f":"IF($L411>0,MAX($L411,$P411,$Q411),\"\")","v":""}]
[{"$f":"IF(K412=\"\",\"\",CONCATENATE(YEAR($K412),\"_S\",_xlfn.ISOWEEKNUM($K412)))","v":""},null,null,null,null,null,null,null,null,null,null,null,null,null,null,null,null,null,null,null,null,null,null,null,null,null,null,{"$f":"IF($K412>0,$K412,\"\")","v":""},{"$f":"IF($L412>0,MAX($L412,$P412,$Q412),\"\")","v":""}]
[{"$f":"IF(K413=\"\",\"\",CONCATENATE(YEAR($K413),\"_S\",_xlfn.ISOWEEKNUM($K413)))","v":""},null,null,null,null,null,null,null,null,null,null,null,null,null,null,null,null,null,null,null,null,null,null,null,null,null,null,{"$f":"IF($K413>0,$K413,\"\")","v":""},{"$f":"IF($L413>0,MAX($L413,$P413,$Q413),\"\")","v":""}]
[{"$f":"IF(K414=\"\",\"\",CONCATENATE(YEAR($K414),\"_S\",_xlfn.ISOWEEKNUM($K414)))","v":""},null,null,null,null,null,null,null,null,null,null,null,null,null,null,null,null,null,null,null,null,null,null,null,null,null,null,{"$f":"IF($K414>0,$K414,\"\")","v":""},{"$f":"IF($L414>0,MAX($L414,$P414,$Q414),\"\")","v":""}]
[{"$f":"IF(K415=\"\",\"\",CONCATENATE(YEAR($K415),\"_S\",_xlfn.ISOWEEKNUM($K415)))","v":""},null,null,null,null,null,null,null,null,null,null,null,null,null,null,null,null,null,null,null,null,null,null,null,null,null,null,{"$f":"IF($K415>0,$K415,\"\")","v":""},{"$f":"IF($L415>0,MAX($L415,$P415,$Q415),\"\")","v":""}]
[{"$f":"IF(K416=\"\",\"\",CONCATENATE(YEAR($K416),\"_S\",_xlfn.ISOWEEKNUM($K416)))","v":""},null,null,null,null,null,null,null,null,null,null,null,null,null,null,null,null,null,null,null,null,null,null,null,null,null,null,{"$f":"IF($K416>0,$K416,\"\")","v":""},{"$f":"IF($L416>0,MAX($L416,$P416,$Q416),\"\")","v":""}]
[{"$f":"IF(K417=\"\",\"\",CONCATENATE(YEAR($K417),\"_S\",_xlfn.ISOWEEKNUM($K417)))","v":""},null,null,null,null,null,null,null,null,null,null,null,null,null,null,null,null,null,null,null,null,null,null,null,null,null,null,{"$f":"IF($K417>0,$K417,\"\")","v":""},{"$f":"IF($L417>0,MAX($L417,$P417,$Q417),\"\")","v":""}]
[{"$f":"IF(K418=\"\",\"\",CONCATENATE(YEAR($K418),\"_S\",_xlfn.ISOWEEKNUM($K418)))","v":""},null,null,null,null,null,null,null,null,null,null,null,null,null,null,null,null,null,null,null,null,null,null,null,null,null,null,{"$f":"IF($K418>0,$K418,\"\")","v":""},{"$f":"IF($L418>0,MAX($L418,$P418,$Q418),\"\")","v":""}]
[{"$f":"IF(K419=\"\",\"\",CONCATENATE(YEAR($K419),\"_S\",_xlfn.ISOWEEKNUM($K419)))","v":""},null,null,null,null,null,null,null,null,null,null,null,null,null,null,null,null,null,null,null,null,null,null,null,null,null,null,{"$f":"IF($K419>0,$K419,\"\")","v":""},{"$f":"IF($L419>0,MAX($L419,$P419,$Q419),\"\")","v":""}]
[{"$f":"IF(K420=\"\",\"\",CONCATENATE(YEAR($K420),\"_S\",_xlfn.ISOWEEKNUM($K420)))","v":""},null,null,null,null,null,null,null,null,null,null,null,null,null,null,null,null,null,null,null,null,null,null,null,null,null,null,{"$f":"IF($K420>0,$K420,\"\")","v":""},{"$f":"IF($L420>0,MAX($L420,$P420,$Q420),\"\")","v":""}]
[{"$f":"IF(K421=\"\",\"\",CONCATENATE(YEAR($K421),\"_S\",_xlfn.ISOWEEKNUM($K421)))","v":""},null,null,null,null,null,null,null,null,null,null,null,null,null,null,null,null,null,null,null,null,null,null,null,null,null,null,{"$f":"IF($K421>0,$K421,\"\")","v":""},{"$f":"IF($L421>0,MAX($L421,$P421,$Q421),\"\")","v":""}]
[{"$f":"IF(K422=\"\",\"\",CONCATENATE(YEAR($K422),\"_S\",_xlfn.ISOWEEKNUM($K422)))","v":""},null,null,null,null,null,null,null,null,null,null,null,null,null,null,null,null,null,null,null,null,null,null,null,null,null,null,{"$f":"IF($K422>0,$K422,\"\")","v":""},{"$f":"IF($L422>0,MAX($L422,$P422,$Q422),\"\")","v":""}]
[{"$f":"IF(K423=\"\",\"\",CONCATENATE(YEAR($K423),\"_S\",_xlfn.ISOWEEKNUM($K423)))","v":""},null,null,null,null,null,null,null,null,null,null,null,null,null,null,null,null,null,null,null,null,null,null,null,null,null,null,{"$f":"IF($K423>0,$K423,\"\")","v":""},{"$f":"IF($L423>0,MAX($L423,$P423,$Q423),\"\")","v":""}]
[{"$f":"IF(K424=\"\",\"\",CONCATENATE(YEAR($K424),\"_S\",_xlfn.ISOWEEKNUM($K424)))","v":""},null,null,null,null,null,null,null,null,null,null,null,null,null,null,null,null,null,null,null,null,null,null,null,null,null,null,{"$f":"IF($K424>0,$K424,\"\")","v":""},{"$f":"IF($L424>0,MAX($L424,$P424,$Q424),\"\")","v":""}]
[{"$f":"IF(K425=\"\",\"\",CONCATENATE(YEAR($K425),\"_S\",_xlfn.ISOWEEKNUM($K425)))","v":""},null,null,null,null,null,null,null,null,null,null,null,null,null,null,null,null,null,null,null,null,null,null,null,null,null,null,{"$f":"IF($K425>0,$K425,\"\")","v":""},{"$f":"IF($L425>0,MAX($L425,$P425,$Q425),\"\")","v":""}]
[{"$f":"IF(K426=\"\",\"\",CONCATENATE(YEAR($K426),\"_S\",_xlfn.ISOWEEKNUM($K426)))","v":""},null,null,null,null,null,null,null,null,null,null,null,null,null,null,null,null,null,null,null,null,null,null,null,null,null,null,{"$f":"IF($K426>0,$K426,\"\")","v":""},{"$f":"IF($L426>0,MAX($L426,$P426,$Q426),\"\")","v":""}]
[{"$f":"IF(K427=\"\",\"\",CONCATENATE(YEAR($K427),\"_S\",_xlfn.ISOWEEKNUM($K427)))","v":""},null,null,null,null,null,null,null,null,null,null,null,null,null,null,null,null,null,null,null,null,null,null,null,null,null,null,{"$f":"IF($K427>0,$K427,\"\")","v":""},{"$f":"IF($L427>0,MAX($L427,$P427,$Q427),\"\")","v":""}]
[{"$f":"IF(K428=\"\",\"\",CONCATENATE(YEAR($K428),\"_S\",_xlfn.ISOWEEKNUM($K428)))","v":""},null,null,null,null,null,null,null,null,null,null,null,null,null,null,null,null,null,null,null,null,null,null,null,null,null,null,{"$f":"IF($K428>0,$K428,\"\")","v":""},{"$f":"IF($L428>0,MAX($L428,$P428,$Q428),\"\")","v":""}]
[{"$f":"IF(K429=\"\",\"\",CONCATENATE(YEAR($K429),\"_S\",_xlfn.ISOWEEKNUM($K429)))","v":""},null,null,null,null,null,null,null,null,null,null,null,null,null,null,null,null,null,null,null,null,null,null,null,null,null,null,{"$f":"IF($K429>0,$K429,\"\")","v":""},{"$f":"IF($L429>0,MAX($L429,$P429,$Q429),\"\")","v":""}]
[{"$f":"IF(K430=\"\",\"\",CONCATENATE(YEAR($K430),\"_S\",_xlfn.ISOWEEKNUM($K430)))","v":""},null,null,null,null,null,null,null,null,null,null,null,null,null,null,null,null,null,null,null,null,null,null,null,null,null,null,{"$f":"IF($K430>0,$K430,\"\")","v":""},{"$f":"IF($L430>0,MAX($L430,$P430,$Q430),\"\")","v":""}]
[{"$f":"IF(K431=\"\",\"\",CONCATENATE(YEAR($K431),\"_S\",_xlfn.ISOWEEKNUM($K431)))","v":""},null,null,null,null,null,null,null,null,null,null,null,null,null,null,null,null,null,null,null,null,null,null,null,null,null,null,{"$f":"IF($K431>0,$K431,\"\")","v":""},{"$f":"IF($L431>0,MAX($L431,$P431,$Q431),\"\")","v":""}]
[{"$f":"IF(K432=\"\",\"\",CONCATENATE(YEAR($K432),\"_S\",_xlfn.ISOWEEKNUM($K432)))","v":""},null,null,null,null,null,null,null,null,null,null,null,null,null,null,null,null,null,null,null,null,null,null,null,null,null,null,{"$f":"IF($K432>0,$K432,\"\")","v":""},{"$f":"IF($L432>0,MAX($L432,$P432,$Q432),\"\")","v":""}]
[{"$f":"IF(K433=\"\",\"\",CONCATENATE(YEAR($K433),\"_S\",_xlfn.ISOWEEKNUM($K433)))","v":""},null,null,null,null,null,null,null,null,null,null,null,null,null,null,null,null,null,null,null,null,null,null,null,null,null,null,{"$f":"IF($K433>0,$K433,\"\")","v":""},{"$f":"IF($L433>0,MAX($L433,$P433,$Q433),\"\")","v":""}]
[{"$f":"IF(K434=\"\",\"\",CONCATENATE(YEAR($K434),\"_S\",_xlfn.ISOWEEKNUM($K434)))","v":""},null,null,null,null,null,null,null,null,null,null,null,null,null,null,null,null,null,null,null,null,null,null,null,null,null,null,{"$f":"IF($K434>0,$K434,\"\")","v":""},{"$f":"IF($L434>0,MAX($L434,$P434,$Q434),\"\")","v":""}]
[{"$f":"IF(K435=\"\",\"\",CONCATENATE(YEAR($K435),\"_S\",_xlfn.ISOWEEKNUM($K435)))","v":""},null,null,null,null,null,null,null,null,null,null,null,null,null,null,null,null,null,null,null,null,null,null,null,null,null,null,{"$f":"IF($K435>0,$K435,\"\")","v":""},{"$f":"IF($L435>0,MAX($L435,$P435,$Q435),\"\")","v":""}]
[{"$f":"IF(K436=\"\",\"\",CONCATENATE(YEAR($K436),\"_S\",_xlfn.ISOWEEKNUM($K436)))","v":""},null,null,null,null,null,null,null,null,null,null,null,null,null,null,null,null,null,null,null,null,null,null,null,null,null,null,{"$f":"IF($K436>0,$K436,\"\")","v":""},{"$f":"IF($L436>0,MAX($L436,$P436,$Q436),\"\")","v":""}]
[{"$f":"IF(K437=\"\",\"\",CONCATENATE(YEAR($K437),\"_S\",_xlfn.ISOWEEKNUM($K437)))","v":""},null,null,null,null,null,null,null,null,null,null,null,null,null,null,null,null,null,null,null,null,null,null,null,null,null,null,{"$f":"IF($K437>0,$K437,\"\")","v":""},{"$f":"IF($L437>0,MAX($L437,$P437,$Q437),\"\")","v":""}]
[{"$f":"IF(K438=\"\",\"\",CONCATENATE(YEAR($K438),\"_S\",_xlfn.ISOWEEKNUM($K438)))","v":""},null,null,null,null,null,null,null,null,null,null,null,null,null,null,null,null,null,null,null,null,null,null,null,null,null,null,{"$f":"IF($K438>0,$K438,\"\")","v":""},{"$f":"IF($L438>0,MAX($L438,$P438,$Q438),\"\")","v":""}]
[{"$f":"IF(K439=\"\",\"\",CONCATENATE(YEAR($K439),\"_S\",_xlfn.ISOWEEKNUM($K439)))","v":""},null,null,null,null,null,null,null,null,null,null,null,null,null,null,null,null,null,null,null,null,null,null,null,null,null,null,{"$f":"IF($K439>0,$K439,\"\")","v":""},{"$f":"IF($L439>0,MAX($L439,$P439,$Q439),\"\")","v":""}]
[{"$f":"IF(K440=\"\",\"\",CONCATENATE(YEAR($K440),\"_S\",_xlfn.ISOWEEKNUM($K440)))","v":""},null,null,null,null,null,null,null,null,null,null,null,null,null,null,null,null,null,null,null,null,null,null,null,null,null,null,{"$f":"IF($K440>0,$K440,\"\")","v":""},{"$f":"IF($L440>0,MAX($L440,$P440,$Q440),\"\")","v":""}]
[{"$f":"IF(K441=\"\",\"\",CONCATENATE(YEAR($K441),\"_S\",_xlfn.ISOWEEKNUM($K441)))","v":""},null,null,null,null,null,null,null,null,null,null,null,null,null,null,null,null,null,null,null,null,null,null,null,null,null,null,{"$f":"IF($K441>0,$K441,\"\")","v":""},{"$f":"IF($L441>0,MAX($L441,$P441,$Q441),\"\")","v":""}]
[{"$f":"IF(K442=\"\",\"\",CONCATENATE(YEAR($K442),\"_S\",_xlfn.ISOWEEKNUM($K442)))","v":""},null,null,null,null,null,null,null,null,null,null,null,null,null,null,null,null,null,null,null,null,null,null,null,null,null,null,{"$f":"IF($K442>0,$K442,\"\")","v":""},{"$f":"IF($L442>0,MAX($L442,$P442,$Q442),\"\")","v":""}]
[{"$f":"IF(K443=\"\",\"\",CONCATENATE(YEAR($K443),\"_S\",_xlfn.ISOWEEKNUM($K443)))","v":""},null,null,null,null,null,null,null,null,null,null,null,null,null,null,null,null,null,null,null,null,null,null,null,null,null,null,{"$f":"IF($K443>0,$K443,\"\")","v":""},{"$f":"IF($L443>0,MAX($L443,$P443,$Q443),\"\")","v":""}]
[{"$f":"IF(K444=\"\",\"\",CONCATENATE(YEAR($K444),\"_S\",_xlfn.ISOWEEKNUM($K444)))","v":""},null,null,null,null,null,null,null,null,null,null,null,null,null,null,null,null,null,null,null,null,null,null,null,null,null,null,{"$f":"IF($K444>0,$K444,\"\")","v":""},{"$f":"IF($L444>0,MAX($L444,$P444,$Q444),\"\")","v":""}]
[{"$f":"IF(K445=\"\",\"\",CONCATENATE(YEAR($K445),\"_S\",_xlfn.ISOWEEKNUM($K445)))","v":""},null,null,null,null,null,null,null,null,null,null,null,null,null,null,null,null,null,null,null,null,null,null,null,null,null,null,{"$f":"IF($K445>0,$K445,\"\")","v":""},{"$f":"IF($L445>0,MAX($L445,$P445,$Q445),\"\")","v":""}]
[{"$f":"IF(K446=\"\",\"\",CONCATENATE(YEAR($K446),\"_S\",_xlfn.ISOWEEKNUM($K446)))","v":""},null,null,null,null,null,null,null,null,null,null,null,null,null,null,null,null,null,null,null,null,null,null,null,null,null,null,{"$f":"IF($K446>0,$K446,\"\")","v":""},{"$f":"IF($L446>0,MAX($L446,$P446,$Q446),\"\")","v":""}]
[{"$f":"IF(K447=\"\",\"\",CONCATENATE(YEAR($K447),\"_S\",_xlfn.ISOWEEKNUM($K447)))","v":""},null,null,null,null,null,null,null,null,null,null,null,null,null,null,null,null,null,null,null,null,null,null,null,null,null,null,{"$f":"IF($K447>0,$K447,\"\")","v":""},{"$f":"IF($L447>0,MAX($L447,$P447,$Q447),\"\")","v":""}]
[{"$f":"IF(K448=\"\",\"\",CONCATENATE(YEAR($K448),\"_S\",_xlfn.ISOWEEKNUM($K448)))","v":""},null,null,null,null,null,null,null,null,null,null,null,null,null,null,null,null,null,null,null,null,null,null,null,null,null,null,{"$f":"IF($K448>0,$K448,\"\")","v":""},{"$f":"IF($L448>0,MAX($L448,$P448,$Q448),\"\")","v":""}]
[{"$f":"IF(K449=\"\",\"\",CONCATENATE(YEAR($K449),\"_S\",_xlfn.ISOWEEKNUM($K449)))","v":""},null,null,null,null,null,null,null,null,null,null,null,null,null,null,null,null,null,null,null,null,null,null,null,null,null,null,{"$f":"IF($K449>0,$K449,\"\")","v":""},{"$f":"IF($L449>0,MAX($L449,$P449,$Q449),\"\")","v":""}]
[{"$f":"IF(K450=\"\",\"\",CONCATENATE(YEAR($K450),\"_S\",_xlfn.ISOWEEKNUM($K450)))","v":""},null,null,null,null,null,null,null,null,null,null,null,null,null,null,null,null,null,null,null,null,null,null,null,null,null,null,{"$f":"IF($K450>0,$K450,\"\")","v":""},{"$f":"IF($L450>0,MAX($L450,$P450,$Q450),\"\")","v":""}]
[{"$f":"IF(K451=\"\",\"\",CONCATENATE(YEAR($K451),\"_S\",_xlfn.ISOWEEKNUM($K451)))","v":""},null,null,null,null,null,null,null,null,null,null,null,null,null,null,null,null,null,null,null,null,null,null,null,null,null,null,{"$f":"IF($K451>0,$K451,\"\")","v":""},{"$f":"IF($L451>0,MAX($L451,$P451,$Q451),\"\")","v":""}]
[{"$f":"IF(K452=\"\",\"\",CONCATENATE(YEAR($K452),\"_S\",_xlfn.ISOWEEKNUM($K452)))","v":""},null,null,null,null,null,null,null,null,null,null,null,null,null,null,null,null,null,null,null,null,null,null,null,null,null,null,{"$f":"IF($K452>0,$K452,\"\")","v":""},{"$f":"IF($L452>0,MAX($L452,$P452,$Q452),\"\")","v":""}]
[{"$f":"IF(K453=\"\",\"\",CONCATENATE(YEAR($K453),\"_S\",_xlfn.ISOWEEKNUM($K453)))","v":""},null,null,null,null,null,null,null,null,null,null,null,null,null,null,null,null,null,null,null,null,null,null,null,null,null,null,{"$f":"IF($K453>0,$K453,\"\")","v":""},{"$f":"IF($L453>0,MAX($L453,$P453,$Q453),\"\")","v":""}]
[{"$f":"IF(K454=\"\",\"\",CONCATENATE(YEAR($K454),\"_S\",_xlfn.ISOWEEKNUM($K454)))","v":""},null,null,null,null,null,null,null,null,null,null,null,null,null,null,null,null,null,null,null,null,null,null,null,null,null,null,{"$f":"IF($K454>0,$K454,\"\")","v":""},{"$f":"IF($L454>0,MAX($L454,$P454,$Q454),\"\")","v":""}]
[{"$f":"IF(K455=\"\",\"\",CONCATENATE(YEAR($K455),\"_S\",_xlfn.ISOWEEKNUM($K455)))","v":""},null,null,null,null,null,null,null,null,null,null,null,null,null,null,null,null,null,null,null,null,null,null,null,null,null,null,{"$f":"IF($K455>0,$K455,\"\")","v":""},{"$f":"IF($L455>0,MAX($L455,$P455,$Q455),\"\")","v":""}]
[{"$f":"IF(K456=\"\",\"\",CONCATENATE(YEAR($K456),\"_S\",_xlfn.ISOWEEKNUM($K456)))","v":""},null,null,null,null,null,null,null,null,null,null,null,null,null,null,null,null,null,null,null,null,null,null,null,null,null,null,{"$f":"IF($K456>0,$K456,\"\")","v":""},{"$f":"IF($L456>0,MAX($L456,$P456,$Q456),\"\")","v":""}]
[{"$f":"IF(K457=\"\",\"\",CONCATENATE(YEAR($K457),\"_S\",_xlfn.ISOWEEKNUM($K457)))","v":""},null,null,null,null,null,null,null,null,null,null,null,null,null,null,null,null,null,null,null,null,null,null,null,null,null,null,{"$f":"IF($K457>0,$K457,\"\")","v":""},{"$f":"IF($L457>0,MAX($L457,$P457,$Q457),\"\")","v":""}]
[{"$f":"IF(K458=\"\",\"\",CONCATENATE(YEAR($K458),\"_S\",_xlfn.ISOWEEKNUM($K458)))","v":""},null,null,null,null,null,null,null,null,null,null,null,null,null,null,null,null,null,null,null,null,null,null,null,null,null,null,{"$f":"IF($K458>0,$K458,\"\")","v":""},{"$f":"IF($L458>0,MAX($L458,$P458,$Q458),\"\")","v":""}]
[{"$f":"IF(K459=\"\",\"\",CONCATENATE(YEAR($K459),\"_S\",_xlfn.ISOWEEKNUM($K459)))","v":""},null,null,null,null,null,null,null,null,null,null,null,null,null,null,null,null,null,null,null,null,null,null,null,null,null,null,{"$f":"IF($K459>0,$K459,\"\")","v":""},{"$f":"IF($L459>0,MAX($L459,$P459,$Q459),\"\")","v":""}]
[{"$f":"IF(K460=\"\",\"\",CONCATENATE(YEAR($K460),\"_S\",_xlfn.ISOWEEKNUM($K460)))","v":""},null,null,null,null,null,null,null,null,null,null,null,null,null,null,null,null,null,null,null,null,null,null,null,null,null,null,{"$f":"IF($K460>0,$K460,\"\")","v":""},{"$f":"IF($L460>0,MAX($L460,$P460,$Q460),\"\")","v":""}]
[{"$f":"IF(K461=\"\",\"\",CONCATENATE(YEAR($K461),\"_S\",_xlfn.ISOWEEKNUM($K461)))","v":""},null,null,null,null,null,null,null,null,null,null,null,null,null,null,null,null,null,null,null,null,null,null,null,null,null,null,{"$f":"IF($K461>0,$K461,\"\")","v":""},{"$f":"IF($L461>0,MAX($L461,$P461,$Q461),\"\")","v":""}]
[{"$f":"IF(K462=\"\",\"\",CONCATENATE(YEAR($K462),\"_S\",_xlfn.ISOWEEKNUM($K462)))","v":""},null,null,null,null,null,null,null,null,null,null,null,null,null,null,null,null,null,null,null,null,null,null,null,null,null,null,{"$f":"IF($K462>0,$K462,\"\")","v":""},{"$f":"IF($L462>0,MAX($L462,$P462,$Q462),\"\")","v":""}]
[{"$f":"IF(K463=\"\",\"\",CONCATENATE(YEAR($K463),\"_S\",_xlfn.ISOWEEKNUM($K463)))","v":""},null,null,null,null,null,null,null,null,null,null,null,null,null,null,null,null,null,null,null,null,null,null,null,null,null,null,{"$f":"IF($K463>0,$K463,\"\")","v":""},{"$f":"IF($L463>0,MAX($L463,$P463,$Q463),\"\")","v":""}]
[{"$f":"IF(K464=\"\",\"\",CONCATENATE(YEAR($K464),\"_S\",_xlfn.ISOWEEKNUM($K464)))","v":""},null,null,null,null,null,null,null,null,null,null,null,null,null,null,null,null,null,null,null,null,null,null,null,null,null,null,{"$f":"IF($K464>0,$K464,\"\")","v":""},{"$f":"IF($L464>0,MAX($L464,$P464,$Q464),\"\")","v":""}]
[{"$f":"IF(K465=\"\",\"\",CONCATENATE(YEAR($K465),\"_S\",_xlfn.ISOWEEKNUM($K465)))","v":""},null,null,null,null,null,null,null,null,null,null,null,null,null,null,null,null,null,null,null,null,null,null,null,null,null,null,{"$f":"IF($K465>0,$K465,\"\")","v":""},{"$f":"IF($L465>0,MAX($L465,$P465,$Q465),\"\")","v":""}]
[{"$f":"IF(K466=\"\",\"\",CONCATENATE(YEAR($K466),\"_S\",_xlfn.ISOWEEKNUM($K466)))","v":""},null,null,null,null,null,null,null,null,null,null,null,null,null,null,null,null,null,null,null,null,null,null,null,null,null,null,{"$f":"IF($K466>0,$K466,\"\")","v":""},{"$f":"IF($L466>0,MAX($L466,$P466,$Q466),\"\")","v":""}]
[{"$f":"IF(K467=\"\",\"\",CONCATENATE(YEAR($K467),\"_S\",_xlfn.ISOWEEKNUM($K467)))","v":""},null,null,null,null,null,null,null,null,null,null,null,null,null,null,null,null,null,null,null,null,null,null,null,null,null,null,{"$f":"IF($K467>0,$K467,\"\")","v":""},{"$f":"IF($L467>0,MAX($L467,$P467,$Q467),\"\")","v":""}]
[{"$f":"IF(K468=\"\",\"\",CONCATENATE(YEAR($K468),\"_S\",_xlfn.ISOWEEKNUM($K468)))","v":""},null,null,null,null,null,null,null,null,null,null,null,null,null,null,null,null,null,null,null,null,null,null,null,null,null,null,{"$f":"IF($K468>0,$K468,\"\")","v":""},{"$f":"IF($L468>0,MAX($L468,$P468,$Q468),\"\")","v":""}]
[{"$f":"IF(K469=\"\",\"\",CONCATENATE(YEAR($K469),\"_S\",_xlfn.ISOWEEKNUM($K469)))","v":""},null,null,null,null,null,null,null,null,null,null,null,null,null,null,null,null,null,null,null,null,null,null,null,null,null,null,{"$f":"IF($K469>0,$K469,\"\")","v":""},{"$f":"IF($L469>0,MAX($L469,$P469,$Q469),\"\")","v":""}]
[{"$f":"IF(K470=\"\",\"\",CONCATENATE(YEAR($K470),\"_S\",_xlfn.ISOWEEKNUM($K470)))","v":""},null,null,null,null,null,null,null,null,null,null,null,null,null,null,null,null,null,null,null,null,null,null,null,null,null,null,{"$f":"IF($K470>0,$K470,\"\")","v":""},{"$f":"IF($L470>0,MAX($L470,$P470,$Q470),\"\")","v":""}]
[{"$f":"IF(K471=\"\",\"\",CONCATENATE(YEAR($K471),\"_S\",_xlfn.ISOWEEKNUM($K471)))","v":""},null,null,null,null,null,null,null,null,null,null,null,null,null,null,null,null,null,null,null,null,null,null,null,null,null,null,{"$f":"IF($K471>0,$K471,\"\")","v":""},{"$f":"IF($L471>0,MAX($L471,$P471,$Q471),\"\")","v":""}]
[{"$f":"IF(K472=\"\",\"\",CONCATENATE(YEAR($K472),\"_S\",_xlfn.ISOWEEKNUM($K472)))","v":""},null,null,null,null,null,null,null,null,null,null,null,null,null,null,null,null,null,null,null,null,null,null,null,null,null,null,{"$f":"IF($K472>0,$K472,\"\")","v":""},{"$f":"IF($L472>0,MAX($L472,$P472,$Q472),\"\")","v":""}]
[{"$f":"IF(K473=\"\",\"\",CONCATENATE(YEAR($K473),\"_S\",_xlfn.ISOWEEKNUM($K473)))","v":""},null,null,null,null,null,null,null,null,null,null,null,null,null,null,null,null,null,null,null,null,null,null,null,null,null,null,{"$f":"IF($K473>0,$K473,\"\")","v":""},{"$f":"IF($L473>0,MAX($L473,$P473,$Q473),\"\")","v":""}]
[{"$f":"IF(K474=\"\",\"\",CONCATENATE(YEAR($K474),\"_S\",_xlfn.ISOWEEKNUM($K474)))","v":""},null,null,null,null,null,null,null,null,null,null,null,null,null,null,null,null,null,null,null,null,null,null,null,null,null,null,{"$f":"IF($K474>0,$K474,\"\")","v":""},{"$f":"IF($L474>0,MAX($L474,$P474,$Q474),\"\")","v":""}]
[{"$f":"IF(K475=\"\",\"\",CONCATENATE(YEAR($K475),\"_S\",_xlfn.ISOWEEKNUM($K475)))","v":""},null,null,null,null,null,null,null,null,null,null,null,null,null,null,null,null,null,null,null,null,null,null,null,null,null,null,{"$f":"IF($K475>0,$K475,\"\")","v":""},{"$f":"IF($L475>0,MAX($L475,$P475,$Q475),\"\")","v":""}]
[{"$f":"IF(K476=\"\",\"\",CONCATENATE(YEAR($K476),\"_S\",_xlfn.ISOWEEKNUM($K476)))","v":""},null,null,null,null,null,null,null,null,null,null,null,null,null,null,null,null,null,null,null,null,null,null,null,null,null,null,{"$f":"IF($K476>0,$K476,\"\")","v":""},{"$f":"IF($L476>0,MAX($L476,$P476,$Q476),\"\")","v":""}]
[{"$f":"IF(K477=\"\",\"\",CONCATENATE(YEAR($K477),\"_S\",_xlfn.ISOWEEKNUM($K477)))","v":""},null,null,null,null,null,null,null,null,null,null,null,null,null,null,null,null,null,null,null,null,null,null,null,null,null,null,{"$f":"IF($K477>0,$K477,\"\")","v":""},{"$f":"IF($L477>0,MAX($L477,$P477,$Q477),\"\")","v":""}]
[{"$f":"IF(K478=\"\",\"\",CONCATENATE(YEAR($K478),\"_S\",_xlfn.ISOWEEKNUM($K478)))","v":""},null,null,null,null,null,null,null,null,null,null,null,null,null,null,null,null,null,null,null,null,null,null,null,null,null,null,{"$f":"IF($K478>0,$K478,\"\")","v":""},{"$f":"IF($L478>0,MAX($L478,$P478,$Q478),\"\")","v":""}]
[{"$f":"IF(K479=\"\",\"\",CONCATENATE(YEAR($K479),\"_S\",_xlfn.ISOWEEKNUM($K479)))","v":""},null,null,null,null,null,null,null,null,null,null,null,null,null,null,null,null,null,null,null,null,null,null,null,null,null,null,{"$f":"IF($K479>0,$K479,\"\")","v":""},{"$f":"IF($L479>0,MAX($L479,$P479,$Q479),\"\")","v":""}]
[{"$f":"IF(K480=\"\",\"\",CONCATENATE(YEAR($K480),\"_S\",_xlfn.ISOWEEKNUM($K480)))","v":""},null,null,null,null,null,null,null,null,null,null,null,null,null,null,null,null,null,null,null,null,null,null,null,null,null,null,{"$f":"IF($K480>0,$K480,\"\")","v":""},{"$f":"IF($L480>0,MAX($L480,$P480,$Q480),\"\")","v":""}]
[{"$f":"IF(K481=\"\",\"\",CONCATENATE(YEAR($K481),\"_S\",_xlfn.ISOWEEKNUM($K481)))","v":""},null,null,null,null,null,null,null,null,null,null,null,null,null,null,null,null,null,null,null,null,null,null,null,null,null,null,{"$f":"IF($K481>0,$K481,\"\")","v":""},{"$f":"IF($L481>0,MAX($L481,$P481,$Q481),\"\")","v":""}]
[{"$f":"IF(K482=\"\",\"\",CONCATENATE(YEAR($K482),\"_S\",_xlfn.ISOWEEKNUM($K482)))","v":""},null,null,null,null,null,null,null,null,null,null,null,null,null,null,null,null,null,null,null,null,null,null,null,null,null,null,{"$f":"IF($K482>0,$K482,\"\")","v":""},{"$f":"IF($L482>0,MAX($L482,$P482,$Q482),\"\")","v":""}]
[{"$f":"IF(K483=\"\",\"\",CONCATENATE(YEAR($K483),\"_S\",_xlfn.ISOWEEKNUM($K483)))","v":""},null,null,null,null,null,null,null,null,null,null,null,null,null,null,null,null,null,null,null,null,null,null,null,null,null,null,{"$f":"IF($K483>0,$K483,\"\")","v":""},{"$f":"IF($L483>0,MAX($L483,$P483,$Q483),\"\")","v":""}]
[{"$f":"IF(K484=\"\",\"\",CONCATENATE(YEAR($K484),\"_S\",_xlfn.ISOWEEKNUM($K484)))","v":""},null,null,null,null,null,null,null,null,null,null,null,null,null,null,null,null,null,null,null,null,null,null,null,null,null,null,{"$f":"IF($K484>0,$K484,\"\")","v":""},{"$f":"IF($L484>0,MAX($L484,$P484,$Q484),\"\")","v":""}]
[{"$f":"IF(K485=\"\",\"\",CONCATENATE(YEAR($K485),\"_S\",_xlfn.ISOWEEKNUM($K485)))","v":""},null,null,null,null,null,null,null,null,null,null,null,null,null,null,null,null,null,null,null,null,null,null,null,null,null,null,{"$f":"IF($K485>0,$K485,\"\")","v":""},{"$f":"IF($L485>0,MAX($L485,$P485,$Q485),\"\")","v":""}]
[{"$f":"IF(K486=\"\",\"\",CONCATENATE(YEAR($K486),\"_S\",_xlfn.ISOWEEKNUM($K486)))","v":""},null,null,null,null,null,null,null,null,null,null,null,null,null,null,null,null,null,null,null,null,null,null,null,null,null,null,{"$f":"IF($K486>0,$K486,\"\")","v":""},{"$f":"IF($L486>0,MAX($L486,$P486,$Q486),\"\")","v":""}]
[{"$f":"IF(K487=\"\",\"\",CONCATENATE(YEAR($K487),\"_S\",_xlfn.ISOWEEKNUM($K487)))","v":""},null,null,null,null,null,null,null,null,null,null,null,null,null,null,null,null,null,null,null,null,null,null,null,null,null,null,{"$f":"IF($K487>0,$K487,\"\")","v":""},{"$f":"IF($L487>0,MAX($L487,$P487,$Q487),\"\")","v":""}]
[{"$f":"IF(K488=\"\",\"\",CONCATENATE(YEAR($K488),\"_S\",_xlfn.ISOWEEKNUM($K488)))","v":""},null,null,null,null,null,null,null,null,null,null,null,null,null,null,null,null,null,null,null,null,null,null,null,null,null,null,{"$f":"IF($K488>0,$K488,\"\")","v":""},{"$f":"IF($L488>0,MAX($L488,$P488,$Q488),\"\")","v":""}]
[{"$f":"IF(K489=\"\",\"\",CONCATENATE(YEAR($K489),\"_S\",_xlfn.ISOWEEKNUM($K489)))","v":""},null,null,null,null,null,null,null,null,null,null,null,null,null,null,null,null,null,null,null,null,null,null,null,null,null,null,{"$f":"IF($K489>0,$K489,\"\")","v":""},{"$f":"IF($L489>0,MAX($L489,$P489,$Q489),\"\")","v":""}]
[{"$f":"IF(K490=\"\",\"\",CONCATENATE(YEAR($K490),\"_S\",_xlfn.ISOWEEKNUM($K490)))","v":""},null,null,null,null,null,null,null,null,null,null,null,null,null,null,null,null,null,null,null,null,null,null,null,null,null,null,{"$f":"IF($K490>0,$K490,\"\")","v":""},{"$f":"IF($L490>0,MAX($L490,$P490,$Q490),\"\")","v":""}]
[{"$f":"IF(K491=\"\",\"\",CONCATENATE(YEAR($K491),\"_S\",_xlfn.ISOWEEKNUM($K491)))","v":""},null,null,null,null,null,null,null,null,null,null,null,null,null,null,null,null,null,null,null,null,null,null,null,null,null,null,{"$f":"IF($K491>0,$K491,\"\")","v":""},{"$f":"IF($L491>0,MAX($L491,$P491,$Q491),\"\")","v":""}]
[{"$f":"IF(K492=\"\",\"\",CONCATENATE(YEAR($K492),\"_S\",_xlfn.ISOWEEKNUM($K492)))","v":""},null,null,null,null,null,null,null,null,null,null,null,null,null,null,null,null,null,null,null,null,null,null,null,null,null,null,{"$f":"IF($K492>0,$K492,\"\")","v":""},{"$f":"IF($L492>0,MAX($L492,$P492,$Q492),\"\")","v":""}]
[{"$f":"IF(K493=\"\",\"\",CONCATENATE(YEAR($K493),\"_S\",_xlfn.ISOWEEKNUM($K493)))","v":""},null,null,null,null,null,null,null,null,null,null,null,null,null,null,null,null,null,null,null,null,null,null,null,null,null,null,{"$f":"IF($K493>0,$K493,\"\")","v":""},{"$f":"IF($L493>0,MAX($L493,$P493,$Q493),\"\")","v":""}]
[{"$f":"IF(K494=\"\",\"\",CONCATENATE(YEAR($K494),\"_S\",_xlfn.ISOWEEKNUM($K494)))","v":""},null,null,null,null,null,null,null,null,null,null,null,null,null,null,null,null,null,null,null,null,null,null,null,null,null,null,{"$f":"IF($K494>0,$K494,\"\")","v":""},{"$f":"IF($L494>0,MAX($L494,$P494,$Q494),\"\")","v":""}]
[{"$f":"IF(K495=\"\",\"\",CONCATENATE(YEAR($K495),\"_S\",_xlfn.ISOWEEKNUM($K495)))","v":""},null,null,null,null,null,null,null,null,null,null,null,null,null,null,null,null,null,null,null,null,null,null,null,null,null,null,{"$f":"IF($K495>0,$K495,\"\")","v":""},{"$f":"IF($L495>0,MAX($L495,$P495,$Q495),\"\")","v":""}]
[{"$f":"IF(K496=\"\",\"\",CONCATENATE(YEAR($K496),\"_S\",_xlfn.ISOWEEKNUM($K496)))","v":""},null,null,null,null,null,null,null,null,null,null,null,null,null,null,null,null,null,null,null,null,null,null,null,null,null,null,{"$f":"IF($K496>0,$K496,\"\")","v":""},{"$f":"IF($L496>0,MAX($L496,$P496,$Q496),\"\")","v":""}]
[{"$f":"IF(K497=\"\",\"\",CONCATENATE(YEAR($K497),\"_S\",_xlfn.ISOWEEKNUM($K497)))","v":""},null,null,null,null,null,null,null,null,null,null,null,null,null,null,null,null,null,null,null,null,null,null,null,null,null,null,{"$f":"IF($K497>0,$K497,\"\")","v":""},{"$f":"IF($L497>0,MAX($L497,$P497,$Q497),\"\")","v":""}]
[{"$f":"IF(K498=\"\",\"\",CONCATENATE(YEAR($K498),\"_S\",_xlfn.ISOWEEKNUM($K498)))","v":""},null,null,null,null,null,null,null,null,null,null,null,null,null,null,null,null,null,null,null,null,null,null,null,null,null,null,{"$f":"IF($K498>0,$K498,\"\")","v":""},{"$f":"IF($L498>0,MAX($L498,$P498,$Q498),\"\")","v":""}]
[{"$f":"IF(K499=\"\",\"\",CONCATENATE(YEAR($K499),\"_S\",_xlfn.ISOWEEKNUM($K499)))","v":""},null,null,null,null,null,null,null,null,null,null,null,null,null,null,null,null,null,null,null,null,null,null,null,null,null,null,{"$f":"IF($K499>0,$K499,\"\")","v":""},{"$f":"IF($L499>0,MAX($L499,$P499,$Q499),\"\")","v":""}]
[{"$f":"IF(K500=\"\",\"\",CONCATENATE(YEAR($K500),\"_S\",_xlfn.ISOWEEKNUM($K500)))","v":""},null,null,null,null,null,null,null,null,null,null,null,null,null,null,null,null,null,null,null,null,null,null,null,null,null,null,{"$f":"IF($K500>0,$K500,\"\")","v":""},{"$f":"IF($L500>0,MAX($L500,$P500,$Q500),\"\")","v":""}]
[{"$f":"IF(K501=\"\",\"\",CONCATENATE(YEAR($K501),\"_S\",_xlfn.ISOWEEKNUM($K501)))","v":""},null,null,null,null,null,null,null,null,null,null,null,null,null,null,null,null,null,null,null,null,null,null,null,null,null,null,{"$f":"IF($K501>0,$K501,\"\")","v":""},{"$f":"IF($L501>0,MAX($L501,$P501,$Q501),\"\")","v":""}]
[{"$f":"IF(K502=\"\",\"\",CONCATENATE(YEAR($K502),\"_S\",_xlfn.ISOWEEKNUM($K502)))","v":""},null,null,null,null,null,null,null,null,null,null,null,null,null,null,null,null,null,null,null,null,null,null,null,null,null,null,{"$f":"IF($K502>0,$K502,\"\")","v":""},{"$f":"IF($L502>0,MAX($L502,$P502,$Q502),\"\")","v":""}]
[{"$f":"IF(K503=\"\",\"\",CONCATENATE(YEAR($K503),\"_S\",_xlfn.ISOWEEKNUM($K503)))","v":""},null,null,null,null,null,null,null,null,null,null,null,null,null,null,null,null,null,null,null,null,null,null,null,null,null,null,{"$f":"IF($K503>0,$K503,\"\")","v":""},{"$f":"IF($L503>0,MAX($L503,$P503,$Q503),\"\")","v":""}]
[{"$f":"IF(K504=\"\",\"\",CONCATENATE(YEAR($K504),\"_S\",_xlfn.ISOWEEKNUM($K504)))","v":""},null,null,null,null,null,null,null,null,null,null,null,null,null,null,null,null,null,null,null,null,null,null,null,null,null,null,{"$f":"IF($K504>0,$K504,\"\")","v":""},{"$f":"IF($L504>0,MAX($L504,$P504,$Q504),\"\")","v":""}]
[{"$f":"IF(K505=\"\",\"\",CONCATENATE(YEAR($K505),\"_S\",_xlfn.ISOWEEKNUM($K505)))","v":""},null,null,null,null,null,null,null,null,null,null,null,null,null,null,null,null,null,null,null,null,null,null,null,null,null,null,{"$f":"IF($K505>0,$K505,\"\")","v":""},{"$f":"IF($L505>0,MAX($L505,$P505,$Q505),\"\")","v":""}]
[{"$f":"IF(K506=\"\",\"\",CONCATENATE(YEAR($K506),\"_S\",_xlfn.ISOWEEKNUM($K506)))","v":""},null,null,null,null,null,null,null,null,null,null,null,null,null,null,null,null,null,null,null,null,null,null,null,null,null,null,{"$f":"IF($K506>0,$K506,\"\")","v":""},{"$f":"IF($L506>0,MAX($L506,$P506,$Q506),\"\")","v":""}]
[{"$f":"IF(K507=\"\",\"\",CONCATENATE(YEAR($K507),\"_S\",_xlfn.ISOWEEKNUM($K507)))","v":""},null,null,null,null,null,null,null,null,null,null,null,null,null,null,null,null,null,null,null,null,null,null,null,null,null,null,{"$f":"IF($K507>0,$K507,\"\")","v":""},{"$f":"IF($L507>0,MAX($L507,$P507,$Q507),\"\")","v":""}]
[{"$f":"IF(K508=\"\",\"\",CONCATENATE(YEAR($K508),\"_S\",_xlfn.ISOWEEKNUM($K508)))","v":""},null,null,null,null,null,null,null,null,null,null,null,null,null,null,null,null,null,null,null,null,null,null,null,null,null,null,{"$f":"IF($K508>0,$K508,\"\")","v":""},{"$f":"IF($L508>0,MAX($L508,$P508,$Q508),\"\")","v":""}]
[{"$f":"IF(K509=\"\",\"\",CONCATENATE(YEAR($K509),\"_S\",_xlfn.ISOWEEKNUM($K509)))","v":""},null,null,null,null,null,null,null,null,null,null,null,null,null,null,null,null,null,null,null,null,null,null,null,null,null,null,{"$f":"IF($K509>0,$K509,\"\")","v":""},{"$f":"IF($L509>0,MAX($L509,$P509,$Q509),\"\")","v":""}]
[{"$f":"IF(K510=\"\",\"\",CONCATENATE(YEAR($K510),\"_S\",_xlfn.ISOWEEKNUM($K510)))","v":""},null,null,null,null,null,null,null,null,null,null,null,null,null,null,null,null,null,null,null,null,null,null,null,null,null,null,{"$f":"IF($K510>0,$K510,\"\")","v":""},{"$f":"IF($L510>0,MAX($L510,$P510,$Q510),\"\")","v":""}]
[{"$f":"IF(K511=\"\",\"\",CONCATENATE(YEAR($K511),\"_S\",_xlfn.ISOWEEKNUM($K511)))","v":""},null,null,null,null,null,null,null,null,null,null,null,null,null,null,null,null,null,null,null,null,null,null,null,null,null,null,{"$f":"IF($K511>0,$K511,\"\")","v":""},{"$f":"IF($L511>0,MAX($L511,$P511,$Q511),\"\")","v":""}]
[{"$f":"IF(K512=\"\",\"\",CONCATENATE(YEAR($K512),\"_S\",_xlfn.ISOWEEKNUM($K512)))","v":""},null,null,null,null,null,null,null,null,null,null,null,null,null,null,null,null,null,null,null,null,null,null,null,null,null,null,{"$f":"IF($K512>0,$K512,\"\")","v":""},{"$f":"IF($L512>0,MAX($L512,$P512,$Q512),\"\")","v":""}]
[{"$f":"IF(K513=\"\",\"\",CONCATENATE(YEAR($K513),\"_S\",_xlfn.ISOWEEKNUM($K513)))","v":""},null,null,null,null,null,null,null,null,null,null,null,null,null,null,null,null,null,null,null,null,null,null,null,null,null,null,{"$f":"IF($K513>0,$K513,\"\")","v":""},{"$f":"IF($L513>0,MAX($L513,$P513,$Q513),\"\")","v":""}]
[{"$f":"IF(K514=\"\",\"\",CONCATENATE(YEAR($K514),\"_S\",_xlfn.ISOWEEKNUM($K514)))","v":""},null,null,null,null,null,null,null,null,null,null,null,null,null,null,null,null,null,null,null,null,null,null,null,null,null,null,{"$f":"IF($K514>0,$K514,\"\")","v":""},{"$f":"IF($L514>0,MAX($L514,$P514,$Q514),\"\")","v":""}]
[{"$f":"IF(K515=\"\",\"\",CONCATENATE(YEAR($K515),\"_S\",_xlfn.ISOWEEKNUM($K515)))","v":""},null,null,null,null,null,null,null,null,null,null,null,null,null,null,null,null,null,null,null,null,null,null,null,null,null,null,{"$f":"IF($K515>0,$K515,\"\")","v":""},{"$f":"IF($L515>0,MAX($L515,$P515,$Q515),\"\")","v":""}]
[{"$f":"IF(K516=\"\",\"\",CONCATENATE(YEAR($K516),\"_S\",_xlfn.ISOWEEKNUM($K516)))","v":""},null,null,null,null,null,null,null,null,null,null,null,null,null,null,null,null,null,null,null,null,null,null,null,null,null,null,{"$f":"IF($K516>0,$K516,\"\")","v":""},{"$f":"IF($L516>0,MAX($L516,$P516,$Q516),\"\")","v":""}]
[{"$f":"IF(K517=\"\",\"\",CONCATENATE(YEAR($K517),\"_S\",_xlfn.ISOWEEKNUM($K517)))","v":""},null,null,null,null,null,null,null,null,null,null,null,null,null,null,null,null,null,null,null,null,null,null,null,null,null,null,{"$f":"IF($K517>0,$K517,\"\")","v":""},{"$f":"IF($L517>0,MAX($L517,$P517,$Q517),\"\")","v":""}]
[{"$f":"IF(K518=\"\",\"\",CONCATENATE(YEAR($K518),\"_S\",_xlfn.ISOWEEKNUM($K518)))","v":""},null,null,null,null,null,null,null,null,null,null,null,null,null,null,null,null,null,null,null,null,null,null,null,null,null,null,{"$f":"IF($K518>0,$K518,\"\")","v":""},{"$f":"IF($L518>0,MAX($L518,$P518,$Q518),\"\")","v":""}]
[{"$f":"IF(K519=\"\",\"\",CONCATENATE(YEAR($K519),\"_S\",_xlfn.ISOWEEKNUM($K519)))","v":""},null,null,null,null,null,null,null,null,null,null,null,null,null,null,null,null,null,null,null,null,null,null,null,null,null,null,{"$f":"IF($K519>0,$K519,\"\")","v":""},{"$f":"IF($L519>0,MAX($L519,$P519,$Q519),\"\")","v":""}]
[{"$f":"IF(K520=\"\",\"\",CONCATENATE(YEAR($K520),\"_S\",_xlfn.ISOWEEKNUM($K520)))","v":""},null,null,null,null,null,null,null,null,null,null,null,null,null,null,null,null,null,null,null,null,null,null,null,null,null,null,{"$f":"IF($K520>0,$K520,\"\")","v":""},{"$f":"IF($L520>0,MAX($L520,$P520,$Q520),\"\")","v":""}]
[{"$f":"IF(K521=\"\",\"\",CONCATENATE(YEAR($K521),\"_S\",_xlfn.ISOWEEKNUM($K521)))","v":""},null,null,null,null,null,null,null,null,null,null,null,null,null,null,null,null,null,null,null,null,null,null,null,null,null,null,{"$f":"IF($K521>0,$K521,\"\")","v":""},{"$f":"IF($L521>0,MAX($L521,$P521,$Q521),\"\")","v":""}]
[{"$f":"IF(K522=\"\",\"\",CONCATENATE(YEAR($K522),\"_S\",_xlfn.ISOWEEKNUM($K522)))","v":""},null,null,null,null,null,null,null,null,null,null,null,null,null,null,null,null,null,null,null,null,null,null,null,null,null,null,{"$f":"IF($K522>0,$K522,\"\")","v":""},{"$f":"IF($L522>0,MAX($L522,$P522,$Q522),\"\")","v":""}]
[{"$f":"IF(K523=\"\",\"\",CONCATENATE(YEAR($K523),\"_S\",_xlfn.ISOWEEKNUM($K523)))","v":""},null,null,null,null,null,null,null,null,null,null,null,null,null,null,null,null,null,null,null,null,null,null,null,null,null,null,{"$f":"IF($K523>0,$K523,\"\")","v":""},{"$f":"IF($L523>0,MAX($L523,$P523,$Q523),\"\")","v":""}]
[{"$f":"IF(K524=\"\",\"\",CONCATENATE(YEAR($K524),\"_S\",_xlfn.ISOWEEKNUM($K524)))","v":""},null,null,null,null,null,null,null,null,null,null,null,null,null,null,null,null,null,null,null,null,null,null,null,null,null,null,{"$f":"IF($K524>0,$K524,\"\")","v":""},{"$f":"IF($L524>0,MAX($L524,$P524,$Q524),\"\")","v":""}]
[{"$f":"IF(K525=\"\",\"\",CONCATENATE(YEAR($K525),\"_S\",_xlfn.ISOWEEKNUM($K525)))","v":""},null,null,null,null,null,null,null,null,null,null,null,null,null,null,null,null,null,null,null,null,null,null,null,null,null,null,{"$f":"IF($K525>0,$K525,\"\")","v":""},{"$f":"IF($L525>0,MAX($L525,$P525,$Q525),\"\")","v":""}]
[{"$f":"IF(K526=\"\",\"\",CONCATENATE(YEAR($K526),\"_S\",_xlfn.ISOWEEKNUM($K526)))","v":""},null,null,null,null,null,null,null,null,null,null,null,null,null,null,null,null,null,null,null,null,null,null,null,null,null,null,{"$f":"IF($K526>0,$K526,\"\")","v":""},{"$f":"IF($L526>0,MAX($L526,$P526,$Q526),\"\")","v":""}]
[{"$f":"IF(K527=\"\",\"\",CONCATENATE(YEAR($K527),\"_S\",_xlfn.ISOWEEKNUM($K527)))","v":""},null,null,null,null,null,null,null,null,null,null,null,null,null,null,null,null,null,null,null,null,null,null,null,null,null,null,{"$f":"IF($K527>0,$K527,\"\")","v":""},{"$f":"IF($L527>0,MAX($L527,$P527,$Q527),\"\")","v":""}]
[{"$f":"IF(K528=\"\",\"\",CONCATENATE(YEAR($K528),\"_S\",_xlfn.ISOWEEKNUM($K528)))","v":""},null,null,null,null,null,null,null,null,null,null,null,null,null,null,null,null,null,null,null,null,null,null,null,null,null,null,{"$f":"IF($K528>0,$K528,\"\")","v":""},{"$f":"IF($L528>0,MAX($L528,$P528,$Q528),\"\")","v":""}]
[{"$f":"IF(K529=\"\",\"\",CONCATENATE(YEAR($K529),\"_S\",_xlfn.ISOWEEKNUM($K529)))","v":""},null,null,null,null,null,null,null,null,null,null,null,null,null,null,null,null,null,null,null,null,null,null,null,null,null,null,{"$f":"IF($K529>0,$K529,\"\")","v":""},{"$f":"IF($L529>0,MAX($L529,$P529,$Q529),\"\")","v":""}]
[{"$f":"IF(K530=\"\",\"\",CONCATENATE(YEAR($K530),\"_S\",_xlfn.ISOWEEKNUM($K530)))","v":""},null,null,null,null,null,null,null,null,null,null,null,null,null,null,null,null,null,null,null,null,null,null,null,null,null,null,{"$f":"IF($K530>0,$K530,\"\")","v":""},{"$f":"IF($L530>0,MAX($L530,$P530,$Q530),\"\")","v":""}]
[{"$f":"IF(K531=\"\",\"\",CONCATENATE(YEAR($K531),\"_S\",_xlfn.ISOWEEKNUM($K531)))","v":""},null,null,null,null,null,null,null,null,null,null,null,null,null,null,null,null,null,null,null,null,null,null,null,null,null,null,{"$f":"IF($K531>0,$K531,\"\")","v":""},{"$f":"IF($L531>0,MAX($L531,$P531,$Q531),\"\")","v":""}]
[{"$f":"IF(K532=\"\",\"\",CONCATENATE(YEAR($K532),\"_S\",_xlfn.ISOWEEKNUM($K532)))","v":""},null,null,null,null,null,null,null,null,null,null,null,null,null,null,null,null,null,null,null,null,null,null,null,null,null,null,{"$f":"IF($K532>0,$K532,\"\")","v":""},{"$f":"IF($L532>0,MAX($L532,$P532,$Q532),\"\")","v":""}]
[{"$f":"IF(K533=\"\",\"\",CONCATENATE(YEAR($K533),\"_S\",_xlfn.ISOWEEKNUM($K533)))","v":""},null,null,null,null,null,null,null,null,null,null,null,null,null,null,null,null,null,null,null,null,null,null,null,null,null,null,{"$f":"IF($K533>0,$K533,\"\")","v":""},{"$f":"IF($L533>0,MAX($L533,$P533,$Q533),\"\")","v":""}]
[{"$f":"IF(K534=\"\",\"\",CONCATENATE(YEAR($K534),\"_S\",_xlfn.ISOWEEKNUM($K534)))","v":""},null,null,null,null,null,null,null,null,null,null,null,null,null,null,null,null,null,null,null,null,null,null,null,null,null,null,{"$f":"IF($K534>0,$K534,\"\")","v":""},{"$f":"IF($L534>0,MAX($L534,$P534,$Q534),\"\")","v":""}]
[{"$f":"IF(K535=\"\",\"\",CONCATENATE(YEAR($K535),\"_S\",_xlfn.ISOWEEKNUM($K535)))","v":""},null,null,null,null,null,null,null,null,null,null,null,null,null,null,null,null,null,null,null,null,null,null,null,null,null,null,{"$f":"IF($K535>0,$K535,\"\")","v":""},{"$f":"IF($L535>0,MAX($L535,$P535,$Q535),\"\")","v":""}]
[{"$f":"IF(K536=\"\",\"\",CONCATENATE(YEAR($K536),\"_S\",_xlfn.ISOWEEKNUM($K536)))","v":""},null,null,null,null,null,null,null,null,null,null,null,null,null,null,null,null,null,null,null,null,null,null,null,null,null,null,{"$f":"IF($K536>0,$K536,\"\")","v":""},{"$f":"IF($L536>0,MAX($L536,$P536,$Q536),\"\")","v":""}]
[{"$f":"IF(K537=\"\",\"\",CONCATENATE(YEAR($K537),\"_S\",_xlfn.ISOWEEKNUM($K537)))","v":""},null,null,null,null,null,null,null,null,null,null,null,null,null,null,null,null,null,null,null,null,null,null,null,null,null,null,{"$f":"IF($K537>0,$K537,\"\")","v":""},{"$f":"IF($L537>0,MAX($L537,$P537,$Q537),\"\")","v":""}]
[{"$f":"IF(K538=\"\",\"\",CONCATENATE(YEAR($K538),\"_S\",_xlfn.ISOWEEKNUM($K538)))","v":""},null,null,null,null,null,null,null,null,null,null,null,null,null,null,null,null,null,null,null,null,null,null,null,null,null,null,{"$f":"IF($K538>0,$K538,\"\")","v":""},{"$f":"IF($L538>0,MAX($L538,$P538,$Q538),\"\")","v":""}]
[{"$f":"IF(K539=\"\",\"\",CONCATENATE(YEAR($K539),\"_S\",_xlfn.ISOWEEKNUM($K539)))","v":""},null,null,null,null,null,null,null,null,null,null,null,null,null,null,null,null,null,null,null,null,null,null,null,null,null,null,{"$f":"IF($K539>0,$K539,\"\")","v":""},{"$f":"IF($L539>0,MAX($L539,$P539,$Q539),\"\")","v":""}]
[{"$f":"IF(K540=\"\",\"\",CONCATENATE(YEAR($K540),\"_S\",_xlfn.ISOWEEKNUM($K540)))","v":""},null,null,null,null,null,null,null,null,null,null,null,null,null,null,null,null,null,null,null,null,null,null,null,null,null,null,{"$f":"IF($K540>0,$K540,\"\")","v":""},{"$f":"IF($L540>0,MAX($L540,$P540,$Q540),\"\")","v":""}]
[{"$f":"IF(K541=\"\",\"\",CONCATENATE(YEAR($K541),\"_S\",_xlfn.ISOWEEKNUM($K541)))","v":""},null,null,null,null,null,null,null,null,null,null,null,null,null,null,null,null,null,null,null,null,null,null,null,null,null,null,{"$f":"IF($K541>0,$K541,\"\")","v":""},{"$f":"IF($L541>0,MAX($L541,$P541,$Q541),\"\")","v":""}]
[{"$f":"IF(K542=\"\",\"\",CONCATENATE(YEAR($K542),\"_S\",_xlfn.ISOWEEKNUM($K542)))","v":""},null,null,null,null,null,null,null,null,null,null,null,null,null,null,null,null,null,null,null,null,null,null,null,null,null,null,{"$f":"IF($K542>0,$K542,\"\")","v":""},{"$f":"IF($L542>0,MAX($L542,$P542,$Q542),\"\")","v":""}]
[{"$f":"IF(K543=\"\",\"\",CONCATENATE(YEAR($K543),\"_S\",_xlfn.ISOWEEKNUM($K543)))","v":""},null,null,null,null,null,null,null,null,null,null,null,null,null,null,null,null,null,null,null,null,null,null,null,null,null,null,{"$f":"IF($K543>0,$K543,\"\")","v":""},{"$f":"IF($L543>0,MAX($L543,$P543,$Q543),\"\")","v":""}]
[{"$f":"IF(K544=\"\",\"\",CONCATENATE(YEAR($K544),\"_S\",_xlfn.ISOWEEKNUM($K544)))","v":""},null,null,null,null,null,null,null,null,null,null,null,null,null,null,null,null,null,null,null,null,null,null,null,null,null,null,{"$f":"IF($K544>0,$K544,\"\")","v":""},{"$f":"IF($L544>0,MAX($L544,$P544,$Q544),\"\")","v":""}]
[{"$f":"IF(K545=\"\",\"\",CONCATENATE(YEAR($K545),\"_S\",_xlfn.ISOWEEKNUM($K545)))","v":""},null,null,null,null,null,null,null,null,null,null,null,null,null,null,null,null,null,null,null,null,null,null,null,null,null,null,{"$f":"IF($K545>0,$K545,\"\")","v":""},{"$f":"IF($L545>0,MAX($L545,$P545,$Q545),\"\")","v":""}]
[{"$f":"IF(K546=\"\",\"\",CONCATENATE(YEAR($K546),\"_S\",_xlfn.ISOWEEKNUM($K546)))","v":""},null,null,null,null,null,null,null,null,null,null,null,null,null,null,null,null,null,null,null,null,null,null,null,null,null,null,{"$f":"IF($K546>0,$K546,\"\")","v":""},{"$f":"IF($L546>0,MAX($L546,$P546,$Q546),\"\")","v":""}]
[{"$f":"IF(K547=\"\",\"\",CONCATENATE(YEAR($K547),\"_S\",_xlfn.ISOWEEKNUM($K547)))","v":""},null,null,null,null,null,null,null,null,null,null,null,null,null,null,null,null,null,null,null,null,null,null,null,null,null,null,{"$f":"IF($K547>0,$K547,\"\")","v":""},{"$f":"IF($L547>0,MAX($L547,$P547,$Q547),\"\")","v":""}]
[{"$f":"IF(K548=\"\",\"\",CONCATENATE(YEAR($K548),\"_S\",_xlfn.ISOWEEKNUM($K548)))","v":""},null,null,null,null,null,null,null,null,null,null,null,null,null,null,null,null,null,null,null,null,null,null,null,null,null,null,{"$f":"IF($K548>0,$K548,\"\")","v":""},{"$f":"IF($L548>0,MAX($L548,$P548,$Q548),\"\")","v":""}]
[{"$f":"IF(K549=\"\",\"\",CONCATENATE(YEAR($K549),\"_S\",_xlfn.ISOWEEKNUM($K549)))","v":""},null,null,null,null,null,null,null,null,null,null,null,null,null,null,null,null,null,null,null,null,null,null,null,null,null,null,{"$f":"IF($K549>0,$K549,\"\")","v":""},{"$f":"IF($L549>0,MAX($L549,$P549,$Q549),\"\")","v":""}]
[{"$f":"IF(K550=\"\",\"\",CONCATENATE(YEAR($K550),\"_S\",_xlfn.ISOWEEKNUM($K550)))","v":""},null,null,null,null,null,null,null,null,null,null,null,null,null,null,null,null,null,null,null,null,null,null,null,null,null,null,{"$f":"IF($K550>0,$K550,\"\")","v":""},{"$f":"IF($L550>0,MAX($L550,$P550,$Q550),\"\")","v":""}]
[{"$f":"IF(K551=\"\",\"\",CONCATENATE(YEAR($K551),\"_S\",_xlfn.ISOWEEKNUM($K551)))","v":""},null,null,null,null,null,null,null,null,null,null,null,null,null,null,null,null,null,null,null,null,null,null,null,null,null,null,{"$f":"IF($K551>0,$K551,\"\")","v":""},{"$f":"IF($L551>0,MAX($L551,$P551,$Q551),\"\")","v":""}]
[{"$f":"IF(K552=\"\",\"\",CONCATENATE(YEAR($K552),\"_S\",_xlfn.ISOWEEKNUM($K552)))","v":""},null,null,null,null,null,null,null,null,null,null,null,null,null,null,null,null,null,null,null,null,null,null,null,null,null,null,{"$f":"IF($K552>0,$K552,\"\")","v":""},{"$f":"IF($L552>0,MAX($L552,$P552,$Q552),\"\")","v":""}]
[{"$f":"IF(K553=\"\",\"\",CONCATENATE(YEAR($K553),\"_S\",_xlfn.ISOWEEKNUM($K553)))","v":""},null,null,null,null,null,null,null,null,null,null,null,null,null,null,null,null,null,null,null,null,null,null,null,null,null,null,{"$f":"IF($K553>0,$K553,\"\")","v":""},{"$f":"IF($L553>0,MAX($L553,$P553,$Q553),\"\")","v":""}]
[{"$f":"IF(K554=\"\",\"\",CONCATENATE(YEAR($K554),\"_S\",_xlfn.ISOWEEKNUM($K554)))","v":""},null,null,null,null,null,null,null,null,null,null,null,null,null,null,null,null,null,null,null,null,null,null,null,null,null,null,{"$f":"IF($K554>0,$K554,\"\")","v":""},{"$f":"IF($L554>0,MAX($L554,$P554,$Q554),\"\")","v":""}]
[{"$f":"IF(K555=\"\",\"\",CONCATENATE(YEAR($K555),\"_S\",_xlfn.ISOWEEKNUM($K555)))","v":""},null,null,null,null,null,null,null,null,null,null,null,null,null,null,null,null,null,null,null,null,null,null,null,null,null,null,{"$f":"IF($K555>0,$K555,\"\")","v":""},{"$f":"IF($L555>0,MAX($L555,$P555,$Q555),\"\")","v":""}]
[{"$f":"IF(K556=\"\",\"\",CONCATENATE(YEAR($K556),\"_S\",_xlfn.ISOWEEKNUM($K556)))","v":""},null,null,null,null,null,null,null,null,null,null,null,null,null,null,null,null,null,null,null,null,null,null,null,null,null,null,{"$f":"IF($K556>0,$K556,\"\")","v":""},{"$f":"IF($L556>0,MAX($L556,$P556,$Q556),\"\")","v":""}]
[{"$f":"IF(K557=\"\",\"\",CONCATENATE(YEAR($K557),\"_S\",_xlfn.ISOWEEKNUM($K557)))","v":""},null,null,null,null,null,null,null,null,null,null,null,null,null,null,null,null,null,null,null,null,null,null,null,null,null,null,{"$f":"IF($K557>0,$K557,\"\")","v":""},{"$f":"IF($L557>0,MAX($L557,$P557,$Q557),\"\")","v":""}]
[{"$f":"IF(K558=\"\",\"\",CONCATENATE(YEAR($K558),\"_S\",_xlfn.ISOWEEKNUM($K558)))","v":""},null,null,null,null,null,null,null,null,null,null,null,null,null,null,null,null,null,null,null,null,null,null,null,null,null,null,{"$f":"IF($K558>0,$K558,\"\")","v":""},{"$f":"IF($L558>0,MAX($L558,$P558,$Q558),\"\")","v":""}]
[{"$f":"IF(K559=\"\",\"\",CONCATENATE(YEAR($K559),\"_S\",_xlfn.ISOWEEKNUM($K559)))","v":""},null,null,null,null,null,null,null,null,null,null,null,null,null,null,null,null,null,null,null,null,null,null,null,null,null,null,{"$f":"IF($K559>0,$K559,\"\")","v":""},{"$f":"IF($L559>0,MAX($L559,$P559,$Q559),\"\")","v":""}]
[{"$f":"IF(K560=\"\",\"\",CONCATENATE(YEAR($K560),\"_S\",_xlfn.ISOWEEKNUM($K560)))","v":""},null,null,null,null,null,null,null,null,null,null,null,null,null,null,null,null,null,null,null,null,null,null,null,null,null,null,{"$f":"IF($K560>0,$K560,\"\")","v":""},{"$f":"IF($L560>0,MAX($L560,$P560,$Q560),\"\")","v":""}]
[{"$f":"IF(K561=\"\",\"\",CONCATENATE(YEAR($K561),\"_S\",_xlfn.ISOWEEKNUM($K561)))","v":""},null,null,null,null,null,null,null,null,null,null,null,null,null,null,null,null,null,null,null,null,null,null,null,null,null,null,{"$f":"IF($K561>0,$K561,\"\")","v":""},{"$f":"IF($L561>0,MAX($L561,$P561,$Q561),\"\")","v":""}]
[{"$f":"IF(K562=\"\",\"\",CONCATENATE(YEAR($K562),\"_S\",_xlfn.ISOWEEKNUM($K562)))","v":""},null,null,null,null,null,null,null,null,null,null,null,null,null,null,null,null,null,null,null,null,null,null,null,null,null,null,{"$f":"IF($K562>0,$K562,\"\")","v":""},{"$f":"IF($L562>0,MAX($L562,$P562,$Q562),\"\")","v":""}]
[{"$f":"IF(K563=\"\",\"\",CONCATENATE(YEAR($K563),\"_S\",_xlfn.ISOWEEKNUM($K563)))","v":""},null,null,null,null,null,null,null,null,null,null,null,null,null,null,null,null,null,null,null,null,null,null,null,null,null,null,{"$f":"IF($K563>0,$K563,\"\")","v":""},{"$f":"IF($L563>0,MAX($L563,$P563,$Q563),\"\")","v":""}]
[{"$f":"IF(K564=\"\",\"\",CONCATENATE(YEAR($K564),\"_S\",_xlfn.ISOWEEKNUM($K564)))","v":""},null,null,null,null,null,null,null,null,null,null,null,null,null,null,null,null,null,null,null,null,null,null,null,null,null,null,{"$f":"IF($K564>0,$K564,\"\")","v":""},{"$f":"IF($L564>0,MAX($L564,$P564,$Q564),\"\")","v":""}]
[{"$f":"IF(K565=\"\",\"\",CONCATENATE(YEAR($K565),\"_S\",_xlfn.ISOWEEKNUM($K565)))","v":""},null,null,null,null,null,null,null,null,null,null,null,null,null,null,null,null,null,null,null,null,null,null,null,null,null,null,{"$f":"IF($K565>0,$K565,\"\")","v":""},{"$f":"IF($L565>0,MAX($L565,$P565,$Q565),\"\")","v":""}]
[{"$f":"IF(K566=\"\",\"\",CONCATENATE(YEAR($K566),\"_S\",_xlfn.ISOWEEKNUM($K566)))","v":""},null,null,null,null,null,null,null,null,null,null,null,null,null,null,null,null,null,null,null,null,null,null,null,null,null,null,{"$f":"IF($K566>0,$K566,\"\")","v":""},{"$f":"IF($L566>0,MAX($L566,$P566,$Q566),\"\")","v":""}]
[{"$f":"IF(K567=\"\",\"\",CONCATENATE(YEAR($K567),\"_S\",_xlfn.ISOWEEKNUM($K567)))","v":""},null,null,null,null,null,null,null,null,null,null,null,null,null,null,null,null,null,null,null,null,null,null,null,null,null,null,{"$f":"IF($K567>0,$K567,\"\")","v":""},{"$f":"IF($L567>0,MAX($L567,$P567,$Q567),\"\")","v":""}]
[{"$f":"IF(K568=\"\",\"\",CONCATENATE(YEAR($K568),\"_S\",_xlfn.ISOWEEKNUM($K568)))","v":""},null,null,null,null,null,null,null,null,null,null,null,null,null,null,null,null,null,null,null,null,null,null,null,null,null,null,{"$f":"IF($K568>0,$K568,\"\")","v":""},{"$f":"IF($L568>0,MAX($L568,$P568,$Q568),\"\")","v":""}]
[{"$f":"IF(K569=\"\",\"\",CONCATENATE(YEAR($K569),\"_S\",_xlfn.ISOWEEKNUM($K569)))","v":""},null,null,null,null,null,null,null,null,null,null,null,null,null,null,null,null,null,null,null,null,null,null,null,null,null,null,{"$f":"IF($K569>0,$K569,\"\")","v":""},{"$f":"IF($L569>0,MAX($L569,$P569,$Q569),\"\")","v":""}]
[{"$f":"IF(K570=\"\",\"\",CONCATENATE(YEAR($K570),\"_S\",_xlfn.ISOWEEKNUM($K570)))","v":""},null,null,null,null,null,null,null,null,null,null,null,null,null,null,null,null,null,null,null,null,null,null,null,null,null,null,{"$f":"IF($K570>0,$K570,\"\")","v":""},{"$f":"IF($L570>0,MAX($L570,$P570,$Q570),\"\")","v":""}]
[{"$f":"IF(K571=\"\",\"\",CONCATENATE(YEAR($K571),\"_S\",_xlfn.ISOWEEKNUM($K571)))","v":""},null,null,null,null,null,null,null,null,null,null,null,null,null,null,null,null,null,null,null,null,null,null,null,null,null,null,{"$f":"IF($K571>0,$K571,\"\")","v":""},{"$f":"IF($L571>0,MAX($L571,$P571,$Q571),\"\")","v":""}]
[{"$f":"IF(K572=\"\",\"\",CONCATENATE(YEAR($K572),\"_S\",_xlfn.ISOWEEKNUM($K572)))","v":""},null,null,null,null,null,null,null,null,null,null,null,null,null,null,null,null,null,null,null,null,null,null,null,null,null,null,{"$f":"IF($K572>0,$K572,\"\")","v":""},{"$f":"IF($L572>0,MAX($L572,$P572,$Q572),\"\")","v":""}]
[{"$f":"IF(K573=\"\",\"\",CONCATENATE(YEAR($K573),\"_S\",_xlfn.ISOWEEKNUM($K573)))","v":""},null,null,null,null,null,null,null,null,null,null,null,null,null,null,null,null,null,null,null,null,null,null,null,null,null,null,{"$f":"IF($K573>0,$K573,\"\")","v":""},{"$f":"IF($L573>0,MAX($L573,$P573,$Q573),\"\")","v":""}]
[{"$f":"IF(K574=\"\",\"\",CONCATENATE(YEAR($K574),\"_S\",_xlfn.ISOWEEKNUM($K574)))","v":""},null,null,null,null,null,null,null,null,null,null,null,null,null,null,null,null,null,null,null,null,null,null,null,null,null,null,{"$f":"IF($K574>0,$K574,\"\")","v":""},{"$f":"IF($L574>0,MAX($L574,$P574,$Q574),\"\")","v":""}]
[{"$f":"IF(K575=\"\",\"\",CONCATENATE(YEAR($K575),\"_S\",_xlfn.ISOWEEKNUM($K575)))","v":""},null,null,null,null,null,null,null,null,null,null,null,null,null,null,null,null,null,null,null,null,null,null,null,null,null,null,{"$f":"IF($K575>0,$K575,\"\")","v":""},{"$f":"IF($L575>0,MAX($L575,$P575,$Q575),\"\")","v":""}]
[{"$f":"IF(K576=\"\",\"\",CONCATENATE(YEAR($K576),\"_S\",_xlfn.ISOWEEKNUM($K576)))","v":""},null,null,null,null,null,null,null,null,null,null,null,null,null,null,null,null,null,null,null,null,null,null,null,null,null,null,{"$f":"IF($K576>0,$K576,\"\")","v":""},{"$f":"IF($L576>0,MAX($L576,$P576,$Q576),\"\")","v":""}]
[{"$f":"IF(K577=\"\",\"\",CONCATENATE(YEAR($K577),\"_S\",_xlfn.ISOWEEKNUM($K577)))","v":""},null,null,null,null,null,null,null,null,null,null,null,null,null,null,null,null,null,null,null,null,null,null,null,null,null,null,{"$f":"IF($K577>0,$K577,\"\")","v":""},{"$f":"IF($L577>0,MAX($L577,$P577,$Q577),\"\")","v":""}]
[{"$f":"IF(K578=\"\",\"\",CONCATENATE(YEAR($K578),\"_S\",_xlfn.ISOWEEKNUM($K578)))","v":""},null,null,null,null,null,null,null,null,null,null,null,null,null,null,null,null,null,null,null,null,null,null,null,null,null,null,{"$f":"IF($K578>0,$K578,\"\")","v":""},{"$f":"IF($L578>0,MAX($L578,$P578,$Q578),\"\")","v":""}]
[{"$f":"IF(K579=\"\",\"\",CONCATENATE(YEAR($K579),\"_S\",_xlfn.ISOWEEKNUM($K579)))","v":""},null,null,null,null,null,null,null,null,null,null,null,null,null,null,null,null,null,null,null,null,null,null,null,null,null,null,{"$f":"IF($K579>0,$K579,\"\")","v":""},{"$f":"IF($L579>0,MAX($L579,$P579,$Q579),\"\")","v":""}]
[{"$f":"IF(K580=\"\",\"\",CONCATENATE(YEAR($K580),\"_S\",_xlfn.ISOWEEKNUM($K580)))","v":""},null,null,null,null,null,null,null,null,null,null,null,null,null,null,null,null,null,null,null,null,null,null,null,null,null,null,{"$f":"IF($K580>0,$K580,\"\")","v":""},{"$f":"IF($L580>0,MAX($L580,$P580,$Q580),\"\")","v":""}]
[{"$f":"IF(K581=\"\",\"\",CONCATENATE(YEAR($K581),\"_S\",_xlfn.ISOWEEKNUM($K581)))","v":""},null,null,null,null,null,null,null,null,null,null,null,null,null,null,null,null,null,null,null,null,null,null,null,null,null,null,{"$f":"IF($K581>0,$K581,\"\")","v":""},{"$f":"IF($L581>0,MAX($L581,$P581,$Q581),\"\")","v":""}]
[{"$f":"IF(K582=\"\",\"\",CONCATENATE(YEAR($K582),\"_S\",_xlfn.ISOWEEKNUM($K582)))","v":""},null,null,null,null,null,null,null,null,null,null,null,null,null,null,null,null,null,null,null,null,null,null,null,null,null,null,{"$f":"IF($K582>0,$K582,\"\")","v":""},{"$f":"IF($L582>0,MAX($L582,$P582,$Q582),\"\")","v":""}]
[{"$f":"IF(K583=\"\",\"\",CONCATENATE(YEAR($K583),\"_S\",_xlfn.ISOWEEKNUM($K583)))","v":""},null,null,null,null,null,null,null,null,null,null,null,null,null,null,null,null,null,null,null,null,null,null,null,null,null,null,{"$f":"IF($K583>0,$K583,\"\")","v":""},{"$f":"IF($L583>0,MAX($L583,$P583,$Q583),\"\")","v":""}]
[{"$f":"IF(K584=\"\",\"\",CONCATENATE(YEAR($K584),\"_S\",_xlfn.ISOWEEKNUM($K584)))","v":""},null,null,null,null,null,null,null,null,null,null,null,null,null,null,null,null,null,null,null,null,null,null,null,null,null,null,{"$f":"IF($K584>0,$K584,\"\")","v":""},{"$f":"IF($L584>0,MAX($L584,$P584,$Q584),\"\")","v":""}]
[{"$f":"IF(K585=\"\",\"\",CONCATENATE(YEAR($K585),\"_S\",_xlfn.ISOWEEKNUM($K585)))","v":""},null,null,null,null,null,null,null,null,null,null,null,null,null,null,null,null,null,null,null,null,null,null,null,null,null,null,{"$f":"IF($K585>0,$K585,\"\")","v":""},{"$f":"IF($L585>0,MAX($L585,$P585,$Q585),\"\")","v":""}]
[{"$f":"IF(K586=\"\",\"\",CONCATENATE(YEAR($K586),\"_S\",_xlfn.ISOWEEKNUM($K586)))","v":""},null,null,null,null,null,null,null,null,null,null,null,null,null,null,null,null,null,null,null,null,null,null,null,null,null,null,{"$f":"IF($K586>0,$K586,\"\")","v":""},{"$f":"IF($L586>0,MAX($L586,$P586,$Q586),\"\")","v":""}]
[{"$f":"IF(K587=\"\",\"\",CONCATENATE(YEAR($K587),\"_S\",_xlfn.ISOWEEKNUM($K587)))","v":""},null,null,null,null,null,null,null,null,null,null,null,null,null,null,null,null,null,null,null,null,null,null,null,null,null,null,{"$f":"IF($K587>0,$K587,\"\")","v":""},{"$f":"IF($L587>0,MAX($L587,$P587,$Q587),\"\")","v":""}]
[{"$f":"IF(K588=\"\",\"\",CONCATENATE(YEAR($K588),\"_S\",_xlfn.ISOWEEKNUM($K588)))","v":""},null,null,null,null,null,null,null,null,null,null,null,null,null,null,null,null,null,null,null,null,null,null,null,null,null,null,{"$f":"IF($K588>0,$K588,\"\")","v":""},{"$f":"IF($L588>0,MAX($L588,$P588,$Q588),\"\")","v":""}]
[{"$f":"IF(K589=\"\",\"\",CONCATENATE(YEAR($K589),\"_S\",_xlfn.ISOWEEKNUM($K589)))","v":""},null,null,null,null,null,null,null,null,null,null,null,null,null,null,null,null,null,null,null,null,null,null,null,null,null,null,{"$f":"IF($K589>0,$K589,\"\")","v":""},{"$f":"IF($L589>0,MAX($L589,$P589,$Q589),\"\")","v":""}]
[{"$f":"IF(K590=\"\",\"\",CONCATENATE(YEAR($K590),\"_S\",_xlfn.ISOWEEKNUM($K590)))","v":""},null,null,null,null,null,null,null,null,null,null,null,null,null,null,null,null,null,null,null,null,null,null,null,null,null,null,{"$f":"IF($K590>0,$K590,\"\")","v":""},{"$f":"IF($L590>0,MAX($L590,$P590,$Q590),\"\")","v":""}]
[{"$f":"IF(K591=\"\",\"\",CONCATENATE(YEAR($K591),\"_S\",_xlfn.ISOWEEKNUM($K591)))","v":""},null,null,null,null,null,null,null,null,null,null,null,null,null,null,null,null,null,null,null,null,null,null,null,null,null,null,{"$f":"IF($K591>0,$K591,\"\")","v":""},{"$f":"IF($L591>0,MAX($L591,$P591,$Q591),\"\")","v":""}]
[{"$f":"IF(K592=\"\",\"\",CONCATENATE(YEAR($K592),\"_S\",_xlfn.ISOWEEKNUM($K592)))","v":""},null,null,null,null,null,null,null,null,null,null,null,null,null,null,null,null,null,null,null,null,null,null,null,null,null,null,{"$f":"IF($K592>0,$K592,\"\")","v":""},{"$f":"IF($L592>0,MAX($L592,$P592,$Q592),\"\")","v":""}]
[{"$f":"IF(K593=\"\",\"\",CONCATENATE(YEAR($K593),\"_S\",_xlfn.ISOWEEKNUM($K593)))","v":""},null,null,null,null,null,null,null,null,null,null,null,null,null,null,null,null,null,null,null,null,null,null,null,null,null,null,{"$f":"IF($K593>0,$K593,\"\")","v":""},{"$f":"IF($L593>0,MAX($L593,$P593,$Q593),\"\")","v":""}]
[{"$f":"IF(K594=\"\",\"\",CONCATENATE(YEAR($K594),\"_S\",_xlfn.ISOWEEKNUM($K594)))","v":""},null,null,null,null,null,null,null,null,null,null,null,null,null,null,null,null,null,null,null,null,null,null,null,null,null,null,{"$f":"IF($K594>0,$K594,\"\")","v":""},{"$f":"IF($L594>0,MAX($L594,$P594,$Q594),\"\")","v":""}]
[{"$f":"IF(K595=\"\",\"\",CONCATENATE(YEAR($K595),\"_S\",_xlfn.ISOWEEKNUM($K595)))","v":""},null,null,null,null,null,null,null,null,null,null,null,null,null,null,null,null,null,null,null,null,null,null,null,null,null,null,{"$f":"IF($K595>0,$K595,\"\")","v":""},{"$f":"IF($L595>0,MAX($L595,$P595,$Q595),\"\")","v":""}]
[{"$f":"IF(K596=\"\",\"\",CONCATENATE(YEAR($K596),\"_S\",_xlfn.ISOWEEKNUM($K596)))","v":""},null,null,null,null,null,null,null,null,null,null,null,null,null,null,null,null,null,null,null,null,null,null,null,null,null,null,{"$f":"IF($K596>0,$K596,\"\")","v":""},{"$f":"IF($L596>0,MAX($L596,$P596,$Q596),\"\")","v":""}]
[{"$f":"IF(K597=\"\",\"\",CONCATENATE(YEAR($K597),\"_S\",_xlfn.ISOWEEKNUM($K597)))","v":""},null,null,null,null,null,null,null,null,null,null,null,null,null,null,null,null,null,null,null,null,null,null,null,null,null,null,{"$f":"IF($K597>0,$K597,\"\")","v":""},{"$f":"IF($L597>0,MAX($L597,$P597,$Q597),\"\")","v":""}]
[{"$f":"IF(K598=\"\",\"\",CONCATENATE(YEAR($K598),\"_S\",_xlfn.ISOWEEKNUM($K598)))","v":""},null,null,null,null,null,null,null,null,null,null,null,null,null,null,null,null,null,null,null,null,null,null,null,null,null,null,{"$f":"IF($K598>0,$K598,\"\")","v":""},{"$f":"IF($L598>0,MAX($L598,$P598,$Q598),\"\")","v":""}]
[{"$f":"IF(K599=\"\",\"\",CONCATENATE(YEAR($K599),\"_S\",_xlfn.ISOWEEKNUM($K599)))","v":""},null,null,null,null,null,null,null,null,null,null,null,null,null,null,null,null,null,null,null,null,null,null,null,null,null,null,{"$f":"IF($K599>0,$K599,\"\")","v":""},{"$f":"IF($L599>0,MAX($L599,$P599,$Q599),\"\")","v":""}]
[{"$f":"IF(K600=\"\",\"\",CONCATENATE(YEAR($K600),\"_S\",_xlfn.ISOWEEKNUM($K600)))","v":""},null,null,null,null,null,null,null,null,null,null,null,null,null,null,null,null,null,null,null,null,null,null,null,null,null,null,{"$f":"IF($K600>0,$K600,\"\")","v":""},{"$f":"IF($L600>0,MAX($L600,$P600,$Q600),\"\")","v":""}]
[{"$f":"IF(K601=\"\",\"\",CONCATENATE(YEAR($K601),\"_S\",_xlfn.ISOWEEKNUM($K601)))","v":""},null,null,null,null,null,null,null,null,null,null,null,null,null,null,null,null,null,null,null,null,null,null,null,null,null,null,{"$f":"IF($K601>0,$K601,\"\")","v":""},{"$f":"IF($L601>0,MAX($L601,$P601,$Q601),\"\")","v":""}]
[{"$f":"IF(K602=\"\",\"\",CONCATENATE(YEAR($K602),\"_S\",_xlfn.ISOWEEKNUM($K602)))","v":""},null,null,null,null,null,null,null,null,null,null,null,null,null,null,null,null,null,null,null,null,null,null,null,null,null,null,{"$f":"IF($K602>0,$K602,\"\")","v":""},{"$f":"IF($L602>0,MAX($L602,$P602,$Q602),\"\")","v":""}]
[{"$f":"IF(K603=\"\",\"\",CONCATENATE(YEAR($K603),\"_S\",_xlfn.ISOWEEKNUM($K603)))","v":""},null,null,null,null,null,null,null,null,null,null,null,null,null,null,null,null,null,null,null,null,null,null,null,null,null,null,{"$f":"IF($K603>0,$K603,\"\")","v":""},{"$f":"IF($L603>0,MAX($L603,$P603,$Q603),\"\")","v":""}]
[{"$f":"IF(K604=\"\",\"\",CONCATENATE(YEAR($K604),\"_S\",_xlfn.ISOWEEKNUM($K604)))","v":""},null,null,null,null,null,null,null,null,null,null,null,null,null,null,null,null,null,null,null,null,null,null,null,null,null,null,{"$f":"IF($K604>0,$K604,\"\")","v":""},{"$f":"IF($L604>0,MAX($L604,$P604,$Q604),\"\")","v":""}]
[{"$f":"IF(K605=\"\",\"\",CONCATENATE(YEAR($K605),\"_S\",_xlfn.ISOWEEKNUM($K605)))","v":""},null,null,null,null,null,null,null,null,null,null,null,null,null,null,null,null,null,null,null,null,null,null,null,null,null,null,{"$f":"IF($K605>0,$K605,\"\")","v":""},{"$f":"IF($L605>0,MAX($L605,$P605,$Q605),\"\")","v":""}]
[{"$f":"IF(K606=\"\",\"\",CONCATENATE(YEAR($K606),\"_S\",_xlfn.ISOWEEKNUM($K606)))","v":""},null,null,null,null,null,null,null,null,null,null,null,null,null,null,null,null,null,null,null,null,null,null,null,null,null,null,{"$f":"IF($K606>0,$K606,\"\")","v":""},{"$f":"IF($L606>0,MAX($L606,$P606,$Q606),\"\")","v":""}]
[{"$f":"IF(K607=\"\",\"\",CONCATENATE(YEAR($K607),\"_S\",_xlfn.ISOWEEKNUM($K607)))","v":""},null,null,null,null,null,null,null,null,null,null,null,null,null,null,null,null,null,null,null,null,null,null,null,null,null,null,{"$f":"IF($K607>0,$K607,\"\")","v":""},{"$f":"IF($L607>0,MAX($L607,$P607,$Q607),\"\")","v":""}]
[{"$f":"IF(K608=\"\",\"\",CONCATENATE(YEAR($K608),\"_S\",_xlfn.ISOWEEKNUM($K608)))","v":""},null,null,null,null,null,null,null,null,null,null,null,null,null,null,null,null,null,null,null,null,null,null,null,null,null,null,{"$f":"IF($K608>0,$K608,\"\")","v":""},{"$f":"IF($L608>0,MAX($L608,$P608,$Q608),\"\")","v":""}]
[{"$f":"IF(K609=\"\",\"\",CONCATENATE(YEAR($K609),\"_S\",_xlfn.ISOWEEKNUM($K609)))","v":""},null,null,null,null,null,null,null,null,null,null,null,null,null,null,null,null,null,null,null,null,null,null,null,null,null,null,{"$f":"IF($K609>0,$K609,\"\")","v":""},{"$f":"IF($L609>0,MAX($L609,$P609,$Q609),\"\")","v":""}]
[{"$f":"IF(K610=\"\",\"\",CONCATENATE(YEAR($K610),\"_S\",_xlfn.ISOWEEKNUM($K610)))","v":""},null,null,null,null,null,null,null,null,null,null,null,null,null,null,null,null,null,null,null,null,null,null,null,null,null,null,{"$f":"IF($K610>0,$K610,\"\")","v":""},{"$f":"IF($L610>0,MAX($L610,$P610,$Q610),\"\")","v":""}]
[{"$f":"IF(K611=\"\",\"\",CONCATENATE(YEAR($K611),\"_S\",_xlfn.ISOWEEKNUM($K611)))","v":""},null,null,null,null,null,null,null,null,null,null,null,null,null,null,null,null,null,null,null,null,null,null,null,null,null,null,{"$f":"IF($K611>0,$K611,\"\")","v":""},{"$f":"IF($L611>0,MAX($L611,$P611,$Q611),\"\")","v":""}]
[{"$f":"IF(K612=\"\",\"\",CONCATENATE(YEAR($K612),\"_S\",_xlfn.ISOWEEKNUM($K612)))","v":""},null,null,null,null,null,null,null,null,null,null,null,null,null,null,null,null,null,null,null,null,null,null,null,null,null,null,{"$f":"IF($K612>0,$K612,\"\")","v":""},{"$f":"IF($L612>0,MAX($L612,$P612,$Q612),\"\")","v":""}]
[{"$f":"IF(K613=\"\",\"\",CONCATENATE(YEAR($K613),\"_S\",_xlfn.ISOWEEKNUM($K613)))","v":""},null,null,null,null,null,null,null,null,null,null,null,null,null,null,null,null,null,null,null,null,null,null,null,null,null,null,{"$f":"IF($K613>0,$K613,\"\")","v":""},{"$f":"IF($L613>0,MAX($L613,$P613,$Q613),\"\")","v":""}]
[{"$f":"IF(K614=\"\",\"\",CONCATENATE(YEAR($K614),\"_S\",_xlfn.ISOWEEKNUM($K614)))","v":""},null,null,null,null,null,null,null,null,null,null,null,null,null,null,null,null,null,null,null,null,null,null,null,null,null,null,{"$f":"IF($K614>0,$K614,\"\")","v":""},{"$f":"IF($L614>0,MAX($L614,$P614,$Q614),\"\")","v":""}]
[{"$f":"IF(K615=\"\",\"\",CONCATENATE(YEAR($K615),\"_S\",_xlfn.ISOWEEKNUM($K615)))","v":""},null,null,null,null,null,null,null,null,null,null,null,null,null,null,null,null,null,null,null,null,null,null,null,null,null,null,{"$f":"IF($K615>0,$K615,\"\")","v":""},{"$f":"IF($L615>0,MAX($L615,$P615,$Q615),\"\")","v":""}]
[{"$f":"IF(K616=\"\",\"\",CONCATENATE(YEAR($K616),\"_S\",_xlfn.ISOWEEKNUM($K616)))","v":""},null,null,null,null,null,null,null,null,null,null,null,null,null,null,null,null,null,null,null,null,null,null,null,null,null,null,{"$f":"IF($K616>0,$K616,\"\")","v":""},{"$f":"IF($L616>0,MAX($L616,$P616,$Q616),\"\")","v":""}]
[{"$f":"IF(K617=\"\",\"\",CONCATENATE(YEAR($K617),\"_S\",_xlfn.ISOWEEKNUM($K617)))","v":""},null,null,null,null,null,null,null,null,null,null,null,null,null,null,null,null,null,null,null,null,null,null,null,null,null,null,{"$f":"IF($K617>0,$K617,\"\")","v":""},{"$f":"IF($L617>0,MAX($L617,$P617,$Q617),\"\")","v":""}]
[{"$f":"IF(K618=\"\",\"\",CONCATENATE(YEAR($K618),\"_S\",_xlfn.ISOWEEKNUM($K618)))","v":""},null,null,null,null,null,null,null,null,null,null,null,null,null,null,null,null,null,null,null,null,null,null,null,null,null,null,{"$f":"IF($K618>0,$K618,\"\")","v":""},{"$f":"IF($L618>0,MAX($L618,$P618,$Q618),\"\")","v":""}]
[{"$f":"IF(K619=\"\",\"\",CONCATENATE(YEAR($K619),\"_S\",_xlfn.ISOWEEKNUM($K619)))","v":""},null,null,null,null,null,null,null,null,null,null,null,null,null,null,null,null,null,null,null,null,null,null,null,null,null,null,{"$f":"IF($K619>0,$K619,\"\")","v":""},{"$f":"IF($L619>0,MAX($L619,$P619,$Q619),\"\")","v":""}]
[{"$f":"IF(K620=\"\",\"\",CONCATENATE(YEAR($K620),\"_S\",_xlfn.ISOWEEKNUM($K620)))","v":""},null,null,null,null,null,null,null,null,null,null,null,null,null,null,null,null,null,null,null,null,null,null,null,null,null,null,{"$f":"IF($K620>0,$K620,\"\")","v":""},{"$f":"IF($L620>0,MAX($L620,$P620,$Q620),\"\")","v":""}]
[{"$f":"IF(K621=\"\",\"\",CONCATENATE(YEAR($K621),\"_S\",_xlfn.ISOWEEKNUM($K621)))","v":""},null,null,null,null,null,null,null,null,null,null,null,null,null,null,null,null,null,null,null,null,null,null,null,null,null,null,{"$f":"IF($K621>0,$K621,\"\")","v":""},{"$f":"IF($L621>0,MAX($L621,$P621,$Q621),\"\")","v":""}]
[{"$f":"IF(K622=\"\",\"\",CONCATENATE(YEAR($K622),\"_S\",_xlfn.ISOWEEKNUM($K622)))","v":""},null,null,null,null,null,null,null,null,null,null,null,null,null,null,null,null,null,null,null,null,null,null,null,null,null,null,{"$f":"IF($K622>0,$K622,\"\")","v":""},{"$f":"IF($L622>0,MAX($L622,$P622,$Q622),\"\")","v":""}]
[{"$f":"IF(K623=\"\",\"\",CONCATENATE(YEAR($K623),\"_S\",_xlfn.ISOWEEKNUM($K623)))","v":""},null,null,null,null,null,null,null,null,null,null,null,null,null,null,null,null,null,null,null,null,null,null,null,null,null,null,{"$f":"IF($K623>0,$K623,\"\")","v":""},{"$f":"IF($L623>0,MAX($L623,$P623,$Q623),\"\")","v":""}]
[{"$f":"IF(K624=\"\",\"\",CONCATENATE(YEAR($K624),\"_S\",_xlfn.ISOWEEKNUM($K624)))","v":""},null,null,null,null,null,null,null,null,null,null,null,null,null,null,null,null,null,null,null,null,null,null,null,null,null,null,{"$f":"IF($K624>0,$K624,\"\")","v":""},{"$f":"IF($L624>0,MAX($L624,$P624,$Q624),\"\")","v":""}]
[{"$f":"IF(K625=\"\",\"\",CONCATENATE(YEAR($K625),\"_S\",_xlfn.ISOWEEKNUM($K625)))","v":""},null,null,null,null,null,null,null,null,null,null,null,null,null,null,null,null,null,null,null,null,null,null,null,null,null,null,{"$f":"IF($K625>0,$K625,\"\")","v":""},{"$f":"IF($L625>0,MAX($L625,$P625,$Q625),\"\")","v":""}]
[{"$f":"IF(K626=\"\",\"\",CONCATENATE(YEAR($K626),\"_S\",_xlfn.ISOWEEKNUM($K626)))","v":""},null,null,null,null,null,null,null,null,null,null,null,null,null,null,null,null,null,null,null,null,null,null,null,null,null,null,{"$f":"IF($K626>0,$K626,\"\")","v":""},{"$f":"IF($L626>0,MAX($L626,$P626,$Q626),\"\")","v":""}]
[{"$f":"IF(K627=\"\",\"\",CONCATENATE(YEAR($K627),\"_S\",_xlfn.ISOWEEKNUM($K627)))","v":""},null,null,null,null,null,null,null,null,null,null,null,null,null,null,null,null,null,null,null,null,null,null,null,null,null,null,{"$f":"IF($K627>0,$K627,\"\")","v":""},{"$f":"IF($L627>0,MAX($L627,$P627,$Q627),\"\")","v":""}]
[{"$f":"IF(K628=\"\",\"\",CONCATENATE(YEAR($K628),\"_S\",_xlfn.ISOWEEKNUM($K628)))","v":""},null,null,null,null,null,null,null,null,null,null,null,null,null,null,null,null,null,null,null,null,null,null,null,null,null,null,{"$f":"IF($K628>0,$K628,\"\")","v":""},{"$f":"IF($L628>0,MAX($L628,$P628,$Q628),\"\")","v":""}]
[{"$f":"IF(K629=\"\",\"\",CONCATENATE(YEAR($K629),\"_S\",_xlfn.ISOWEEKNUM($K629)))","v":""},null,null,null,null,null,null,null,null,null,null,null,null,null,null,null,null,null,null,null,null,null,null,null,null,null,null,{"$f":"IF($K629>0,$K629,\"\")","v":""},{"$f":"IF($L629>0,MAX($L629,$P629,$Q629),\"\")","v":""}]
[{"$f":"IF(K630=\"\",\"\",CONCATENATE(YEAR($K630),\"_S\",_xlfn.ISOWEEKNUM($K630)))","v":""},null,null,null,null,null,null,null,null,null,null,null,null,null,null,null,null,null,null,null,null,null,null,null,null,null,null,{"$f":"IF($K630>0,$K630,\"\")","v":""},{"$f":"IF($L630>0,MAX($L630,$P630,$Q630),\"\")","v":""}]
[{"$f":"IF(K631=\"\",\"\",CONCATENATE(YEAR($K631),\"_S\",_xlfn.ISOWEEKNUM($K631)))","v":""},null,null,null,null,null,null,null,null,null,null,null,null,null,null,null,null,null,null,null,null,null,null,null,null,null,null,{"$f":"IF($K631>0,$K631,\"\")","v":""},{"$f":"IF($L631>0,MAX($L631,$P631,$Q631),\"\")","v":""}]
[{"$f":"IF(K632=\"\",\"\",CONCATENATE(YEAR($K632),\"_S\",_xlfn.ISOWEEKNUM($K632)))","v":""},null,null,null,null,null,null,null,null,null,null,null,null,null,null,null,null,null,null,null,null,null,null,null,null,null,null,{"$f":"IF($K632>0,$K632,\"\")","v":""},{"$f":"IF($L632>0,MAX($L632,$P632,$Q632),\"\")","v":""}]
[{"$f":"IF(K633=\"\",\"\",CONCATENATE(YEAR($K633),\"_S\",_xlfn.ISOWEEKNUM($K633)))","v":""},null,null,null,null,null,null,null,null,null,null,null,null,null,null,null,null,null,null,null,null,null,null,null,null,null,null,{"$f":"IF($K633>0,$K633,\"\")","v":""},{"$f":"IF($L633>0,MAX($L633,$P633,$Q633),\"\")","v":""}]
[{"$f":"IF(K634=\"\",\"\",CONCATENATE(YEAR($K634),\"_S\",_xlfn.ISOWEEKNUM($K634)))","v":""},null,null,null,null,null,null,null,null,null,null,null,null,null,null,null,null,null,null,null,null,null,null,null,null,null,null,{"$f":"IF($K634>0,$K634,\"\")","v":""},{"$f":"IF($L634>0,MAX($L634,$P634,$Q634),\"\")","v":""}]
[{"$f":"IF(K635=\"\",\"\",CONCATENATE(YEAR($K635),\"_S\",_xlfn.ISOWEEKNUM($K635)))","v":""},null,null,null,null,null,null,null,null,null,null,null,null,null,null,null,null,null,null,null,null,null,null,null,null,null,null,{"$f":"IF($K635>0,$K635,\"\")","v":""},{"$f":"IF($L635>0,MAX($L635,$P635,$Q635),\"\")","v":""}]
[{"$f":"IF(K636=\"\",\"\",CONCATENATE(YEAR($K636),\"_S\",_xlfn.ISOWEEKNUM($K636)))","v":""},null,null,null,null,null,null,null,null,null,null,null,null,null,null,null,null,null,null,null,null,null,null,null,null,null,null,{"$f":"IF($K636>0,$K636,\"\")","v":""},{"$f":"IF($L636>0,MAX($L636,$P636,$Q636),\"\")","v":""}]
[{"$f":"IF(K637=\"\",\"\",CONCATENATE(YEAR($K637),\"_S\",_xlfn.ISOWEEKNUM($K637)))","v":""},null,null,null,null,null,null,null,null,null,null,null,null,null,null,null,null,null,null,null,null,null,null,null,null,null,null,{"$f":"IF($K637>0,$K637,\"\")","v":""},{"$f":"IF($L637>0,MAX($L637,$P637,$Q637),\"\")","v":""}]
[{"$f":"IF(K638=\"\",\"\",CONCATENATE(YEAR($K638),\"_S\",_xlfn.ISOWEEKNUM($K638)))","v":""},null,null,null,null,null,null,null,null,null,null,null,null,null,null,null,null,null,null,null,null,null,null,null,null,null,null,{"$f":"IF($K638>0,$K638,\"\")","v":""},{"$f":"IF($L638>0,MAX($L638,$P638,$Q638),\"\")","v":""}]
[{"$f":"IF(K639=\"\",\"\",CONCATENATE(YEAR($K639),\"_S\",_xlfn.ISOWEEKNUM($K639)))","v":""},null,null,null,null,null,null,null,null,null,null,null,null,null,null,null,null,null,null,null,null,null,null,null,null,null,null,{"$f":"IF($K639>0,$K639,\"\")","v":""},{"$f":"IF($L639>0,MAX($L639,$P639,$Q639),\"\")","v":""}]
[{"$f":"IF(K640=\"\",\"\",CONCATENATE(YEAR($K640),\"_S\",_xlfn.ISOWEEKNUM($K640)))","v":""},null,null,null,null,null,null,null,null,null,null,null,null,null,null,null,null,null,null,null,null,null,null,null,null,null,null,{"$f":"IF($K640>0,$K640,\"\")","v":""},{"$f":"IF($L640>0,MAX($L640,$P640,$Q640),\"\")","v":""}]
[{"$f":"IF(K641=\"\",\"\",CONCATENATE(YEAR($K641),\"_S\",_xlfn.ISOWEEKNUM($K641)))","v":""},null,null,null,null,null,null,null,null,null,null,null,null,null,null,null,null,null,null,null,null,null,null,null,null,null,null,{"$f":"IF($K641>0,$K641,\"\")","v":""},{"$f":"IF($L641>0,MAX($L641,$P641,$Q641),\"\")","v":""}]
[{"$f":"IF(K642=\"\",\"\",CONCATENATE(YEAR($K642),\"_S\",_xlfn.ISOWEEKNUM($K642)))","v":""},null,null,null,null,null,null,null,null,null,null,null,null,null,null,null,null,null,null,null,null,null,null,null,null,null,null,{"$f":"IF($K642>0,$K642,\"\")","v":""},{"$f":"IF($L642>0,MAX($L642,$P642,$Q642),\"\")","v":""}]
[{"$f":"IF(K643=\"\",\"\",CONCATENATE(YEAR($K643),\"_S\",_xlfn.ISOWEEKNUM($K643)))","v":""},null,null,null,null,null,null,null,null,null,null,null,null,null,null,null,null,null,null,null,null,null,null,null,null,null,null,{"$f":"IF($K643>0,$K643,\"\")","v":""},{"$f":"IF($L643>0,MAX($L643,$P643,$Q643),\"\")","v":""}]
[{"$f":"IF(K644=\"\",\"\",CONCATENATE(YEAR($K644),\"_S\",_xlfn.ISOWEEKNUM($K644)))","v":""},null,null,null,null,null,null,null,null,null,null,null,null,null,null,null,null,null,null,null,null,null,null,null,null,null,null,{"$f":"IF($K644>0,$K644,\"\")","v":""},{"$f":"IF($L644>0,MAX($L644,$P644,$Q644),\"\")","v":""}]
[{"$f":"IF(K645=\"\",\"\",CONCATENATE(YEAR($K645),\"_S\",_xlfn.ISOWEEKNUM($K645)))","v":""},null,null,null,null,null,null,null,null,null,null,null,null,null,null,null,null,null,null,null,null,null,null,null,null,null,null,{"$f":"IF($K645>0,$K645,\"\")","v":""},{"$f":"IF($L645>0,MAX($L645,$P645,$Q645),\"\")","v":""}]
[{"$f":"IF(K646=\"\",\"\",CONCATENATE(YEAR($K646),\"_S\",_xlfn.ISOWEEKNUM($K646)))","v":""},null,null,null,null,null,null,null,null,null,null,null,null,null,null,null,null,null,null,null,null,null,null,null,null,null,null,{"$f":"IF($K646>0,$K646,\"\")","v":""},{"$f":"IF($L646>0,MAX($L646,$P646,$Q646),\"\")","v":""}]
[{"$f":"IF(K647=\"\",\"\",CONCATENATE(YEAR($K647),\"_S\",_xlfn.ISOWEEKNUM($K647)))","v":""},null,null,null,null,null,null,null,null,null,null,null,null,null,null,null,null,null,null,null,null,null,null,null,null,null,null,{"$f":"IF($K647>0,$K647,\"\")","v":""},{"$f":"IF($L647>0,MAX($L647,$P647,$Q647),\"\")","v":""}]
[{"$f":"IF(K648=\"\",\"\",CONCATENATE(YEAR($K648),\"_S\",_xlfn.ISOWEEKNUM($K648)))","v":""},null,null,null,null,null,null,null,null,null,null,null,null,null,null,null,null,null,null,null,null,null,null,null,null,null,null,{"$f":"IF($K648>0,$K648,\"\")","v":""},{"$f":"IF($L648>0,MAX($L648,$P648,$Q648),\"\")","v":""}]
[{"$f":"IF(K649=\"\",\"\",CONCATENATE(YEAR($K649),\"_S\",_xlfn.ISOWEEKNUM($K649)))","v":""},null,null,null,null,null,null,null,null,null,null,null,null,null,null,null,null,null,null,null,null,null,null,null,null,null,null,{"$f":"IF($K649>0,$K649,\"\")","v":""},{"$f":"IF($L649>0,MAX($L649,$P649,$Q649),\"\")","v":""}]
[{"$f":"IF(K650=\"\",\"\",CONCATENATE(YEAR($K650),\"_S\",_xlfn.ISOWEEKNUM($K650)))","v":""},null,null,null,null,null,null,null,null,null,null,null,null,null,null,null,null,null,null,null,null,null,null,null,null,null,null,{"$f":"IF($K650>0,$K650,\"\")","v":""},{"$f":"IF($L650>0,MAX($L650,$P650,$Q650),\"\")","v":""}]
[{"$f":"IF(K651=\"\",\"\",CONCATENATE(YEAR($K651),\"_S\",_xlfn.ISOWEEKNUM($K651)))","v":""},null,null,null,null,null,null,null,null,null,null,null,null,null,null,null,null,null,null,null,null,null,null,null,null,null,null,{"$f":"IF($K651>0,$K651,\"\")","v":""},{"$f":"IF($L651>0,MAX($L651,$P651,$Q651),\"\")","v":""}]
[{"$f":"IF(K652=\"\",\"\",CONCATENATE(YEAR($K652),\"_S\",_xlfn.ISOWEEKNUM($K652)))","v":""},null,null,null,null,null,null,null,null,null,null,null,null,null,null,null,null,null,null,null,null,null,null,null,null,null,null,{"$f":"IF($K652>0,$K652,\"\")","v":""},{"$f":"IF($L652>0,MAX($L652,$P652,$Q652),\"\")","v":""}]
[{"$f":"IF(K653=\"\",\"\",CONCATENATE(YEAR($K653),\"_S\",_xlfn.ISOWEEKNUM($K653)))","v":""},null,null,null,null,null,null,null,null,null,null,null,null,null,null,null,null,null,null,null,null,null,null,null,null,null,null,{"$f":"IF($K653>0,$K653,\"\")","v":""},{"$f":"IF($L653>0,MAX($L653,$P653,$Q653),\"\")","v":""}]
[{"$f":"IF(K654=\"\",\"\",CONCATENATE(YEAR($K654),\"_S\",_xlfn.ISOWEEKNUM($K654)))","v":""},null,null,null,null,null,null,null,null,null,null,null,null,null,null,null,null,null,null,null,null,null,null,null,null,null,null,{"$f":"IF($K654>0,$K654,\"\")","v":""},{"$f":"IF($L654>0,MAX($L654,$P654,$Q654),\"\")","v":""}]
[{"$f":"IF(K655=\"\",\"\",CONCATENATE(YEAR($K655),\"_S\",_xlfn.ISOWEEKNUM($K655)))","v":""},null,null,null,null,null,null,null,null,null,null,null,null,null,null,null,null,null,null,null,null,null,null,null,null,null,null,{"$f":"IF($K655>0,$K655,\"\")","v":""},{"$f":"IF($L655>0,MAX($L655,$P655,$Q655),\"\")","v":""}]
[{"$f":"IF(K656=\"\",\"\",CONCATENATE(YEAR($K656),\"_S\",_xlfn.ISOWEEKNUM($K656)))","v":""},null,null,null,null,null,null,null,null,null,null,null,null,null,null,null,null,null,null,null,null,null,null,null,null,null,null,{"$f":"IF($K656>0,$K656,\"\")","v":""},{"$f":"IF($L656>0,MAX($L656,$P656,$Q656),\"\")","v":""}]
[{"$f":"IF(K657=\"\",\"\",CONCATENATE(YEAR($K657),\"_S\",_xlfn.ISOWEEKNUM($K657)))","v":""},null,null,null,null,null,null,null,null,null,null,null,null,null,null,null,null,null,null,null,null,null,null,null,null,null,null,{"$f":"IF($K657>0,$K657,\"\")","v":""},{"$f":"IF($L657>0,MAX($L657,$P657,$Q657),\"\")","v":""}]
[{"$f":"IF(K658=\"\",\"\",CONCATENATE(YEAR($K658),\"_S\",_xlfn.ISOWEEKNUM($K658)))","v":""},null,null,null,null,null,null,null,null,null,null,null,null,null,null,null,null,null,null,null,null,null,null,null,null,null,null,{"$f":"IF($K658>0,$K658,\"\")","v":""},{"$f":"IF($L658>0,MAX($L658,$P658,$Q658),\"\")","v":""}]
[{"$f":"IF(K659=\"\",\"\",CONCATENATE(YEAR($K659),\"_S\",_xlfn.ISOWEEKNUM($K659)))","v":""},null,null,null,null,null,null,null,null,null,null,null,null,null,null,null,null,null,null,null,null,null,null,null,null,null,null,{"$f":"IF($K659>0,$K659,\"\")","v":""},{"$f":"IF($L659>0,MAX($L659,$P659,$Q659),\"\")","v":""}]
[{"$f":"IF(K660=\"\",\"\",CONCATENATE(YEAR($K660),\"_S\",_xlfn.ISOWEEKNUM($K660)))","v":""},null,null,null,null,null,null,null,null,null,null,null,null,null,null,null,null,null,null,null,null,null,null,null,null,null,null,{"$f":"IF($K660>0,$K660,\"\")","v":""},{"$f":"IF($L660>0,MAX($L660,$P660,$Q660),\"\")","v":""}]
[{"$f":"IF(K661=\"\",\"\",CONCATENATE(YEAR($K661),\"_S\",_xlfn.ISOWEEKNUM($K661)))","v":""},null,null,null,null,null,null,null,null,null,null,null,null,null,null,null,null,null,null,null,null,null,null,null,null,null,null,{"$f":"IF($K661>0,$K661,\"\")","v":""},{"$f":"IF($L661>0,MAX($L661,$P661,$Q661),\"\")","v":""}]
[{"$f":"IF(K662=\"\",\"\",CONCATENATE(YEAR($K662),\"_S\",_xlfn.ISOWEEKNUM($K662)))","v":""},null,null,null,null,null,null,null,null,null,null,null,null,null,null,null,null,null,null,null,null,null,null,null,null,null,null,{"$f":"IF($K662>0,$K662,\"\")","v":""},{"$f":"IF($L662>0,MAX($L662,$P662,$Q662),\"\")","v":""}]
[{"$f":"IF(K663=\"\",\"\",CONCATENATE(YEAR($K663),\"_S\",_xlfn.ISOWEEKNUM($K663)))","v":""},null,null,null,null,null,null,null,null,null,null,null,null,null,null,null,null,null,null,null,null,null,null,null,null,null,null,{"$f":"IF($K663>0,$K663,\"\")","v":""},{"$f":"IF($L663>0,MAX($L663,$P663,$Q663),\"\")","v":""}]
[{"$f":"IF(K664=\"\",\"\",CONCATENATE(YEAR($K664),\"_S\",_xlfn.ISOWEEKNUM($K664)))","v":""},null,null,null,null,null,null,null,null,null,null,null,null,null,null,null,null,null,null,null,null,null,null,null,null,null,null,{"$f":"IF($K664>0,$K664,\"\")","v":""},{"$f":"IF($L664>0,MAX($L664,$P664,$Q664),\"\")","v":""}]
[{"$f":"IF(K665=\"\",\"\",CONCATENATE(YEAR($K665),\"_S\",_xlfn.ISOWEEKNUM($K665)))","v":""},null,null,null,null,null,null,null,null,null,null,null,null,null,null,null,null,null,null,null,null,null,null,null,null,null,null,{"$f":"IF($K665>0,$K665,\"\")","v":""},{"$f":"IF($L665>0,MAX($L665,$P665,$Q665),\"\")","v":""}]
[{"$f":"IF(K666=\"\",\"\",CONCATENATE(YEAR($K666),\"_S\",_xlfn.ISOWEEKNUM($K666)))","v":""},null,null,null,null,null,null,null,null,null,null,null,null,null,null,null,null,null,null,null,null,null,null,null,null,null,null,{"$f":"IF($K666>0,$K666,\"\")","v":""},{"$f":"IF($L666>0,MAX($L666,$P666,$Q666),\"\")","v":""}]
[{"$f":"IF(K667=\"\",\"\",CONCATENATE(YEAR($K667),\"_S\",_xlfn.ISOWEEKNUM($K667)))","v":""},null,null,null,null,null,null,null,null,null,null,null,null,null,null,null,null,null,null,null,null,null,null,null,null,null,null,{"$f":"IF($K667>0,$K667,\"\")","v":""},{"$f":"IF($L667>0,MAX($L667,$P667,$Q667),\"\")","v":""}]
[{"$f":"IF(K668=\"\",\"\",CONCATENATE(YEAR($K668),\"_S\",_xlfn.ISOWEEKNUM($K668)))","v":""},null,null,null,null,null,null,null,null,null,null,null,null,null,null,null,null,null,null,null,null,null,null,null,null,null,null,{"$f":"IF($K668>0,$K668,\"\")","v":""},{"$f":"IF($L668>0,MAX($L668,$P668,$Q668),\"\")","v":""}]
[{"$f":"IF(K669=\"\",\"\",CONCATENATE(YEAR($K669),\"_S\",_xlfn.ISOWEEKNUM($K669)))","v":""},null,null,null,null,null,null,null,null,null,null,null,null,null,null,null,null,null,null,null,null,null,null,null,null,null,null,{"$f":"IF($K669>0,$K669,\"\")","v":""},{"$f":"IF($L669>0,MAX($L669,$P669,$Q669),\"\")","v":""}]
[{"$f":"IF(K670=\"\",\"\",CONCATENATE(YEAR($K670),\"_S\",_xlfn.ISOWEEKNUM($K670)))","v":""},null,null,null,null,null,null,null,null,null,null,null,null,null,null,null,null,null,null,null,null,null,null,null,null,null,null,{"$f":"IF($K670>0,$K670,\"\")","v":""},{"$f":"IF($L670>0,MAX($L670,$P670,$Q670),\"\")","v":""}]
[{"$f":"IF(K671=\"\",\"\",CONCATENATE(YEAR($K671),\"_S\",_xlfn.ISOWEEKNUM($K671)))","v":""},null,null,null,null,null,null,null,null,null,null,null,null,null,null,null,null,null,null,null,null,null,null,null,null,null,null,{"$f":"IF($K671>0,$K671,\"\")","v":""},{"$f":"IF($L671>0,MAX($L671,$P671,$Q671),\"\")","v":""}]
[{"$f":"IF(K672=\"\",\"\",CONCATENATE(YEAR($K672),\"_S\",_xlfn.ISOWEEKNUM($K672)))","v":""},null,null,null,null,null,null,null,null,null,null,null,null,null,null,null,null,null,null,null,null,null,null,null,null,null,null,{"$f":"IF($K672>0,$K672,\"\")","v":""},{"$f":"IF($L672>0,MAX($L672,$P672,$Q672),\"\")","v":""}]
[{"$f":"IF(K673=\"\",\"\",CONCATENATE(YEAR($K673),\"_S\",_xlfn.ISOWEEKNUM($K673)))","v":""},null,null,null,null,null,null,null,null,null,null,null,null,null,null,null,null,null,null,null,null,null,null,null,null,null,null,{"$f":"IF($K673>0,$K673,\"\")","v":""},{"$f":"IF($L673>0,MAX($L673,$P673,$Q673),\"\")","v":""}]
[{"$f":"IF(K674=\"\",\"\",CONCATENATE(YEAR($K674),\"_S\",_xlfn.ISOWEEKNUM($K674)))","v":""},null,null,null,null,null,null,null,null,null,null,null,null,null,null,null,null,null,null,null,null,null,null,null,null,null,null,{"$f":"IF($K674>0,$K674,\"\")","v":""},{"$f":"IF($L674>0,MAX($L674,$P674,$Q674),\"\")","v":""}]
[{"$f":"IF(K675=\"\",\"\",CONCATENATE(YEAR($K675),\"_S\",_xlfn.ISOWEEKNUM($K675)))","v":""},null,null,null,null,null,null,null,null,null,null,null,null,null,null,null,null,null,null,null,null,null,null,null,null,null,null,{"$f":"IF($K675>0,$K675,\"\")","v":""},{"$f":"IF($L675>0,MAX($L675,$P675,$Q675),\"\")","v":""}]
[{"$f":"IF(K676=\"\",\"\",CONCATENATE(YEAR($K676),\"_S\",_xlfn.ISOWEEKNUM($K676)))","v":""},null,null,null,null,null,null,null,null,null,null,null,null,null,null,null,null,null,null,null,null,null,null,null,null,null,null,{"$f":"IF($K676>0,$K676,\"\")","v":""},{"$f":"IF($L676>0,MAX($L676,$P676,$Q676),\"\")","v":""}]
[{"$f":"IF(K677=\"\",\"\",CONCATENATE(YEAR($K677),\"_S\",_xlfn.ISOWEEKNUM($K677)))","v":""},null,null,null,null,null,null,null,null,null,null,null,null,null,null,null,null,null,null,null,null,null,null,null,null,null,null,{"$f":"IF($K677>0,$K677,\"\")","v":""},{"$f":"IF($L677>0,MAX($L677,$P677,$Q677),\"\")","v":""}]
[{"$f":"IF(K678=\"\",\"\",CONCATENATE(YEAR($K678),\"_S\",_xlfn.ISOWEEKNUM($K678)))","v":""},null,null,null,null,null,null,null,null,null,null,null,null,null,null,null,null,null,null,null,null,null,null,null,null,null,null,{"$f":"IF($K678>0,$K678,\"\")","v":""},{"$f":"IF($L678>0,MAX($L678,$P678,$Q678),\"\")","v":""}]
[{"$f":"IF(K679=\"\",\"\",CONCATENATE(YEAR($K679),\"_S\",_xlfn.ISOWEEKNUM($K679)))","v":""},null,null,null,null,null,null,null,null,null,null,null,null,null,null,null,null,null,null,null,null,null,null,null,null,null,null,{"$f":"IF($K679>0,$K679,\"\")","v":""},{"$f":"IF($L679>0,MAX($L679,$P679,$Q679),\"\")","v":""}]
[{"$f":"IF(K680=\"\",\"\",CONCATENATE(YEAR($K680),\"_S\",_xlfn.ISOWEEKNUM($K680)))","v":""},null,null,null,null,null,null,null,null,null,null,null,null,null,null,null,null,null,null,null,null,null,null,null,null,null,null,{"$f":"IF($K680>0,$K680,\"\")","v":""},{"$f":"IF($L680>0,MAX($L680,$P680,$Q680),\"\")","v":""}]
[{"$f":"IF(K681=\"\",\"\",CONCATENATE(YEAR($K681),\"_S\",_xlfn.ISOWEEKNUM($K681)))","v":""},null,null,null,null,null,null,null,null,null,null,null,null,null,null,null,null,null,null,null,null,null,null,null,null,null,null,{"$f":"IF($K681>0,$K681,\"\")","v":""},{"$f":"IF($L681>0,MAX($L681,$P681,$Q681),\"\")","v":""}]
[{"$f":"IF(K682=\"\",\"\",CONCATENATE(YEAR($K682),\"_S\",_xlfn.ISOWEEKNUM($K682)))","v":""},null,null,null,null,null,null,null,null,null,null,null,null,null,null,null,null,null,null,null,null,null,null,null,null,null,null,{"$f":"IF($K682>0,$K682,\"\")","v":""},{"$f":"IF($L682>0,MAX($L682,$P682,$Q682),\"\")","v":""}]
[{"$f":"IF(K683=\"\",\"\",CONCATENATE(YEAR($K683),\"_S\",_xlfn.ISOWEEKNUM($K683)))","v":""},null,null,null,null,null,null,null,null,null,null,null,null,null,null,null,null,null,null,null,null,null,null,null,null,null,null,{"$f":"IF($K683>0,$K683,\"\")","v":""},{"$f":"IF($L683>0,MAX($L683,$P683,$Q683),\"\")","v":""}]
[{"$f":"IF(K684=\"\",\"\",CONCATENATE(YEAR($K684),\"_S\",_xlfn.ISOWEEKNUM($K684)))","v":""},null,null,null,null,null,null,null,null,null,null,null,null,null,null,null,null,null,null,null,null,null,null,null,null,null,null,{"$f":"IF($K684>0,$K684,\"\")","v":""},{"$f":"IF($L684>0,MAX($L684,$P684,$Q684),\"\")","v":""}]
[{"$f":"IF(K685=\"\",\"\",CONCATENATE(YEAR($K685),\"_S\",_xlfn.ISOWEEKNUM($K685)))","v":""},null,null,null,null,null,null,null,null,null,null,null,null,null,null,null,null,null,null,null,null,null,null,null,null,null,null,{"$f":"IF($K685>0,$K685,\"\")","v":""},{"$f":"IF($L685>0,MAX($L685,$P685,$Q685),\"\")","v":""}]
[{"$f":"IF(K686=\"\",\"\",CONCATENATE(YEAR($K686),\"_S\",_xlfn.ISOWEEKNUM($K686)))","v":""},null,null,null,null,null,null,null,null,null,null,null,null,null,null,null,null,null,null,null,null,null,null,null,null,null,null,{"$f":"IF($K686>0,$K686,\"\")","v":""},{"$f":"IF($L686>0,MAX($L686,$P686,$Q686),\"\")","v":""}]
[{"$f":"IF(K687=\"\",\"\",CONCATENATE(YEAR($K687),\"_S\",_xlfn.ISOWEEKNUM($K687)))","v":""},null,null,null,null,null,null,null,null,null,null,null,null,null,null,null,null,null,null,null,null,null,null,null,null,null,null,{"$f":"IF($K687>0,$K687,\"\")","v":""},{"$f":"IF($L687>0,MAX($L687,$P687,$Q687),\"\")","v":""}]
[{"$f":"IF(K688=\"\",\"\",CONCATENATE(YEAR($K688),\"_S\",_xlfn.ISOWEEKNUM($K688)))","v":""},null,null,null,null,null,null,null,null,null,null,null,null,null,null,null,null,null,null,null,null,null,null,null,null,null,null,{"$f":"IF($K688>0,$K688,\"\")","v":""},{"$f":"IF($L688>0,MAX($L688,$P688,$Q688),\"\")","v":""}]
[{"$f":"IF(K689=\"\",\"\",CONCATENATE(YEAR($K689),\"_S\",_xlfn.ISOWEEKNUM($K689)))","v":""},null,null,null,null,null,null,null,null,null,null,null,null,null,null,null,null,null,null,null,null,null,null,null,null,null,null,{"$f":"IF($K689>0,$K689,\"\")","v":""},{"$f":"IF($L689>0,MAX($L689,$P689,$Q689),\"\")","v":""}]
[{"$f":"IF(K690=\"\",\"\",CONCATENATE(YEAR($K690),\"_S\",_xlfn.ISOWEEKNUM($K690)))","v":""},null,null,null,null,null,null,null,null,null,null,null,null,null,null,null,null,null,null,null,null,null,null,null,null,null,null,{"$f":"IF($K690>0,$K690,\"\")","v":""},{"$f":"IF($L690>0,MAX($L690,$P690,$Q690),\"\")","v":""}]
[{"$f":"IF(K691=\"\",\"\",CONCATENATE(YEAR($K691),\"_S\",_xlfn.ISOWEEKNUM($K691)))","v":""},null,null,null,null,null,null,null,null,null,null,null,null,null,null,null,null,null,null,null,null,null,null,null,null,null,null,{"$f":"IF($K691>0,$K691,\"\")","v":""},{"$f":"IF($L691>0,MAX($L691,$P691,$Q691),\"\")","v":""}]
[{"$f":"IF(K692=\"\",\"\",CONCATENATE(YEAR($K692),\"_S\",_xlfn.ISOWEEKNUM($K692)))","v":""},null,null,null,null,null,null,null,null,null,null,null,null,null,null,null,null,null,null,null,null,null,null,null,null,null,null,{"$f":"IF($K692>0,$K692,\"\")","v":""},{"$f":"IF($L692>0,MAX($L692,$P692,$Q692),\"\")","v":""}]
[{"$f":"IF(K693=\"\",\"\",CONCATENATE(YEAR($K693),\"_S\",_xlfn.ISOWEEKNUM($K693)))","v":""},null,null,null,null,null,null,null,null,null,null,null,null,null,null,null,null,null,null,null,null,null,null,null,null,null,null,{"$f":"IF($K693>0,$K693,\"\")","v":""},{"$f":"IF($L693>0,MAX($L693,$P693,$Q693),\"\")","v":""}]
[{"$f":"IF(K694=\"\",\"\",CONCATENATE(YEAR($K694),\"_S\",_xlfn.ISOWEEKNUM($K694)))","v":""},null,null,null,null,null,null,null,null,null,null,null,null,null,null,null,null,null,null,null,null,null,null,null,null,null,null,{"$f":"IF($K694>0,$K694,\"\")","v":""},{"$f":"IF($L694>0,MAX($L694,$P694,$Q694),\"\")","v":""}]
[{"$f":"IF(K695=\"\",\"\",CONCATENATE(YEAR($K695),\"_S\",_xlfn.ISOWEEKNUM($K695)))","v":""},null,null,null,null,null,null,null,null,null,null,null,null,null,null,null,null,null,null,null,null,null,null,null,null,null,null,{"$f":"IF($K695>0,$K695,\"\")","v":""},{"$f":"IF($L695>0,MAX($L695,$P695,$Q695),\"\")","v":""}]
[{"$f":"IF(K696=\"\",\"\",CONCATENATE(YEAR($K696),\"_S\",_xlfn.ISOWEEKNUM($K696)))","v":""},null,null,null,null,null,null,null,null,null,null,null,null,null,null,null,null,null,null,null,null,null,null,null,null,null,null,{"$f":"IF($K696>0,$K696,\"\")","v":""},{"$f":"IF($L696>0,MAX($L696,$P696,$Q696),\"\")","v":""}]
[{"$f":"IF(K697=\"\",\"\",CONCATENATE(YEAR($K697),\"_S\",_xlfn.ISOWEEKNUM($K697)))","v":""},null,null,null,null,null,null,null,null,null,null,null,null,null,null,null,null,null,null,null,null,null,null,null,null,null,null,{"$f":"IF($K697>0,$K697,\"\")","v":""},{"$f":"IF($L697>0,MAX($L697,$P697,$Q697),\"\")","v":""}]
[{"$f":"IF(K698=\"\",\"\",CONCATENATE(YEAR($K698),\"_S\",_xlfn.ISOWEEKNUM($K698)))","v":""},null,null,null,null,null,null,null,null,null,null,null,null,null,null,null,null,null,null,null,null,null,null,null,null,null,null,{"$f":"IF($K698>0,$K698,\"\")","v":""},{"$f":"IF($L698>0,MAX($L698,$P698,$Q698),\"\")","v":""}]
[{"$f":"IF(K699=\"\",\"\",CONCATENATE(YEAR($K699),\"_S\",_xlfn.ISOWEEKNUM($K699)))","v":""},null,null,null,null,null,null,null,null,null,null,null,null,null,null,null,null,null,null,null,null,null,null,null,null,null,null,{"$f":"IF($K699>0,$K699,\"\")","v":""},{"$f":"IF($L699>0,MAX($L699,$P699,$Q699),\"\")","v":""}]
[{"$f":"IF(K700=\"\",\"\",CONCATENATE(YEAR($K700),\"_S\",_xlfn.ISOWEEKNUM($K700)))","v":""},null,null,null,null,null,null,null,null,null,null,null,null,null,null,null,null,null,null,null,null,null,null,null,null,null,null,{"$f":"IF($K700>0,$K700,\"\")","v":""},{"$f":"IF($L700>0,MAX($L700,$P700,$Q700),\"\")","v":""}]
[{"$f":"IF(K701=\"\",\"\",CONCATENATE(YEAR($K701),\"_S\",_xlfn.ISOWEEKNUM($K701)))","v":""},null,null,null,null,null,null,null,null,null,null,null,null,null,null,null,null,null,null,null,null,null,null,null,null,null,null,{"$f":"IF($K701>0,$K701,\"\")","v":""},{"$f":"IF($L701>0,MAX($L701,$P701,$Q701),\"\")","v":""}]
[{"$f":"IF(K702=\"\",\"\",CONCATENATE(YEAR($K702),\"_S\",_xlfn.ISOWEEKNUM($K702)))","v":""},null,null,null,null,null,null,null,null,null,null,null,null,null,null,null,null,null,null,null,null,null,null,null,null,null,null,{"$f":"IF($K702>0,$K702,\"\")","v":""},{"$f":"IF($L702>0,MAX($L702,$P702,$Q702),\"\")","v":""}]
[{"$f":"IF(K703=\"\",\"\",CONCATENATE(YEAR($K703),\"_S\",_xlfn.ISOWEEKNUM($K703)))","v":""},null,null,null,null,null,null,null,null,null,null,null,null,null,null,null,null,null,null,null,null,null,null,null,null,null,null,{"$f":"IF($K703>0,$K703,\"\")","v":""},{"$f":"IF($L703>0,MAX($L703,$P703,$Q703),\"\")","v":""}]
[{"$f":"IF(K704=\"\",\"\",CONCATENATE(YEAR($K704),\"_S\",_xlfn.ISOWEEKNUM($K704)))","v":""},null,null,null,null,null,null,null,null,null,null,null,null,null,null,null,null,null,null,null,null,null,null,null,null,null,null,{"$f":"IF($K704>0,$K704,\"\")","v":""},{"$f":"IF($L704>0,MAX($L704,$P704,$Q704),\"\")","v":""}]
[{"$f":"IF(K705=\"\",\"\",CONCATENATE(YEAR($K705),\"_S\",_xlfn.ISOWEEKNUM($K705)))","v":""},null,null,null,null,null,null,null,null,null,null,null,null,null,null,null,null,null,null,null,null,null,null,null,null,null,null,{"$f":"IF($K705>0,$K705,\"\")","v":""},{"$f":"IF($L705>0,MAX($L705,$P705,$Q705),\"\")","v":""}]
[{"$f":"IF(K706=\"\",\"\",CONCATENATE(YEAR($K706),\"_S\",_xlfn.ISOWEEKNUM($K706)))","v":""},null,null,null,null,null,null,null,null,null,null,null,null,null,null,null,null,null,null,null,null,null,null,null,null,null,null,{"$f":"IF($K706>0,$K706,\"\")","v":""},{"$f":"IF($L706>0,MAX($L706,$P706,$Q706),\"\")","v":""}]
[{"$f":"IF(K707=\"\",\"\",CONCATENATE(YEAR($K707),\"_S\",_xlfn.ISOWEEKNUM($K707)))","v":""},null,null,null,null,null,null,null,null,null,null,null,null,null,null,null,null,null,null,null,null,null,null,null,null,null,null,{"$f":"IF($K707>0,$K707,\"\")","v":""},{"$f":"IF($L707>0,MAX($L707,$P707,$Q707),\"\")","v":""}]
[{"$f":"IF(K708=\"\",\"\",CONCATENATE(YEAR($K708),\"_S\",_xlfn.ISOWEEKNUM($K708)))","v":""},null,null,null,null,null,null,null,null,null,null,null,null,null,null,null,null,null,null,null,null,null,null,null,null,null,null,{"$f":"IF($K708>0,$K708,\"\")","v":""},{"$f":"IF($L708>0,MAX($L708,$P708,$Q708),\"\")","v":""}]
[{"$f":"IF(K709=\"\",\"\",CONCATENATE(YEAR($K709),\"_S\",_xlfn.ISOWEEKNUM($K709)))","v":""},null,null,null,null,null,null,null,null,null,null,null,null,null,null,null,null,null,null,null,null,null,null,null,null,null,null,{"$f":"IF($K709>0,$K709,\"\")","v":""},{"$f":"IF($L709>0,MAX($L709,$P709,$Q709),\"\")","v":""}]
[{"$f":"IF(K710=\"\",\"\",CONCATENATE(YEAR($K710),\"_S\",_xlfn.ISOWEEKNUM($K710)))","v":""},null,null,null,null,null,null,null,null,null,null,null,null,null,null,null,null,null,null,null,null,null,null,null,null,null,null,{"$f":"IF($K710>0,$K710,\"\")","v":""},{"$f":"IF($L710>0,MAX($L710,$P710,$Q710),\"\")","v":""}]
[{"$f":"IF(K711=\"\",\"\",CONCATENATE(YEAR($K711),\"_S\",_xlfn.ISOWEEKNUM($K711)))","v":""},null,null,null,null,null,null,null,null,null,null,null,null,null,null,null,null,null,null,null,null,null,null,null,null,null,null,{"$f":"IF($K711>0,$K711,\"\")","v":""},{"$f":"IF($L711>0,MAX($L711,$P711,$Q711),\"\")","v":""}]
[{"$f":"IF(K712=\"\",\"\",CONCATENATE(YEAR($K712),\"_S\",_xlfn.ISOWEEKNUM($K712)))","v":""},null,null,null,null,null,null,null,null,null,null,null,null,null,null,null,null,null,null,null,null,null,null,null,null,null,null,{"$f":"IF($K712>0,$K712,\"\")","v":""},{"$f":"IF($L712>0,MAX($L712,$P712,$Q712),\"\")","v":""}]
[{"$f":"IF(K713=\"\",\"\",CONCATENATE(YEAR($K713),\"_S\",_xlfn.ISOWEEKNUM($K713)))","v":""},null,null,null,null,null,null,null,null,null,null,null,null,null,null,null,null,null,null,null,null,null,null,null,null,null,null,{"$f":"IF($K713>0,$K713,\"\")","v":""},{"$f":"IF($L713>0,MAX($L713,$P713,$Q713),\"\")","v":""}]
[{"$f":"IF(K714=\"\",\"\",CONCATENATE(YEAR($K714),\"_S\",_xlfn.ISOWEEKNUM($K714)))","v":""},null,null,null,null,null,null,null,null,null,null,null,null,null,null,null,null,null,null,null,null,null,null,null,null,null,null,{"$f":"IF($K714>0,$K714,\"\")","v":""},{"$f":"IF($L714>0,MAX($L714,$P714,$Q714),\"\")","v":""}]
[{"$f":"IF(K715=\"\",\"\",CONCATENATE(YEAR($K715),\"_S\",_xlfn.ISOWEEKNUM($K715)))","v":""},null,null,null,null,null,null,null,null,null,null,null,null,null,null,null,null,null,null,null,null,null,null,null,null,null,null,{"$f":"IF($K715>0,$K715,\"\")","v":""},{"$f":"IF($L715>0,MAX($L715,$P715,$Q715),\"\")","v":""}]
[{"$f":"IF(K716=\"\",\"\",CONCATENATE(YEAR($K716),\"_S\",_xlfn.ISOWEEKNUM($K716)))","v":""},null,null,null,null,null,null,null,null,null,null,null,null,null,null,null,null,null,null,null,null,null,null,null,null,null,null,{"$f":"IF($K716>0,$K716,\"\")","v":""},{"$f":"IF($L716>0,MAX($L716,$P716,$Q716),\"\")","v":""}]
[{"$f":"IF(K717=\"\",\"\",CONCATENATE(YEAR($K717),\"_S\",_xlfn.ISOWEEKNUM($K717)))","v":""},null,null,null,null,null,null,null,null,null,null,null,null,null,null,null,null,null,null,null,null,null,null,null,null,null,null,{"$f":"IF($K717>0,$K717,\"\")","v":""},{"$f":"IF($L717>0,MAX($L717,$P717,$Q717),\"\")","v":""}]
[{"$f":"IF(K718=\"\",\"\",CONCATENATE(YEAR($K718),\"_S\",_xlfn.ISOWEEKNUM($K718)))","v":""},null,null,null,null,null,null,null,null,null,null,null,null,null,null,null,null,null,null,null,null,null,null,null,null,null,null,{"$f":"IF($K718>0,$K718,\"\")","v":""},{"$f":"IF($L718>0,MAX($L718,$P718,$Q718),\"\")","v":""}]
[{"$f":"IF(K719=\"\",\"\",CONCATENATE(YEAR($K719),\"_S\",_xlfn.ISOWEEKNUM($K719)))","v":""},null,null,null,null,null,null,null,null,null,null,null,null,null,null,null,null,null,null,null,null,null,null,null,null,null,null,{"$f":"IF($K719>0,$K719,\"\")","v":""},{"$f":"IF($L719>0,MAX($L719,$P719,$Q719),\"\")","v":""}]
[{"$f":"IF(K720=\"\",\"\",CONCATENATE(YEAR($K720),\"_S\",_xlfn.ISOWEEKNUM($K720)))","v":""},null,null,null,null,null,null,null,null,null,null,null,null,null,null,null,null,null,null,null,null,null,null,null,null,null,null,{"$f":"IF($K720>0,$K720,\"\")","v":""},{"$f":"IF($L720>0,MAX($L720,$P720,$Q720),\"\")","v":""}]
[{"$f":"IF(K721=\"\",\"\",CONCATENATE(YEAR($K721),\"_S\",_xlfn.ISOWEEKNUM($K721)))","v":""},null,null,null,null,null,null,null,null,null,null,null,null,null,null,null,null,null,null,null,null,null,null,null,null,null,null,{"$f":"IF($K721>0,$K721,\"\")","v":""},{"$f":"IF($L721>0,MAX($L721,$P721,$Q721),\"\")","v":""}]
[{"$f":"IF(K722=\"\",\"\",CONCATENATE(YEAR($K722),\"_S\",_xlfn.ISOWEEKNUM($K722)))","v":""},null,null,null,null,null,null,null,null,null,null,null,null,null,null,null,null,null,null,null,null,null,null,null,null,null,null,{"$f":"IF($K722>0,$K722,\"\")","v":""},{"$f":"IF($L722>0,MAX($L722,$P722,$Q722),\"\")","v":""}]
[{"$f":"IF(K723=\"\",\"\",CONCATENATE(YEAR($K723),\"_S\",_xlfn.ISOWEEKNUM($K723)))","v":""},null,null,null,null,null,null,null,null,null,null,null,null,null,null,null,null,null,null,null,null,null,null,null,null,null,null,{"$f":"IF($K723>0,$K723,\"\")","v":""},{"$f":"IF($L723>0,MAX($L723,$P723,$Q723),\"\")","v":""}]
[{"$f":"IF(K724=\"\",\"\",CONCATENATE(YEAR($K724),\"_S\",_xlfn.ISOWEEKNUM($K724)))","v":""},null,null,null,null,null,null,null,null,null,null,null,null,null,null,null,null,null,null,null,null,null,null,null,null,null,null,{"$f":"IF($K724>0,$K724,\"\")","v":""},{"$f":"IF($L724>0,MAX($L724,$P724,$Q724),\"\")","v":""}]
[{"$f":"IF(K725=\"\",\"\",CONCATENATE(YEAR($K725),\"_S\",_xlfn.ISOWEEKNUM($K725)))","v":""},null,null,null,null,null,null,null,null,null,null,null,null,null,null,null,null,null,null,null,null,null,null,null,null,null,null,{"$f":"IF($K725>0,$K725,\"\")","v":""},{"$f":"IF($L725>0,MAX($L725,$P725,$Q725),\"\")","v":""}]
[{"$f":"IF(K726=\"\",\"\",CONCATENATE(YEAR($K726),\"_S\",_xlfn.ISOWEEKNUM($K726)))","v":""},null,null,null,null,null,null,null,null,null,null,null,null,null,null,null,null,null,null,null,null,null,null,null,null,null,null,{"$f":"IF($K726>0,$K726,\"\")","v":""},{"$f":"IF($L726>0,MAX($L726,$P726,$Q726),\"\")","v":""}]
[{"$f":"IF(K727=\"\",\"\",CONCATENATE(YEAR($K727),\"_S\",_xlfn.ISOWEEKNUM($K727)))","v":""},null,null,null,null,null,null,null,null,null,null,null,null,null,null,null,null,null,null,null,null,null,null,null,null,null,null,{"$f":"IF($K727>0,$K727,\"\")","v":""},{"$f":"IF($L727>0,MAX($L727,$P727,$Q727),\"\")","v":""}]
[{"$f":"IF(K728=\"\",\"\",CONCATENATE(YEAR($K728),\"_S\",_xlfn.ISOWEEKNUM($K728)))","v":""},null,null,null,null,null,null,null,null,null,null,null,null,null,null,null,null,null,null,null,null,null,null,null,null,null,null,{"$f":"IF($K728>0,$K728,\"\")","v":""},{"$f":"IF($L728>0,MAX($L728,$P728,$Q728),\"\")","v":""}]
[{"$f":"IF(K729=\"\",\"\",CONCATENATE(YEAR($K729),\"_S\",_xlfn.ISOWEEKNUM($K729)))","v":""},null,null,null,null,null,null,null,null,null,null,null,null,null,null,null,null,null,null,null,null,null,null,null,null,null,null,{"$f":"IF($K729>0,$K729,\"\")","v":""},{"$f":"IF($L729>0,MAX($L729,$P729,$Q729),\"\")","v":""}]
[{"$f":"IF(K730=\"\",\"\",CONCATENATE(YEAR($K730),\"_S\",_xlfn.ISOWEEKNUM($K730)))","v":""},null,null,null,null,null,null,null,null,null,null,null,null,null,null,null,null,null,null,null,null,null,null,null,null,null,null,{"$f":"IF($K730>0,$K730,\"\")","v":""},{"$f":"IF($L730>0,MAX($L730,$P730,$Q730),\"\")","v":""}]
[{"$f":"IF(K731=\"\",\"\",CONCATENATE(YEAR($K731),\"_S\",_xlfn.ISOWEEKNUM($K731)))","v":""},null,null,null,null,null,null,null,null,null,null,null,null,null,null,null,null,null,null,null,null,null,null,null,null,null,null,{"$f":"IF($K731>0,$K731,\"\")","v":""},{"$f":"IF($L731>0,MAX($L731,$P731,$Q731),\"\")","v":""}]
[{"$f":"IF(K732=\"\",\"\",CONCATENATE(YEAR($K732),\"_S\",_xlfn.ISOWEEKNUM($K732)))","v":""},null,null,null,null,null,null,null,null,null,null,null,null,null,null,null,null,null,null,null,null,null,null,null,null,null,null,{"$f":"IF($K732>0,$K732,\"\")","v":""},{"$f":"IF($L732>0,MAX($L732,$P732,$Q732),\"\")","v":""}]
[{"$f":"IF(K733=\"\",\"\",CONCATENATE(YEAR($K733),\"_S\",_xlfn.ISOWEEKNUM($K733)))","v":""},null,null,null,null,null,null,null,null,null,null,null,null,null,null,null,null,null,null,null,null,null,null,null,null,null,null,{"$f":"IF($K733>0,$K733,\"\")","v":""},{"$f":"IF($L733>0,MAX($L733,$P733,$Q733),\"\")","v":""}]
[{"$f":"IF(K734=\"\",\"\",CONCATENATE(YEAR($K734),\"_S\",_xlfn.ISOWEEKNUM($K734)))","v":""},null,null,null,null,null,null,null,null,null,null,null,null,null,null,null,null,null,null,null,null,null,null,null,null,null,null,{"$f":"IF($K734>0,$K734,\"\")","v":""},{"$f":"IF($L734>0,MAX($L734,$P734,$Q734),\"\")","v":""}]
[{"$f":"IF(K735=\"\",\"\",CONCATENATE(YEAR($K735),\"_S\",_xlfn.ISOWEEKNUM($K735)))","v":""},null,null,null,null,null,null,null,null,null,null,null,null,null,null,null,null,null,null,null,null,null,null,null,null,null,null,{"$f":"IF($K735>0,$K735,\"\")","v":""},{"$f":"IF($L735>0,MAX($L735,$P735,$Q735),\"\")","v":""}]
[{"$f":"IF(K736=\"\",\"\",CONCATENATE(YEAR($K736),\"_S\",_xlfn.ISOWEEKNUM($K736)))","v":""},null,null,null,null,null,null,null,null,null,null,null,null,null,null,null,null,null,null,null,null,null,null,null,null,null,null,{"$f":"IF($K736>0,$K736,\"\")","v":""},{"$f":"IF($L736>0,MAX($L736,$P736,$Q736),\"\")","v":""}]
[{"$f":"IF(K737=\"\",\"\",CONCATENATE(YEAR($K737),\"_S\",_xlfn.ISOWEEKNUM($K737)))","v":""},null,null,null,null,null,null,null,null,null,null,null,null,null,null,null,null,null,null,null,null,null,null,null,null,null,null,{"$f":"IF($K737>0,$K737,\"\")","v":""},{"$f":"IF($L737>0,MAX($L737,$P737,$Q737),\"\")","v":""}]
[{"$f":"IF(K738=\"\",\"\",CONCATENATE(YEAR($K738),\"_S\",_xlfn.ISOWEEKNUM($K738)))","v":""},null,null,null,null,null,null,null,null,null,null,null,null,null,null,null,null,null,null,null,null,null,null,null,null,null,null,{"$f":"IF($K738>0,$K738,\"\")","v":""},{"$f":"IF($L738>0,MAX($L738,$P738,$Q738),\"\")","v":""}]
[{"$f":"IF(K739=\"\",\"\",CONCATENATE(YEAR($K739),\"_S\",_xlfn.ISOWEEKNUM($K739)))","v":""},null,null,null,null,null,null,null,null,null,null,null,null,null,null,null,null,null,null,null,null,null,null,null,null,null,null,{"$f":"IF($K739>0,$K739,\"\")","v":""},{"$f":"IF($L739>0,MAX($L739,$P739,$Q739),\"\")","v":""}]
[{"$f":"IF(K740=\"\",\"\",CONCATENATE(YEAR($K740),\"_S\",_xlfn.ISOWEEKNUM($K740)))","v":""},null,null,null,null,null,null,null,null,null,null,null,null,null,null,null,null,null,null,null,null,null,null,null,null,null,null,{"$f":"IF($K740>0,$K740,\"\")","v":""},{"$f":"IF($L740>0,MAX($L740,$P740,$Q740),\"\")","v":""}]
[{"$f":"IF(K741=\"\",\"\",CONCATENATE(YEAR($K741),\"_S\",_xlfn.ISOWEEKNUM($K741)))","v":""},null,null,null,null,null,null,null,null,null,null,null,null,null,null,null,null,null,null,null,null,null,null,null,null,null,null,{"$f":"IF($K741>0,$K741,\"\")","v":""},{"$f":"IF($L741>0,MAX($L741,$P741,$Q741),\"\")","v":""}]
[{"$f":"IF(K742=\"\",\"\",CONCATENATE(YEAR($K742),\"_S\",_xlfn.ISOWEEKNUM($K742)))","v":""},null,null,null,null,null,null,null,null,null,null,null,null,null,null,null,null,null,null,null,null,null,null,null,null,null,null,{"$f":"IF($K742>0,$K742,\"\")","v":""},{"$f":"IF($L742>0,MAX($L742,$P742,$Q742),\"\")","v":""}]
[{"$f":"IF(K743=\"\",\"\",CONCATENATE(YEAR($K743),\"_S\",_xlfn.ISOWEEKNUM($K743)))","v":""},null,null,null,null,null,null,null,null,null,null,null,null,null,null,null,null,null,null,null,null,null,null,null,null,null,null,{"$f":"IF($K743>0,$K743,\"\")","v":""},{"$f":"IF($L743>0,MAX($L743,$P743,$Q743),\"\")","v":""}]
[{"$f":"IF(K744=\"\",\"\",CONCATENATE(YEAR($K744),\"_S\",_xlfn.ISOWEEKNUM($K744)))","v":""},null,null,null,null,null,null,null,null,null,null,null,null,null,null,null,null,null,null,null,null,null,null,null,null,null,null,{"$f":"IF($K744>0,$K744,\"\")","v":""},{"$f":"IF($L744>0,MAX($L744,$P744,$Q744),\"\")","v":""}]
[{"$f":"IF(K745=\"\",\"\",CONCATENATE(YEAR($K745),\"_S\",_xlfn.ISOWEEKNUM($K745)))","v":""},null,null,null,null,null,null,null,null,null,null,null,null,null,null,null,null,null,null,null,null,null,null,null,null,null,null,{"$f":"IF($K745>0,$K745,\"\")","v":""},{"$f":"IF($L745>0,MAX($L745,$P745,$Q745),\"\")","v":""}]
[{"$f":"IF(K746=\"\",\"\",CONCATENATE(YEAR($K746),\"_S\",_xlfn.ISOWEEKNUM($K746)))","v":""},null,null,null,null,null,null,null,null,null,null,null,null,null,null,null,null,null,null,null,null,null,null,null,null,null,null,{"$f":"IF($K746>0,$K746,\"\")","v":""},{"$f":"IF($L746>0,MAX($L746,$P746,$Q746),\"\")","v":""}]
[{"$f":"IF(K747=\"\",\"\",CONCATENATE(YEAR($K747),\"_S\",_xlfn.ISOWEEKNUM($K747)))","v":""},null,null,null,null,null,null,null,null,null,null,null,null,null,null,null,null,null,null,null,null,null,null,null,null,null,null,{"$f":"IF($K747>0,$K747,\"\")","v":""},{"$f":"IF($L747>0,MAX($L747,$P747,$Q747),\"\")","v":""}]
[{"$f":"IF(K748=\"\",\"\",CONCATENATE(YEAR($K748),\"_S\",_xlfn.ISOWEEKNUM($K748)))","v":""},null,null,null,null,null,null,null,null,null,null,null,null,null,null,null,null,null,null,null,null,null,null,null,null,null,null,{"$f":"IF($K748>0,$K748,\"\")","v":""},{"$f":"IF($L748>0,MAX($L748,$P748,$Q748),\"\")","v":""}]
[{"$f":"IF(K749=\"\",\"\",CONCATENATE(YEAR($K749),\"_S\",_xlfn.ISOWEEKNUM($K749)))","v":""},null,null,null,null,null,null,null,null,null,null,null,null,null,null,null,null,null,null,null,null,null,null,null,null,null,null,{"$f":"IF($K749>0,$K749,\"\")","v":""},{"$f":"IF($L749>0,MAX($L749,$P749,$Q749),\"\")","v":""}]
[{"$f":"IF(K750=\"\",\"\",CONCATENATE(YEAR($K750),\"_S\",_xlfn.ISOWEEKNUM($K750)))","v":""},null,null,null,null,null,null,null,null,null,null,null,null,null,null,null,null,null,null,null,null,null,null,null,null,null,null,{"$f":"IF($K750>0,$K750,\"\")","v":""},{"$f":"IF($L750>0,MAX($L750,$P750,$Q750),\"\")","v":""}]
[{"$f":"IF(K751=\"\",\"\",CONCATENATE(YEAR($K751),\"_S\",_xlfn.ISOWEEKNUM($K751)))","v":""},null,null,null,null,null,null,null,null,null,null,null,null,null,null,null,null,null,null,null,null,null,null,null,null,null,null,{"$f":"IF($K751>0,$K751,\"\")","v":""},{"$f":"IF($L751>0,MAX($L751,$P751,$Q751),\"\")","v":""}]
[{"$f":"IF(K752=\"\",\"\",CONCATENATE(YEAR($K752),\"_S\",_xlfn.ISOWEEKNUM($K752)))","v":""},null,null,null,null,null,null,null,null,null,null,null,null,null,null,null,null,null,null,null,null,null,null,null,null,null,null,{"$f":"IF($K752>0,$K752,\"\")","v":""},{"$f":"IF($L752>0,MAX($L752,$P752,$Q752),\"\")","v":""}]
[{"$f":"IF(K753=\"\",\"\",CONCATENATE(YEAR($K753),\"_S\",_xlfn.ISOWEEKNUM($K753)))","v":""},null,null,null,null,null,null,null,null,null,null,null,null,null,null,null,null,null,null,null,null,null,null,null,null,null,null,{"$f":"IF($K753>0,$K753,\"\")","v":""},{"$f":"IF($L753>0,MAX($L753,$P753,$Q753),\"\")","v":""}]
[{"$f":"IF(K754=\"\",\"\",CONCATENATE(YEAR($K754),\"_S\",_xlfn.ISOWEEKNUM($K754)))","v":""},null,null,null,null,null,null,null,null,null,null,null,null,null,null,null,null,null,null,null,null,null,null,null,null,null,null,{"$f":"IF($K754>0,$K754,\"\")","v":""},{"$f":"IF($L754>0,MAX($L754,$P754,$Q754),\"\")","v":""}]
[{"$f":"IF(K755=\"\",\"\",CONCATENATE(YEAR($K755),\"_S\",_xlfn.ISOWEEKNUM($K755)))","v":""},null,null,null,null,null,null,null,null,null,null,null,null,null,null,null,null,null,null,null,null,null,null,null,null,null,null,{"$f":"IF($K755>0,$K755,\"\")","v":""},{"$f":"IF($L755>0,MAX($L755,$P755,$Q755),\"\")","v":""}]
[{"$f":"IF(K756=\"\",\"\",CONCATENATE(YEAR($K756),\"_S\",_xlfn.ISOWEEKNUM($K756)))","v":""},null,null,null,null,null,null,null,null,null,null,null,null,null,null,null,null,null,null,null,null,null,null,null,null,null,null,{"$f":"IF($K756>0,$K756,\"\")","v":""},{"$f":"IF($L756>0,MAX($L756,$P756,$Q756),\"\")","v":""}]
[{"$f":"IF(K757=\"\",\"\",CONCATENATE(YEAR($K757),\"_S\",_xlfn.ISOWEEKNUM($K757)))","v":""},null,null,null,null,null,null,null,null,null,null,null,null,null,null,null,null,null,null,null,null,null,null,null,null,null,null,{"$f":"IF($K757>0,$K757,\"\")","v":""},{"$f":"IF($L757>0,MAX($L757,$P757,$Q757),\"\")","v":""}]
[{"$f":"IF(K758=\"\",\"\",CONCATENATE(YEAR($K758),\"_S\",_xlfn.ISOWEEKNUM($K758)))","v":""},null,null,null,null,null,null,null,null,null,null,null,null,null,null,null,null,null,null,null,null,null,null,null,null,null,null,{"$f":"IF($K758>0,$K758,\"\")","v":""},{"$f":"IF($L758>0,MAX($L758,$P758,$Q758),\"\")","v":""}]
[{"$f":"IF(K759=\"\",\"\",CONCATENATE(YEAR($K759),\"_S\",_xlfn.ISOWEEKNUM($K759)))","v":""},null,null,null,null,null,null,null,null,null,null,null,null,null,null,null,null,null,null,null,null,null,null,null,null,null,null,{"$f":"IF($K759>0,$K759,\"\")","v":""},{"$f":"IF($L759>0,MAX($L759,$P759,$Q759),\"\")","v":""}]
[{"$f":"IF(K760=\"\",\"\",CONCATENATE(YEAR($K760),\"_S\",_xlfn.ISOWEEKNUM($K760)))","v":""},null,null,null,null,null,null,null,null,null,null,null,null,null,null,null,null,null,null,null,null,null,null,null,null,null,null,{"$f":"IF($K760>0,$K760,\"\")","v":""},{"$f":"IF($L760>0,MAX($L760,$P760,$Q760),\"\")","v":""}]
[{"$f":"IF(K761=\"\",\"\",CONCATENATE(YEAR($K761),\"_S\",_xlfn.ISOWEEKNUM($K761)))","v":""},null,null,null,null,null,null,null,null,null,null,null,null,null,null,null,null,null,null,null,null,null,null,null,null,null,null,{"$f":"IF($K761>0,$K761,\"\")","v":""},{"$f":"IF($L761>0,MAX($L761,$P761,$Q761),\"\")","v":""}]
[{"$f":"IF(K762=\"\",\"\",CONCATENATE(YEAR($K762),\"_S\",_xlfn.ISOWEEKNUM($K762)))","v":""},null,null,null,null,null,null,null,null,null,null,null,null,null,null,null,null,null,null,null,null,null,null,null,null,null,null,{"$f":"IF($K762>0,$K762,\"\")","v":""},{"$f":"IF($L762>0,MAX($L762,$P762,$Q762),\"\")","v":""}]
[{"$f":"IF(K763=\"\",\"\",CONCATENATE(YEAR($K763),\"_S\",_xlfn.ISOWEEKNUM($K763)))","v":""},null,null,null,null,null,null,null,null,null,null,null,null,null,null,null,null,null,null,null,null,null,null,null,null,null,null,{"$f":"IF($K763>0,$K763,\"\")","v":""},{"$f":"IF($L763>0,MAX($L763,$P763,$Q763),\"\")","v":""}]
[{"$f":"IF(K764=\"\",\"\",CONCATENATE(YEAR($K764),\"_S\",_xlfn.ISOWEEKNUM($K764)))","v":""},null,null,null,null,null,null,null,null,null,null,null,null,null,null,null,null,null,null,null,null,null,null,null,null,null,null,{"$f":"IF($K764>0,$K764,\"\")","v":""},{"$f":"IF($L764>0,MAX($L764,$P764,$Q764),\"\")","v":""}]
[{"$f":"IF(K765=\"\",\"\",CONCATENATE(YEAR($K765),\"_S\",_xlfn.ISOWEEKNUM($K765)))","v":""},null,null,null,null,null,null,null,null,null,null,null,null,null,null,null,null,null,null,null,null,null,null,null,null,null,null,{"$f":"IF($K765>0,$K765,\"\")","v":""},{"$f":"IF($L765>0,MAX($L765,$P765,$Q765),\"\")","v":""}]
[{"$f":"IF(K766=\"\",\"\",CONCATENATE(YEAR($K766),\"_S\",_xlfn.ISOWEEKNUM($K766)))","v":""},null,null,null,null,null,null,null,null,null,null,null,null,null,null,null,null,null,null,null,null,null,null,null,null,null,null,{"$f":"IF($K766>0,$K766,\"\")","v":""},{"$f":"IF($L766>0,MAX($L766,$P766,$Q766),\"\")","v":""}]
[{"$f":"IF(K767=\"\",\"\",CONCATENATE(YEAR($K767),\"_S\",_xlfn.ISOWEEKNUM($K767)))","v":""},null,null,null,null,null,null,null,null,null,null,null,null,null,null,null,null,null,null,null,null,null,null,null,null,null,null,{"$f":"IF($K767>0,$K767,\"\")","v":""},{"$f":"IF($L767>0,MAX($L767,$P767,$Q767),\"\")","v":""}]
[{"$f":"IF(K768=\"\",\"\",CONCATENATE(YEAR($K768),\"_S\",_xlfn.ISOWEEKNUM($K768)))","v":""},null,null,null,null,null,null,null,null,null,null,null,null,null,null,null,null,null,null,null,null,null,null,null,null,null,null,{"$f":"IF($K768>0,$K768,\"\")","v":""},{"$f":"IF($L768>0,MAX($L768,$P768,$Q768),\"\")","v":""}]
[{"$f":"IF(K769=\"\",\"\",CONCATENATE(YEAR($K769),\"_S\",_xlfn.ISOWEEKNUM($K769)))","v":""},null,null,null,null,null,null,null,null,null,null,null,null,null,null,null,null,null,null,null,null,null,null,null,null,null,null,{"$f":"IF($K769>0,$K769,\"\")","v":""},{"$f":"IF($L769>0,MAX($L769,$P769,$Q769),\"\")","v":""}]
[{"$f":"IF(K770=\"\",\"\",CONCATENATE(YEAR($K770),\"_S\",_xlfn.ISOWEEKNUM($K770)))","v":""},null,null,null,null,null,null,null,null,null,null,null,null,null,null,null,null,null,null,null,null,null,null,null,null,null,null,{"$f":"IF($K770>0,$K770,\"\")","v":""},{"$f":"IF($L770>0,MAX($L770,$P770,$Q770),\"\")","v":""}]
[{"$f":"IF(K771=\"\",\"\",CONCATENATE(YEAR($K771),\"_S\",_xlfn.ISOWEEKNUM($K771)))","v":""},null,null,null,null,null,null,null,null,null,null,null,null,null,null,null,null,null,null,null,null,null,null,null,null,null,null,{"$f":"IF($K771>0,$K771,\"\")","v":""},{"$f":"IF($L771>0,MAX($L771,$P771,$Q771),\"\")","v":""}]
[{"$f":"IF(K772=\"\",\"\",CONCATENATE(YEAR($K772),\"_S\",_xlfn.ISOWEEKNUM($K772)))","v":""},null,null,null,null,null,null,null,null,null,null,null,null,null,null,null,null,null,null,null,null,null,null,null,null,null,null,{"$f":"IF($K772>0,$K772,\"\")","v":""},{"$f":"IF($L772>0,MAX($L772,$P772,$Q772),\"\")","v":""}]
[{"$f":"IF(K773=\"\",\"\",CONCATENATE(YEAR($K773),\"_S\",_xlfn.ISOWEEKNUM($K773)))","v":""},null,null,null,null,null,null,null,null,null,null,null,null,null,null,null,null,null,null,null,null,null,null,null,null,null,null,{"$f":"IF($K773>0,$K773,\"\")","v":""},{"$f":"IF($L773>0,MAX($L773,$P773,$Q773),\"\")","v":""}]
[{"$f":"IF(K774=\"\",\"\",CONCATENATE(YEAR($K774),\"_S\",_xlfn.ISOWEEKNUM($K774)))","v":""},null,null,null,null,null,null,null,null,null,null,null,null,null,null,null,null,null,null,null,null,null,null,null,null,null,null,{"$f":"IF($K774>0,$K774,\"\")","v":""},{"$f":"IF($L774>0,MAX($L774,$P774,$Q774),\"\")","v":""}]
[{"$f":"IF(K775=\"\",\"\",CONCATENATE(YEAR($K775),\"_S\",_xlfn.ISOWEEKNUM($K775)))","v":""},null,null,null,null,null,null,null,null,null,null,null,null,null,null,null,null,null,null,null,null,null,null,null,null,null,null,{"$f":"IF($K775>0,$K775,\"\")","v":""},{"$f":"IF($L775>0,MAX($L775,$P775,$Q775),\"\")","v":""}]
[{"$f":"IF(K776=\"\",\"\",CONCATENATE(YEAR($K776),\"_S\",_xlfn.ISOWEEKNUM($K776)))","v":""},null,null,null,null,null,null,null,null,null,null,null,null,null,null,null,null,null,null,null,null,null,null,null,null,null,null,{"$f":"IF($K776>0,$K776,\"\")","v":""},{"$f":"IF($L776>0,MAX($L776,$P776,$Q776),\"\")","v":""}]
[{"$f":"IF(K777=\"\",\"\",CONCATENATE(YEAR($K777),\"_S\",_xlfn.ISOWEEKNUM($K777)))","v":""},null,null,null,null,null,null,null,null,null,null,null,null,null,null,null,null,null,null,null,null,null,null,null,null,null,null,{"$f":"IF($K777>0,$K777,\"\")","v":""},{"$f":"IF($L777>0,MAX($L777,$P777,$Q777),\"\")","v":""}]
[{"$f":"IF(K778=\"\",\"\",CONCATENATE(YEAR($K778),\"_S\",_xlfn.ISOWEEKNUM($K778)))","v":""},null,null,null,null,null,null,null,null,null,null,null,null,null,null,null,null,null,null,null,null,null,null,null,null,null,null,{"$f":"IF($K778>0,$K778,\"\")","v":""},{"$f":"IF($L778>0,MAX($L778,$P778,$Q778),\"\")","v":""}]
[{"$f":"IF(K779=\"\",\"\",CONCATENATE(YEAR($K779),\"_S\",_xlfn.ISOWEEKNUM($K779)))","v":""},null,null,null,null,null,null,null,null,null,null,null,null,null,null,null,null,null,null,null,null,null,null,null,null,null,null,{"$f":"IF($K779>0,$K779,\"\")","v":""},{"$f":"IF($L779>0,MAX($L779,$P779,$Q779),\"\")","v":""}]
[{"$f":"IF(K780=\"\",\"\",CONCATENATE(YEAR($K780),\"_S\",_xlfn.ISOWEEKNUM($K780)))","v":""},null,null,null,null,null,null,null,null,null,null,null,null,null,null,null,null,null,null,null,null,null,null,null,null,null,null,{"$f":"IF($K780>0,$K780,\"\")","v":""},{"$f":"IF($L780>0,MAX($L780,$P780,$Q780),\"\")","v":""}]
[{"$f":"IF(K781=\"\",\"\",CONCATENATE(YEAR($K781),\"_S\",_xlfn.ISOWEEKNUM($K781)))","v":""},null,null,null,null,null,null,null,null,null,null,null,null,null,null,null,null,null,null,null,null,null,null,null,null,null,null,{"$f":"IF($K781>0,$K781,\"\")","v":""},{"$f":"IF($L781>0,MAX($L781,$P781,$Q781),\"\")","v":""}]
[{"$f":"IF(K782=\"\",\"\",CONCATENATE(YEAR($K782),\"_S\",_xlfn.ISOWEEKNUM($K782)))","v":""},null,null,null,null,null,null,null,null,null,null,null,null,null,null,null,null,null,null,null,null,null,null,null,null,null,null,{"$f":"IF($K782>0,$K782,\"\")","v":""},{"$f":"IF($L782>0,MAX($L782,$P782,$Q782),\"\")","v":""}]
[{"$f":"IF(K783=\"\",\"\",CONCATENATE(YEAR($K783),\"_S\",_xlfn.ISOWEEKNUM($K783)))","v":""},null,null,null,null,null,null,null,null,null,null,null,null,null,null,null,null,null,null,null,null,null,null,null,null,null,null,{"$f":"IF($K783>0,$K783,\"\")","v":""},{"$f":"IF($L783>0,MAX($L783,$P783,$Q783),\"\")","v":""}]
[{"$f":"IF(K784=\"\",\"\",CONCATENATE(YEAR($K784),\"_S\",_xlfn.ISOWEEKNUM($K784)))","v":""},null,null,null,null,null,null,null,null,null,null,null,null,null,null,null,null,null,null,null,null,null,null,null,null,null,null,{"$f":"IF($K784>0,$K784,\"\")","v":""},{"$f":"IF($L784>0,MAX($L784,$P784,$Q784),\"\")","v":""}]
[{"$f":"IF(K785=\"\",\"\",CONCATENATE(YEAR($K785),\"_S\",_xlfn.ISOWEEKNUM($K785)))","v":""},null,null,null,null,null,null,null,null,null,null,null,null,null,null,null,null,null,null,null,null,null,null,null,null,null,null,{"$f":"IF($K785>0,$K785,\"\")","v":""},{"$f":"IF($L785>0,MAX($L785,$P785,$Q785),\"\")","v":""}]
[{"$f":"IF(K786=\"\",\"\",CONCATENATE(YEAR($K786),\"_S\",_xlfn.ISOWEEKNUM($K786)))","v":""},null,null,null,null,null,null,null,null,null,null,null,null,null,null,null,null,null,null,null,null,null,null,null,null,null,null,{"$f":"IF($K786>0,$K786,\"\")","v":""},{"$f":"IF($L786>0,MAX($L786,$P786,$Q786),\"\")","v":""}]
[{"$f":"IF(K787=\"\",\"\",CONCATENATE(YEAR($K787),\"_S\",_xlfn.ISOWEEKNUM($K787)))","v":""},null,null,null,null,null,null,null,null,null,null,null,null,null,null,null,null,null,null,null,null,null,null,null,null,null,null,{"$f":"IF($K787>0,$K787,\"\")","v":""},{"$f":"IF($L787>0,MAX($L787,$P787,$Q787),\"\")","v":""}]
[{"$f":"IF(K788=\"\",\"\",CONCATENATE(YEAR($K788),\"_S\",_xlfn.ISOWEEKNUM($K788)))","v":""},null,null,null,null,null,null,null,null,null,null,null,null,null,null,null,null,null,null,null,null,null,null,null,null,null,null,{"$f":"IF($K788>0,$K788,\"\")","v":""},{"$f":"IF($L788>0,MAX($L788,$P788,$Q788),\"\")","v":""}]
[{"$f":"IF(K789=\"\",\"\",CONCATENATE(YEAR($K789),\"_S\",_xlfn.ISOWEEKNUM($K789)))","v":""},null,null,null,null,null,null,null,null,null,null,null,null,null,null,null,null,null,null,null,null,null,null,null,null,null,null,{"$f":"IF($K789>0,$K789,\"\")","v":""},{"$f":"IF($L789>0,MAX($L789,$P789,$Q789),\"\")","v":""}]
[{"$f":"IF(K790=\"\",\"\",CONCATENATE(YEAR($K790),\"_S\",_xlfn.ISOWEEKNUM($K790)))","v":""},null,null,null,null,null,null,null,null,null,null,null,null,null,null,null,null,null,null,null,null,null,null,null,null,null,null,{"$f":"IF($K790>0,$K790,\"\")","v":""},{"$f":"IF($L790>0,MAX($L790,$P790,$Q790),\"\")","v":""}]
[{"$f":"IF(K791=\"\",\"\",CONCATENATE(YEAR($K791),\"_S\",_xlfn.ISOWEEKNUM($K791)))","v":""},null,null,null,null,null,null,null,null,null,null,null,null,null,null,null,null,null,null,null,null,null,null,null,null,null,null,{"$f":"IF($K791>0,$K791,\"\")","v":""},{"$f":"IF($L791>0,MAX($L791,$P791,$Q791),\"\")","v":""}]
[{"$f":"IF(K792=\"\",\"\",CONCATENATE(YEAR($K792),\"_S\",_xlfn.ISOWEEKNUM($K792)))","v":""},null,null,null,null,null,null,null,null,null,null,null,null,null,null,null,null,null,null,null,null,null,null,null,null,null,null,{"$f":"IF($K792>0,$K792,\"\")","v":""},{"$f":"IF($L792>0,MAX($L792,$P792,$Q792),\"\")","v":""}]
[{"$f":"IF(K793=\"\",\"\",CONCATENATE(YEAR($K793),\"_S\",_xlfn.ISOWEEKNUM($K793)))","v":""},null,null,null,null,null,null,null,null,null,null,null,null,null,null,null,null,null,null,null,null,null,null,null,null,null,null,{"$f":"IF($K793>0,$K793,\"\")","v":""},{"$f":"IF($L793>0,MAX($L793,$P793,$Q793),\"\")","v":""}]
[{"$f":"IF(K794=\"\",\"\",CONCATENATE(YEAR($K794),\"_S\",_xlfn.ISOWEEKNUM($K794)))","v":""},null,null,null,null,null,null,null,null,null,null,null,null,null,null,null,null,null,null,null,null,null,null,null,null,null,null,{"$f":"IF($K794>0,$K794,\"\")","v":""},{"$f":"IF($L794>0,MAX($L794,$P794,$Q794),\"\")","v":""}]
[{"$f":"IF(K795=\"\",\"\",CONCATENATE(YEAR($K795),\"_S\",_xlfn.ISOWEEKNUM($K795)))","v":""},null,null,null,null,null,null,null,null,null,null,null,null,null,null,null,null,null,null,null,null,null,null,null,null,null,null,{"$f":"IF($K795>0,$K795,\"\")","v":""},{"$f":"IF($L795>0,MAX($L795,$P795,$Q795),\"\")","v":""}]
[{"$f":"IF(K796=\"\",\"\",CONCATENATE(YEAR($K796),\"_S\",_xlfn.ISOWEEKNUM($K796)))","v":""},null,null,null,null,null,null,null,null,null,null,null,null,null,null,null,null,null,null,null,null,null,null,null,null,null,null,{"$f":"IF($K796>0,$K796,\"\")","v":""},{"$f":"IF($L796>0,MAX($L796,$P796,$Q796),\"\")","v":""}]
[{"$f":"IF(K797=\"\",\"\",CONCATENATE(YEAR($K797),\"_S\",_xlfn.ISOWEEKNUM($K797)))","v":""},null,null,null,null,null,null,null,null,null,null,null,null,null,null,null,null,null,null,null,null,null,null,null,null,null,null,{"$f":"IF($K797>0,$K797,\"\")","v":""},{"$f":"IF($L797>0,MAX($L797,$P797,$Q797),\"\")","v":""}]
[{"$f":"IF(K798=\"\",\"\",CONCATENATE(YEAR($K798),\"_S\",_xlfn.ISOWEEKNUM($K798)))","v":""},null,null,null,null,null,null,null,null,null,null,null,null,null,null,null,null,null,null,null,null,null,null,null,null,null,null,{"$f":"IF($K798>0,$K798,\"\")","v":""},{"$f":"IF($L798>0,MAX($L798,$P798,$Q798),\"\")","v":""}]
[{"$f":"IF(K799=\"\",\"\",CONCATENATE(YEAR($K799),\"_S\",_xlfn.ISOWEEKNUM($K799)))","v":""},null,null,null,null,null,null,null,null,null,null,null,null,null,null,null,null,null,null,null,null,null,null,null,null,null,null,{"$f":"IF($K799>0,$K799,\"\")","v":""},{"$f":"IF($L799>0,MAX($L799,$P799,$Q799),\"\")","v":""}]
[{"$f":"IF(K800=\"\",\"\",CONCATENATE(YEAR($K800),\"_S\",_xlfn.ISOWEEKNUM($K800)))","v":""},null,null,null,null,null,null,null,null,null,null,null,null,null,null,null,null,null,null,null,null,null,null,null,null,null,null,{"$f":"IF($K800>0,$K800,\"\")","v":""},{"$f":"IF($L800>0,MAX($L800,$P800,$Q800),\"\")","v":""}]
[{"$f":"IF(K801=\"\",\"\",CONCATENATE(YEAR($K801),\"_S\",_xlfn.ISOWEEKNUM($K801)))","v":""},null,null,null,null,null,null,null,null,null,null,null,null,null,null,null,null,null,null,null,null,null,null,null,null,null,null,{"$f":"IF($K801>0,$K801,\"\")","v":""},{"$f":"IF($L801>0,MAX($L801,$P801,$Q801),\"\")","v":""}]
[{"$f":"IF(K802=\"\",\"\",CONCATENATE(YEAR($K802),\"_S\",_xlfn.ISOWEEKNUM($K802)))","v":""},null,null,null,null,null,null,null,null,null,null,null,null,null,null,null,null,null,null,null,null,null,null,null,null,null,null,{"$f":"IF($K802>0,$K802,\"\")","v":""},{"$f":"IF($L802>0,MAX($L802,$P802,$Q802),\"\")","v":""}]
[{"$f":"IF(K803=\"\",\"\",CONCATENATE(YEAR($K803),\"_S\",_xlfn.ISOWEEKNUM($K803)))","v":""},null,null,null,null,null,null,null,null,null,null,null,null,null,null,null,null,null,null,null,null,null,null,null,null,null,null,{"$f":"IF($K803>0,$K803,\"\")","v":""},{"$f":"IF($L803>0,MAX($L803,$P803,$Q803),\"\")","v":""}]
[{"$f":"IF(K804=\"\",\"\",CONCATENATE(YEAR($K804),\"_S\",_xlfn.ISOWEEKNUM($K804)))","v":""},null,null,null,null,null,null,null,null,null,null,null,null,null,null,null,null,null,null,null,null,null,null,null,null,null,null,{"$f":"IF($K804>0,$K804,\"\")","v":""},{"$f":"IF($L804>0,MAX($L804,$P804,$Q804),\"\")","v":""}]
[{"$f":"IF(K805=\"\",\"\",CONCATENATE(YEAR($K805),\"_S\",_xlfn.ISOWEEKNUM($K805)))","v":""},null,null,null,null,null,null,null,null,null,null,null,null,null,null,null,null,null,null,null,null,null,null,null,null,null,null,{"$f":"IF($K805>0,$K805,\"\")","v":""},{"$f":"IF($L805>0,MAX($L805,$P805,$Q805),\"\")","v":""}]
[{"$f":"IF(K806=\"\",\"\",CONCATENATE(YEAR($K806),\"_S\",_xlfn.ISOWEEKNUM($K806)))","v":""},null,null,null,null,null,null,null,null,null,null,null,null,null,null,null,null,null,null,null,null,null,null,null,null,null,null,{"$f":"IF($K806>0,$K806,\"\")","v":""},{"$f":"IF($L806>0,MAX($L806,$P806,$Q806),\"\")","v":""}]
[{"$f":"IF(K807=\"\",\"\",CONCATENATE(YEAR($K807),\"_S\",_xlfn.ISOWEEKNUM($K807)))","v":""},null,null,null,null,null,null,null,null,null,null,null,null,null,null,null,null,null,null,null,null,null,null,null,null,null,null,{"$f":"IF($K807>0,$K807,\"\")","v":""},{"$f":"IF($L807>0,MAX($L807,$P807,$Q807),\"\")","v":""}]
[{"$f":"IF(K808=\"\",\"\",CONCATENATE(YEAR($K808),\"_S\",_xlfn.ISOWEEKNUM($K808)))","v":""},null,null,null,null,null,null,null,null,null,null,null,null,null,null,null,null,null,null,null,null,null,null,null,null,null,null,{"$f":"IF($K808>0,$K808,\"\")","v":""},{"$f":"IF($L808>0,MAX($L808,$P808,$Q808),\"\")","v":""}]
[{"$f":"IF(K809=\"\",\"\",CONCATENATE(YEAR($K809),\"_S\",_xlfn.ISOWEEKNUM($K809)))","v":""},null,null,null,null,null,null,null,null,null,null,null,null,null,null,null,null,null,null,null,null,null,null,null,null,null,null,{"$f":"IF($K809>0,$K809,\"\")","v":""},{"$f":"IF($L809>0,MAX($L809,$P809,$Q809),\"\")","v":""}]
[{"$f":"IF(K810=\"\",\"\",CONCATENATE(YEAR($K810),\"_S\",_xlfn.ISOWEEKNUM($K810)))","v":""},null,null,null,null,null,null,null,null,null,null,null,null,null,null,null,null,null,null,null,null,null,null,null,null,null,null,{"$f":"IF($K810>0,$K810,\"\")","v":""},{"$f":"IF($L810>0,MAX($L810,$P810,$Q810),\"\")","v":""}]
[{"$f":"IF(K811=\"\",\"\",CONCATENATE(YEAR($K811),\"_S\",_xlfn.ISOWEEKNUM($K811)))","v":""},null,null,null,null,null,null,null,null,null,null,null,null,null,null,null,null,null,null,null,null,null,null,null,null,null,null,{"$f":"IF($K811>0,$K811,\"\")","v":""},{"$f":"IF($L811>0,MAX($L811,$P811,$Q811),\"\")","v":""}]
[{"$f":"IF(K812=\"\",\"\",CONCATENATE(YEAR($K812),\"_S\",_xlfn.ISOWEEKNUM($K812)))","v":""},null,null,null,null,null,null,null,null,null,null,null,null,null,null,null,null,null,null,null,null,null,null,null,null,null,null,{"$f":"IF($K812>0,$K812,\"\")","v":""},{"$f":"IF($L812>0,MAX($L812,$P812,$Q812),\"\")","v":""}]
[{"$f":"IF(K813=\"\",\"\",CONCATENATE(YEAR($K813),\"_S\",_xlfn.ISOWEEKNUM($K813)))","v":""},null,null,null,null,null,null,null,null,null,null,null,null,null,null,null,null,null,null,null,null,null,null,null,null,null,null,{"$f":"IF($K813>0,$K813,\"\")","v":""},{"$f":"IF($L813>0,MAX($L813,$P813,$Q813),\"\")","v":""}]
[{"$f":"IF(K814=\"\",\"\",CONCATENATE(YEAR($K814),\"_S\",_xlfn.ISOWEEKNUM($K814)))","v":""},null,null,null,null,null,null,null,null,null,null,null,null,null,null,null,null,null,null,null,null,null,null,null,null,null,null,{"$f":"IF($K814>0,$K814,\"\")","v":""},{"$f":"IF($L814>0,MAX($L814,$P814,$Q814),\"\")","v":""}]
[{"$f":"IF(K815=\"\",\"\",CONCATENATE(YEAR($K815),\"_S\",_xlfn.ISOWEEKNUM($K815)))","v":""},null,null,null,null,null,null,null,null,null,null,null,null,null,null,null,null,null,null,null,null,null,null,null,null,null,null,{"$f":"IF($K815>0,$K815,\"\")","v":""},{"$f":"IF($L815>0,MAX($L815,$P815,$Q815),\"\")","v":""}]
[{"$f":"IF(K816=\"\",\"\",CONCATENATE(YEAR($K816),\"_S\",_xlfn.ISOWEEKNUM($K816)))","v":""},null,null,null,null,null,null,null,null,null,null,null,null,null,null,null,null,null,null,null,null,null,null,null,null,null,null,{"$f":"IF($K816>0,$K816,\"\")","v":""},{"$f":"IF($L816>0,MAX($L816,$P816,$Q816),\"\")","v":""}]
[{"$f":"IF(K817=\"\",\"\",CONCATENATE(YEAR($K817),\"_S\",_xlfn.ISOWEEKNUM($K817)))","v":""},null,null,null,null,null,null,null,null,null,null,null,null,null,null,null,null,null,null,null,null,null,null,null,null,null,null,{"$f":"IF($K817>0,$K817,\"\")","v":""},{"$f":"IF($L817>0,MAX($L817,$P817,$Q817),\"\")","v":""}]
[{"$f":"IF(K818=\"\",\"\",CONCATENATE(YEAR($K818),\"_S\",_xlfn.ISOWEEKNUM($K818)))","v":""},null,null,null,null,null,null,null,null,null,null,null,null,null,null,null,null,null,null,null,null,null,null,null,null,null,null,{"$f":"IF($K818>0,$K818,\"\")","v":""},{"$f":"IF($L818>0,MAX($L818,$P818,$Q818),\"\")","v":""}]
[{"$f":"IF(K819=\"\",\"\",CONCATENATE(YEAR($K819),\"_S\",_xlfn.ISOWEEKNUM($K819)))","v":""}]
[{"$f":"IF(K820=\"\",\"\",CONCATENATE(YEAR($K820),\"_S\",_xlfn.ISOWEEKNUM($K820)))","v":""}]
[{"$f":"IF(K821=\"\",\"\",CONCATENATE(YEAR($K821),\"_S\",_xlfn.ISOWEEKNUM($K821)))","v":""}]
[{"$f":"IF(K822=\"\",\"\",CONCATENATE(YEAR($K822),\"_S\",_xlfn.ISOWEEKNUM($K822)))","v":""}]
[{"$f":"IF(K823=\"\",\"\",CONCATENATE(YEAR($K823),\"_S\",_xlfn.ISOWEEKNUM($K823)))","v":""}]
[{"$f":"IF(K824=\"\",\"\",CONCATENATE(YEAR($K824),\"_S\",_xlfn.ISOWEEKNUM($K824)))","v":""}]
[{"$f":"IF(K825=\"\",\"\",CONCATENATE(YEAR($K825),\"_S\",_xlfn.ISOWEEKNUM($K825)))","v":""}]
[{"$f":"IF(K826=\"\",\"\",CONCATENATE(YEAR($K826),\"_S\",_xlfn.ISOWEEKNUM($K826)))","v":""}]
[{"$f":"IF(K827=\"\",\"\",CONCATENATE(YEAR($K827),\"_S\",_xlfn.ISOWEEKNUM($K827)))","v":""}]
[{"$f":"IF(K828=\"\",\"\",CONCATENATE(YEAR($K828),\"_S\",_xlfn.ISOWEEKNUM($K828)))","v":""}]
[{"$f":"IF(K829=\"\",\"\",CONCATENATE(YEAR($K829),\"_S\",_xlfn.ISOWEEKNUM($K829)))","v":""}]
[{"$f":"IF(K830=\"\",\"\",CONCATENATE(YEAR($K830),\"_S\",_xlfn.ISOWEEKNUM($K830)))","v":""}]
[{"$f":"IF(K831=\"\",\"\",CONCATENATE(YEAR($K831),\"_S\",_xlfn.ISOWEEKNUM($K831)))","v":""}]
[{"$f":"IF(K832=\"\",\"\",CONCATENATE(YEAR($K832),\"_S\",_xlfn.ISOWEEKNUM($K832)))","v":""}]
[{"$f":"IF(K833=\"\",\"\",CONCATENATE(YEAR($K833),\"_S\",_xlfn.ISOWEEKNUM($K833)))","v":""}]
[{"$f":"IF(K834=\"\",\"\",CONCATENATE(YEAR($K834),\"_S\",_xlfn.ISOWEEKNUM($K834)))","v":""}]
[{"$f":"IF(K835=\"\",\"\",CONCATENATE(YEAR($K835),\"_S\",_xlfn.ISOWEEKNUM($K835)))","v":""}]
[{"$f":"IF(K836=\"\",\"\",CONCATENATE(YEAR($K836),\"_S\",_xlfn.ISOWEEKNUM($K836)))","v":""}]
[{"$f":"IF(K837=\"\",\"\",CONCATENATE(YEAR($K837),\"_S\",_xlfn.ISOWEEKNUM($K837)))","v":""}]
[{"$f":"IF(K838=\"\",\"\",CONCATENATE(YEAR($K838),\"_S\",_xlfn.ISOWEEKNUM($K838)))","v":""}]
[{"$f":"IF(K839=\"\",\"\",CONCATENATE(YEAR($K839),\"_S\",_xlfn.ISOWEEKNUM($K839)))","v":""}]
[{"$f":"IF(K840=\"\",\"\",CONCATENATE(YEAR($K840),\"_S\",_xlfn.ISOWEEKNUM($K840)))","v":""}]
[{"$f":"IF(K841=\"\",\"\",CONCATENATE(YEAR($K841),\"_S\",_xlfn.ISOWEEKNUM($K841)))","v":""}]
[{"$f":"IF(K842=\"\",\"\",CONCATENATE(YEAR($K842),\"_S\",_xlfn.ISOWEEKNUM($K842)))","v":""}]
[{"$f":"IF(K843=\"\",\"\",CONCATENATE(YEAR($K843),\"_S\",_xlfn.ISOWEEKNUM($K843)))","v":""}]
[{"$f":"IF(K844=\"\",\"\",CONCATENATE(YEAR($K844),\"_S\",_xlfn.ISOWEEKNUM($K844)))","v":""}]
[{"$f":"IF(K845=\"\",\"\",CONCATENATE(YEAR($K845),\"_S\",_xlfn.ISOWEEKNUM($K845)))","v":""}]
[{"$f":"IF(K846=\"\",\"\",CONCATENATE(YEAR($K846),\"_S\",_xlfn.ISOWEEKNUM($K846)))","v":""}]
[{"$f":"IF(K847=\"\",\"\",CONCATENATE(YEAR($K847),\"_S\",_xlfn.ISOWEEKNUM($K847)))","v":""}]
[{"$f":"IF(K848=\"\",\"\",CONCATENATE(YEAR($K848),\"_S\",_xlfn.ISOWEEKNUM($K848)))","v":""}]
[{"$f":"IF(K849=\"\",\"\",CONCATENATE(YEAR($K849),\"_S\",_xlfn.ISOWEEKNUM($K849)))","v":""}]
[{"$f":"IF(K850=\"\",\"\",CONCATENATE(YEAR($K850),\"_S\",_xlfn.ISOWEEKNUM($K850)))","v":""}]
[{"$f":"IF(K851=\"\",\"\",CONCATENATE(YEAR($K851),\"_S\",_xlfn.ISOWEEKNUM($K851)))","v":""}]
[{"$f":"IF(K852=\"\",\"\",CONCATENATE(YEAR($K852),\"_S\",_xlfn.ISOWEEKNUM($K852)))","v":""}]
[{"$f":"IF(K853=\"\",\"\",CONCATENATE(YEAR($K853),\"_S\",_xlfn.ISOWEEKNUM($K853)))","v":""}]
[{"$f":"IF(K854=\"\",\"\",CONCATENATE(YEAR($K854),\"_S\",_xlfn.ISOWEEKNUM($K854)))","v":""}]
[{"$f":"IF(K855=\"\",\"\",CONCATENATE(YEAR($K855),\"_S\",_xlfn.ISOWEEKNUM($K855)))","v":""}]
[{"$f":"IF(K856=\"\",\"\",CONCATENATE(YEAR($K856),\"_S\",_xlfn.ISOWEEKNUM($K856)))","v":""}]
[{"$f":"IF(K857=\"\",\"\",CONCATENATE(YEAR($K857),\"_S\",_xlfn.ISOWEEKNUM($K857)))","v":""}]
[{"$f":"IF(K858=\"\",\"\",CONCATENATE(YEAR($K858),\"_S\",_xlfn.ISOWEEKNUM($K858)))","v":""}]
[{"$f":"IF(K859=\"\",\"\",CONCATENATE(YEAR($K859),\"_S\",_xlfn.ISOWEEKNUM($K859)))","v":""}]
[{"$f":"IF(K860=\"\",\"\",CONCATENATE(YEAR($K860),\"_S\",_xlfn.ISOWEEKNUM($K860)))","v":""}]
[{"$f":"IF(K861=\"\",\"\",CONCATENATE(YEAR($K861),\"_S\",_xlfn.ISOWEEKNUM($K861)))","v":""}]
[{"$f":"IF(K862=\"\",\"\",CONCATENATE(YEAR($K862),\"_S\",_xlfn.ISOWEEKNUM($K862)))","v":""}]
[{"$f":"IF(K863=\"\",\"\",CONCATENATE(YEAR($K863),\"_S\",_xlfn.ISOWEEKNUM($K863)))","v":""}]
[{"$f":"IF(K864=\"\",\"\",CONCATENATE(YEAR($K864),\"_S\",_xlfn.ISOWEEKNUM($K864)))","v":""}]
[{"$f":"IF(K865=\"\",\"\",CONCATENATE(YEAR($K865),\"_S\",_xlfn.ISOWEEKNUM($K865)))","v":""}]
[{"$f":"IF(K866=\"\",\"\",CONCATENATE(YEAR($K866),\"_S\",_xlfn.ISOWEEKNUM($K866)))","v":""}]
[{"$f":"IF(K867=\"\",\"\",CONCATENATE(YEAR($K867),\"_S\",_xlfn.ISOWEEKNUM($K867)))","v":""}]
[{"$f":"IF(K868=\"\",\"\",CONCATENATE(YEAR($K868),\"_S\",_xlfn.ISOWEEKNUM($K868)))","v":""}]
[{"$f":"IF(K869=\"\",\"\",CONCATENATE(YEAR($K869),\"_S\",_xlfn.ISOWEEKNUM($K869)))","v":""}]
[{"$f":"IF(K870=\"\",\"\",CONCATENATE(YEAR($K870),\"_S\",_xlfn.ISOWEEKNUM($K870)))","v":""}]
[{"$f":"IF(K871=\"\",\"\",CONCATENATE(YEAR($K871),\"_S\",_xlfn.ISOWEEKNUM($K871)))","v":""}]
[{"$f":"IF(K872=\"\",\"\",CONCATENATE(YEAR($K872),\"_S\",_xlfn.ISOWEEKNUM($K872)))","v":""}]
[{"$f":"IF(K873=\"\",\"\",CONCATENATE(YEAR($K873),\"_S\",_xlfn.ISOWEEKNUM($K873)))","v":""}]
[{"$f":"IF(K874=\"\",\"\",CONCATENATE(YEAR($K874),\"_S\",_xlfn.ISOWEEKNUM($K874)))","v":""}]
[{"$f":"IF(K875=\"\",\"\",CONCATENATE(YEAR($K875),\"_S\",_xlfn.ISOWEEKNUM($K875)))","v":""}]
[{"$f":"IF(K876=\"\",\"\",CONCATENATE(YEAR($K876),\"_S\",_xlfn.ISOWEEKNUM($K876)))","v":""}]
[{"$f":"IF(K877=\"\",\"\",CONCATENATE(YEAR($K877),\"_S\",_xlfn.ISOWEEKNUM($K877)))","v":""}]
[{"$f":"IF(K878=\"\",\"\",CONCATENATE(YEAR($K878),\"_S\",_xlfn.ISOWEEKNUM($K878)))","v":""}]
[{"$f":"IF(K879=\"\",\"\",CONCATENATE(YEAR($K879),\"_S\",_xlfn.ISOWEEKNUM($K879)))","v":""}]
[{"$f":"IF(K880=\"\",\"\",CONCATENATE(YEAR($K880),\"_S\",_xlfn.ISOWEEKNUM($K880)))","v":""}]
[{"$f":"IF(K881=\"\",\"\",CONCATENATE(YEAR($K881),\"_S\",_xlfn.ISOWEEKNUM($K881)))","v":""}]
[{"$f":"IF(K882=\"\",\"\",CONCATENATE(YEAR($K882),\"_S\",_xlfn.ISOWEEKNUM($K882)))","v":""}]
[{"$f":"IF(K883=\"\",\"\",CONCATENATE(YEAR($K883),\"_S\",_xlfn.ISOWEEKNUM($K883)))","v":""}]
[{"$f":"IF(K884=\"\",\"\",CONCATENATE(YEAR($K884),\"_S\",_xlfn.ISOWEEKNUM($K884)))","v":""}]
[{"$f":"IF(K885=\"\",\"\",CONCATENATE(YEAR($K885),\"_S\",_xlfn.ISOWEEKNUM($K885)))","v":""}]
[{"$f":"IF(K886=\"\",\"\",CONCATENATE(YEAR($K886),\"_S\",_xlfn.ISOWEEKNUM($K886)))","v":""}]
[{"$f":"IF(K887=\"\",\"\",CONCATENATE(YEAR($K887),\"_S\",_xlfn.ISOWEEKNUM($K887)))","v":""}]
[{"$f":"IF(K888=\"\",\"\",CONCATENATE(YEAR($K888),\"_S\",_xlfn.ISOWEEKNUM($K888)))","v":""}]
[{"$f":"IF(K889=\"\",\"\",CONCATENATE(YEAR($K889),\"_S\",_xlfn.ISOWEEKNUM($K889)))","v":""}]
[{"$f":"IF(K890=\"\",\"\",CONCATENATE(YEAR($K890),\"_S\",_xlfn.ISOWEEKNUM($K890)))","v":""}]
[{"$f":"IF(K891=\"\",\"\",CONCATENATE(YEAR($K891),\"_S\",_xlfn.ISOWEEKNUM($K891)))","v":""}]
[{"$f":"IF(K892=\"\",\"\",CONCATENATE(YEAR($K892),\"_S\",_xlfn.ISOWEEKNUM($K892)))","v":""}]
[{"$f":"IF(K893=\"\",\"\",CONCATENATE(YEAR($K893),\"_S\",_xlfn.ISOWEEKNUM($K893)))","v":""}]
[{"$f":"IF(K894=\"\",\"\",CONCATENATE(YEAR($K894),\"_S\",_xlfn.ISOWEEKNUM($K894)))","v":""}]
[{"$f":"IF(K895=\"\",\"\",CONCATENATE(YEAR($K895),\"_S\",_xlfn.ISOWEEKNUM($K895)))","v":""}]
[{"$f":"IF(K896=\"\",\"\",CONCATENATE(YEAR($K896),\"_S\",_xlfn.ISOWEEKNUM($K896)))","v":""}]
[{"$f":"IF(K897=\"\",\"\",CONCATENATE(YEAR($K897),\"_S\",_xlfn.ISOWEEKNUM($K897)))","v":""}]
[{"$f":"IF(K898=\"\",\"\",CONCATENATE(YEAR($K898),\"_S\",_xlfn.ISOWEEKNUM($K898)))","v":""}]
[{"$f":"IF(K899=\"\",\"\",CONCATENATE(YEAR($K899),\"_S\",_xlfn.ISOWEEKNUM($K899)))","v":""}]
[{"$f":"IF(K900=\"\",\"\",CONCATENATE(YEAR($K900),\"_S\",_xlfn.ISOWEEKNUM($K900)))","v":""}]
[{"$f":"IF(K901=\"\",\"\",CONCATENATE(YEAR($K901),\"_S\",_xlfn.ISOWEEKNUM($K901)))","v":""}]
[{"$f":"IF(K902=\"\",\"\",CONCATENATE(YEAR($K902),\"_S\",_xlfn.ISOWEEKNUM($K902)))","v":""}]
[{"$f":"IF(K903=\"\",\"\",CONCATENATE(YEAR($K903),\"_S\",_xlfn.ISOWEEKNUM($K903)))","v":""}]
[{"$f":"IF(K904=\"\",\"\",CONCATENATE(YEAR($K904),\"_S\",_xlfn.ISOWEEKNUM($K904)))","v":""}]
[{"$f":"IF(K905=\"\",\"\",CONCATENATE(YEAR($K905),\"_S\",_xlfn.ISOWEEKNUM($K905)))","v":""}]
[{"$f":"IF(K906=\"\",\"\",CONCATENATE(YEAR($K906),\"_S\",_xlfn.ISOWEEKNUM($K906)))","v":""}]
[{"$f":"IF(K907=\"\",\"\",CONCATENATE(YEAR($K907),\"_S\",_xlfn.ISOWEEKNUM($K907)))","v":""}]
[{"$f":"IF(K908=\"\",\"\",CONCATENATE(YEAR($K908),\"_S\",_xlfn.ISOWEEKNUM($K908)))","v":""}]
[{"$f":"IF(K909=\"\",\"\",CONCATENATE(YEAR($K909),\"_S\",_xlfn.ISOWEEKNUM($K909)))","v":""}]
[{"$f":"IF(K910=\"\",\"\",CONCATENATE(YEAR($K910),\"_S\",_xlfn.ISOWEEKNUM($K910)))","v":""}]
[{"$f":"IF(K911=\"\",\"\",CONCATENATE(YEAR($K911),\"_S\",_xlfn.ISOWEEKNUM($K911)))","v":""}]
[{"$f":"IF(K912=\"\",\"\",CONCATENATE(YEAR($K912),\"_S\",_xlfn.ISOWEEKNUM($K912)))","v":""}]
[{"$f":"IF(K913=\"\",\"\",CONCATENATE(YEAR($K913),\"_S\",_xlfn.ISOWEEKNUM($K913)))","v":""}]
[{"$f":"IF(K914=\"\",\"\",CONCATENATE(YEAR($K914),\"_S\",_xlfn.ISOWEEKNUM($K914)))","v":""}]
[{"$f":"IF(K915=\"\",\"\",CONCATENATE(YEAR($K915),\"_S\",_xlfn.ISOWEEKNUM($K915)))","v":""}]
[{"$f":"IF(K916=\"\",\"\",CONCATENATE(YEAR($K916),\"_S\",_xlfn.ISOWEEKNUM($K916)))","v":""}]
[{"$f":"IF(K917=\"\",\"\",CONCATENATE(YEAR($K917),\"_S\",_xlfn.ISOWEEKNUM($K917)))","v":""}]
[{"$f":"IF(K918=\"\",\"\",CONCATENATE(YEAR($K918),\"_S\",_xlfn.ISOWEEKNUM($K918)))","v":""}]
[{"$f":"IF(K919=\"\",\"\",CONCATENATE(YEAR($K919),\"_S\",_xlfn.ISOWEEKNUM($K919)))","v":""}]
[{"$f":"IF(K920=\"\",\"\",CONCATENATE(YEAR($K920),\"_S\",_xlfn.ISOWEEKNUM($K920)))","v":""}]
[{"$f":"IF(K921=\"\",\"\",CONCATENATE(YEAR($K921),\"_S\",_xlfn.ISOWEEKNUM($K921)))","v":""}]
[{"$f":"IF(K922=\"\",\"\",CONCATENATE(YEAR($K922),\"_S\",_xlfn.ISOWEEKNUM($K922)))","v":""}]
[{"$f":"IF(K923=\"\",\"\",CONCATENATE(YEAR($K923),\"_S\",_xlfn.ISOWEEKNUM($K923)))","v":""}]
[{"$f":"IF(K924=\"\",\"\",CONCATENATE(YEAR($K924),\"_S\",_xlfn.ISOWEEKNUM($K924)))","v":""}]
[{"$f":"IF(K925=\"\",\"\",CONCATENATE(YEAR($K925),\"_S\",_xlfn.ISOWEEKNUM($K925)))","v":""}]
[{"$f":"IF(K926=\"\",\"\",CONCATENATE(YEAR($K926),\"_S\",_xlfn.ISOWEEKNUM($K926)))","v":""}]
[{"$f":"IF(K927=\"\",\"\",CONCATENATE(YEAR($K927),\"_S\",_xlfn.ISOWEEKNUM($K927)))","v":""}]
[{"$f":"IF(K928=\"\",\"\",CONCATENATE(YEAR($K928),\"_S\",_xlfn.ISOWEEKNUM($K928)))","v":""}]
[{"$f":"IF(K929=\"\",\"\",CONCATENATE(YEAR($K929),\"_S\",_xlfn.ISOWEEKNUM($K929)))","v":""}]
[{"$f":"IF(K930=\"\",\"\",CONCATENATE(YEAR($K930),\"_S\",_xlfn.ISOWEEKNUM($K930)))","v":""}]
[{"$f":"IF(K931=\"\",\"\",CONCATENATE(YEAR($K931),\"_S\",_xlfn.ISOWEEKNUM($K931)))","v":""}]
[{"$f":"IF(K932=\"\",\"\",CONCATENATE(YEAR($K932),\"_S\",_xlfn.ISOWEEKNUM($K932)))","v":""}]
[{"$f":"IF(K933=\"\",\"\",CONCATENATE(YEAR($K933),\"_S\",_xlfn.ISOWEEKNUM($K933)))","v":""}]
[{"$f":"IF(K934=\"\",\"\",CONCATENATE(YEAR($K934),\"_S\",_xlfn.ISOWEEKNUM($K934)))","v":""}]
[{"$f":"IF(K935=\"\",\"\",CONCATENATE(YEAR($K935),\"_S\",_xlfn.ISOWEEKNUM($K935)))","v":""}]
[{"$f":"IF(K936=\"\",\"\",CONCATENATE(YEAR($K936),\"_S\",_xlfn.ISOWEEKNUM($K936)))","v":""}]
[{"$f":"IF(K937=\"\",\"\",CONCATENATE(YEAR($K937),\"_S\",_xlfn.ISOWEEKNUM($K937)))","v":""}]
[{"$f":"IF(K938=\"\",\"\",CONCATENATE(YEAR($K938),\"_S\",_xlfn.ISOWEEKNUM($K938)))","v":""}]
[{"$f":"IF(K939=\"\",\"\",CONCATENATE(YEAR($K939),\"_S\",_xlfn.ISOWEEKNUM($K939)))","v":""}]
[{"$f":"IF(K940=\"\",\"\",CONCATENATE(YEAR($K940),\"_S\",_xlfn.ISOWEEKNUM($K940)))","v":""}]
[{"$f":"IF(K941=\"\",\"\",CONCATENATE(YEAR($K941),\"_S\",_xlfn.ISOWEEKNUM($K941)))","v":""}]
[{"$f":"IF(K942=\"\",\"\",CONCATENATE(YEAR($K942),\"_S\",_xlfn.ISOWEEKNUM($K942)))","v":""}]
[{"$f":"IF(K943=\"\",\"\",CONCATENATE(YEAR($K943),\"_S\",_xlfn.ISOWEEKNUM($K943)))","v":""}]
[{"$f":"IF(K944=\"\",\"\",CONCATENATE(YEAR($K944),\"_S\",_xlfn.ISOWEEKNUM($K944)))","v":""}]
[{"$f":"IF(K945=\"\",\"\",CONCATENATE(YEAR($K945),\"_S\",_xlfn.ISOWEEKNUM($K945)))","v":""}]
[{"$f":"IF(K946=\"\",\"\",CONCATENATE(YEAR($K946),\"_S\",_xlfn.ISOWEEKNUM($K946)))","v":""}]
[{"$f":"IF(K947=\"\",\"\",CONCATENATE(YEAR($K947),\"_S\",_xlfn.ISOWEEKNUM($K947)))","v":""}]
[{"$f":"IF(K948=\"\",\"\",CONCATENATE(YEAR($K948),\"_S\",_xlfn.ISOWEEKNUM($K948)))","v":""}]
[{"$f":"IF(K949=\"\",\"\",CONCATENATE(YEAR($K949),\"_S\",_xlfn.ISOWEEKNUM($K949)))","v":""}]
[{"$f":"IF(K950=\"\",\"\",CONCATENATE(YEAR($K950),\"_S\",_xlfn.ISOWEEKNUM($K950)))","v":""}]
[{"$f":"IF(K951=\"\",\"\",CONCATENATE(YEAR($K951),\"_S\",_xlfn.ISOWEEKNUM($K951)))","v":""}]
[{"$f":"IF(K952=\"\",\"\",CONCATENATE(YEAR($K952),\"_S\",_xlfn.ISOWEEKNUM($K952)))","v":""}]
[{"$f":"IF(K953=\"\",\"\",CONCATENATE(YEAR($K953),\"_S\",_xlfn.ISOWEEKNUM($K953)))","v":""}]
[{"$f":"IF(K954=\"\",\"\",CONCATENATE(YEAR($K954),\"_S\",_xlfn.ISOWEEKNUM($K954)))","v":""}]
[{"$f":"IF(K955=\"\",\"\",CONCATENATE(YEAR($K955),\"_S\",_xlfn.ISOWEEKNUM($K955)))","v":""}]
[{"$f":"IF(K956=\"\",\"\",CONCATENATE(YEAR($K956),\"_S\",_xlfn.ISOWEEKNUM($K956)))","v":""}]
[{"$f":"IF(K957=\"\",\"\",CONCATENATE(YEAR($K957),\"_S\",_xlfn.ISOWEEKNUM($K957)))","v":""}]
[{"$f":"IF(K958=\"\",\"\",CONCATENATE(YEAR($K958),\"_S\",_xlfn.ISOWEEKNUM($K958)))","v":""}]
[{"$f":"IF(K959=\"\",\"\",CONCATENATE(YEAR($K959),\"_S\",_xlfn.ISOWEEKNUM($K959)))","v":""}]
[{"$f":"IF(K960=\"\",\"\",CONCATENATE(YEAR($K960),\"_S\",_xlfn.ISOWEEKNUM($K960)))","v":""}]
[{"$f":"IF(K961=\"\",\"\",CONCATENATE(YEAR($K961),\"_S\",_xlfn.ISOWEEKNUM($K961)))","v":""}]
[{"$f":"IF(K962=\"\",\"\",CONCATENATE(YEAR($K962),\"_S\",_xlfn.ISOWEEKNUM($K962)))","v":""}]
[{"$f":"IF(K963=\"\",\"\",CONCATENATE(YEAR($K963),\"_S\",_xlfn.ISOWEEKNUM($K963)))","v":""}]
[{"$f":"IF(K964=\"\",\"\",CONCATENATE(YEAR($K964),\"_S\",_xlfn.ISOWEEKNUM($K964)))","v":""}]
[{"$f":"IF(K965=\"\",\"\",CONCATENATE(YEAR($K965),\"_S\",_xlfn.ISOWEEKNUM($K965)))","v":""}]
[{"$f":"IF(K966=\"\",\"\",CONCATENATE(YEAR($K966),\"_S\",_xlfn.ISOWEEKNUM($K966)))","v":""}]
[{"$f":"IF(K967=\"\",\"\",CONCATENATE(YEAR($K967),\"_S\",_xlfn.ISOWEEKNUM($K967)))","v":""}]
[{"$f":"IF(K968=\"\",\"\",CONCATENATE(YEAR($K968),\"_S\",_xlfn.ISOWEEKNUM($K968)))","v":""}]
[{"$f":"IF(K969=\"\",\"\",CONCATENATE(YEAR($K969),\"_S\",_xlfn.ISOWEEKNUM($K969)))","v":""}]
[{"$f":"IF(K970=\"\",\"\",CONCATENATE(YEAR($K970),\"_S\",_xlfn.ISOWEEKNUM($K970)))","v":""}]
[{"$f":"IF(K971=\"\",\"\",CONCATENATE(YEAR($K971),\"_S\",_xlfn.ISOWEEKNUM($K971)))","v":""}]
[{"$f":"IF(K972=\"\",\"\",CONCATENATE(YEAR($K972),\"_S\",_xlfn.ISOWEEKNUM($K972)))","v":""}]
[{"$f":"IF(K973=\"\",\"\",CONCATENATE(YEAR($K973),\"_S\",_xlfn.ISOWEEKNUM($K973)))","v":""}]
[{"$f":"IF(K974=\"\",\"\",CONCATENATE(YEAR($K974),\"_S\",_xlfn.ISOWEEKNUM($K974)))","v":""}]
[{"$f":"IF(K975=\"\",\"\",CONCATENATE(YEAR($K975),\"_S\",_xlfn.ISOWEEKNUM($K975)))","v":""}]
[{"$f":"IF(K976=\"\",\"\",CONCATENATE(YEAR($K976),\"_S\",_xlfn.ISOWEEKNUM($K976)))","v":""}]
[{"$f":"IF(K977=\"\",\"\",CONCATENATE(YEAR($K977),\"_S\",_xlfn.ISOWEEKNUM($K977)))","v":""}]
[{"$f":"IF(K978=\"\",\"\",CONCATENATE(YEAR($K978),\"_S\",_xlfn.ISOWEEKNUM($K978)))","v":""}]
[{"$f":"IF(K979=\"\",\"\",CONCATENATE(YEAR($K979),\"_S\",_xlfn.ISOWEEKNUM($K979)))","v":""}]
[{"$f":"IF(K980=\"\",\"\",CONCATENATE(YEAR($K980),\"_S\",_xlfn.ISOWEEKNUM($K980)))","v":""}]
[{"$f":"IF(K981=\"\",\"\",CONCATENATE(YEAR($K981),\"_S\",_xlfn.ISOWEEKNUM($K981)))","v":""}]
[{"$f":"IF(K982=\"\",\"\",CONCATENATE(YEAR($K982),\"_S\",_xlfn.ISOWEEKNUM($K982)))","v":""}]
[{"$f":"IF(K983=\"\",\"\",CONCATENATE(YEAR($K983),\"_S\",_xlfn.ISOWEEKNUM($K983)))","v":""}]
[{"$f":"IF(K984=\"\",\"\",CONCATENATE(YEAR($K984),\"_S\",_xlfn.ISOWEEKNUM($K984)))","v":""}]
[{"$f":"IF(K985=\"\",\"\",CONCATENATE(YEAR($K985),\"_S\",_xlfn.ISOWEEKNUM($K985)))","v":""}]
[{"$f":"IF(K986=\"\",\"\",CONCATENATE(YEAR($K986),\"_S\",_xlfn.ISOWEEKNUM($K986)))","v":""}]
[{"$f":"IF(K987=\"\",\"\",CONCATENATE(YEAR($K987),\"_S\",_xlfn.ISOWEEKNUM($K987)))","v":""}]
[{"$f":"IF(K988=\"\",\"\",CONCATENATE(YEAR($K988),\"_S\",_xlfn.ISOWEEKNUM($K988)))","v":""}]
[{"$f":"IF(K989=\"\",\"\",CONCATENATE(YEAR($K989),\"_S\",_xlfn.ISOWEEKNUM($K989)))","v":""}]
[{"$f":"IF(K990=\"\",\"\",CONCATENATE(YEAR($K990),\"_S\",_xlfn.ISOWEEKNUM($K990)))","v":""}]
[{"$f":"IF(K991=\"\",\"\",CONCATENATE(YEAR($K991),\"_S\",_xlfn.ISOWEEKNUM($K991)))","v":""}]
[{"$f":"IF(K992=\"\",\"\",CONCATENATE(YEAR($K992),\"_S\",_xlfn.ISOWEEKNUM($K992)))","v":""}]
[{"$f":"IF(K993=\"\",\"\",CONCATENATE(YEAR($K993),\"_S\",_xlfn.ISOWEEKNUM($K993)))","v":""}]
[{"$f":"IF(K994=\"\",\"\",CONCATENATE(YEAR($K994),\"_S\",_xlfn.ISOWEEKNUM($K994)))","v":""}]
[{"$f":"IF(K995=\"\",\"\",CONCATENATE(YEAR($K995),\"_S\",_xlfn.ISOWEEKNUM($K995)))","v":""}]
[{"$f":"IF(K996=\"\",\"\",CONCATENATE(YEAR($K996),\"_S\",_xlfn.ISOWEEKNUM($K996)))","v":""}]
[{"$f":"IF(K997=\"\",\"\",CONCATENATE(YEAR($K997),\"_S\",_xlfn.ISOWEEKNUM($K997)))","v":""}]
[{"$f":"IF(K998=\"\",\"\",CONCATENATE(YEAR($K998),\"_S\",_xlfn.ISOWEEKNUM($K998)))","v":""}]
[{"$f":"IF(K999=\"\",\"\",CONCATENATE(YEAR($K999),\"_S\",_xlfn.ISOWEEKNUM($K999)))","v":""}]
[{"$f":"IF(K1000=\"\",\"\",CONCATENATE(YEAR($K1000),\"_S\",_xlfn.ISOWEEKNUM($K1000)))","v":""}]
[{"$f":"IF(K1001=\"\",\"\",CONCATENATE(YEAR($K1001),\"_S\",_xlfn.ISOWEEKNUM($K1001)))","v":""}]
[{"$f":"IF(K1002=\"\",\"\",CONCATENATE(YEAR($K1002),\"_S\",_xlfn.ISOWEEKNUM($K1002)))","v":""}]
[{"$f":"IF(K1003=\"\",\"\",CONCATENATE(YEAR($K1003),\"_S\",_xlfn.ISOWEEKNUM($K1003)))","v":""}]
[{"$f":"IF(K1004=\"\",\"\",CONCATENATE(YEAR($K1004),\"_S\",_xlfn.ISOWEEKNUM($K1004)))","v":""}]
[{"$f":"IF(K1005=\"\",\"\",CONCATENATE(YEAR($K1005),\"_S\",_xlfn.ISOWEEKNUM($K1005)))","v":""}]
[{"$f":"IF(K1006=\"\",\"\",CONCATENATE(YEAR($K1006),\"_S\",_xlfn.ISOWEEKNUM($K1006)))","v":""}]
[{"$f":"IF(K1007=\"\",\"\",CONCATENATE(YEAR($K1007),\"_S\",_xlfn.ISOWEEKNUM($K1007)))","v":""}]
[{"$f":"IF(K1008=\"\",\"\",CONCATENATE(YEAR($K1008),\"_S\",_xlfn.ISOWEEKNUM($K1008)))","v":""}]
[{"$f":"IF(K1009=\"\",\"\",CONCATENATE(YEAR($K1009),\"_S\",_xlfn.ISOWEEKNUM($K1009)))","v":""}]
[{"$f":"IF(K1010=\"\",\"\",CONCATENATE(YEAR($K1010),\"_S\",_xlfn.ISOWEEKNUM($K1010)))","v":""}]
[{"$f":"IF(K1011=\"\",\"\",CONCATENATE(YEAR($K1011),\"_S\",_xlfn.ISOWEEKNUM($K1011)))","v":""}]
[{"$f":"IF(K1012=\"\",\"\",CONCATENATE(YEAR($K1012),\"_S\",_xlfn.ISOWEEKNUM($K1012)))","v":""}]
[{"$f":"IF(K1013=\"\",\"\",CONCATENATE(YEAR($K1013),\"_S\",_xlfn.ISOWEEKNUM($K1013)))","v":""}]
[{"$f":"IF(K1014=\"\",\"\",CONCATENATE(YEAR($K1014),\"_S\",_xlfn.ISOWEEKNUM($K1014)))","v":""}]
[{"$f":"IF(K1015=\"\",\"\",CONCATENATE(YEAR($K1015),\"_S\",_xlfn.ISOWEEKNUM($K1015)))","v":""}]
[{"$f":"IF(K1016=\"\",\"\",CONCATENATE(YEAR($K1016),\"_S\",_xlfn.ISOWEEKNUM($K1016)))","v":""}]
[{"$f":"IF(K1017=\"\",\"\",CONCATENATE(YEAR($K1017),\"_S\",_xlfn.ISOWEEKNUM($K1017)))","v":""}]
[{"$f":"IF(K1018=\"\",\"\",CONCATENATE(YEAR($K1018),\"_S\",_xlfn.ISOWEEKNUM($K1018)))","v":""}]
[{"$f":"IF(K1019=\"\",\"\",CONCATENATE(YEAR($K1019),\"_S\",_xlfn.ISOWEEKNUM($K1019)))","v":""}]
[{"$f":"IF(K1020=\"\",\"\",CONCATENATE(YEAR($K1020),\"_S\",_xlfn.ISOWEEKNUM($K1020)))","v":""}]
[{"$f":"IF(K1021=\"\",\"\",CONCATENATE(YEAR($K1021),\"_S\",_xlfn.ISOWEEKNUM($K1021)))","v":""}]
[{"$f":"IF(K1022=\"\",\"\",CONCATENATE(YEAR($K1022),\"_S\",_xlfn.ISOWEEKNUM($K1022)))","v":""}]
[{"$f":"IF(K1023=\"\",\"\",CONCATENATE(YEAR($K1023),\"_S\",_xlfn.ISOWEEKNUM($K1023)))","v":""}]
[{"$f":"IF(K1024=\"\",\"\",CONCATENATE(YEAR($K1024),\"_S\",_xlfn.ISOWEEKNUM($K1024)))","v":""}]
[{"$f":"IF(K1025=\"\",\"\",CONCATENATE(YEAR($K1025),\"_S\",_xlfn.ISOWEEKNUM($K1025)))","v":""}]
[{"$f":"IF(K1026=\"\",\"\",CONCATENATE(YEAR($K1026),\"_S\",_xlfn.ISOWEEKNUM($K1026)))","v":""}]
[{"$f":"IF(K1027=\"\",\"\",CONCATENATE(YEAR($K1027),\"_S\",_xlfn.ISOWEEKNUM($K1027)))","v":""}]
[{"$f":"IF(K1028=\"\",\"\",CONCATENATE(YEAR($K1028),\"_S\",_xlfn.ISOWEEKNUM($K1028)))","v":""}]
[{"$f":"IF(K1029=\"\",\"\",CONCATENATE(YEAR($K1029),\"_S\",_xlfn.ISOWEEKNUM($K1029)))","v":""}]
[{"$f":"IF(K1030=\"\",\"\",CONCATENATE(YEAR($K1030),\"_S\",_xlfn.ISOWEEKNUM($K1030)))","v":""}]
[{"$f":"IF(K1031=\"\",\"\",CONCATENATE(YEAR($K1031),\"_S\",_xlfn.ISOWEEKNUM($K1031)))","v":""}]
[{"$f":"IF(K1032=\"\",\"\",CONCATENATE(YEAR($K1032),\"_S\",_xlfn.ISOWEEKNUM($K1032)))","v":""}]
[{"$f":"IF(K1033=\"\",\"\",CONCATENATE(YEAR($K1033),\"_S\",_xlfn.ISOWEEKNUM($K1033)))","v":""}]
[{"$f":"IF(K1034=\"\",\"\",CONCATENATE(YEAR($K1034),\"_S\",_xlfn.ISOWEEKNUM($K1034)))","v":""}]
[{"$f":"IF(K1035=\"\",\"\",CONCATENATE(YEAR($K1035),\"_S\",_xlfn.ISOWEEKNUM($K1035)))","v":""}]
[{"$f":"IF(K1036=\"\",\"\",CONCATENATE(YEAR($K1036),\"_S\",_xlfn.ISOWEEKNUM($K1036)))","v":""}]
[{"$f":"IF(K1037=\"\",\"\",CONCATENATE(YEAR($K1037),\"_S\",_xlfn.ISOWEEKNUM($K1037)))","v":""}]
[{"$f":"IF(K1038=\"\",\"\",CONCATENATE(YEAR($K1038),\"_S\",_xlfn.ISOWEEKNUM($K1038)))","v":""}]
[{"$f":"IF(K1039=\"\",\"\",CONCATENATE(YEAR($K1039),\"_S\",_xlfn.ISOWEEKNUM($K1039)))","v":""}]
[{"$f":"IF(K1040=\"\",\"\",CONCATENATE(YEAR($K1040),\"_S\",_xlfn.ISOWEEKNUM($K1040)))","v":""}]
[{"$f":"IF(K1041=\"\",\"\",CONCATENATE(YEAR($K1041),\"_S\",_xlfn.ISOWEEKNUM($K1041)))","v":""}]
[{"$f":"IF(K1042=\"\",\"\",CONCATENATE(YEAR($K1042),\"_S\",_xlfn.ISOWEEKNUM($K1042)))","v":""}]
[{"$f":"IF(K1043=\"\",\"\",CONCATENATE(YEAR($K1043),\"_S\",_xlfn.ISOWEEKNUM($K1043)))","v":""}]
[{"$f":"IF(K1044=\"\",\"\",CONCATENATE(YEAR($K1044),\"_S\",_xlfn.ISOWEEKNUM($K1044)))","v":""}]
[{"$f":"IF(K1045=\"\",\"\",CONCATENATE(YEAR($K1045),\"_S\",_xlfn.ISOWEEKNUM($K1045)))","v":""}]
[{"$f":"IF(K1046=\"\",\"\",CONCATENATE(YEAR($K1046),\"_S\",_xlfn.ISOWEEKNUM($K1046)))","v":""}]
[{"$f":"IF(K1047=\"\",\"\",CONCATENATE(YEAR($K1047),\"_S\",_xlfn.ISOWEEKNUM($K1047)))","v":""}]
[{"$f":"IF(K1048=\"\",\"\",CONCATENATE(YEAR($K1048),\"_S\",_xlfn.ISOWEEKNUM($K1048)))","v":""}]
[{"$f":"IF(K1049=\"\",\"\",CONCATENATE(YEAR($K1049),\"_S\",_xlfn.ISOWEEKNUM($K1049)))","v":""}]
[{"$f":"IF(K1050=\"\",\"\",CONCATENATE(YEAR($K1050),\"_S\",_xlfn.ISOWEEKNUM($K1050)))","v":""}]
[{"$f":"IF(K1051=\"\",\"\",CONCATENATE(YEAR($K1051),\"_S\",_xlfn.ISOWEEKNUM($K1051)))","v":""}]
[{"$f":"IF(K1052=\"\",\"\",CONCATENATE(YEAR($K1052),\"_S\",_xlfn.ISOWEEKNUM($K1052)))","v":""}]
[{"$f":"IF(K1053=\"\",\"\",CONCATENATE(YEAR($K1053),\"_S\",_xlfn.ISOWEEKNUM($K1053)))","v":""}]
[{"$f":"IF(K1054=\"\",\"\",CONCATENATE(YEAR($K1054),\"_S\",_xlfn.ISOWEEKNUM($K1054)))","v":""}]
[{"$f":"IF(K1055=\"\",\"\",CONCATENATE(YEAR($K1055),\"_S\",_xlfn.ISOWEEKNUM($K1055)))","v":""}]
[{"$f":"IF(K1056=\"\",\"\",CONCATENATE(YEAR($K1056),\"_S\",_xlfn.ISOWEEKNUM($K1056)))","v":""}]
[{"$f":"IF(K1057=\"\",\"\",CONCATENATE(YEAR($K1057),\"_S\",_xlfn.ISOWEEKNUM($K1057)))","v":""}]
[{"$f":"IF(K1058=\"\",\"\",CONCATENATE(YEAR($K1058),\"_S\",_xlfn.ISOWEEKNUM($K1058)))","v":""}]
[{"$f":"IF(K1059=\"\",\"\",CONCATENATE(YEAR($K1059),\"_S\",_xlfn.ISOWEEKNUM($K1059)))","v":""}]
[{"$f":"IF(K1060=\"\",\"\",CONCATENATE(YEAR($K1060),\"_S\",_xlfn.ISOWEEKNUM($K1060)))","v":""}]
[{"$f":"IF(K1061=\"\",\"\",CONCATENATE(YEAR($K1061),\"_S\",_xlfn.ISOWEEKNUM($K1061)))","v":""}]
[{"$f":"IF(K1062=\"\",\"\",CONCATENATE(YEAR($K1062),\"_S\",_xlfn.ISOWEEKNUM($K1062)))","v":""}]
[{"$f":"IF(K1063=\"\",\"\",CONCATENATE(YEAR($K1063),\"_S\",_xlfn.ISOWEEKNUM($K1063)))","v":""}]
[{"$f":"IF(K1064=\"\",\"\",CONCATENATE(YEAR($K1064),\"_S\",_xlfn.ISOWEEKNUM($K1064)))","v":""}]
[{"$f":"IF(K1065=\"\",\"\",CONCATENATE(YEAR($K1065),\"_S\",_xlfn.ISOWEEKNUM($K1065)))","v":""}]
[{"$f":"IF(K1066=\"\",\"\",CONCATENATE(YEAR($K1066),\"_S\",_xlfn.ISOWEEKNUM($K1066)))","v":""}]
[{"$f":"IF(K1067=\"\",\"\",CONCATENATE(YEAR($K1067),\"_S\",_xlfn.ISOWEEKNUM($K1067)))","v":""}]
[{"$f":"IF(K1068=\"\",\"\",CONCATENATE(YEAR($K1068),\"_S\",_xlfn.ISOWEEKNUM($K1068)))","v":""}]
[{"$f":"IF(K1069=\"\",\"\",CONCATENATE(YEAR($K1069),\"_S\",_xlfn.ISOWEEKNUM($K1069)))","v":""}]
[{"$f":"IF(K1070=\"\",\"\",CONCATENATE(YEAR($K1070),\"_S\",_xlfn.ISOWEEKNUM($K1070)))","v":""}]
[{"$f":"IF(K1071=\"\",\"\",CONCATENATE(YEAR($K1071),\"_S\",_xlfn.ISOWEEKNUM($K1071)))","v":""}]
[{"$f":"IF(K1072=\"\",\"\",CONCATENATE(YEAR($K1072),\"_S\",_xlfn.ISOWEEKNUM($K1072)))","v":""}]
[{"$f":"IF(K1073=\"\",\"\",CONCATENATE(YEAR($K1073),\"_S\",_xlfn.ISOWEEKNUM($K1073)))","v":""}]
[{"$f":"IF(K1074=\"\",\"\",CONCATENATE(YEAR($K1074),\"_S\",_xlfn.ISOWEEKNUM($K1074)))","v":""}]
[{"$f":"IF(K1075=\"\",\"\",CONCATENATE(YEAR($K1075),\"_S\",_xlfn.ISOWEEKNUM($K1075)))","v":""}]
[{"$f":"IF(K1076=\"\",\"\",CONCATENATE(YEAR($K1076),\"_S\",_xlfn.ISOWEEKNUM($K1076)))","v":""}]
[{"$f":"IF(K1077=\"\",\"\",CONCATENATE(YEAR($K1077),\"_S\",_xlfn.ISOWEEKNUM($K1077)))","v":""}]
[{"$f":"IF(K1078=\"\",\"\",CONCATENATE(YEAR($K1078),\"_S\",_xlfn.ISOWEEKNUM($K1078)))","v":""}]
[{"$f":"IF(K1079=\"\",\"\",CONCATENATE(YEAR($K1079),\"_S\",_xlfn.ISOWEEKNUM($K1079)))","v":""}]
[{"$f":"IF(K1080=\"\",\"\",CONCATENATE(YEAR($K1080),\"_S\",_xlfn.ISOWEEKNUM($K1080)))","v":""}]
[{"$f":"IF(K1081=\"\",\"\",CONCATENATE(YEAR($K1081),\"_S\",_xlfn.ISOWEEKNUM($K1081)))","v":""}]
[{"$f":"IF(K1082=\"\",\"\",CONCATENATE(YEAR($K1082),\"_S\",_xlfn.ISOWEEKNUM($K1082)))","v":""}]
[{"$f":"IF(K1083=\"\",\"\",CONCATENATE(YEAR($K1083),\"_S\",_xlfn.ISOWEEKNUM($K1083)))","v":""}]
[{"$f":"IF(K1084=\"\",\"\",CONCATENATE(YEAR($K1084),\"_S\",_xlfn.ISOWEEKNUM($K1084)))","v":""}]
[{"$f":"IF(K1085=\"\",\"\",CONCATENATE(YEAR($K1085),\"_S\",_xlfn.ISOWEEKNUM($K1085)))","v":""}]
[{"$f":"IF(K1086=\"\",\"\",CONCATENATE(YEAR($K1086),\"_S\",_xlfn.ISOWEEKNUM($K1086)))","v":""}]
[{"$f":"IF(K1087=\"\",\"\",CONCATENATE(YEAR($K1087),\"_S\",_xlfn.ISOWEEKNUM($K1087)))","v":""}]
[{"$f":"IF(K1088=\"\",\"\",CONCATENATE(YEAR($K1088),\"_S\",_xlfn.ISOWEEKNUM($K1088)))","v":""}]
[{"$f":"IF(K1089=\"\",\"\",CONCATENATE(YEAR($K1089),\"_S\",_xlfn.ISOWEEKNUM($K1089)))","v":""}]
[{"$f":"IF(K1090=\"\",\"\",CONCATENATE(YEAR($K1090),\"_S\",_xlfn.ISOWEEKNUM($K1090)))","v":""}]
[{"$f":"IF(K1091=\"\",\"\",CONCATENATE(YEAR($K1091),\"_S\",_xlfn.ISOWEEKNUM($K1091)))","v":""}]
[{"$f":"IF(K1092=\"\",\"\",CONCATENATE(YEAR($K1092),\"_S\",_xlfn.ISOWEEKNUM($K1092)))","v":""}]
[{"$f":"IF(K1093=\"\",\"\",CONCATENATE(YEAR($K1093),\"_S\",_xlfn.ISOWEEKNUM($K1093)))","v":""}]
[{"$f":"IF(K1094=\"\",\"\",CONCATENATE(YEAR($K1094),\"_S\",_xlfn.ISOWEEKNUM($K1094)))","v":""}]
[{"$f":"IF(K1095=\"\",\"\",CONCATENATE(YEAR($K1095),\"_S\",_xlfn.ISOWEEKNUM($K1095)))","v":""}]
[{"$f":"IF(K1096=\"\",\"\",CONCATENATE(YEAR($K1096),\"_S\",_xlfn.ISOWEEKNUM($K1096)))","v":""}]
[{"$f":"IF(K1097=\"\",\"\",CONCATENATE(YEAR($K1097),\"_S\",_xlfn.ISOWEEKNUM($K1097)))","v":""}]
[{"$f":"IF(K1098=\"\",\"\",CONCATENATE(YEAR($K1098),\"_S\",_xlfn.ISOWEEKNUM($K1098)))","v":""}]
[{"$f":"IF(K1099=\"\",\"\",CONCATENATE(YEAR($K1099),\"_S\",_xlfn.ISOWEEKNUM($K1099)))","v":""}]
[{"$f":"IF(K1100=\"\",\"\",CONCATENATE(YEAR($K1100),\"_S\",_xlfn.ISOWEEKNUM($K1100)))","v":""}]
[{"$f":"IF(K1101=\"\",\"\",CONCATENATE(YEAR($K1101),\"_S\",_xlfn.ISOWEEKNUM($K1101)))","v":""}]
[{"$f":"IF(K1102=\"\",\"\",CONCATENATE(YEAR($K1102),\"_S\",_xlfn.ISOWEEKNUM($K1102)))","v":""}]
[{"$f":"IF(K1103=\"\",\"\",CONCATENATE(YEAR($K1103),\"_S\",_xlfn.ISOWEEKNUM($K1103)))","v":""}]
[{"$f":"IF(K1104=\"\",\"\",CONCATENATE(YEAR($K1104),\"_S\",_xlfn.ISOWEEKNUM($K1104)))","v":""}]
[{"$f":"IF(K1105=\"\",\"\",CONCATENATE(YEAR($K1105),\"_S\",_xlfn.ISOWEEKNUM($K1105)))","v":""}]
[{"$f":"IF(K1106=\"\",\"\",CONCATENATE(YEAR($K1106),\"_S\",_xlfn.ISOWEEKNUM($K1106)))","v":""}]
[{"$f":"IF(K1107=\"\",\"\",CONCATENATE(YEAR($K1107),\"_S\",_xlfn.ISOWEEKNUM($K1107)))","v":""}]
[{"$f":"IF(K1108=\"\",\"\",CONCATENATE(YEAR($K1108),\"_S\",_xlfn.ISOWEEKNUM($K1108)))","v":""}]
[{"$f":"IF(K1109=\"\",\"\",CONCATENATE(YEAR($K1109),\"_S\",_xlfn.ISOWEEKNUM($K1109)))","v":""}]
[{"$f":"IF(K1110=\"\",\"\",CONCATENATE(YEAR($K1110),\"_S\",_xlfn.ISOWEEKNUM($K1110)))","v":""}]
[{"$f":"IF(K1111=\"\",\"\",CONCATENATE(YEAR($K1111),\"_S\",_xlfn.ISOWEEKNUM($K1111)))","v":""}]
[{"$f":"IF(K1112=\"\",\"\",CONCATENATE(YEAR($K1112),\"_S\",_xlfn.ISOWEEKNUM($K1112)))","v":""}]
[{"$f":"IF(K1113=\"\",\"\",CONCATENATE(YEAR($K1113),\"_S\",_xlfn.ISOWEEKNUM($K1113)))","v":""}]
[{"$f":"IF(K1114=\"\",\"\",CONCATENATE(YEAR($K1114),\"_S\",_xlfn.ISOWEEKNUM($K1114)))","v":""}]
[{"$f":"IF(K1115=\"\",\"\",CONCATENATE(YEAR($K1115),\"_S\",_xlfn.ISOWEEKNUM($K1115)))","v":""}]
[{"$f":"IF(K1116=\"\",\"\",CONCATENATE(YEAR($K1116),\"_S\",_xlfn.ISOWEEKNUM($K1116)))","v":""}]
[{"$f":"IF(K1117=\"\",\"\",CONCATENATE(YEAR($K1117),\"_S\",_xlfn.ISOWEEKNUM($K1117)))","v":""}]
[{"$f":"IF(K1118=\"\",\"\",CONCATENATE(YEAR($K1118),\"_S\",_xlfn.ISOWEEKNUM($K1118)))","v":""}]
[{"$f":"IF(K1119=\"\",\"\",CONCATENATE(YEAR($K1119),\"_S\",_xlfn.ISOWEEKNUM($K1119)))","v":""}]
[{"$f":"IF(K1120=\"\",\"\",CONCATENATE(YEAR($K1120),\"_S\",_xlfn.ISOWEEKNUM($K1120)))","v":""}]
[{"$f":"IF(K1121=\"\",\"\",CONCATENATE(YEAR($K1121),\"_S\",_xlfn.ISOWEEKNUM($K1121)))","v":""}]
[{"$f":"IF(K1122=\"\",\"\",CONCATENATE(YEAR($K1122),\"_S\",_xlfn.ISOWEEKNUM($K1122)))","v":""}]
[{"$f":"IF(K1123=\"\",\"\",CONCATENATE(YEAR($K1123),\"_S\",_xlfn.ISOWEEKNUM($K1123)))","v":""}]
[{"$f":"IF(K1124=\"\",\"\",CONCATENATE(YEAR($K1124),\"_S\",_xlfn.ISOWEEKNUM($K1124)))","v":""}]
[{"$f":"IF(K1125=\"\",\"\",CONCATENATE(YEAR($K1125),\"_S\",_xlfn.ISOWEEKNUM($K1125)))","v":""}]
[{"$f":"IF(K1126=\"\",\"\",CONCATENATE(YEAR($K1126),\"_S\",_xlfn.ISOWEEKNUM($K1126)))","v":""}]
[{"$f":"IF(K1127=\"\",\"\",CONCATENATE(YEAR($K1127),\"_S\",_xlfn.ISOWEEKNUM($K1127)))","v":""}]
[{"$f":"IF(K1128=\"\",\"\",CONCATENATE(YEAR($K1128),\"_S\",_xlfn.ISOWEEKNUM($K1128)))","v":""}]
[{"$f":"IF(K1129=\"\",\"\",CONCATENATE(YEAR($K1129),\"_S\",_xlfn.ISOWEEKNUM($K1129)))","v":""}]
[{"$f":"IF(K1130=\"\",\"\",CONCATENATE(YEAR($K1130),\"_S\",_xlfn.ISOWEEKNUM($K1130)))","v":""}]
[{"$f":"IF(K1131=\"\",\"\",CONCATENATE(YEAR($K1131),\"_S\",_xlfn.ISOWEEKNUM($K1131)))","v":""}]
[{"$f":"IF(K1132=\"\",\"\",CONCATENATE(YEAR($K1132),\"_S\",_xlfn.ISOWEEKNUM($K1132)))","v":""}]
[{"$f":"IF(K1133=\"\",\"\",CONCATENATE(YEAR($K1133),\"_S\",_xlfn.ISOWEEKNUM($K1133)))","v":""}]
[{"$f":"IF(K1134=\"\",\"\",CONCATENATE(YEAR($K1134),\"_S\",_xlfn.ISOWEEKNUM($K1134)))","v":""}]
[{"$f":"IF(K1135=\"\",\"\",CONCATENATE(YEAR($K1135),\"_S\",_xlfn.ISOWEEKNUM($K1135)))","v":""}]
[{"$f":"IF(K1136=\"\",\"\",CONCATENATE(YEAR($K1136),\"_S\",_xlfn.ISOWEEKNUM($K1136)))","v":""}]
[{"$f":"IF(K1137=\"\",\"\",CONCATENATE(YEAR($K1137),\"_S\",_xlfn.ISOWEEKNUM($K1137)))","v":""}]
[{"$f":"IF(K1138=\"\",\"\",CONCATENATE(YEAR($K1138),\"_S\",_xlfn.ISOWEEKNUM($K1138)))","v":""}]
[{"$f":"IF(K1139=\"\",\"\",CONCATENATE(YEAR($K1139),\"_S\",_xlfn.ISOWEEKNUM($K1139)))","v":""}]
[{"$f":"IF(K1140=\"\",\"\",CONCATENATE(YEAR($K1140),\"_S\",_xlfn.ISOWEEKNUM($K1140)))","v":""}]
[{"$f":"IF(K1141=\"\",\"\",CONCATENATE(YEAR($K1141),\"_S\",_xlfn.ISOWEEKNUM($K1141)))","v":""}]
[{"$f":"IF(K1142=\"\",\"\",CONCATENATE(YEAR($K1142),\"_S\",_xlfn.ISOWEEKNUM($K1142)))","v":""}]
[{"$f":"IF(K1143=\"\",\"\",CONCATENATE(YEAR($K1143),\"_S\",_xlfn.ISOWEEKNUM($K1143)))","v":""}]
[{"$f":"IF(K1144=\"\",\"\",CONCATENATE(YEAR($K1144),\"_S\",_xlfn.ISOWEEKNUM($K1144)))","v":""}]
[{"$f":"IF(K1145=\"\",\"\",CONCATENATE(YEAR($K1145),\"_S\",_xlfn.ISOWEEKNUM($K1145)))","v":""}]
[{"$f":"IF(K1146=\"\",\"\",CONCATENATE(YEAR($K1146),\"_S\",_xlfn.ISOWEEKNUM($K1146)))","v":""}]
[{"$f":"IF(K1147=\"\",\"\",CONCATENATE(YEAR($K1147),\"_S\",_xlfn.ISOWEEKNUM($K1147)))","v":""}]
[{"$f":"IF(K1148=\"\",\"\",CONCATENATE(YEAR($K1148),\"_S\",_xlfn.ISOWEEKNUM($K1148)))","v":""}]
[{"$f":"IF(K1149=\"\",\"\",CONCATENATE(YEAR($K1149),\"_S\",_xlfn.ISOWEEKNUM($K1149)))","v":""}]
[{"$f":"IF(K1150=\"\",\"\",CONCATENATE(YEAR($K1150),\"_S\",_xlfn.ISOWEEKNUM($K1150)))","v":""}]
[{"$f":"IF(K1151=\"\",\"\",CONCATENATE(YEAR($K1151),\"_S\",_xlfn.ISOWEEKNUM($K1151)))","v":""}]
[{"$f":"IF(K1152=\"\",\"\",CONCATENATE(YEAR($K1152),\"_S\",_xlfn.ISOWEEKNUM($K1152)))","v":""}]
[{"$f":"IF(K1153=\"\",\"\",CONCATENATE(YEAR($K1153),\"_S\",_xlfn.ISOWEEKNUM($K1153)))","v":""}]
[{"$f":"IF(K1154=\"\",\"\",CONCATENATE(YEAR($K1154),\"_S\",_xlfn.ISOWEEKNUM($K1154)))","v":""}]
[{"$f":"IF(K1155=\"\",\"\",CONCATENATE(YEAR($K1155),\"_S\",_xlfn.ISOWEEKNUM($K1155)))","v":""}]
[{"$f":"IF(K1156=\"\",\"\",CONCATENATE(YEAR($K1156),\"_S\",_xlfn.ISOWEEKNUM($K1156)))","v":""}]
[{"$f":"IF(K1157=\"\",\"\",CONCATENATE(YEAR($K1157),\"_S\",_xlfn.ISOWEEKNUM($K1157)))","v":""}]
[{"$f":"IF(K1158=\"\",\"\",CONCATENATE(YEAR($K1158),\"_S\",_xlfn.ISOWEEKNUM($K1158)))","v":""}]
[{"$f":"IF(K1159=\"\",\"\",CONCATENATE(YEAR($K1159),\"_S\",_xlfn.ISOWEEKNUM($K1159)))","v":""}]
[{"$f":"IF(K1160=\"\",\"\",CONCATENATE(YEAR($K1160),\"_S\",_xlfn.ISOWEEKNUM($K1160)))","v":""}]
[{"$f":"IF(K1161=\"\",\"\",CONCATENATE(YEAR($K1161),\"_S\",_xlfn.ISOWEEKNUM($K1161)))","v":""}]
[{"$f":"IF(K1162=\"\",\"\",CONCATENATE(YEAR($K1162),\"_S\",_xlfn.ISOWEEKNUM($K1162)))","v":""}]
[{"$f":"IF(K1163=\"\",\"\",CONCATENATE(YEAR($K1163),\"_S\",_xlfn.ISOWEEKNUM($K1163)))","v":""}]
[{"$f":"IF(K1164=\"\",\"\",CONCATENATE(YEAR($K1164),\"_S\",_xlfn.ISOWEEKNUM($K1164)))","v":""}]
[{"$f":"IF(K1165=\"\",\"\",CONCATENATE(YEAR($K1165),\"_S\",_xlfn.ISOWEEKNUM($K1165)))","v":""}]
[{"$f":"IF(K1166=\"\",\"\",CONCATENATE(YEAR($K1166),\"_S\",_xlfn.ISOWEEKNUM($K1166)))","v":""}]
[{"$f":"IF(K1167=\"\",\"\",CONCATENATE(YEAR($K1167),\"_S\",_xlfn.ISOWEEKNUM($K1167)))","v":""}]
[{"$f":"IF(K1168=\"\",\"\",CONCATENATE(YEAR($K1168),\"_S\",_xlfn.ISOWEEKNUM($K1168)))","v":""}]
[{"$f":"IF(K1169=\"\",\"\",CONCATENATE(YEAR($K1169),\"_S\",_xlfn.ISOWEEKNUM($K1169)))","v":""}]
[{"$f":"IF(K1170=\"\",\"\",CONCATENATE(YEAR($K1170),\"_S\",_xlfn.ISOWEEKNUM($K1170)))","v":""}]
[{"$f":"IF(K1171=\"\",\"\",CONCATENATE(YEAR($K1171),\"_S\",_xlfn.ISOWEEKNUM($K1171)))","v":""}]
[{"$f":"IF(K1172=\"\",\"\",CONCATENATE(YEAR($K1172),\"_S\",_xlfn.ISOWEEKNUM($K1172)))","v":""}]
[{"$f":"IF(K1173=\"\",\"\",CONCATENATE(YEAR($K1173),\"_S\",_xlfn.ISOWEEKNUM($K1173)))","v":""}]
[{"$f":"IF(K1174=\"\",\"\",CONCATENATE(YEAR($K1174),\"_S\",_xlfn.ISOWEEKNUM($K1174)))","v":""}]
[{"$f":"IF(K1175=\"\",\"\",CONCATENATE(YEAR($K1175),\"_S\",_xlfn.ISOWEEKNUM($K1175)))","v":""}]
[{"$f":"IF(K1176=\"\",\"\",CONCATENATE(YEAR($K1176),\"_S\",_xlfn.ISOWEEKNUM($K1176)))","v":""}]
[{"$f":"IF(K1177=\"\",\"\",CONCATENATE(YEAR($K1177),\"_S\",_xlfn.ISOWEEKNUM($K1177)))","v":""}]
[{"$f":"IF(K1178=\"\",\"\",CONCATENATE(YEAR($K1178),\"_S\",_xlfn.ISOWEEKNUM($K1178)))","v":""}]
[{"$f":"IF(K1179=\"\",\"\",CONCATENATE(YEAR($K1179),\"_S\",_xlfn.ISOWEEKNUM($K1179)))","v":""}]
[{"$f":"IF(K1180=\"\",\"\",CONCATENATE(YEAR($K1180),\"_S\",_xlfn.ISOWEEKNUM($K1180)))","v":""}]
[{"$f":"IF(K1181=\"\",\"\",CONCATENATE(YEAR($K1181),\"_S\",_xlfn.ISOWEEKNUM($K1181)))","v":""}]
[{"$f":"IF(K1182=\"\",\"\",CONCATENATE(YEAR($K1182),\"_S\",_xlfn.ISOWEEKNUM($K1182)))","v":""}]
[{"$f":"IF(K1183=\"\",\"\",CONCATENATE(YEAR($K1183),\"_S\",_xlfn.ISOWEEKNUM($K1183)))","v":""}]
[{"$f":"IF(K1184=\"\",\"\",CONCATENATE(YEAR($K1184),\"_S\",_xlfn.ISOWEEKNUM($K1184)))","v":""}]
[{"$f":"IF(K1185=\"\",\"\",CONCATENATE(YEAR($K1185),\"_S\",_xlfn.ISOWEEKNUM($K1185)))","v":""}]
[{"$f":"IF(K1186=\"\",\"\",CONCATENATE(YEAR($K1186),\"_S\",_xlfn.ISOWEEKNUM($K1186)))","v":""}]
[{"$f":"IF(K1187=\"\",\"\",CONCATENATE(YEAR($K1187),\"_S\",_xlfn.ISOWEEKNUM($K1187)))","v":""}]
[{"$f":"IF(K1188=\"\",\"\",CONCATENATE(YEAR($K1188),\"_S\",_xlfn.ISOWEEKNUM($K1188)))","v":""}]
[{"$f":"IF(K1189=\"\",\"\",CONCATENATE(YEAR($K1189),\"_S\",_xlfn.ISOWEEKNUM($K1189)))","v":""}]
[{"$f":"IF(K1190=\"\",\"\",CONCATENATE(YEAR($K1190),\"_S\",_xlfn.ISOWEEKNUM($K1190)))","v":""}]
[{"$f":"IF(K1191=\"\",\"\",CONCATENATE(YEAR($K1191),\"_S\",_xlfn.ISOWEEKNUM($K1191)))","v":""}]
[{"$f":"IF(K1192=\"\",\"\",CONCATENATE(YEAR($K1192),\"_S\",_xlfn.ISOWEEKNUM($K1192)))","v":""}]
[{"$f":"IF(K1193=\"\",\"\",CONCATENATE(YEAR($K1193),\"_S\",_xlfn.ISOWEEKNUM($K1193)))","v":""}]
[{"$f":"IF(K1194=\"\",\"\",CONCATENATE(YEAR($K1194),\"_S\",_xlfn.ISOWEEKNUM($K1194)))","v":""}]
[{"$f":"IF(K1195=\"\",\"\",CONCATENATE(YEAR($K1195),\"_S\",_xlfn.ISOWEEKNUM($K1195)))","v":""}]
[{"$f":"IF(K1196=\"\",\"\",CONCATENATE(YEAR($K1196),\"_S\",_xlfn.ISOWEEKNUM($K1196)))","v":""}]
[{"$f":"IF(K1197=\"\",\"\",CONCATENATE(YEAR($K1197),\"_S\",_xlfn.ISOWEEKNUM($K1197)))","v":""}]
[{"$f":"IF(K1198=\"\",\"\",CONCATENATE(YEAR($K1198),\"_S\",_xlfn.ISOWEEKNUM($K1198)))","v":""}]
[{"$f":"IF(K1199=\"\",\"\",CONCATENATE(YEAR($K1199),\"_S\",_xlfn.ISOWEEKNUM($K1199)))","v":""}]
[{"$f":"IF(K1200=\"\",\"\",CONCATENATE(YEAR($K1200),\"_S\",_xlfn.ISOWEEKNUM($K1200)))","v":""}]
[{"$f":"IF(K1201=\"\",\"\",CONCATENATE(YEAR($K1201),\"_S\",_xlfn.ISOWEEKNUM($K1201)))","v":""}]
[{"$f":"IF(K1202=\"\",\"\",CONCATENATE(YEAR($K1202),\"_S\",_xlfn.ISOWEEKNUM($K1202)))","v":""}]
[{"$f":"IF(K1203=\"\",\"\",CONCATENATE(YEAR($K1203),\"_S\",_xlfn.ISOWEEKNUM($K1203)))","v":""}]
[{"$f":"IF(K1204=\"\",\"\",CONCATENATE(YEAR($K1204),\"_S\",_xlfn.ISOWEEKNUM($K1204)))","v":""}]
[{"$f":"IF(K1205=\"\",\"\",CONCATENATE(YEAR($K1205),\"_S\",_xlfn.ISOWEEKNUM($K1205)))","v":""}]
[{"$f":"IF(K1206=\"\",\"\",CONCATENATE(YEAR($K1206),\"_S\",_xlfn.ISOWEEKNUM($K1206)))","v":""}]
[{"$f":"IF(K1207=\"\",\"\",CONCATENATE(YEAR($K1207),\"_S\",_xlfn.ISOWEEKNUM($K1207)))","v":""}]
[{"$f":"IF(K1208=\"\",\"\",CONCATENATE(YEAR($K1208),\"_S\",_xlfn.ISOWEEKNUM($K1208)))","v":""}]
[{"$f":"IF(K1209=\"\",\"\",CONCATENATE(YEAR($K1209),\"_S\",_xlfn.ISOWEEKNUM($K1209)))","v":""}]
[{"$f":"IF(K1210=\"\",\"\",CONCATENATE(YEAR($K1210),\"_S\",_xlfn.ISOWEEKNUM($K1210)))","v":""}]
[{"$f":"IF(K1211=\"\",\"\",CONCATENATE(YEAR($K1211),\"_S\",_xlfn.ISOWEEKNUM($K1211)))","v":""}]
[{"$f":"IF(K1212=\"\",\"\",CONCATENATE(YEAR($K1212),\"_S\",_xlfn.ISOWEEKNUM($K1212)))","v":""}]
[{"$f":"IF(K1213=\"\",\"\",CONCATENATE(YEAR($K1213),\"_S\",_xlfn.ISOWEEKNUM($K1213)))","v":""}]
[{"$f":"IF(K1214=\"\",\"\",CONCATENATE(YEAR($K1214),\"_S\",_xlfn.ISOWEEKNUM($K1214)))","v":""}]
[{"$f":"IF(K1215=\"\",\"\",CONCATENATE(YEAR($K1215),\"_S\",_xlfn.ISOWEEKNUM($K1215)))","v":""}]
[{"$f":"IF(K1216=\"\",\"\",CONCATENATE(YEAR($K1216),\"_S\",_xlfn.ISOWEEKNUM($K1216)))","v":""}]
[{"$f":"IF(K1217=\"\",\"\",CONCATENATE(YEAR($K1217),\"_S\",_xlfn.ISOWEEKNUM($K1217)))","v":""}]
[{"$f":"IF(K1218=\"\",\"\",CONCATENATE(YEAR($K1218),\"_S\",_xlfn.ISOWEEKNUM($K1218)))","v":""}]
[{"$f":"IF(K1219=\"\",\"\",CONCATENATE(YEAR($K1219),\"_S\",_xlfn.ISOWEEKNUM($K1219)))","v":""}]
[{"$f":"IF(K1220=\"\",\"\",CONCATENATE(YEAR($K1220),\"_S\",_xlfn.ISOWEEKNUM($K1220)))","v":""}]
[{"$f":"IF(K1221=\"\",\"\",CONCATENATE(YEAR($K1221),\"_S\",_xlfn.ISOWEEKNUM($K1221)))","v":""}]
[{"$f":"IF(K1222=\"\",\"\",CONCATENATE(YEAR($K1222),\"_S\",_xlfn.ISOWEEKNUM($K1222)))","v":""}]
[{"$f":"IF(K1223=\"\",\"\",CONCATENATE(YEAR($K1223),\"_S\",_xlfn.ISOWEEKNUM($K1223)))","v":""}]
[{"$f":"IF(K1224=\"\",\"\",CONCATENATE(YEAR($K1224),\"_S\",_xlfn.ISOWEEKNUM($K1224)))","v":""}]
[{"$f":"IF(K1225=\"\",\"\",CONCATENATE(YEAR($K1225),\"_S\",_xlfn.ISOWEEKNUM($K1225)))","v":""}]
[{"$f":"IF(K1226=\"\",\"\",CONCATENATE(YEAR($K1226),\"_S\",_xlfn.ISOWEEKNUM($K1226)))","v":""}]
[{"$f":"IF(K1227=\"\",\"\",CONCATENATE(YEAR($K1227),\"_S\",_xlfn.ISOWEEKNUM($K1227)))","v":""}]
[{"$f":"IF(K1228=\"\",\"\",CONCATENATE(YEAR($K1228),\"_S\",_xlfn.ISOWEEKNUM($K1228)))","v":""}]
[{"$f":"IF(K1229=\"\",\"\",CONCATENATE(YEAR($K1229),\"_S\",_xlfn.ISOWEEKNUM($K1229)))","v":""}]
[{"$f":"IF(K1230=\"\",\"\",CONCATENATE(YEAR($K1230),\"_S\",_xlfn.ISOWEEKNUM($K1230)))","v":""}]
[{"$f":"IF(K1231=\"\",\"\",CONCATENATE(YEAR($K1231),\"_S\",_xlfn.ISOWEEKNUM($K1231)))","v":""}]
[{"$f":"IF(K1232=\"\",\"\",CONCATENATE(YEAR($K1232),\"_S\",_xlfn.ISOWEEKNUM($K1232)))","v":""}]
[{"$f":"IF(K1233=\"\",\"\",CONCATENATE(YEAR($K1233),\"_S\",_xlfn.ISOWEEKNUM($K1233)))","v":""}]
[{"$f":"IF(K1234=\"\",\"\",CONCATENATE(YEAR($K1234),\"_S\",_xlfn.ISOWEEKNUM($K1234)))","v":""}]
[{"$f":"IF(K1235=\"\",\"\",CONCATENATE(YEAR($K1235),\"_S\",_xlfn.ISOWEEKNUM($K1235)))","v":""}]
[{"$f":"IF(K1236=\"\",\"\",CONCATENATE(YEAR($K1236),\"_S\",_xlfn.ISOWEEKNUM($K1236)))","v":""}]
[{"$f":"IF(K1237=\"\",\"\",CONCATENATE(YEAR($K1237),\"_S\",_xlfn.ISOWEEKNUM($K1237)))","v":""}]
[{"$f":"IF(K1238=\"\",\"\",CONCATENATE(YEAR($K1238),\"_S\",_xlfn.ISOWEEKNUM($K1238)))","v":""}]
[{"$f":"IF(K1239=\"\",\"\",CONCATENATE(YEAR($K1239),\"_S\",_xlfn.ISOWEEKNUM($K1239)))","v":""}]
[{"$f":"IF(K1240=\"\",\"\",CONCATENATE(YEAR($K1240),\"_S\",_xlfn.ISOWEEKNUM($K1240)))","v":""}]
[{"$f":"IF(K1241=\"\",\"\",CONCATENATE(YEAR($K1241),\"_S\",_xlfn.ISOWEEKNUM($K1241)))","v":""}]
[{"$f":"IF(K1242=\"\",\"\",CONCATENATE(YEAR($K1242),\"_S\",_xlfn.ISOWEEKNUM($K1242)))","v":""}]
[{"$f":"IF(K1243=\"\",\"\",CONCATENATE(YEAR($K1243),\"_S\",_xlfn.ISOWEEKNUM($K1243)))","v":""}]
[{"$f":"IF(K1244=\"\",\"\",CONCATENATE(YEAR($K1244),\"_S\",_xlfn.ISOWEEKNUM($K1244)))","v":""}]
[{"$f":"IF(K1245=\"\",\"\",CONCATENATE(YEAR($K1245),\"_S\",_xlfn.ISOWEEKNUM($K1245)))","v":""}]
[{"$f":"IF(K1246=\"\",\"\",CONCATENATE(YEAR($K1246),\"_S\",_xlfn.ISOWEEKNUM($K1246)))","v":""}]
[{"$f":"IF(K1247=\"\",\"\",CONCATENATE(YEAR($K1247),\"_S\",_xlfn.ISOWEEKNUM($K1247)))","v":""}]
[{"$f":"IF(K1248=\"\",\"\",CONCATENATE(YEAR($K1248),\"_S\",_xlfn.ISOWEEKNUM($K1248)))","v":""}]
[{"$f":"IF(K1249=\"\",\"\",CONCATENATE(YEAR($K1249),\"_S\",_xlfn.ISOWEEKNUM($K1249)))","v":""}]
[{"$f":"IF(K1250=\"\",\"\",CONCATENATE(YEAR($K1250),\"_S\",_xlfn.ISOWEEKNUM($K1250)))","v":""}]
[{"$f":"IF(K1251=\"\",\"\",CONCATENATE(YEAR($K1251),\"_S\",_xlfn.ISOWEEKNUM($K1251)))","v":""}]
[{"$f":"IF(K1252=\"\",\"\",CONCATENATE(YEAR($K1252),\"_S\",_xlfn.ISOWEEKNUM($K1252)))","v":""}]
[{"$f":"IF(K1253=\"\",\"\",CONCATENATE(YEAR($K1253),\"_S\",_xlfn.ISOWEEKNUM($K1253)))","v":""}]
[{"$f":"IF(K1254=\"\",\"\",CONCATENATE(YEAR($K1254),\"_S\",_xlfn.ISOWEEKNUM($K1254)))","v":""}]
[{"$f":"IF(K1255=\"\",\"\",CONCATENATE(YEAR($K1255),\"_S\",_xlfn.ISOWEEKNUM($K1255)))","v":""}]
[{"$f":"IF(K1256=\"\",\"\",CONCATENATE(YEAR($K1256),\"_S\",_xlfn.ISOWEEKNUM($K1256)))","v":""}]
[{"$f":"IF(K1257=\"\",\"\",CONCATENATE(YEAR($K1257),\"_S\",_xlfn.ISOWEEKNUM($K1257)))","v":""}]
[{"$f":"IF(K1258=\"\",\"\",CONCATENATE(YEAR($K1258),\"_S\",_xlfn.ISOWEEKNUM($K1258)))","v":""}]
[{"$f":"IF(K1259=\"\",\"\",CONCATENATE(YEAR($K1259),\"_S\",_xlfn.ISOWEEKNUM($K1259)))","v":""}]
[{"$f":"IF(K1260=\"\",\"\",CONCATENATE(YEAR($K1260),\"_S\",_xlfn.ISOWEEKNUM($K1260)))","v":""}]
[{"$f":"IF(K1261=\"\",\"\",CONCATENATE(YEAR($K1261),\"_S\",_xlfn.ISOWEEKNUM($K1261)))","v":""}]
[{"$f":"IF(K1262=\"\",\"\",CONCATENATE(YEAR($K1262),\"_S\",_xlfn.ISOWEEKNUM($K1262)))","v":""}]
[{"$f":"IF(K1263=\"\",\"\",CONCATENATE(YEAR($K1263),\"_S\",_xlfn.ISOWEEKNUM($K1263)))","v":""}]
[{"$f":"IF(K1264=\"\",\"\",CONCATENATE(YEAR($K1264),\"_S\",_xlfn.ISOWEEKNUM($K1264)))","v":""}]
[{"$f":"IF(K1265=\"\",\"\",CONCATENATE(YEAR($K1265),\"_S\",_xlfn.ISOWEEKNUM($K1265)))","v":""}]
[{"$f":"IF(K1266=\"\",\"\",CONCATENATE(YEAR($K1266),\"_S\",_xlfn.ISOWEEKNUM($K1266)))","v":""}]
[{"$f":"IF(K1267=\"\",\"\",CONCATENATE(YEAR($K1267),\"_S\",_xlfn.ISOWEEKNUM($K1267)))","v":""}]
[{"$f":"IF(K1268=\"\",\"\",CONCATENATE(YEAR($K1268),\"_S\",_xlfn.ISOWEEKNUM($K1268)))","v":""}]
[{"$f":"IF(K1269=\"\",\"\",CONCATENATE(YEAR($K1269),\"_S\",_xlfn.ISOWEEKNUM($K1269)))","v":""}]
[{"$f":"IF(K1270=\"\",\"\",CONCATENATE(YEAR($K1270),\"_S\",_xlfn.ISOWEEKNUM($K1270)))","v":""}]
[{"$f":"IF(K1271=\"\",\"\",CONCATENATE(YEAR($K1271),\"_S\",_xlfn.ISOWEEKNUM($K1271)))","v":""}]
[{"$f":"IF(K1272=\"\",\"\",CONCATENATE(YEAR($K1272),\"_S\",_xlfn.ISOWEEKNUM($K1272)))","v":""}]
[{"$f":"IF(K1273=\"\",\"\",CONCATENATE(YEAR($K1273),\"_S\",_xlfn.ISOWEEKNUM($K1273)))","v":""}]
[{"$f":"IF(K1274=\"\",\"\",CONCATENATE(YEAR($K1274),\"_S\",_xlfn.ISOWEEKNUM($K1274)))","v":""}]
[{"$f":"IF(K1275=\"\",\"\",CONCATENATE(YEAR($K1275),\"_S\",_xlfn.ISOWEEKNUM($K1275)))","v":""}]
[{"$f":"IF(K1276=\"\",\"\",CONCATENATE(YEAR($K1276),\"_S\",_xlfn.ISOWEEKNUM($K1276)))","v":""}]
[{"$f":"IF(K1277=\"\",\"\",CONCATENATE(YEAR($K1277),\"_S\",_xlfn.ISOWEEKNUM($K1277)))","v":""}]
[{"$f":"IF(K1278=\"\",\"\",CONCATENATE(YEAR($K1278),\"_S\",_xlfn.ISOWEEKNUM($K1278)))","v":""}]
[{"$f":"IF(K1279=\"\",\"\",CONCATENATE(YEAR($K1279),\"_S\",_xlfn.ISOWEEKNUM($K1279)))","v":""}]
[{"$f":"IF(K1280=\"\",\"\",CONCATENATE(YEAR($K1280),\"_S\",_xlfn.ISOWEEKNUM($K1280)))","v":""}]
[{"$f":"IF(K1281=\"\",\"\",CONCATENATE(YEAR($K1281),\"_S\",_xlfn.ISOWEEKNUM($K1281)))","v":""}]
[{"$f":"IF(K1282=\"\",\"\",CONCATENATE(YEAR($K1282),\"_S\",_xlfn.ISOWEEKNUM($K1282)))","v":""}]
[{"$f":"IF(K1283=\"\",\"\",CONCATENATE(YEAR($K1283),\"_S\",_xlfn.ISOWEEKNUM($K1283)))","v":""}]
[{"$f":"IF(K1284=\"\",\"\",CONCATENATE(YEAR($K1284),\"_S\",_xlfn.ISOWEEKNUM($K1284)))","v":""}]
[{"$f":"IF(K1285=\"\",\"\",CONCATENATE(YEAR($K1285),\"_S\",_xlfn.ISOWEEKNUM($K1285)))","v":""}]
[{"$f":"IF(K1286=\"\",\"\",CONCATENATE(YEAR($K1286),\"_S\",_xlfn.ISOWEEKNUM($K1286)))","v":""}]
[{"$f":"IF(K1287=\"\",\"\",CONCATENATE(YEAR($K1287),\"_S\",_xlfn.ISOWEEKNUM($K1287)))","v":""}]
[{"$f":"IF(K1288=\"\",\"\",CONCATENATE(YEAR($K1288),\"_S\",_xlfn.ISOWEEKNUM($K1288)))","v":""}]
[{"$f":"IF(K1289=\"\",\"\",CONCATENATE(YEAR($K1289),\"_S\",_xlfn.ISOWEEKNUM($K1289)))","v":""}]
[{"$f":"IF(K1290=\"\",\"\",CONCATENATE(YEAR($K1290),\"_S\",_xlfn.ISOWEEKNUM($K1290)))","v":""}]
[{"$f":"IF(K1291=\"\",\"\",CONCATENATE(YEAR($K1291),\"_S\",_xlfn.ISOWEEKNUM($K1291)))","v":""}]
[{"$f":"IF(K1292=\"\",\"\",CONCATENATE(YEAR($K1292),\"_S\",_xlfn.ISOWEEKNUM($K1292)))","v":""}]
[{"$f":"IF(K1293=\"\",\"\",CONCATENATE(YEAR($K1293),\"_S\",_xlfn.ISOWEEKNUM($K1293)))","v":""}]
[{"$f":"IF(K1294=\"\",\"\",CONCATENATE(YEAR($K1294),\"_S\",_xlfn.ISOWEEKNUM($K1294)))","v":""}]
[{"$f":"IF(K1295=\"\",\"\",CONCATENATE(YEAR($K1295),\"_S\",_xlfn.ISOWEEKNUM($K1295)))","v":""}]
[{"$f":"IF(K1296=\"\",\"\",CONCATENATE(YEAR($K1296),\"_S\",_xlfn.ISOWEEKNUM($K1296)))","v":""}]
[{"$f":"IF(K1297=\"\",\"\",CONCATENATE(YEAR($K1297),\"_S\",_xlfn.ISOWEEKNUM($K1297)))","v":""}]
[{"$f":"IF(K1298=\"\",\"\",CONCATENATE(YEAR($K1298),\"_S\",_xlfn.ISOWEEKNUM($K1298)))","v":""}]
[{"$f":"IF(K1299=\"\",\"\",CONCATENATE(YEAR($K1299),\"_S\",_xlfn.ISOWEEKNUM($K1299)))","v":""}]
[{"$f":"IF(K1300=\"\",\"\",CONCATENATE(YEAR($K1300),\"_S\",_xlfn.ISOWEEKNUM($K1300)))","v":""}]
[{"$f":"IF(K1301=\"\",\"\",CONCATENATE(YEAR($K1301),\"_S\",_xlfn.ISOWEEKNUM($K1301)))","v":""}]
[{"$f":"IF(K1302=\"\",\"\",CONCATENATE(YEAR($K1302),\"_S\",_xlfn.ISOWEEKNUM($K1302)))","v":""}]
[{"$f":"IF(K1303=\"\",\"\",CONCATENATE(YEAR($K1303),\"_S\",_xlfn.ISOWEEKNUM($K1303)))","v":""}]
[{"$f":"IF(K1304=\"\",\"\",CONCATENATE(YEAR($K1304),\"_S\",_xlfn.ISOWEEKNUM($K1304)))","v":""}]
[{"$f":"IF(K1305=\"\",\"\",CONCATENATE(YEAR($K1305),\"_S\",_xlfn.ISOWEEKNUM($K1305)))","v":""}]
[{"$f":"IF(K1306=\"\",\"\",CONCATENATE(YEAR($K1306),\"_S\",_xlfn.ISOWEEKNUM($K1306)))","v":""}]
[{"$f":"IF(K1307=\"\",\"\",CONCATENATE(YEAR($K1307),\"_S\",_xlfn.ISOWEEKNUM($K1307)))","v":""}]
[{"$f":"IF(K1308=\"\",\"\",CONCATENATE(YEAR($K1308),\"_S\",_xlfn.ISOWEEKNUM($K1308)))","v":""}]
[{"$f":"IF(K1309=\"\",\"\",CONCATENATE(YEAR($K1309),\"_S\",_xlfn.ISOWEEKNUM($K1309)))","v":""}]
[{"$f":"IF(K1310=\"\",\"\",CONCATENATE(YEAR($K1310),\"_S\",_xlfn.ISOWEEKNUM($K1310)))","v":""}]
[{"$f":"IF(K1311=\"\",\"\",CONCATENATE(YEAR($K1311),\"_S\",_xlfn.ISOWEEKNUM($K1311)))","v":""}]
[{"$f":"IF(K1312=\"\",\"\",CONCATENATE(YEAR($K1312),\"_S\",_xlfn.ISOWEEKNUM($K1312)))","v":""}]
[{"$f":"IF(K1313=\"\",\"\",CONCATENATE(YEAR($K1313),\"_S\",_xlfn.ISOWEEKNUM($K1313)))","v":""}]
[{"$f":"IF(K1314=\"\",\"\",CONCATENATE(YEAR($K1314),\"_S\",_xlfn.ISOWEEKNUM($K1314)))","v":""}]
[{"$f":"IF(K1315=\"\",\"\",CONCATENATE(YEAR($K1315),\"_S\",_xlfn.ISOWEEKNUM($K1315)))","v":""}]
[{"$f":"IF(K1316=\"\",\"\",CONCATENATE(YEAR($K1316),\"_S\",_xlfn.ISOWEEKNUM($K1316)))","v":""}]
[{"$f":"IF(K1317=\"\",\"\",CONCATENATE(YEAR($K1317),\"_S\",_xlfn.ISOWEEKNUM($K1317)))","v":""}]
[{"$f":"IF(K1318=\"\",\"\",CONCATENATE(YEAR($K1318),\"_S\",_xlfn.ISOWEEKNUM($K1318)))","v":""}]
[{"$f":"IF(K1319=\"\",\"\",CONCATENATE(YEAR($K1319),\"_S\",_xlfn.ISOWEEKNUM($K1319)))","v":""}]
[{"$f":"IF(K1320=\"\",\"\",CONCATENATE(YEAR($K1320),\"_S\",_xlfn.ISOWEEKNUM($K1320)))","v":""}]
[{"$f":"IF(K1321=\"\",\"\",CONCATENATE(YEAR($K1321),\"_S\",_xlfn.ISOWEEKNUM($K1321)))","v":""}]
[{"$f":"IF(K1322=\"\",\"\",CONCATENATE(YEAR($K1322),\"_S\",_xlfn.ISOWEEKNUM($K1322)))","v":""}]
[{"$f":"IF(K1323=\"\",\"\",CONCATENATE(YEAR($K1323),\"_S\",_xlfn.ISOWEEKNUM($K1323)))","v":""}]
[{"$f":"IF(K1324=\"\",\"\",CONCATENATE(YEAR($K1324),\"_S\",_xlfn.ISOWEEKNUM($K1324)))","v":""}]
[{"$f":"IF(K1325=\"\",\"\",CONCATENATE(YEAR($K1325),\"_S\",_xlfn.ISOWEEKNUM($K1325)))","v":""}]
[{"$f":"IF(K1326=\"\",\"\",CONCATENATE(YEAR($K1326),\"_S\",_xlfn.ISOWEEKNUM($K1326)))","v":""}]
[{"$f":"IF(K1327=\"\",\"\",CONCATENATE(YEAR($K1327),\"_S\",_xlfn.ISOWEEKNUM($K1327)))","v":""}]
[{"$f":"IF(K1328=\"\",\"\",CONCATENATE(YEAR($K1328),\"_S\",_xlfn.ISOWEEKNUM($K1328)))","v":""}]
[{"$f":"IF(K1329=\"\",\"\",CONCATENATE(YEAR($K1329),\"_S\",_xlfn.ISOWEEKNUM($K1329)))","v":""}]
[{"$f":"IF(K1330=\"\",\"\",CONCATENATE(YEAR($K1330),\"_S\",_xlfn.ISOWEEKNUM($K1330)))","v":""}]
[{"$f":"IF(K1331=\"\",\"\",CONCATENATE(YEAR($K1331),\"_S\",_xlfn.ISOWEEKNUM($K1331)))","v":""}]
[{"$f":"IF(K1332=\"\",\"\",CONCATENATE(YEAR($K1332),\"_S\",_xlfn.ISOWEEKNUM($K1332)))","v":""}]
[{"$f":"IF(K1333=\"\",\"\",CONCATENATE(YEAR($K1333),\"_S\",_xlfn.ISOWEEKNUM($K1333)))","v":""}]
[{"$f":"IF(K1334=\"\",\"\",CONCATENATE(YEAR($K1334),\"_S\",_xlfn.ISOWEEKNUM($K1334)))","v":""}]
[{"$f":"IF(K1335=\"\",\"\",CONCATENATE(YEAR($K1335),\"_S\",_xlfn.ISOWEEKNUM($K1335)))","v":""}]
[{"$f":"IF(K1336=\"\",\"\",CONCATENATE(YEAR($K1336),\"_S\",_xlfn.ISOWEEKNUM($K1336)))","v":""}]
[{"$f":"IF(K1337=\"\",\"\",CONCATENATE(YEAR($K1337),\"_S\",_xlfn.ISOWEEKNUM($K1337)))","v":""}]
[{"$f":"IF(K1338=\"\",\"\",CONCATENATE(YEAR($K1338),\"_S\",_xlfn.ISOWEEKNUM($K1338)))","v":""}]
[{"$f":"IF(K1339=\"\",\"\",CONCATENATE(YEAR($K1339),\"_S\",_xlfn.ISOWEEKNUM($K1339)))","v":""}]
[{"$f":"IF(K1340=\"\",\"\",CONCATENATE(YEAR($K1340),\"_S\",_xlfn.ISOWEEKNUM($K1340)))","v":""}]
[{"$f":"IF(K1341=\"\",\"\",CONCATENATE(YEAR($K1341),\"_S\",_xlfn.ISOWEEKNUM($K1341)))","v":""}]
[{"$f":"IF(K1342=\"\",\"\",CONCATENATE(YEAR($K1342),\"_S\",_xlfn.ISOWEEKNUM($K1342)))","v":""}]
[{"$f":"IF(K1343=\"\",\"\",CONCATENATE(YEAR($K1343),\"_S\",_xlfn.ISOWEEKNUM($K1343)))","v":""}]
[{"$f":"IF(K1344=\"\",\"\",CONCATENATE(YEAR($K1344),\"_S\",_xlfn.ISOWEEKNUM($K1344)))","v":""}]
[{"$f":"IF(K1345=\"\",\"\",CONCATENATE(YEAR($K1345),\"_S\",_xlfn.ISOWEEKNUM($K1345)))","v":""}]
[{"$f":"IF(K1346=\"\",\"\",CONCATENATE(YEAR($K1346),\"_S\",_xlfn.ISOWEEKNUM($K1346)))","v":""}]
[{"$f":"IF(K1347=\"\",\"\",CONCATENATE(YEAR($K1347),\"_S\",_xlfn.ISOWEEKNUM($K1347)))","v":""}]
[{"$f":"IF(K1348=\"\",\"\",CONCATENATE(YEAR($K1348),\"_S\",_xlfn.ISOWEEKNUM($K1348)))","v":""}]
[{"$f":"IF(K1349=\"\",\"\",CONCATENATE(YEAR($K1349),\"_S\",_xlfn.ISOWEEKNUM($K1349)))","v":""}]
[{"$f":"IF(K1350=\"\",\"\",CONCATENATE(YEAR($K1350),\"_S\",_xlfn.ISOWEEKNUM($K1350)))","v":""}]
[{"$f":"IF(K1351=\"\",\"\",CONCATENATE(YEAR($K1351),\"_S\",_xlfn.ISOWEEKNUM($K1351)))","v":""}]
[{"$f":"IF(K1352=\"\",\"\",CONCATENATE(YEAR($K1352),\"_S\",_xlfn.ISOWEEKNUM($K1352)))","v":""}]
[{"$f":"IF(K1353=\"\",\"\",CONCATENATE(YEAR($K1353),\"_S\",_xlfn.ISOWEEKNUM($K1353)))","v":""}]
[{"$f":"IF(K1354=\"\",\"\",CONCATENATE(YEAR($K1354),\"_S\",_xlfn.ISOWEEKNUM($K1354)))","v":""}]
[{"$f":"IF(K1355=\"\",\"\",CONCATENATE(YEAR($K1355),\"_S\",_xlfn.ISOWEEKNUM($K1355)))","v":""}]
[{"$f":"IF(K1356=\"\",\"\",CONCATENATE(YEAR($K1356),\"_S\",_xlfn.ISOWEEKNUM($K1356)))","v":""}]
[{"$f":"IF(K1357=\"\",\"\",CONCATENATE(YEAR($K1357),\"_S\",_xlfn.ISOWEEKNUM($K1357)))","v":""}]
[{"$f":"IF(K1358=\"\",\"\",CONCATENATE(YEAR($K1358),\"_S\",_xlfn.ISOWEEKNUM($K1358)))","v":""}]
[{"$f":"IF(K1359=\"\",\"\",CONCATENATE(YEAR($K1359),\"_S\",_xlfn.ISOWEEKNUM($K1359)))","v":""}]
[{"$f":"IF(K1360=\"\",\"\",CONCATENATE(YEAR($K1360),\"_S\",_xlfn.ISOWEEKNUM($K1360)))","v":""}]
[{"$f":"IF(K1361=\"\",\"\",CONCATENATE(YEAR($K1361),\"_S\",_xlfn.ISOWEEKNUM($K1361)))","v":""}]
[{"$f":"IF(K1362=\"\",\"\",CONCATENATE(YEAR($K1362),\"_S\",_xlfn.ISOWEEKNUM($K1362)))","v":""}]
[{"$f":"IF(K1363=\"\",\"\",CONCATENATE(YEAR($K1363),\"_S\",_xlfn.ISOWEEKNUM($K1363)))","v":""}]
[{"$f":"IF(K1364=\"\",\"\",CONCATENATE(YEAR($K1364),\"_S\",_xlfn.ISOWEEKNUM($K1364)))","v":""}]
[{"$f":"IF(K1365=\"\",\"\",CONCATENATE(YEAR($K1365),\"_S\",_xlfn.ISOWEEKNUM($K1365)))","v":""}]
[{"$f":"IF(K1366=\"\",\"\",CONCATENATE(YEAR($K1366),\"_S\",_xlfn.ISOWEEKNUM($K1366)))","v":""}]
[{"$f":"IF(K1367=\"\",\"\",CONCATENATE(YEAR($K1367),\"_S\",_xlfn.ISOWEEKNUM($K1367)))","v":""}]
[{"$f":"IF(K1368=\"\",\"\",CONCATENATE(YEAR($K1368),\"_S\",_xlfn.ISOWEEKNUM($K1368)))","v":""}]
[{"$f":"IF(K1369=\"\",\"\",CONCATENATE(YEAR($K1369),\"_S\",_xlfn.ISOWEEKNUM($K1369)))","v":""}]
[{"$f":"IF(K1370=\"\",\"\",CONCATENATE(YEAR($K1370),\"_S\",_xlfn.ISOWEEKNUM($K1370)))","v":""}]
[{"$f":"IF(K1371=\"\",\"\",CONCATENATE(YEAR($K1371),\"_S\",_xlfn.ISOWEEKNUM($K1371)))","v":""}]
[{"$f":"IF(K1372=\"\",\"\",CONCATENATE(YEAR($K1372),\"_S\",_xlfn.ISOWEEKNUM($K1372)))","v":""}]
[{"$f":"IF(K1373=\"\",\"\",CONCATENATE(YEAR($K1373),\"_S\",_xlfn.ISOWEEKNUM($K1373)))","v":""}]
[{"$f":"IF(K1374=\"\",\"\",CONCATENATE(YEAR($K1374),\"_S\",_xlfn.ISOWEEKNUM($K1374)))","v":""}]
[{"$f":"IF(K1375=\"\",\"\",CONCATENATE(YEAR($K1375),\"_S\",_xlfn.ISOWEEKNUM($K1375)))","v":""}]
[{"$f":"IF(K1376=\"\",\"\",CONCATENATE(YEAR($K1376),\"_S\",_xlfn.ISOWEEKNUM($K1376)))","v":""}]
[{"$f":"IF(K1377=\"\",\"\",CONCATENATE(YEAR($K1377),\"_S\",_xlfn.ISOWEEKNUM($K1377)))","v":""}]
[{"$f":"IF(K1378=\"\",\"\",CONCATENATE(YEAR($K1378),\"_S\",_xlfn.ISOWEEKNUM($K1378)))","v":""}]
[{"$f":"IF(K1379=\"\",\"\",CONCATENATE(YEAR($K1379),\"_S\",_xlfn.ISOWEEKNUM($K1379)))","v":""}]
[{"$f":"IF(K1380=\"\",\"\",CONCATENATE(YEAR($K1380),\"_S\",_xlfn.ISOWEEKNUM($K1380)))","v":""}]
[{"$f":"IF(K1381=\"\",\"\",CONCATENATE(YEAR($K1381),\"_S\",_xlfn.ISOWEEKNUM($K1381)))","v":""}]
[{"$f":"IF(K1382=\"\",\"\",CONCATENATE(YEAR($K1382),\"_S\",_xlfn.ISOWEEKNUM($K1382)))","v":""}]
[{"$f":"IF(K1383=\"\",\"\",CONCATENATE(YEAR($K1383),\"_S\",_xlfn.ISOWEEKNUM($K1383)))","v":""}]
[{"$f":"IF(K1384=\"\",\"\",CONCATENATE(YEAR($K1384),\"_S\",_xlfn.ISOWEEKNUM($K1384)))","v":""}]
[{"$f":"IF(K1385=\"\",\"\",CONCATENATE(YEAR($K1385),\"_S\",_xlfn.ISOWEEKNUM($K1385)))","v":""}]
[{"$f":"IF(K1386=\"\",\"\",CONCATENATE(YEAR($K1386),\"_S\",_xlfn.ISOWEEKNUM($K1386)))","v":""}]
[{"$f":"IF(K1387=\"\",\"\",CONCATENATE(YEAR($K1387),\"_S\",_xlfn.ISOWEEKNUM($K1387)))","v":""}]
[{"$f":"IF(K1388=\"\",\"\",CONCATENATE(YEAR($K1388),\"_S\",_xlfn.ISOWEEKNUM($K1388)))","v":""}]
[{"$f":"IF(K1389=\"\",\"\",CONCATENATE(YEAR($K1389),\"_S\",_xlfn.ISOWEEKNUM($K1389)))","v":""}]
[{"$f":"IF(K1390=\"\",\"\",CONCATENATE(YEAR($K1390),\"_S\",_xlfn.ISOWEEKNUM($K1390)))","v":""}]
[{"$f":"IF(K1391=\"\",\"\",CONCATENATE(YEAR($K1391),\"_S\",_xlfn.ISOWEEKNUM($K1391)))","v":""}]
[{"$f":"IF(K1392=\"\",\"\",CONCATENATE(YEAR($K1392),\"_S\",_xlfn.ISOWEEKNUM($K1392)))","v":""}]
[{"$f":"IF(K1393=\"\",\"\",CONCATENATE(YEAR($K1393),\"_S\",_xlfn.ISOWEEKNUM($K1393)))","v":""}]
[{"$f":"IF(K1394=\"\",\"\",CONCATENATE(YEAR($K1394),\"_S\",_xlfn.ISOWEEKNUM($K1394)))","v":""}]
[{"$f":"IF(K1395=\"\",\"\",CONCATENATE(YEAR($K1395),\"_S\",_xlfn.ISOWEEKNUM($K1395)))","v":""}]
[{"$f":"IF(K1396=\"\",\"\",CONCATENATE(YEAR($K1396),\"_S\",_xlfn.ISOWEEKNUM($K1396)))","v":""}]
[{"$f":"IF(K1397=\"\",\"\",CONCATENATE(YEAR($K1397),\"_S\",_xlfn.ISOWEEKNUM($K1397)))","v":""}]
[{"$f":"IF(K1398=\"\",\"\",CONCATENATE(YEAR($K1398),\"_S\",_xlfn.ISOWEEKNUM($K1398)))","v":""}]
[{"$f":"IF(K1399=\"\",\"\",CONCATENATE(YEAR($K1399),\"_S\",_xlfn.ISOWEEKNUM($K1399)))","v":""}]
[{"$f":"IF(K1400=\"\",\"\",CONCATENATE(YEAR($K1400),\"_S\",_xlfn.ISOWEEKNUM($K1400)))","v":""}]
[{"$f":"IF(K1401=\"\",\"\",CONCATENATE(YEAR($K1401),\"_S\",_xlfn.ISOWEEKNUM($K1401)))","v":""}]
[{"$f":"IF(K1402=\"\",\"\",CONCATENATE(YEAR($K1402),\"_S\",_xlfn.ISOWEEKNUM($K1402)))","v":""}]
[{"$f":"IF(K1403=\"\",\"\",CONCATENATE(YEAR($K1403),\"_S\",_xlfn.ISOWEEKNUM($K1403)))","v":""}]
[{"$f":"IF(K1404=\"\",\"\",CONCATENATE(YEAR($K1404),\"_S\",_xlfn.ISOWEEKNUM($K1404)))","v":""}]
[{"$f":"IF(K1405=\"\",\"\",CONCATENATE(YEAR($K1405),\"_S\",_xlfn.ISOWEEKNUM($K1405)))","v":""}]
[{"$f":"IF(K1406=\"\",\"\",CONCATENATE(YEAR($K1406),\"_S\",_xlfn.ISOWEEKNUM($K1406)))","v":""}]
[{"$f":"IF(K1407=\"\",\"\",CONCATENATE(YEAR($K1407),\"_S\",_xlfn.ISOWEEKNUM($K1407)))","v":""}]
[{"$f":"IF(K1408=\"\",\"\",CONCATENATE(YEAR($K1408),\"_S\",_xlfn.ISOWEEKNUM($K1408)))","v":""}]
[{"$f":"IF(K1409=\"\",\"\",CONCATENATE(YEAR($K1409),\"_S\",_xlfn.ISOWEEKNUM($K1409)))","v":""}]
[{"$f":"IF(K1410=\"\",\"\",CONCATENATE(YEAR($K1410),\"_S\",_xlfn.ISOWEEKNUM($K1410)))","v":""}]
[{"$f":"IF(K1411=\"\",\"\",CONCATENATE(YEAR($K1411),\"_S\",_xlfn.ISOWEEKNUM($K1411)))","v":""}]
[{"$f":"IF(K1412=\"\",\"\",CONCATENATE(YEAR($K1412),\"_S\",_xlfn.ISOWEEKNUM($K1412)))","v":""}]
[{"$f":"IF(K1413=\"\",\"\",CONCATENATE(YEAR($K1413),\"_S\",_xlfn.ISOWEEKNUM($K1413)))","v":""}]
[{"$f":"IF(K1414=\"\",\"\",CONCATENATE(YEAR($K1414),\"_S\",_xlfn.ISOWEEKNUM($K1414)))","v":""}]
[{"$f":"IF(K1415=\"\",\"\",CONCATENATE(YEAR($K1415),\"_S\",_xlfn.ISOWEEKNUM($K1415)))","v":""}]
[{"$f":"IF(K1416=\"\",\"\",CONCATENATE(YEAR($K1416),\"_S\",_xlfn.ISOWEEKNUM($K1416)))","v":""}]
[{"$f":"IF(K1417=\"\",\"\",CONCATENATE(YEAR($K1417),\"_S\",_xlfn.ISOWEEKNUM($K1417)))","v":""}]
[{"$f":"IF(K1418=\"\",\"\",CONCATENATE(YEAR($K1418),\"_S\",_xlfn.ISOWEEKNUM($K1418)))","v":""}]
[{"$f":"IF(K1419=\"\",\"\",CONCATENATE(YEAR($K1419),\"_S\",_xlfn.ISOWEEKNUM($K1419)))","v":""}]
[{"$f":"IF(K1420=\"\",\"\",CONCATENATE(YEAR($K1420),\"_S\",_xlfn.ISOWEEKNUM($K1420)))","v":""}]
[{"$f":"IF(K1421=\"\",\"\",CONCATENATE(YEAR($K1421),\"_S\",_xlfn.ISOWEEKNUM($K1421)))","v":""}]
[{"$f":"IF(K1422=\"\",\"\",CONCATENATE(YEAR($K1422),\"_S\",_xlfn.ISOWEEKNUM($K1422)))","v":""}]
[{"$f":"IF(K1423=\"\",\"\",CONCATENATE(YEAR($K1423),\"_S\",_xlfn.ISOWEEKNUM($K1423)))","v":""}]
[{"$f":"IF(K1424=\"\",\"\",CONCATENATE(YEAR($K1424),\"_S\",_xlfn.ISOWEEKNUM($K1424)))","v":""}]
[{"$f":"IF(K1425=\"\",\"\",CONCATENATE(YEAR($K1425),\"_S\",_xlfn.ISOWEEKNUM($K1425)))","v":""}]
[{"$f":"IF(K1426=\"\",\"\",CONCATENATE(YEAR($K1426),\"_S\",_xlfn.ISOWEEKNUM($K1426)))","v":""}]
[{"$f":"IF(K1427=\"\",\"\",CONCATENATE(YEAR($K1427),\"_S\",_xlfn.ISOWEEKNUM($K1427)))","v":""}]
[{"$f":"IF(K1428=\"\",\"\",CONCATENATE(YEAR($K1428),\"_S\",_xlfn.ISOWEEKNUM($K1428)))","v":""}]
[{"$f":"IF(K1429=\"\",\"\",CONCATENATE(YEAR($K1429),\"_S\",_xlfn.ISOWEEKNUM($K1429)))","v":""}]
[{"$f":"IF(K1430=\"\",\"\",CONCATENATE(YEAR($K1430),\"_S\",_xlfn.ISOWEEKNUM($K1430)))","v":""}]
[{"$f":"IF(K1431=\"\",\"\",CONCATENATE(YEAR($K1431),\"_S\",_xlfn.ISOWEEKNUM($K1431)))","v":""}]
[{"$f":"IF(K1432=\"\",\"\",CONCATENATE(YEAR($K1432),\"_S\",_xlfn.ISOWEEKNUM($K1432)))","v":""}]
[{"$f":"IF(K1433=\"\",\"\",CONCATENATE(YEAR($K1433),\"_S\",_xlfn.ISOWEEKNUM($K1433)))","v":""}]
[{"$f":"IF(K1434=\"\",\"\",CONCATENATE(YEAR($K1434),\"_S\",_xlfn.ISOWEEKNUM($K1434)))","v":""}]
[{"$f":"IF(K1435=\"\",\"\",CONCATENATE(YEAR($K1435),\"_S\",_xlfn.ISOWEEKNUM($K1435)))","v":""}]
[{"$f":"IF(K1436=\"\",\"\",CONCATENATE(YEAR($K1436),\"_S\",_xlfn.ISOWEEKNUM($K1436)))","v":""}]
[{"$f":"IF(K1437=\"\",\"\",CONCATENATE(YEAR($K1437),\"_S\",_xlfn.ISOWEEKNUM($K1437)))","v":""}]
[{"$f":"IF(K1438=\"\",\"\",CONCATENATE(YEAR($K1438),\"_S\",_xlfn.ISOWEEKNUM($K1438)))","v":""}]
[{"$f":"IF(K1439=\"\",\"\",CONCATENATE(YEAR($K1439),\"_S\",_xlfn.ISOWEEKNUM($K1439)))","v":""}]
[{"$f":"IF(K1440=\"\",\"\",CONCATENATE(YEAR($K1440),\"_S\",_xlfn.ISOWEEKNUM($K1440)))","v":""}]
[{"$f":"IF(K1441=\"\",\"\",CONCATENATE(YEAR($K1441),\"_S\",_xlfn.ISOWEEKNUM($K1441)))","v":""}]
[{"$f":"IF(K1442=\"\",\"\",CONCATENATE(YEAR($K1442),\"_S\",_xlfn.ISOWEEKNUM($K1442)))","v":""}]
[{"$f":"IF(K1443=\"\",\"\",CONCATENATE(YEAR($K1443),\"_S\",_xlfn.ISOWEEKNUM($K1443)))","v":""}]
[{"$f":"IF(K1444=\"\",\"\",CONCATENATE(YEAR($K1444),\"_S\",_xlfn.ISOWEEKNUM($K1444)))","v":""}]
[{"$f":"IF(K1445=\"\",\"\",CONCATENATE(YEAR($K1445),\"_S\",_xlfn.ISOWEEKNUM($K1445)))","v":""}]
[{"$f":"IF(K1446=\"\",\"\",CONCATENATE(YEAR($K1446),\"_S\",_xlfn.ISOWEEKNUM($K1446)))","v":""}]
[{"$f":"IF(K1447=\"\",\"\",CONCATENATE(YEAR($K1447),\"_S\",_xlfn.ISOWEEKNUM($K1447)))","v":""}]
[{"$f":"IF(K1448=\"\",\"\",CONCATENATE(YEAR($K1448),\"_S\",_xlfn.ISOWEEKNUM($K1448)))","v":""}]
[{"$f":"IF(K1449=\"\",\"\",CONCATENATE(YEAR($K1449),\"_S\",_xlfn.ISOWEEKNUM($K1449)))","v":""}]
[{"$f":"IF(K1450=\"\",\"\",CONCATENATE(YEAR($K1450),\"_S\",_xlfn.ISOWEEKNUM($K1450)))","v":""}]
[{"$f":"IF(K1451=\"\",\"\",CONCATENATE(YEAR($K1451),\"_S\",_xlfn.ISOWEEKNUM($K1451)))","v":""}]
[{"$f":"IF(K1452=\"\",\"\",CONCATENATE(YEAR($K1452),\"_S\",_xlfn.ISOWEEKNUM($K1452)))","v":""}]
[{"$f":"IF(K1453=\"\",\"\",CONCATENATE(YEAR($K1453),\"_S\",_xlfn.ISOWEEKNUM($K1453)))","v":""}]
[{"$f":"IF(K1454=\"\",\"\",CONCATENATE(YEAR($K1454),\"_S\",_xlfn.ISOWEEKNUM($K1454)))","v":""}]
[{"$f":"IF(K1455=\"\",\"\",CONCATENATE(YEAR($K1455),\"_S\",_xlfn.ISOWEEKNUM($K1455)))","v":""}]
[{"$f":"IF(K1456=\"\",\"\",CONCATENATE(YEAR($K1456),\"_S\",_xlfn.ISOWEEKNUM($K1456)))","v":""}]
[{"$f":"IF(K1457=\"\",\"\",CONCATENATE(YEAR($K1457),\"_S\",_xlfn.ISOWEEKNUM($K1457)))","v":""}]
[{"$f":"IF(K1458=\"\",\"\",CONCATENATE(YEAR($K1458),\"_S\",_xlfn.ISOWEEKNUM($K1458)))","v":""}]
[{"$f":"IF(K1459=\"\",\"\",CONCATENATE(YEAR($K1459),\"_S\",_xlfn.ISOWEEKNUM($K1459)))","v":""}]
[{"$f":"IF(K1460=\"\",\"\",CONCATENATE(YEAR($K1460),\"_S\",_xlfn.ISOWEEKNUM($K1460)))","v":""}]
[{"$f":"IF(K1461=\"\",\"\",CONCATENATE(YEAR($K1461),\"_S\",_xlfn.ISOWEEKNUM($K1461)))","v":""}]
[{"$f":"IF(K1462=\"\",\"\",CONCATENATE(YEAR($K1462),\"_S\",_xlfn.ISOWEEKNUM($K1462)))","v":""}]
[{"$f":"IF(K1463=\"\",\"\",CONCATENATE(YEAR($K1463),\"_S\",_xlfn.ISOWEEKNUM($K1463)))","v":""}]
[{"$f":"IF(K1464=\"\",\"\",CONCATENATE(YEAR($K1464),\"_S\",_xlfn.ISOWEEKNUM($K1464)))","v":""}]
[{"$f":"IF(K1465=\"\",\"\",CONCATENATE(YEAR($K1465),\"_S\",_xlfn.ISOWEEKNUM($K1465)))","v":""}]
[{"$f":"IF(K1466=\"\",\"\",CONCATENATE(YEAR($K1466),\"_S\",_xlfn.ISOWEEKNUM($K1466)))","v":""}]
[{"$f":"IF(K1467=\"\",\"\",CONCATENATE(YEAR($K1467),\"_S\",_xlfn.ISOWEEKNUM($K1467)))","v":""}]
[{"$f":"IF(K1468=\"\",\"\",CONCATENATE(YEAR($K1468),\"_S\",_xlfn.ISOWEEKNUM($K1468)))","v":""}]
[{"$f":"IF(K1469=\"\",\"\",CONCATENATE(YEAR($K1469),\"_S\",_xlfn.ISOWEEKNUM($K1469)))","v":""}]
[{"$f":"IF(K1470=\"\",\"\",CONCATENATE(YEAR($K1470),\"_S\",_xlfn.ISOWEEKNUM($K1470)))","v":""}]
[{"$f":"IF(K1471=\"\",\"\",CONCATENATE(YEAR($K1471),\"_S\",_xlfn.ISOWEEKNUM($K1471)))","v":""}]
[{"$f":"IF(K1472=\"\",\"\",CONCATENATE(YEAR($K1472),\"_S\",_xlfn.ISOWEEKNUM($K1472)))","v":""}]
[{"$f":"IF(K1473=\"\",\"\",CONCATENATE(YEAR($K1473),\"_S\",_xlfn.ISOWEEKNUM($K1473)))","v":""}]
[{"$f":"IF(K1474=\"\",\"\",CONCATENATE(YEAR($K1474),\"_S\",_xlfn.ISOWEEKNUM($K1474)))","v":""}]
[{"$f":"IF(K1475=\"\",\"\",CONCATENATE(YEAR($K1475),\"_S\",_xlfn.ISOWEEKNUM($K1475)))","v":""}]
[{"$f":"IF(K1476=\"\",\"\",CONCATENATE(YEAR($K1476),\"_S\",_xlfn.ISOWEEKNUM($K1476)))","v":""}]
[{"$f":"IF(K1477=\"\",\"\",CONCATENATE(YEAR($K1477),\"_S\",_xlfn.ISOWEEKNUM($K1477)))","v":""}]
[{"$f":"IF(K1478=\"\",\"\",CONCATENATE(YEAR($K1478),\"_S\",_xlfn.ISOWEEKNUM($K1478)))","v":""}]
[{"$f":"IF(K1479=\"\",\"\",CONCATENATE(YEAR($K1479),\"_S\",_xlfn.ISOWEEKNUM($K1479)))","v":""}]
[{"$f":"IF(K1480=\"\",\"\",CONCATENATE(YEAR($K1480),\"_S\",_xlfn.ISOWEEKNUM($K1480)))","v":""}]
[{"$f":"IF(K1481=\"\",\"\",CONCATENATE(YEAR($K1481),\"_S\",_xlfn.ISOWEEKNUM($K1481)))","v":""}]
[{"$f":"IF(K1482=\"\",\"\",CONCATENATE(YEAR($K1482),\"_S\",_xlfn.ISOWEEKNUM($K1482)))","v":""}]
[{"$f":"IF(K1483=\"\",\"\",CONCATENATE(YEAR($K1483),\"_S\",_xlfn.ISOWEEKNUM($K1483)))","v":""}]
[{"$f":"IF(K1484=\"\",\"\",CONCATENATE(YEAR($K1484),\"_S\",_xlfn.ISOWEEKNUM($K1484)))","v":""}]
[{"$f":"IF(K1485=\"\",\"\",CONCATENATE(YEAR($K1485),\"_S\",_xlfn.ISOWEEKNUM($K1485)))","v":""}]
[{"$f":"IF(K1486=\"\",\"\",CONCATENATE(YEAR($K1486),\"_S\",_xlfn.ISOWEEKNUM($K1486)))","v":""}]
[{"$f":"IF(K1487=\"\",\"\",CONCATENATE(YEAR($K1487),\"_S\",_xlfn.ISOWEEKNUM($K1487)))","v":""}]
[{"$f":"IF(K1488=\"\",\"\",CONCATENATE(YEAR($K1488),\"_S\",_xlfn.ISOWEEKNUM($K1488)))","v":""}]
[{"$f":"IF(K1489=\"\",\"\",CONCATENATE(YEAR($K1489),\"_S\",_xlfn.ISOWEEKNUM($K1489)))","v":""}]
[{"$f":"IF(K1490=\"\",\"\",CONCATENATE(YEAR($K1490),\"_S\",_xlfn.ISOWEEKNUM($K1490)))","v":""}]
[{"$f":"IF(K1491=\"\",\"\",CONCATENATE(YEAR($K1491),\"_S\",_xlfn.ISOWEEKNUM($K1491)))","v":""}]
[{"$f":"IF(K1492=\"\",\"\",CONCATENATE(YEAR($K1492),\"_S\",_xlfn.ISOWEEKNUM($K1492)))","v":""}]
[{"$f":"IF(K1493=\"\",\"\",CONCATENATE(YEAR($K1493),\"_S\",_xlfn.ISOWEEKNUM($K1493)))","v":""}]
[{"$f":"IF(K1494=\"\",\"\",CONCATENATE(YEAR($K1494),\"_S\",_xlfn.ISOWEEKNUM($K1494)))","v":""}]
[{"$f":"IF(K1495=\"\",\"\",CONCATENATE(YEAR($K1495),\"_S\",_xlfn.ISOWEEKNUM($K1495)))","v":""}]
[{"$f":"IF(K1496=\"\",\"\",CONCATENATE(YEAR($K1496),\"_S\",_xlfn.ISOWEEKNUM($K1496)))","v":""}]
[{"$f":"IF(K1497=\"\",\"\",CONCATENATE(YEAR($K1497),\"_S\",_xlfn.ISOWEEKNUM($K1497)))","v":""}]
[{"$f":"IF(K1498=\"\",\"\",CONCATENATE(YEAR($K1498),\"_S\",_xlfn.ISOWEEKNUM($K1498)))","v":""}]
[{"$f":"IF(K1499=\"\",\"\",CONCATENATE(YEAR($K1499),\"_S\",_xlfn.ISOWEEKNUM($K1499)))","v":""}]
[{"$f":"IF(K1500=\"\",\"\",CONCATENATE(YEAR($K1500),\"_S\",_xlfn.ISOWEEKNUM($K1500)))","v":""}]
[{"$f":"IF(K1501=\"\",\"\",CONCATENATE(YEAR($K1501),\"_S\",_xlfn.ISOWEEKNUM($K1501)))","v":""}]
[{"$f":"IF(K1502=\"\",\"\",CONCATENATE(YEAR($K1502),\"_S\",_xlfn.ISOWEEKNUM($K1502)))","v":""}]
[{"$f":"IF(K1503=\"\",\"\",CONCATENATE(YEAR($K1503),\"_S\",_xlfn.ISOWEEKNUM($K1503)))","v":""}]
[{"$f":"IF(K1504=\"\",\"\",CONCATENATE(YEAR($K1504),\"_S\",_xlfn.ISOWEEKNUM($K1504)))","v":""}]
[{"$f":"IF(K1505=\"\",\"\",CONCATENATE(YEAR($K1505),\"_S\",_xlfn.ISOWEEKNUM($K1505)))","v":""}]
[{"$f":"IF(K1506=\"\",\"\",CONCATENATE(YEAR($K1506),\"_S\",_xlfn.ISOWEEKNUM($K1506)))","v":""}]
[{"$f":"IF(K1507=\"\",\"\",CONCATENATE(YEAR($K1507),\"_S\",_xlfn.ISOWEEKNUM($K1507)))","v":""}]
[{"$f":"IF(K1508=\"\",\"\",CONCATENATE(YEAR($K1508),\"_S\",_xlfn.ISOWEEKNUM($K1508)))","v":""}]
[{"$f":"IF(K1509=\"\",\"\",CONCATENATE(YEAR($K1509),\"_S\",_xlfn.ISOWEEKNUM($K1509)))","v":""}]
[{"$f":"IF(K1510=\"\",\"\",CONCATENATE(YEAR($K1510),\"_S\",_xlfn.ISOWEEKNUM($K1510)))","v":""}]
[{"$f":"IF(K1511=\"\",\"\",CONCATENATE(YEAR($K1511),\"_S\",_xlfn.ISOWEEKNUM($K1511)))","v":""}]
[{"$f":"IF(K1512=\"\",\"\",CONCATENATE(YEAR($K1512),\"_S\",_xlfn.ISOWEEKNUM($K1512)))","v":""}]
[{"$f":"IF(K1513=\"\",\"\",CONCATENATE(YEAR($K1513),\"_S\",_xlfn.ISOWEEKNUM($K1513)))","v":""}]
[{"$f":"IF(K1514=\"\",\"\",CONCATENATE(YEAR($K1514),\"_S\",_xlfn.ISOWEEKNUM($K1514)))","v":""}]
[{"$f":"IF(K1515=\"\",\"\",CONCATENATE(YEAR($K1515),\"_S\",_xlfn.ISOWEEKNUM($K1515)))","v":""}]
[{"$f":"IF(K1516=\"\",\"\",CONCATENATE(YEAR($K1516),\"_S\",_xlfn.ISOWEEKNUM($K1516)))","v":""}]
[{"$f":"IF(K1517=\"\",\"\",CONCATENATE(YEAR($K1517),\"_S\",_xlfn.ISOWEEKNUM($K1517)))","v":""}]
[{"$f":"IF(K1518=\"\",\"\",CONCATENATE(YEAR($K1518),\"_S\",_xlfn.ISOWEEKNUM($K1518)))","v":""}]
[{"$f":"IF(K1519=\"\",\"\",CONCATENATE(YEAR($K1519),\"_S\",_xlfn.ISOWEEKNUM($K1519)))","v":""}]
[{"$f":"IF(K1520=\"\",\"\",CONCATENATE(YEAR($K1520),\"_S\",_xlfn.ISOWEEKNUM($K1520)))","v":""}]
[{"$f":"IF(K1521=\"\",\"\",CONCATENATE(YEAR($K1521),\"_S\",_xlfn.ISOWEEKNUM($K1521)))","v":""}]
[{"$f":"IF(K1522=\"\",\"\",CONCATENATE(YEAR($K1522),\"_S\",_xlfn.ISOWEEKNUM($K1522)))","v":""}]
[{"$f":"IF(K1523=\"\",\"\",CONCATENATE(YEAR($K1523),\"_S\",_xlfn.ISOWEEKNUM($K1523)))","v":""}]
[{"$f":"IF(K1524=\"\",\"\",CONCATENATE(YEAR($K1524),\"_S\",_xlfn.ISOWEEKNUM($K1524)))","v":""}]
[{"$f":"IF(K1525=\"\",\"\",CONCATENATE(YEAR($K1525),\"_S\",_xlfn.ISOWEEKNUM($K1525)))","v":""}]
[{"$f":"IF(K1526=\"\",\"\",CONCATENATE(YEAR($K1526),\"_S\",_xlfn.ISOWEEKNUM($K1526)))","v":""}]
[{"$f":"IF(K1527=\"\",\"\",CONCATENATE(YEAR($K1527),\"_S\",_xlfn.ISOWEEKNUM($K1527)))","v":""}]
[{"$f":"IF(K1528=\"\",\"\",CONCATENATE(YEAR($K1528),\"_S\",_xlfn.ISOWEEKNUM($K1528)))","v":""}]
[{"$f":"IF(K1529=\"\",\"\",CONCATENATE(YEAR($K1529),\"_S\",_xlfn.ISOWEEKNUM($K1529)))","v":""}]
[{"$f":"IF(K1530=\"\",\"\",CONCATENATE(YEAR($K1530),\"_S\",_xlfn.ISOWEEKNUM($K1530)))","v":""}]
[{"$f":"IF(K1531=\"\",\"\",CONCATENATE(YEAR($K1531),\"_S\",_xlfn.ISOWEEKNUM($K1531)))","v":""}]
[{"$f":"IF(K1532=\"\",\"\",CONCATENATE(YEAR($K1532),\"_S\",_xlfn.ISOWEEKNUM($K1532)))","v":""}]
[{"$f":"IF(K1533=\"\",\"\",CONCATENATE(YEAR($K1533),\"_S\",_xlfn.ISOWEEKNUM($K1533)))","v":""}]
[{"$f":"IF(K1534=\"\",\"\",CONCATENATE(YEAR($K1534),\"_S\",_xlfn.ISOWEEKNUM($K1534)))","v":""}]
[{"$f":"IF(K1535=\"\",\"\",CONCATENATE(YEAR($K1535),\"_S\",_xlfn.ISOWEEKNUM($K1535)))","v":""}]
[{"$f":"IF(K1536=\"\",\"\",CONCATENATE(YEAR($K1536),\"_S\",_xlfn.ISOWEEKNUM($K1536)))","v":""}]
[{"$f":"IF(K1537=\"\",\"\",CONCATENATE(YEAR($K1537),\"_S\",_xlfn.ISOWEEKNUM($K1537)))","v":""}]
[{"$f":"IF(K1538=\"\",\"\",CONCATENATE(YEAR($K1538),\"_S\",_xlfn.ISOWEEKNUM($K1538)))","v":""}]
[{"$f":"IF(K1539=\"\",\"\",CONCATENATE(YEAR($K1539),\"_S\",_xlfn.ISOWEEKNUM($K1539)))","v":""}]
[{"$f":"IF(K1540=\"\",\"\",CONCATENATE(YEAR($K1540),\"_S\",_xlfn.ISOWEEKNUM($K1540)))","v":""}]
[{"$f":"IF(K1541=\"\",\"\",CONCATENATE(YEAR($K1541),\"_S\",_xlfn.ISOWEEKNUM($K1541)))","v":""}]
[{"$f":"IF(K1542=\"\",\"\",CONCATENATE(YEAR($K1542),\"_S\",_xlfn.ISOWEEKNUM($K1542)))","v":""}]
[{"$f":"IF(K1543=\"\",\"\",CONCATENATE(YEAR($K1543),\"_S\",_xlfn.ISOWEEKNUM($K1543)))","v":""}]
[{"$f":"IF(K1544=\"\",\"\",CONCATENATE(YEAR($K1544),\"_S\",_xlfn.ISOWEEKNUM($K1544)))","v":""}]
[{"$f":"IF(K1545=\"\",\"\",CONCATENATE(YEAR($K1545),\"_S\",_xlfn.ISOWEEKNUM($K1545)))","v":""}]
[{"$f":"IF(K1546=\"\",\"\",CONCATENATE(YEAR($K1546),\"_S\",_xlfn.ISOWEEKNUM($K1546)))","v":""}]
[{"$f":"IF(K1547=\"\",\"\",CONCATENATE(YEAR($K1547),\"_S\",_xlfn.ISOWEEKNUM($K1547)))","v":""}]
[{"$f":"IF(K1548=\"\",\"\",CONCATENATE(YEAR($K1548),\"_S\",_xlfn.ISOWEEKNUM($K1548)))","v":""}]
[{"$f":"IF(K1549=\"\",\"\",CONCATENATE(YEAR($K1549),\"_S\",_xlfn.ISOWEEKNUM($K1549)))","v":""}]
[{"$f":"IF(K1550=\"\",\"\",CONCATENATE(YEAR($K1550),\"_S\",_xlfn.ISOWEEKNUM($K1550)))","v":""}]
[{"$f":"IF(K1551=\"\",\"\",CONCATENATE(YEAR($K1551),\"_S\",_xlfn.ISOWEEKNUM($K1551)))","v":""}]
[{"$f":"IF(K1552=\"\",\"\",CONCATENATE(YEAR($K1552),\"_S\",_xlfn.ISOWEEKNUM($K1552)))","v":""}]
[{"$f":"IF(K1553=\"\",\"\",CONCATENATE(YEAR($K1553),\"_S\",_xlfn.ISOWEEKNUM($K1553)))","v":""}]
[{"$f":"IF(K1554=\"\",\"\",CONCATENATE(YEAR($K1554),\"_S\",_xlfn.ISOWEEKNUM($K1554)))","v":""}]
[{"$f":"IF(K1555=\"\",\"\",CONCATENATE(YEAR($K1555),\"_S\",_xlfn.ISOWEEKNUM($K1555)))","v":""}]
[{"$f":"IF(K1556=\"\",\"\",CONCATENATE(YEAR($K1556),\"_S\",_xlfn.ISOWEEKNUM($K1556)))","v":""}]
[{"$f":"IF(K1557=\"\",\"\",CONCATENATE(YEAR($K1557),\"_S\",_xlfn.ISOWEEKNUM($K1557)))","v":""}]
[{"$f":"IF(K1558=\"\",\"\",CONCATENATE(YEAR($K1558),\"_S\",_xlfn.ISOWEEKNUM($K1558)))","v":""}]
[{"$f":"IF(K1559=\"\",\"\",CONCATENATE(YEAR($K1559),\"_S\",_xlfn.ISOWEEKNUM($K1559)))","v":""}]
[{"$f":"IF(K1560=\"\",\"\",CONCATENATE(YEAR($K1560),\"_S\",_xlfn.ISOWEEKNUM($K1560)))","v":""}]
[{"$f":"IF(K1561=\"\",\"\",CONCATENATE(YEAR($K1561),\"_S\",_xlfn.ISOWEEKNUM($K1561)))","v":""}]
[{"$f":"IF(K1562=\"\",\"\",CONCATENATE(YEAR($K1562),\"_S\",_xlfn.ISOWEEKNUM($K1562)))","v":""}]
[{"$f":"IF(K1563=\"\",\"\",CONCATENATE(YEAR($K1563),\"_S\",_xlfn.ISOWEEKNUM($K1563)))","v":""}]
[{"$f":"IF(K1564=\"\",\"\",CONCATENATE(YEAR($K1564),\"_S\",_xlfn.ISOWEEKNUM($K1564)))","v":""}]
[{"$f":"IF(K1565=\"\",\"\",CONCATENATE(YEAR($K1565),\"_S\",_xlfn.ISOWEEKNUM($K1565)))","v":""}]
[{"$f":"IF(K1566=\"\",\"\",CONCATENATE(YEAR($K1566),\"_S\",_xlfn.ISOWEEKNUM($K1566)))","v":""}]
[{"$f":"IF(K1567=\"\",\"\",CONCATENATE(YEAR($K1567),\"_S\",_xlfn.ISOWEEKNUM($K1567)))","v":""}]
[{"$f":"IF(K1568=\"\",\"\",CONCATENATE(YEAR($K1568),\"_S\",_xlfn.ISOWEEKNUM($K1568)))","v":""}]
[{"$f":"IF(K1569=\"\",\"\",CONCATENATE(YEAR($K1569),\"_S\",_xlfn.ISOWEEKNUM($K1569)))","v":""}]
[{"$f":"IF(K1570=\"\",\"\",CONCATENATE(YEAR($K1570),\"_S\",_xlfn.ISOWEEKNUM($K1570)))","v":""}]
[{"$f":"IF(K1571=\"\",\"\",CONCATENATE(YEAR($K1571),\"_S\",_xlfn.ISOWEEKNUM($K1571)))","v":""}]
[{"$f":"IF(K1572=\"\",\"\",CONCATENATE(YEAR($K1572),\"_S\",_xlfn.ISOWEEKNUM($K1572)))","v":""}]
[{"$f":"IF(K1573=\"\",\"\",CONCATENATE(YEAR($K1573),\"_S\",_xlfn.ISOWEEKNUM($K1573)))","v":""}]
[{"$f":"IF(K1574=\"\",\"\",CONCATENATE(YEAR($K1574),\"_S\",_xlfn.ISOWEEKNUM($K1574)))","v":""}]
[{"$f":"IF(K1575=\"\",\"\",CONCATENATE(YEAR($K1575),\"_S\",_xlfn.ISOWEEKNUM($K1575)))","v":""}]
[{"$f":"IF(K1576=\"\",\"\",CONCATENATE(YEAR($K1576),\"_S\",_xlfn.ISOWEEKNUM($K1576)))","v":""}]
[{"$f":"IF(K1577=\"\",\"\",CONCATENATE(YEAR($K1577),\"_S\",_xlfn.ISOWEEKNUM($K1577)))","v":""}]
[{"$f":"IF(K1578=\"\",\"\",CONCATENATE(YEAR($K1578),\"_S\",_xlfn.ISOWEEKNUM($K1578)))","v":""}]
[{"$f":"IF(K1579=\"\",\"\",CONCATENATE(YEAR($K1579),\"_S\",_xlfn.ISOWEEKNUM($K1579)))","v":""}]
[{"$f":"IF(K1580=\"\",\"\",CONCATENATE(YEAR($K1580),\"_S\",_xlfn.ISOWEEKNUM($K1580)))","v":""}]
[{"$f":"IF(K1581=\"\",\"\",CONCATENATE(YEAR($K1581),\"_S\",_xlfn.ISOWEEKNUM($K1581)))","v":""}]
[{"$f":"IF(K1582=\"\",\"\",CONCATENATE(YEAR($K1582),\"_S\",_xlfn.ISOWEEKNUM($K1582)))","v":""}]
[{"$f":"IF(K1583=\"\",\"\",CONCATENATE(YEAR($K1583),\"_S\",_xlfn.ISOWEEKNUM($K1583)))","v":""}]
[{"$f":"IF(K1584=\"\",\"\",CONCATENATE(YEAR($K1584),\"_S\",_xlfn.ISOWEEKNUM($K1584)))","v":""}]
[{"$f":"IF(K1585=\"\",\"\",CONCATENATE(YEAR($K1585),\"_S\",_xlfn.ISOWEEKNUM($K1585)))","v":""}]
[{"$f":"IF(K1586=\"\",\"\",CONCATENATE(YEAR($K1586),\"_S\",_xlfn.ISOWEEKNUM($K1586)))","v":""}]
[{"$f":"IF(K1587=\"\",\"\",CONCATENATE(YEAR($K1587),\"_S\",_xlfn.ISOWEEKNUM($K1587)))","v":""}]
[{"$f":"IF(K1588=\"\",\"\",CONCATENATE(YEAR($K1588),\"_S\",_xlfn.ISOWEEKNUM($K1588)))","v":""}]
[{"$f":"IF(K1589=\"\",\"\",CONCATENATE(YEAR($K1589),\"_S\",_xlfn.ISOWEEKNUM($K1589)))","v":""}]
[{"$f":"IF(K1590=\"\",\"\",CONCATENATE(YEAR($K1590),\"_S\",_xlfn.ISOWEEKNUM($K1590)))","v":""}]
[{"$f":"IF(K1591=\"\",\"\",CONCATENATE(YEAR($K1591),\"_S\",_xlfn.ISOWEEKNUM($K1591)))","v":""}]
[{"$f":"IF(K1592=\"\",\"\",CONCATENATE(YEAR($K1592),\"_S\",_xlfn.ISOWEEKNUM($K1592)))","v":""}]
[{"$f":"IF(K1593=\"\",\"\",CONCATENATE(YEAR($K1593),\"_S\",_xlfn.ISOWEEKNUM($K1593)))","v":""}]
[{"$f":"IF(K1594=\"\",\"\",CONCATENATE(YEAR($K1594),\"_S\",_xlfn.ISOWEEKNUM($K1594)))","v":""}]
[{"$f":"IF(K1595=\"\",\"\",CONCATENATE(YEAR($K1595),\"_S\",_xlfn.ISOWEEKNUM($K1595)))","v":""}]
[{"$f":"IF(K1596=\"\",\"\",CONCATENATE(YEAR($K1596),\"_S\",_xlfn.ISOWEEKNUM($K1596)))","v":""}]
[{"$f":"IF(K1597=\"\",\"\",CONCATENATE(YEAR($K1597),\"_S\",_xlfn.ISOWEEKNUM($K1597)))","v":""}]
[{"$f":"IF(K1598=\"\",\"\",CONCATENATE(YEAR($K1598),\"_S\",_xlfn.ISOWEEKNUM($K1598)))","v":""}]
[{"$f":"IF(K1599=\"\",\"\",CONCATENATE(YEAR($K1599),\"_S\",_xlfn.ISOWEEKNUM($K1599)))","v":""}]
[{"$f":"IF(K1600=\"\",\"\",CONCATENATE(YEAR($K1600),\"_S\",_xlfn.ISOWEEKNUM($K1600)))","v":""}]
[{"$f":"IF(K1601=\"\",\"\",CONCATENATE(YEAR($K1601),\"_S\",_xlfn.ISOWEEKNUM($K1601)))","v":""}]
[{"$f":"IF(K1602=\"\",\"\",CONCATENATE(YEAR($K1602),\"_S\",_xlfn.ISOWEEKNUM($K1602)))","v":""}]
[{"$f":"IF(K1603=\"\",\"\",CONCATENATE(YEAR($K1603),\"_S\",_xlfn.ISOWEEKNUM($K1603)))","v":""}]
[{"$f":"IF(K1604=\"\",\"\",CONCATENATE(YEAR($K1604),\"_S\",_xlfn.ISOWEEKNUM($K1604)))","v":""}]
[{"$f":"IF(K1605=\"\",\"\",CONCATENATE(YEAR($K1605),\"_S\",_xlfn.ISOWEEKNUM($K1605)))","v":""}]
[{"$f":"IF(K1606=\"\",\"\",CONCATENATE(YEAR($K1606),\"_S\",_xlfn.ISOWEEKNUM($K1606)))","v":""}]
[{"$f":"IF(K1607=\"\",\"\",CONCATENATE(YEAR($K1607),\"_S\",_xlfn.ISOWEEKNUM($K1607)))","v":""}]
[{"$f":"IF(K1608=\"\",\"\",CONCATENATE(YEAR($K1608),\"_S\",_xlfn.ISOWEEKNUM($K1608)))","v":""}]
[{"$f":"IF(K1609=\"\",\"\",CONCATENATE(YEAR($K1609),\"_S\",_xlfn.ISOWEEKNUM($K1609)))","v":""}]
[{"$f":"IF(K1610=\"\",\"\",CONCATENATE(YEAR($K1610),\"_S\",_xlfn.ISOWEEKNUM($K1610)))","v":""}]
[]
[]
[]
[]
[]
[]
[]
[]
[]
[]
[]
[]
[null,null,null,null,null,null,null,null,null,null,null,null,null,null,null,null,null,null,null,null,null,null,null,null,null,null,null,{"$f":"IF($K1623>0,$K1623,\"\")","v":""},{"$f":"IF($L1623>0,MAX($L1623,$P1623,$Q1623),\"\")","v":""}]
[null,null,null,null,null,null,null,null,null,null,null,null,null,null,null,null,null,null,null,null,null,null,null,null,null,null,null,{"$f":"IF($K1624>0,$K1624,\"\")","v":""},{"$f":"IF($L1624>0,MAX($L1624,$P1624,$Q1624),\"\")","v":""}]
[null,null,null,null,null,null,null,null,null,null,null,null,null,null,null,null,null,null,null,null,null,null,null,null,null,null,null,{"$f":"IF($K1625>0,$K1625,\"\")","v":""},{"$f":"IF($L1625>0,MAX($L1625,$P1625,$Q1625),\"\")","v":""}]

{"sheet":"Synthese","index":1,"n_rows":20,"n_cols":50,"rows_kept":20,"cut":false,"hidden":false,"merged":[]}
["photo GA :",{"$f":"Presence!D1","v":"2020-04-10T10:05:14.958"}]
[]
["Nb Lig Pres:",{"$f":"MATCH(\"*\",Presence!B8:B8888,-1)+8","v":151},null,{"$f":"CONCATENATE(\"S\",WEEKNUM(D$4,21))","v":"S12"},{"$f":"CONCATENATE(\"S\",WEEKNUM(E$4,21))","v":"S12"},{"$f":"CONCATENATE(\"S\",WEEKNUM(F$4,21))","v":"S12"},{"$f":"CONCATENATE(\"S\",WEEKNUM(G$4,21))","v":"S12"},{"$f":"CONCATENATE(\"S\",WEEKNUM(H$4,21))","v":"S12"},{"$f":"CONCATENATE(\"S\",WEEKNUM(I$4,21))","v":"S12"},{"$f":"CONCATENATE(\"S\",WEEKNUM(J$4,21))","v":"S12"},{"$f":"CONCATENATE(\"S\",WEEKNUM(K$4,21))","v":"S13"},{"$f":"CONCATENATE(\"S\",WEEKNUM(L$4,21))","v":"S13"},{"$f":"CONCATENATE(\"S\",WEEKNUM(M$4,21))","v":"S13"},{"$f":"CONCATENATE(\"S\",WEEKNUM(N$4,21))","v":"S13"},{"$f":"CONCATENATE(\"S\",WEEKNUM(O$4,21))","v":"S13"},{"$f":"CONCATENATE(\"S\",WEEKNUM(P$4,21))","v":"S13"},{"$f":"CONCATENATE(\"S\",WEEKNUM(Q$4,21))","v":"S13"},{"$f":"CONCATENATE(\"S\",WEEKNUM(R$4,21))","v":"S14"},{"$f":"CONCATENATE(\"S\",WEEKNUM(S$4,21))","v":"S14"},{"$f":"CONCATENATE(\"S\",WEEKNUM(T$4,21))","v":"S14"},{"$f":"CONCATENATE(\"S\",WEEKNUM(U$4,21))","v":"S14"},{"$f":"CONCATENATE(\"S\",WEEKNUM(V$4,21))","v":"S14"},{"$f":"CONCATENATE(\"S\",WEEKNUM(W$4,21))","v":"S14"},{"$f":"CONCATENATE(\"S\",WEEKNUM(X$4,21))","v":"S14"},{"$f":"CONCATENATE(\"S\",WEEKNUM(Y$4,21))","v":"S15"},{"$f":"CONCATENATE(\"S\",WEEKNUM(Z$4,21))","v":"S15"},{"$f":"CONCATENATE(\"S\",WEEKNUM(AA$4,21))","v":"S15"},{"$f":"CONCATENATE(\"S\",WEEKNUM(AB$4,21))","v":"S15"},{"$f":"CONCATENATE(\"S\",WEEKNUM(AC$4,21))","v":"S15"},{"$f":"CONCATENATE(\"S\",WEEKNUM(AD$4,21))","v":"S15"},{"$f":"CONCATENATE(\"S\",WEEKNUM(AE$4,21))","v":"S15"},{"$f":"CONCATENATE(\"S\",WEEKNUM(AF$4,21))","v":"S16"},{"$f":"CONCATENATE(\"S\",WEEKNUM(AG$4,21))","v":"S16"},{"$f":"CONCATENATE(\"S\",WEEKNUM(AH$4,21))","v":"S16"},{"$f":"CONCATENATE(\"S\",WEEKNUM(AI$4,21))","v":"S16"},{"$f":"CONCATENATE(\"S\",WEEKNUM(AJ$4,21))","v":"S16"},{"$f":"CONCATENATE(\"S\",WEEKNUM(AK$4,21))","v":"S16"},{"$f":"CONCATENATE(\"S\",WEEKNUM(AL$4,21))","v":"S16"},{"$f":"CONCATENATE(\"S\",WEEKNUM(AM$4,21))","v":"S17"},{"$f":"CONCATENATE(\"S\",WEEKNUM(AN$4,21))","v":"S17"},{"$f":"CONCATENATE(\"S\",WEEKNUM(AO$4,21))","v":"S17"},{"$f":"CONCATENATE(\"S\",WEEKNUM(AP$4,21))","v":"S17"},{"$f":"CONCATENATE(\"S\",WEEKNUM(AQ$4,21))","v":"S17"},{"$f":"CONCATENATE(\"S\",WEEKNUM(AR$4,21))","v":"S17"},{"$f":"CONCATENATE(\"S\",WEEKNUM(AS$4,21))","v":"S17"},{"$f":"CONCATENATE(\"S\",WEEKNUM(AT$4,21))","v":"S18"},{"$f":"CONCATENATE(\"S\",WEEKNUM(AU$4,21))","v":"S18"},{"$f":"CONCATENATE(\"S\",WEEKNUM(AV$4,21))","v":"S18"},{"$f":"CONCATENATE(\"S\",WEEKNUM(AW$4,21))","v":"S18"},{"$f":"CONCATENATE(\"S\",WEEKNUM(AX$4,21))","v":"S18"}]
[null,null,null,{"$f":"Prevision!$K$6","v":"2021-03-22"},{"$f":"D$4 + 1","v":"2021-03-23"},{"$f":"E$4 + 1","v":"2021-03-24"},{"$f":"F$4 + 1","v":"2021-03-25"},{"$f":"G$4 + 1","v":"2021-03-26"},{"$f":"H$4 + 1","v":"2021-03-27"},{"$f":"I$4 + 1","v":"2021-03-28"},{"$f":"J$4 + 1","v":"2021-03-29"},{"$f":"K$4 + 1","v":"2021-03-30"},{"$f":"L$4 + 1","v":"2021-03-31"},{"$f":"M$4 + 1","v":"2021-04-01"},{"$f":"N$4 + 1","v":"2021-04-02"},{"$f":"O$4 + 1","v":"2021-04-03"},{"$f":"P$4 + 1","v":"2021-04-04"},{"$f":"Q$4 + 1","v":"2021-04-05"},{"$f":"R$4 + 1","v":"2021-04-06"},{"$f":"S$4 + 1","v":"2021-04-07"},{"$f":"T$4 + 1","v":"2021-04-08"},{"$f":"U$4 + 1","v":"2021-04-09"},{"$f":"V$4 + 1","v":"2021-04-10"},{"$f":"W$4 + 1","v":"2021-04-11"},{"$f":"X$4 + 1","v":"2021-04-12"},{"$f":"Y$4 + 1","v":"2021-04-13"},{"$f":"Z$4 + 1","v":"2021-04-14"},{"$f":"AA$4 + 1","v":"2021-04-15"},{"$f":"AB$4 + 1","v":"2021-04-16"},{"$f":"AC$4 + 1","v":"2021-04-17"},{"$f":"AD$4 + 1","v":"2021-04-18"},{"$f":"AE$4 + 1","v":"2021-04-19"},{"$f":"AF$4 + 1","v":"2021-04-20"},{"$f":"AG$4 + 1","v":"2021-04-21"},{"$f":"AH$4 + 1","v":"2021-04-22"},{"$f":"AI$4 + 1","v":"2021-04-23"},{"$f":"AJ$4 + 1","v":"2021-04-24"},{"$f":"AK$4 + 1","v":"2021-04-25"},{"$f":"AL$4 + 1","v":"2021-04-26"},{"$f":"AM$4 + 1","v":"2021-04-27"},{"$f":"AN$4 + 1","v":"2021-04-28"},{"$f":"AO$4 + 1","v":"2021-04-29"},{"$f":"AP$4 + 1","v":"2021-04-30"},{"$f":"AQ$4 + 1","v":"2021-05-01"},{"$f":"AR$4 + 1","v":"2021-05-02"},{"$f":"AS$4 + 1","v":"2021-05-03"},{"$f":"AT$4 + 1","v":"2021-05-04"},{"$f":"AU$4 + 1","v":"2021-05-05"},{"$f":"AV$4 + 1","v":"2021-05-06"},{"$f":"AW$4 + 1","v":"2021-05-07"}]
[null,null,null,{"$f":"D$4","v":"2021-03-22"},{"$f":"E$4","v":"2021-03-23"},{"$f":"F$4","v":"2021-03-24"},{"$f":"G$4","v":"2021-03-25"},{"$f":"H$4","v":"2021-03-26"},{"$f":"I$4","v":"2021-03-27"},{"$f":"J$4","v":"2021-03-28"},{"$f":"K$4","v":"2021-03-29"},{"$f":"L$4","v":"2021-03-30"},{"$f":"M$4","v":"2021-03-31"},{"$f":"N$4","v":"2021-04-01"},{"$f":"O$4","v":"2021-04-02"},{"$f":"P$4","v":"2021-04-03"},{"$f":"Q$4","v":"2021-04-04"},{"$f":"R$4","v":"2021-04-05"},{"$f":"S$4","v":"2021-04-06"},{"$f":"T$4","v":"2021-04-07"},{"$f":"U$4","v":"2021-04-08"},{"$f":"V$4","v":"2021-04-09"},{"$f":"W$4","v":"2021-04-10"},{"$f":"X$4","v":"2021-04-11"},{"$f":"Y$4","v":"2021-04-12"},{"$f":"Z$4","v":"2021-04-13"},{"$f":"AA$4","v":"2021-04-14"},{"$f":"AB$4","v":"2021-04-15"},{"$f":"AC$4","v":"2021-04-16"},{"$f":"AD$4","v":"2021-04-17"},{"$f":"AE$4","v":"2021-04-18"},{"$f":"AF$4","v":"2021-04-19"},{"$f":"AG$4","v":"2021-04-20"},{"$f":"AH$4","v":"2021-04-21"},{"$f":"AI$4","v":"2021-04-22"},{"$f":"AJ$4","v":"2021-04-23"},{"$f":"AK$4","v":"2021-04-24"},{"$f":"AL$4","v":"2021-04-25"},{"$f":"AM$4","v":"2021-04-26"},{"$f":"AN$4","v":"2021-04-27"},{"$f":"AO$4","v":"2021-04-28"},{"$f":"AP$4","v":"2021-04-29"},{"$f":"AQ$4","v":"2021-04-30"},{"$f":"AR$4","v":"2021-05-01"},{"$f":"AS$4","v":"2021-05-02"},{"$f":"AT$4","v":"2021-05-03"},{"$f":"AU$4","v":"2021-05-04"},{"$f":"AV$4","v":"2021-05-05"},{"$f":"AW$4","v":"2021-05-06"},{"$f":"AX$4","v":"2021-05-07"}]
[null,"PREVISION",null,{"$f":"Prevision!K$2","v":0},{"$f":"Prevision!L$2","v":0},{"$f":"Prevision!M$2","v":0},{"$f":"Prevision!N$2","v":0},{"$f":"Prevision!O$2","v":0},{"$f":"Prevision!P$2","v":0},{"$f":"Prevision!Q$2","v":0},{"$f":"Prevision!R$2","v":0},{"$f":"Prevision!S$2","v":0},{"$f":"Prevision!T$2","v":0},{"$f":"Prevision!U$2","v":0},{"$f":"Prevision!V$2","v":0},{"$f":"Prevision!W$2","v":0},{"$f":"Prevision!X$2","v":0},{"$f":"Prevision!Y$2","v":0},{"$f":"Prevision!Z$2","v":0},{"$f":"Prevision!AA$2","v":0},{"$f":"Prevision!AB$2","v":0},{"$f":"Prevision!AC$2","v":0},{"$f":"Prevision!AD$2","v":0},{"$f":"Prevision!AE$2","v":0},{"$f":"Prevision!AF$2","v":0},{"$f":"Prevision!AG$2","v":0},{"$f":"Prevision!AH$2","v":0},{"$f":"Prevision!AI$2","v":0},{"$f":"Prevision!AJ$2","v":0},{"$f":"Prevision!AK$2","v":0},{"$f":"Prevision!AL$2","v":0},{"$f":"Prevision!AM$2","v":0},{"$f":"Prevision!AN$2","v":0},{"$f":"Prevision!AO$2","v":0},{"$f":"Prevision!AP$2","v":0},{"$f":"Prevision!AQ$2","v":0},{"$f":"Prevision!AR$2","v":0},{"$f":"Prevision!AS$2","v":0},{"$f":"Prevision!AT$2","v":0},{"$f":"Prevision!AU$2","v":0},{"$f":"Prevision!AV$2","v":0},{"$f":"Prevision!AW$2","v":0},{"$f":"Prevision!AX$2","v":0},{"$f":"Prevision!AY$2","v":0},{"$f":"Prevision!AZ$2","v":0},{"$f":"Prevision!BA$2","v":0},{"$f":"Prevision!BB$2","v":0},{"$f":"Prevision!BC$2","v":0},{"$f":"Prevision!BD$2","v":0},{"$f":"Prevision!BE$2","v":0}]
[]
[null,"FIXE MATIN",null,{"$f":"SUMPRODUCT(    (OFFSET(Presence!$K$8,0,D$5-Presence!$K$6,$B$3)>0.3)*    (OFFSET(Presence!$K$8,0,D$5-Presence!$K$6,$B$3)<2)*    (OFFSET(Presence!$F$8,0,0,$B$3)=$B8)*    IF($C8=\"F\",D$17,1) )","v":0},{"$f":"SUMPRODUCT(    (OFFSET(Presence!$K$8,0,E$5-Presence!$K$6,$B$3)>0.3)*    (OFFSET(Presence!$K$8,0,E$5-Presence!$K$6,$B$3)<2)*    (OFFSET(Presence!$F$8,0,0,$B$3)=$B8)*    IF($C8=\"F\",E$17,1) )","v":0},{"$f":"SUMPRODUCT(    (OFFSET(Presence!$K$8,0,F$5-Presence!$K$6,$B$3)>0.3)*    (OFFSET(Presence!$K$8,0,F$5-Presence!$K$6,$B$3)<2)*    (OFFSET(Presence!$F$8,0,0,$B$3)=$B8)*    IF($C8=\"F\",F$17,1) )","v":0},{"$f":"SUMPRODUCT(    (OFFSET(Presence!$K$8,0,G$5-Presence!$K$6,$B$3)>0.3)*    (OFFSET(Presence!$K$8,0,G$5-Presence!$K$6,$B$3)<2)*    (OFFSET(Presence!$F$8,0,0,$B$3)=$B8)*    IF($C8=\"F\",G$17,1) )","v":0},{"$f":"SUMPRODUCT(    (OFFSET(Presence!$K$8,0,H$5-Presence!$K$6,$B$3)>0.3)*    (OFFSET(Presence!$K$8,0,H$5-Presence!$K$6,$B$3)<2)*    (OFFSET(Presence!$F$8,0,0,$B$3)=$B8)*    IF($C8=\"F\",H$17,1) )","v":0},{"$f":"SUMPRODUCT(    (OFFSET(Presence!$K$8,0,I$5-Presence!$K$6,$B$3)>0.3)*    (OFFSET(Presence!$K$8,0,I$5-Presence!$K$6,$B$3)<2)*    (OFFSET(Presence!$F$8,0,0,$B$3)=$B8)*    IF($C8=\"F\",I$17,1) )","v":0},{"$f":"SUMPRODUCT(    (OFFSET(Presence!$K$8,0,J$5-Presence!$K$6,$B$3)>0.3)*    (OFFSET(Presence!$K$8,0,J$5-Presence!$K$6,$B$3)<2)*    (OFFSET(Presence!$F$8,0,0,$B$3)=$B8)*    IF($C8=\"F\",J$17,1) )","v":0},{"$f":"SUMPRODUCT(    (OFFSET(Presence!$K$8,0,K$5-Presence!$K$6,$B$3)>0.3)*    (OFFSET(Presence!$K$8,0,K$5-Presence!$K$6,$B$3)<2)*    (OFFSET(Presence!$F$8,0,0,$B$3)=$B8)*    IF($C8=\"F\",K$17,1) )","v":0},{"$f":"SUMPRODUCT(    (OFFSET(Presence!$K$8,0,L$5-Presence!$K$6,$B$3)>0.3)*    (OFFSET(Presence!$K$8,0,L$5-Presence!$K$6,$B$3)<2)*    (OFFSET(Presence!$F$8,0,0,$B$3)=$B8)*    IF($C8=\"F\",L$17,1) )","v":0},{"$f":"SUMPRODUCT(    (OFFSET(Presence!$K$8,0,M$5-Presence!$K$6,$B$3)>0.3)*    (OFFSET(Presence!$K$8,0,M$5-Presence!$K$6,$B$3)<2)*    (OFFSET(Presence!$F$8,0,0,$B$3)=$B8)*    IF($C8=\"F\",M$17,1) )","v":0},{"$f":"SUMPRODUCT(    (OFFSET(Presence!$K$8,0,N$5-Presence!$K$6,$B$3)>0.3)*    (OFFSET(Presence!$K$8,0,N$5-Presence!$K$6,$B$3)<2)*    (OFFSET(Presence!$F$8,0,0,$B$3)=$B8)*    IF($C8=\"F\",N$17,1) )","v":0},{"$f":"SUMPRODUCT(    (OFFSET(Presence!$K$8,0,O$5-Presence!$K$6,$B$3)>0.3)*    (OFFSET(Presence!$K$8,0,O$5-Presence!$K$6,$B$3)<2)*    (OFFSET(Presence!$F$8,0,0,$B$3)=$B8)*    IF($C8=\"F\",O$17,1) )","v":0},{"$f":"SUMPRODUCT(    (OFFSET(Presence!$K$8,0,P$5-Presence!$K$6,$B$3)>0.3)*    (OFFSET(Presence!$K$8,0,P$5-Presence!$K$6,$B$3)<2)*    (OFFSET(Presence!$F$8,0,0,$B$3)=$B8)*    IF($C8=\"F\",P$17,1) )","v":0},{"$f":"SUMPRODUCT(    (OFFSET(Presence!$K$8,0,Q$5-Presence!$K$6,$B$3)>0.3)*    (OFFSET(Presence!$K$8,0,Q$5-Presence!$K$6,$B$3)<2)*    (OFFSET(Presence!$F$8,0,0,$B$3)=$B8)*    IF($C8=\"F\",Q$17,1) )","v":0},{"$f":"SUMPRODUCT(    (OFFSET(Presence!$K$8,0,R$5-Presence!$K$6,$B$3)>0.3)*    (OFFSET(Presence!$K$8,0,R$5-Presence!$K$6,$B$3)<2)*    (OFFSET(Presence!$F$8,0,0,$B$3)=$B8)*    IF($C8=\"F\",R$17,1) )","v":0},{"$f":"SUMPRODUCT(    (OFFSET(Presence!$K$8,0,S$5-Presence!$K$6,$B$3)>0.3)*    (OFFSET(Presence!$K$8,0,S$5-Presence!$K$6,$B$3)<2)*    (OFFSET(Presence!$F$8,0,0,$B$3)=$B8)*    IF($C8=\"F\",S$17,1) )","v":0},{"$f":"SUMPRODUCT(    (OFFSET(Presence!$K$8,0,T$5-Presence!$K$6,$B$3)>0.3)*    (OFFSET(Presence!$K$8,0,T$5-Presence!$K$6,$B$3)<2)*    (OFFSET(Presence!$F$8,0,0,$B$3)=$B8)*    IF($C8=\"F\",T$17,1) )","v":0},{"$f":"SUMPRODUCT(    (OFFSET(Presence!$K$8,0,U$5-Presence!$K$6,$B$3)>0.3)*    (OFFSET(Presence!$K$8,0,U$5-Presence!$K$6,$B$3)<2)*    (OFFSET(Presence!$F$8,0,0,$B$3)=$B8)*    IF($C8=\"F\",U$17,1) )","v":0},{"$f":"SUMPRODUCT(    (OFFSET(Presence!$K$8,0,V$5-Presence!$K$6,$B$3)>0.3)*    (OFFSET(Presence!$K$8,0,V$5-Presence!$K$6,$B$3)<2)*    (OFFSET(Presence!$F$8,0,0,$B$3)=$B8)*    IF($C8=\"F\",V$17,1) )","v":0},{"$f":"SUMPRODUCT(    (OFFSET(Presence!$K$8,0,W$5-Presence!$K$6,$B$3)>0.3)*    (OFFSET(Presence!$K$8,0,W$5-Presence!$K$6,$B$3)<2)*    (OFFSET(Presence!$F$8,0,0,$B$3)=$B8)*    IF($C8=\"F\",W$17,1) )","v":0},{"$f":"SUMPRODUCT(    (OFFSET(Presence!$K$8,0,X$5-Presence!$K$6,$B$3)>0.3)*    (OFFSET(Presence!$K$8,0,X$5-Presence!$K$6,$B$3)<2)*    (OFFSET(Presence!$F$8,0,0,$B$3)=$B8)*    IF($C8=\"F\",X$17,1) )","v":0},{"$f":"SUMPRODUCT(    (OFFSET(Presence!$K$8,0,Y$5-Presence!$K$6,$B$3)>0.3)*    (OFFSET(Presence!$K$8,0,Y$5-Presence!$K$6,$B$3)<2)*    (OFFSET(Presence!$F$8,0,0,$B$3)=$B8)*    IF($C8=\"F\",Y$17,1) )","v":0},{"$f":"SUMPRODUCT(    (OFFSET(Presence!$K$8,0,Z$5-Presence!$K$6,$B$3)>0.3)*    (OFFSET(Presence!$K$8,0,Z$5-Presence!$K$6,$B$3)<2)*    (OFFSET(Presence!$F$8,0,0,$B$3)=$B8)*    IF($C8=\"F\",Z$17,1) )","v":0},{"$f":"SUMPRODUCT(    (OFFSET(Presence!$K$8,0,AA$5-Presence!$K$6,$B$3)>0.3)*    (OFFSET(Presence!$K$8,0,AA$5-Presence!$K$6,$B$3)<2)*    (OFFSET(Presence!$F$8,0,0,$B$3)=$B8)*    IF($C8=\"F\",AA$17,1) )","v":0},{"$f":"SUMPRODUCT(    (OFFSET(Presence!$K$8,0,AB$5-Presence!$K$6,$B$3)>0.3)*    (OFFSET(Presence!$K$8,0,AB$5-Presence!$K$6,$B$3)<2)*    (OFFSET(Presence!$F$8,0,0,$B$3)=$B8)*    IF($C8=\"F\",AB$17,1) )","v":0},{"$f":"SUMPRODUCT(    (OFFSET(Presence!$K$8,0,AC$5-Presence!$K$6,$B$3)>0.3)*    (OFFSET(Presence!$K$8,0,AC$5-Presence!$K$6,$B$3)<2)*    (OFFSET(Presence!$F$8,0,0,$B$3)=$B8)*    IF($C8=\"F\",AC$17,1) )","v":0},{"$f":"SUMPRODUCT(    (OFFSET(Presence!$K$8,0,AD$5-Presence!$K$6,$B$3)>0.3)*    (OFFSET(Presence!$K$8,0,AD$5-Presence!$K$6,$B$3)<2)*    (OFFSET(Presence!$F$8,0,0,$B$3)=$B8)*    IF($C8=\"F\",AD$17,1) )","v":0},{"$f":"SUMPRODUCT(    (OFFSET(Presence!$K$8,0,AE$5-Presence!$K$6,$B$3)>0.3)*    (OFFSET(Presence!$K$8,0,AE$5-Presence!$K$6,$B$3)<2)*    (OFFSET(Presence!$F$8,0,0,$B$3)=$B8)*    IF($C8=\"F\",AE$17,1) )","v":0},{"$f":"SUMPRODUCT(    (OFFSET(Presence!$K$8,0,AF$5-Presence!$K$6,$B$3)>0.3)*    (OFFSET(Presence!$K$8,0,AF$5-Presence!$K$6,$B$3)<2)*    (OFFSET(Presence!$F$8,0,0,$B$3)=$B8)*    IF($C8=\"F\",AF$17,1) )","v":0},{"$f":"SUMPRODUCT(    (OFFSET(Presence!$K$8,0,AG$5-Presence!$K$6,$B$3)>0.3)*    (OFFSET(Presence!$K$8,0,AG$5-Presence!$K$6,$B$3)<2)*    (OFFSET(Presence!$F$8,0,0,$B$3)=$B8)*    IF($C8=\"F\",AG$17,1) )","v":0},{"$f":"SUMPRODUCT(    (OFFSET(Presence!$K$8,0,AH$5-Presence!$K$6,$B$3)>0.3)*    (OFFSET(Presence!$K$8,0,AH$5-Presence!$K$6,$B$3)<2)*    (OFFSET(Presence!$F$8,0,0,$B$3)=$B8)*    IF($C8=\"F\",AH$17,1) )","v":0},{"$f":"SUMPRODUCT(    (OFFSET(Presence!$K$8,0,AI$5-Presence!$K$6,$B$3)>0.3)*    (OFFSET(Presence!$K$8,0,AI$5-Presence!$K$6,$B$3)<2)*    (OFFSET(Presence!$F$8,0,0,$B$3)=$B8)*    IF($C8=\"F\",AI$17,1) )","v":0},{"$f":"SUMPRODUCT(    (OFFSET(Presence!$K$8,0,AJ$5-Presence!$K$6,$B$3)>0.3)*    (OFFSET(Presence!$K$8,0,AJ$5-Presence!$K$6,$B$3)<2)*    (OFFSET(Presence!$F$8,0,0,$B$3)=$B8)*    IF($C8=\"F\",AJ$17,1) )","v":0},{"$f":"SUMPRODUCT(    (OFFSET(Presence!$K$8,0,AK$5-Presence!$K$6,$B$3)>0.3)*    (OFFSET(Presence!$K$8,0,AK$5-Presence!$K$6,$B$3)<2)*    (OFFSET(Presence!$F$8,0,0,$B$3)=$B8)*    IF($C8=\"F\",AK$17,1) )","v":0},{"$f":"SUMPRODUCT(    (OFFSET(Presence!$K$8,0,AL$5-Presence!$K$6,$B$3)>0.3)*    (OFFSET(Presence!$K$8,0,AL$5-Presence!$K$6,$B$3)<2)*    (OFFSET(Presence!$F$8,0,0,$B$3)=$B8)*    IF($C8=\"F\",AL$17,1) )","v":0},{"$f":"SUMPRODUCT(    (OFFSET(Presence!$K$8,0,AM$5-Presence!$K$6,$B$3)>0.3)*    (OFFSET(Presence!$K$8,0,AM$5-Presence!$K$6,$B$3)<2)*    (OFFSET(Presence!$F$8,0,0,$B$3)=$B8)*    IF($C8=\"F\",AM$17,1) )","v":0},{"$f":"SUMPRODUCT(    (OFFSET(Presence!$K$8,0,AN$5-Presence!$K$6,$B$3)>0.3)*    (OFFSET(Presence!$K$8,0,AN$5-Presence!$K$6,$B$3)<2)*    (OFFSET(Presence!$F$8,0,0,$B$3)=$B8)*    IF($C8=\"F\",AN$17,1) )","v":0},{"$f":"SUMPRODUCT(    (OFFSET(Presence!$K$8,0,AO$5-Presence!$K$6,$B$3)>0.3)*    (OFFSET(Presence!$K$8,0,AO$5-Presence!$K$6,$B$3)<2)*    (OFFSET(Presence!$F$8,0,0,$B$3)=$B8)*    IF($C8=\"F\",AO$17,1) )","v":0},{"$f":"SUMPRODUCT(    (OFFSET(Presence!$K$8,0,AP$5-Presence!$K$6,$B$3)>0.3)*    (OFFSET(Presence!$K$8,0,AP$5-Presence!$K$6,$B$3)<2)*    (OFFSET(Presence!$F$8,0,0,$B$3)=$B8)*    IF($C8=\"F\",AP$17,1) )","v":0},{"$f":"SUMPRODUCT(    (OFFSET(Presence!$K$8,0,AQ$5-Presence!$K$6,$B$3)>0.3)*    (OFFSET(Presence!$K$8,0,AQ$5-Presence!$K$6,$B$3)<2)*    (OFFSET(Presence!$F$8,0,0,$B$3)=$B8)*    IF($C8=\"F\",AQ$17,1) )","v":0},{"$f":"SUMPRODUCT(    (OFFSET(Presence!$K$8,0,AR$5-Presence!$K$6,$B$3)>0.3)*    (OFFSET(Presence!$K$8,0,AR$5-Presence!$K$6,$B$3)<2)*    (OFFSET(Presence!$F$8,0,0,$B$3)=$B8)*    IF($C8=\"F\",AR$17,1) )","v":0},{"$f":"SUMPRODUCT(    (OFFSET(Presence!$K$8,0,AS$5-Presence!$K$6,$B$3)>0.3)*    (OFFSET(Presence!$K$8,0,AS$5-Presence!$K$6,$B$3)<2)*    (OFFSET(Presence!$F$8,0,0,$B$3)=$B8)*    IF($C8=\"F\",AS$17,1) )","v":0},{"$f":"SUMPRODUCT(    (OFFSET(Presence!$K$8,0,AT$5-Presence!$K$6,$B$3)>0.3)*    (OFFSET(Presence!$K$8,0,AT$5-Presence!$K$6,$B$3)<2)*    (OFFSET(Presence!$F$8,0,0,$B$3)=$B8)*    IF($C8=\"F\",AT$17,1) )","v":0},{"$f":"SUMPRODUCT(    (OFFSET(Presence!$K$8,0,AU$5-Presence!$K$6,$B$3)>0.3)*    (OFFSET(Presence!$K$8,0,AU$5-Presence!$K$6,$B$3)<2)*    (OFFSET(Presence!$F$8,0,0,$B$3)=$B8)*    IF($C8=\"F\",AU$17,1) )","v":0},{"$f":"SUMPRODUCT(    (OFFSET(Presence!$K$8,0,AV$5-Presence!$K$6,$B$3)>0.3)*    (OFFSET(Presence!$K$8,0,AV$5-Presence!$K$6,$B$3)<2)*    (OFFSET(Presence!$F$8,0,0,$B$3)=$B8)*    IF($C8=\"F\",AV$17,1) )","v":0},{"$f":"SUMPRODUCT(    (OFFSET(Presence!$K$8,0,AW$5-Presence!$K$6,$B$3)>0.3)*    (OFFSET(Presence!$K$8,0,AW$5-Presence!$K$6,$B$3)<2)*    (OFFSET(Presence!$F$8,0,0,$B$3)=$B8)*    IF($C8=\"F\",AW$17,1) )","v":0},{"$f":"SUMPRODUCT(    (OFFSET(Presence!$K$8,0,AX$5-Presence!$K$6,$B$3)>0.3)*    (OFFSET(Presence!$K$8,0,AX$5-Presence!$K$6,$B$3)<2)*    (OFFSET(Presence!$F$8,0,0,$B$3)=$B8)*    IF($C8=\"F\",AX$17,1) )","v":0}]
[null,"INTERIM FIXE MATIN",null,{"$f":"SUMPRODUCT(    (OFFSET(Presence!$K$8,0,D$5-Presence!$K$6,$B$3)>0.3)*    (OFFSET(Presence!$K$8,0,D$5-Presence!$K$6,$B$3)<2)*    (OFFSET(Presence!$F$8,0,0,$B$3)=$B9)*    IF($C9=\"F\",D$17,1) )","v":0},{"$f":"SUMPRODUCT(    (OFFSET(Presence!$K$8,0,E$5-Presence!$K$6,$B$3)>0.3)*    (OFFSET(Presence!$K$8,0,E$5-Presence!$K$6,$B$3)<2)*    (OFFSET(Presence!$F$8,0,0,$B$3)=$B9)*    IF($C9=\"F\",E$17,1) )","v":0},{"$f":"SUMPRODUCT(    (OFFSET(Presence!$K$8,0,F$5-Presence!$K$6,$B$3)>0.3)*    (OFFSET(Presence!$K$8,0,F$5-Presence!$K$6,$B$3)<2)*    (OFFSET(Presence!$F$8,0,0,$B$3)=$B9)*    IF($C9=\"F\",F$17,1) )","v":0},{"$f":"SUMPRODUCT(    (OFFSET(Presence!$K$8,0,G$5-Presence!$K$6,$B$3)>0.3)*    (OFFSET(Presence!$K$8,0,G$5-Presence!$K$6,$B$3)<2)*    (OFFSET(Presence!$F$8,0,0,$B$3)=$B9)*    IF($C9=\"F\",G$17,1) )","v":0},{"$f":"SUMPRODUCT(    (OFFSET(Presence!$K$8,0,H$5-Presence!$K$6,$B$3)>0.3)*    (OFFSET(Presence!$K$8,0,H$5-Presence!$K$6,$B$3)<2)*    (OFFSET(Presence!$F$8,0,0,$B$3)=$B9)*    IF($C9=\"F\",H$17,1) )","v":0},{"$f":"SUMPRODUCT(    (OFFSET(Presence!$K$8,0,I$5-Presence!$K$6,$B$3)>0.3)*    (OFFSET(Presence!$K$8,0,I$5-Presence!$K$6,$B$3)<2)*    (OFFSET(Presence!$F$8,0,0,$B$3)=$B9)*    IF($C9=\"F\",I$17,1) )","v":0},{"$f":"SUMPRODUCT(    (OFFSET(Presence!$K$8,0,J$5-Presence!$K$6,$B$3)>0.3)*    (OFFSET(Presence!$K$8,0,J$5-Presence!$K$6,$B$3)<2)*    (OFFSET(Presence!$F$8,0,0,$B$3)=$B9)*    IF($C9=\"F\",J$17,1) )","v":0},{"$f":"SUMPRODUCT(    (OFFSET(Presence!$K$8,0,K$5-Presence!$K$6,$B$3)>0.3)*    (OFFSET(Presence!$K$8,0,K$5-Presence!$K$6,$B$3)<2)*    (OFFSET(Presence!$F$8,0,0,$B$3)=$B9)*    IF($C9=\"F\",K$17,1) )","v":0},{"$f":"SUMPRODUCT(    (OFFSET(Presence!$K$8,0,L$5-Presence!$K$6,$B$3)>0.3)*    (OFFSET(Presence!$K$8,0,L$5-Presence!$K$6,$B$3)<2)*    (OFFSET(Presence!$F$8,0,0,$B$3)=$B9)*    IF($C9=\"F\",L$17,1) )","v":0},{"$f":"SUMPRODUCT(    (OFFSET(Presence!$K$8,0,M$5-Presence!$K$6,$B$3)>0.3)*    (OFFSET(Presence!$K$8,0,M$5-Presence!$K$6,$B$3)<2)*    (OFFSET(Presence!$F$8,0,0,$B$3)=$B9)*    IF($C9=\"F\",M$17,1) )","v":0},{"$f":"SUMPRODUCT(    (OFFSET(Presence!$K$8,0,N$5-Presence!$K$6,$B$3)>0.3)*    (OFFSET(Presence!$K$8,0,N$5-Presence!$K$6,$B$3)<2)*    (OFFSET(Presence!$F$8,0,0,$B$3)=$B9)*    IF($C9=\"F\",N$17,1) )","v":0},{"$f":"SUMPRODUCT(    (OFFSET(Presence!$K$8,0,O$5-Presence!$K$6,$B$3)>0.3)*    (OFFSET(Presence!$K$8,0,O$5-Presence!$K$6,$B$3)<2)*    (OFFSET(Presence!$F$8,0,0,$B$3)=$B9)*    IF($C9=\"F\",O$17,1) )","v":0},{"$f":"SUMPRODUCT(    (OFFSET(Presence!$K$8,0,P$5-Presence!$K$6,$B$3)>0.3)*    (OFFSET(Presence!$K$8,0,P$5-Presence!$K$6,$B$3)<2)*    (OFFSET(Presence!$F$8,0,0,$B$3)=$B9)*    IF($C9=\"F\",P$17,1) )","v":0},{"$f":"SUMPRODUCT(    (OFFSET(Presence!$K$8,0,Q$5-Presence!$K$6,$B$3)>0.3)*    (OFFSET(Presence!$K$8,0,Q$5-Presence!$K$6,$B$3)<2)*    (OFFSET(Presence!$F$8,0,0,$B$3)=$B9)*    IF($C9=\"F\",Q$17,1) )","v":0},{"$f":"SUMPRODUCT(    (OFFSET(Presence!$K$8,0,R$5-Presence!$K$6,$B$3)>0.3)*    (OFFSET(Presence!$K$8,0,R$5-Presence!$K$6,$B$3)<2)*    (OFFSET(Presence!$F$8,0,0,$B$3)=$B9)*    IF($C9=\"F\",R$17,1) )","v":0},{"$f":"SUMPRODUCT(    (OFFSET(Presence!$K$8,0,S$5-Presence!$K$6,$B$3)>0.3)*    (OFFSET(Presence!$K$8,0,S$5-Presence!$K$6,$B$3)<2)*    (OFFSET(Presence!$F$8,0,0,$B$3)=$B9)*    IF($C9=\"F\",S$17,1) )","v":0},{"$f":"SUMPRODUCT(    (OFFSET(Presence!$K$8,0,T$5-Presence!$K$6,$B$3)>0.3)*    (OFFSET(Presence!$K$8,0,T$5-Presence!$K$6,$B$3)<2)*    (OFFSET(Presence!$F$8,0,0,$B$3)=$B9)*    IF($C9=\"F\",T$17,1) )","v":0},{"$f":"SUMPRODUCT(    (OFFSET(Presence!$K$8,0,U$5-Presence!$K$6,$B$3)>0.3)*    (OFFSET(Presence!$K$8,0,U$5-Presence!$K$6,$B$3)<2)*    (OFFSET(Presence!$F$8,0,0,$B$3)=$B9)*    IF($C9=\"F\",U$17,1) )","v":0},{"$f":"SUMPRODUCT(    (OFFSET(Presence!$K$8,0,V$5-Presence!$K$6,$B$3)>0.3)*    (OFFSET(Presence!$K$8,0,V$5-Presence!$K$6,$B$3)<2)*    (OFFSET(Presence!$F$8,0,0,$B$3)=$B9)*    IF($C9=\"F\",V$17,1) )","v":0},{"$f":"SUMPRODUCT(    (OFFSET(Presence!$K$8,0,W$5-Presence!$K$6,$B$3)>0.3)*    (OFFSET(Presence!$K$8,0,W$5-Presence!$K$6,$B$3)<2)*    (OFFSET(Presence!$F$8,0,0,$B$3)=$B9)*    IF($C9=\"F\",W$17,1) )","v":0},{"$f":"SUMPRODUCT(    (OFFSET(Presence!$K$8,0,X$5-Presence!$K$6,$B$3)>0.3)*    (OFFSET(Presence!$K$8,0,X$5-Presence!$K$6,$B$3)<2)*    (OFFSET(Presence!$F$8,0,0,$B$3)=$B9)*    IF($C9=\"F\",X$17,1) )","v":0},{"$f":"SUMPRODUCT(    (OFFSET(Presence!$K$8,0,Y$5-Presence!$K$6,$B$3)>0.3)*    (OFFSET(Presence!$K$8,0,Y$5-Presence!$K$6,$B$3)<2)*    (OFFSET(Presence!$F$8,0,0,$B$3)=$B9)*    IF($C9=\"F\",Y$17,1) )","v":0},{"$f":"SUMPRODUCT(    (OFFSET(Presence!$K$8,0,Z$5-Presence!$K$6,$B$3)>0.3)*    (OFFSET(Presence!$K$8,0,Z$5-Presence!$K$6,$B$3)<2)*    (OFFSET(Presence!$F$8,0,0,$B$3)=$B9)*    IF($C9=\"F\",Z$17,1) )","v":0},{"$f":"SUMPRODUCT(    (OFFSET(Presence!$K$8,0,AA$5-Presence!$K$6,$B$3)>0.3)*    (OFFSET(Presence!$K$8,0,AA$5-Presence!$K$6,$B$3)<2)*    (OFFSET(Presence!$F$8,0,0,$B$3)=$B9)*    IF($C9=\"F\",AA$17,1) )","v":0},{"$f":"SUMPRODUCT(    (OFFSET(Presence!$K$8,0,AB$5-Presence!$K$6,$B$3)>0.3)*    (OFFSET(Presence!$K$8,0,AB$5-Presence!$K$6,$B$3)<2)*    (OFFSET(Presence!$F$8,0,0,$B$3)=$B9)*    IF($C9=\"F\",AB$17,1) )","v":0},{"$f":"SUMPRODUCT(    (OFFSET(Presence!$K$8,0,AC$5-Presence!$K$6,$B$3)>0.3)*    (OFFSET(Presence!$K$8,0,AC$5-Presence!$K$6,$B$3)<2)*    (OFFSET(Presence!$F$8,0,0,$B$3)=$B9)*    IF($C9=\"F\",AC$17,1) )","v":0},{"$f":"SUMPRODUCT(    (OFFSET(Presence!$K$8,0,AD$5-Presence!$K$6,$B$3)>0.3)*    (OFFSET(Presence!$K$8,0,AD$5-Presence!$K$6,$B$3)<2)*    (OFFSET(Presence!$F$8,0,0,$B$3)=$B9)*    IF($C9=\"F\",AD$17,1) )","v":0},{"$f":"SUMPRODUCT(    (OFFSET(Presence!$K$8,0,AE$5-Presence!$K$6,$B$3)>0.3)*    (OFFSET(Presence!$K$8,0,AE$5-Presence!$K$6,$B$3)<2)*    (OFFSET(Presence!$F$8,0,0,$B$3)=$B9)*    IF($C9=\"F\",AE$17,1) )","v":0},{"$f":"SUMPRODUCT(    (OFFSET(Presence!$K$8,0,AF$5-Presence!$K$6,$B$3)>0.3)*    (OFFSET(Presence!$K$8,0,AF$5-Presence!$K$6,$B$3)<2)*    (OFFSET(Presence!$F$8,0,0,$B$3)=$B9)*    IF($C9=\"F\",AF$17,1) )","v":0},{"$f":"SUMPRODUCT(    (OFFSET(Presence!$K$8,0,AG$5-Presence!$K$6,$B$3)>0.3)*    (OFFSET(Presence!$K$8,0,AG$5-Presence!$K$6,$B$3)<2)*    (OFFSET(Presence!$F$8,0,0,$B$3)=$B9)*    IF($C9=\"F\",AG$17,1) )","v":0},{"$f":"SUMPRODUCT(    (OFFSET(Presence!$K$8,0,AH$5-Presence!$K$6,$B$3)>0.3)*    (OFFSET(Presence!$K$8,0,AH$5-Presence!$K$6,$B$3)<2)*    (OFFSET(Presence!$F$8,0,0,$B$3)=$B9)*    IF($C9=\"F\",AH$17,1) )","v":0},{"$f":"SUMPRODUCT(    (OFFSET(Presence!$K$8,0,AI$5-Presence!$K$6,$B$3)>0.3)*    (OFFSET(Presence!$K$8,0,AI$5-Presence!$K$6,$B$3)<2)*    (OFFSET(Presence!$F$8,0,0,$B$3)=$B9)*    IF($C9=\"F\",AI$17,1) )","v":0},{"$f":"SUMPRODUCT(    (OFFSET(Presence!$K$8,0,AJ$5-Presence!$K$6,$B$3)>0.3)*    (OFFSET(Presence!$K$8,0,AJ$5-Presence!$K$6,$B$3)<2)*    (OFFSET(Presence!$F$8,0,0,$B$3)=$B9)*    IF($C9=\"F\",AJ$17,1) )","v":0},{"$f":"SUMPRODUCT(    (OFFSET(Presence!$K$8,0,AK$5-Presence!$K$6,$B$3)>0.3)*    (OFFSET(Presence!$K$8,0,AK$5-Presence!$K$6,$B$3)<2)*    (OFFSET(Presence!$F$8,0,0,$B$3)=$B9)*    IF($C9=\"F\",AK$17,1) )","v":0},{"$f":"SUMPRODUCT(    (OFFSET(Presence!$K$8,0,AL$5-Presence!$K$6,$B$3)>0.3)*    (OFFSET(Presence!$K$8,0,AL$5-Presence!$K$6,$B$3)<2)*    (OFFSET(Presence!$F$8,0,0,$B$3)=$B9)*    IF($C9=\"F\",AL$17,1) )","v":0},{"$f":"SUMPRODUCT(    (OFFSET(Presence!$K$8,0,AM$5-Presence!$K$6,$B$3)>0.3)*    (OFFSET(Presence!$K$8,0,AM$5-Presence!$K$6,$B$3)<2)*    (OFFSET(Presence!$F$8,0,0,$B$3)=$B9)*    IF($C9=\"F\",AM$17,1) )","v":0},{"$f":"SUMPRODUCT(    (OFFSET(Presence!$K$8,0,AN$5-Presence!$K$6,$B$3)>0.3)*    (OFFSET(Presence!$K$8,0,AN$5-Presence!$K$6,$B$3)<2)*    (OFFSET(Presence!$F$8,0,0,$B$3)=$B9)*    IF($C9=\"F\",AN$17,1) )","v":0},{"$f":"SUMPRODUCT(    (OFFSET(Presence!$K$8,0,AO$5-Presence!$K$6,$B$3)>0.3)*    (OFFSET(Presence!$K$8,0,AO$5-Presence!$K$6,$B$3)<2)*    (OFFSET(Presence!$F$8,0,0,$B$3)=$B9)*    IF($C9=\"F\",AO$17,1) )","v":0},{"$f":"SUMPRODUCT(    (OFFSET(Presence!$K$8,0,AP$5-Presence!$K$6,$B$3)>0.3)*    (OFFSET(Presence!$K$8,0,AP$5-Presence!$K$6,$B$3)<2)*    (OFFSET(Presence!$F$8,0,0,$B$3)=$B9)*    IF($C9=\"F\",AP$17,1) )","v":0},{"$f":"SUMPRODUCT(    (OFFSET(Presence!$K$8,0,AQ$5-Presence!$K$6,$B$3)>0.3)*    (OFFSET(Presence!$K$8,0,AQ$5-Presence!$K$6,$B$3)<2)*    (OFFSET(Presence!$F$8,0,0,$B$3)=$B9)*    IF($C9=\"F\",AQ$17,1) )","v":0},{"$f":"SUMPRODUCT(    (OFFSET(Presence!$K$8,0,AR$5-Presence!$K$6,$B$3)>0.3)*    (OFFSET(Presence!$K$8,0,AR$5-Presence!$K$6,$B$3)<2)*    (OFFSET(Presence!$F$8,0,0,$B$3)=$B9)*    IF($C9=\"F\",AR$17,1) )","v":0},{"$f":"SUMPRODUCT(    (OFFSET(Presence!$K$8,0,AS$5-Presence!$K$6,$B$3)>0.3)*    (OFFSET(Presence!$K$8,0,AS$5-Presence!$K$6,$B$3)<2)*    (OFFSET(Presence!$F$8,0,0,$B$3)=$B9)*    IF($C9=\"F\",AS$17,1) )","v":0},{"$f":"SUMPRODUCT(    (OFFSET(Presence!$K$8,0,AT$5-Presence!$K$6,$B$3)>0.3)*    (OFFSET(Presence!$K$8,0,AT$5-Presence!$K$6,$B$3)<2)*    (OFFSET(Presence!$F$8,0,0,$B$3)=$B9)*    IF($C9=\"F\",AT$17,1) )","v":0},{"$f":"SUMPRODUCT(    (OFFSET(Presence!$K$8,0,AU$5-Presence!$K$6,$B$3)>0.3)*    (OFFSET(Presence!$K$8,0,AU$5-Presence!$K$6,$B$3)<2)*    (OFFSET(Presence!$F$8,0,0,$B$3)=$B9)*    IF($C9=\"F\",AU$17,1) )","v":0},{"$f":"SUMPRODUCT(    (OFFSET(Presence!$K$8,0,AV$5-Presence!$K$6,$B$3)>0.3)*    (OFFSET(Presence!$K$8,0,AV$5-Presence!$K$6,$B$3)<2)*    (OFFSET(Presence!$F$8,0,0,$B$3)=$B9)*    IF($C9=\"F\",AV$17,1) )","v":0},{"$f":"SUMPRODUCT(    (OFFSET(Presence!$K$8,0,AW$5-Presence!$K$6,$B$3)>0.3)*    (OFFSET(Presence!$K$8,0,AW$5-Presence!$K$6,$B$3)<2)*    (OFFSET(Presence!$F$8,0,0,$B$3)=$B9)*    IF($C9=\"F\",AW$17,1) )","v":0},{"$f":"SUMPRODUCT(    (OFFSET(Presence!$K$8,0,AX$5-Presence!$K$6,$B$3)>0.3)*    (OFFSET(Presence!$K$8,0,AX$5-Presence!$K$6,$B$3)<2)*    (OFFSET(Presence!$F$8,0,0,$B$3)=$B9)*    IF($C9=\"F\",AX$17,1) )","v":0}]
[null,"MATINALE",null,{"$f":"SUMPRODUCT(    (OFFSET(Presence!$K$8,0,D$5-Presence!$K$6,$B$3)>0.3)*    (OFFSET(Presence!$K$8,0,D$5-Presence!$K$6,$B$3)<2)*    (OFFSET(Presence!$F$8,0,0,$B$3)=$B10)*    IF($C10=\"F\",D$17,1) )","v":0},{"$f":"SUMPRODUCT(    (OFFSET(Presence!$K$8,0,E$5-Presence!$K$6,$B$3)>0.3)*    (OFFSET(Presence!$K$8,0,E$5-Presence!$K$6,$B$3)<2)*    (OFFSET(Presence!$F$8,0,0,$B$3)=$B10)*    IF($C10=\"F\",E$17,1) )","v":0},{"$f":"SUMPRODUCT(    (OFFSET(Presence!$K$8,0,F$5-Presence!$K$6,$B$3)>0.3)*    (OFFSET(Presence!$K$8,0,F$5-Presence!$K$6,$B$3)<2)*    (OFFSET(Presence!$F$8,0,0,$B$3)=$B10)*    IF($C10=\"F\",F$17,1) )","v":0},{"$f":"SUMPRODUCT(    (OFFSET(Presence!$K$8,0,G$5-Presence!$K$6,$B$3)>0.3)*    (OFFSET(Presence!$K$8,0,G$5-Presence!$K$6,$B$3)<2)*    (OFFSET(Presence!$F$8,0,0,$B$3)=$B10)*    IF($C10=\"F\",G$17,1) )","v":0},{"$f":"SUMPRODUCT(    (OFFSET(Presence!$K$8,0,H$5-Presence!$K$6,$B$3)>0.3)*    (OFFSET(Presence!$K$8,0,H$5-Presence!$K$6,$B$3)<2)*    (OFFSET(Presence!$F$8,0,0,$B$3)=$B10)*    IF($C10=\"F\",H$17,1) )","v":0},{"$f":"SUMPRODUCT(    (OFFSET(Presence!$K$8,0,I$5-Presence!$K$6,$B$3)>0.3)*    (OFFSET(Presence!$K$8,0,I$5-Presence!$K$6,$B$3)<2)*    (OFFSET(Presence!$F$8,0,0,$B$3)=$B10)*    IF($C10=\"F\",I$17,1) )","v":0},{"$f":"SUMPRODUCT(    (OFFSET(Presence!$K$8,0,J$5-Presence!$K$6,$B$3)>0.3)*    (OFFSET(Presence!$K$8,0,J$5-Presence!$K$6,$B$3)<2)*    (OFFSET(Presence!$F$8,0,0,$B$3)=$B10)*    IF($C10=\"F\",J$17,1) )","v":0},{"$f":"SUMPRODUCT(    (OFFSET(Presence!$K$8,0,K$5-Presence!$K$6,$B$3)>0.3)*    (OFFSET(Presence!$K$8,0,K$5-Presence!$K$6,$B$3)<2)*    (OFFSET(Presence!$F$8,0,0,$B$3)=$B10)*    IF($C10=\"F\",K$17,1) )","v":0},{"$f":"SUMPRODUCT(    (OFFSET(Presence!$K$8,0,L$5-Presence!$K$6,$B$3)>0.3)*    (OFFSET(Presence!$K$8,0,L$5-Presence!$K$6,$B$3)<2)*    (OFFSET(Presence!$F$8,0,0,$B$3)=$B10)*    IF($C10=\"F\",L$17,1) )","v":0},{"$f":"SUMPRODUCT(    (OFFSET(Presence!$K$8,0,M$5-Presence!$K$6,$B$3)>0.3)*    (OFFSET(Presence!$K$8,0,M$5-Presence!$K$6,$B$3)<2)*    (OFFSET(Presence!$F$8,0,0,$B$3)=$B10)*    IF($C10=\"F\",M$17,1) )","v":0},{"$f":"SUMPRODUCT(    (OFFSET(Presence!$K$8,0,N$5-Presence!$K$6,$B$3)>0.3)*    (OFFSET(Presence!$K$8,0,N$5-Presence!$K$6,$B$3)<2)*    (OFFSET(Presence!$F$8,0,0,$B$3)=$B10)*    IF($C10=\"F\",N$17,1) )","v":0},{"$f":"SUMPRODUCT(    (OFFSET(Presence!$K$8,0,O$5-Presence!$K$6,$B$3)>0.3)*    (OFFSET(Presence!$K$8,0,O$5-Presence!$K$6,$B$3)<2)*    (OFFSET(Presence!$F$8,0,0,$B$3)=$B10)*    IF($C10=\"F\",O$17,1) )","v":0},{"$f":"SUMPRODUCT(    (OFFSET(Presence!$K$8,0,P$5-Presence!$K$6,$B$3)>0.3)*    (OFFSET(Presence!$K$8,0,P$5-Presence!$K$6,$B$3)<2)*    (OFFSET(Presence!$F$8,0,0,$B$3)=$B10)*    IF($C10=\"F\",P$17,1) )","v":0},{"$f":"SUMPRODUCT(    (OFFSET(Presence!$K$8,0,Q$5-Presence!$K$6,$B$3)>0.3)*    (OFFSET(Presence!$K$8,0,Q$5-Presence!$K$6,$B$3)<2)*    (OFFSET(Presence!$F$8,0,0,$B$3)=$B10)*    IF($C10=\"F\",Q$17,1) )","v":0},{"$f":"SUMPRODUCT(    (OFFSET(Presence!$K$8,0,R$5-Presence!$K$6,$B$3)>0.3)*    (OFFSET(Presence!$K$8,0,R$5-Presence!$K$6,$B$3)<2)*    (OFFSET(Presence!$F$8,0,0,$B$3)=$B10)*    IF($C10=\"F\",R$17,1) )","v":0},{"$f":"SUMPRODUCT(    (OFFSET(Presence!$K$8,0,S$5-Presence!$K$6,$B$3)>0.3)*    (OFFSET(Presence!$K$8,0,S$5-Presence!$K$6,$B$3)<2)*    (OFFSET(Presence!$F$8,0,0,$B$3)=$B10)*    IF($C10=\"F\",S$17,1) )","v":0},{"$f":"SUMPRODUCT(    (OFFSET(Presence!$K$8,0,T$5-Presence!$K$6,$B$3)>0.3)*    (OFFSET(Presence!$K$8,0,T$5-Presence!$K$6,$B$3)<2)*    (OFFSET(Presence!$F$8,0,0,$B$3)=$B10)*    IF($C10=\"F\",T$17,1) )","v":0},{"$f":"SUMPRODUCT(    (OFFSET(Presence!$K$8,0,U$5-Presence!$K$6,$B$3)>0.3)*    (OFFSET(Presence!$K$8,0,U$5-Presence!$K$6,$B$3)<2)*    (OFFSET(Presence!$F$8,0,0,$B$3)=$B10)*    IF($C10=\"F\",U$17,1) )","v":0},{"$f":"SUMPRODUCT(    (OFFSET(Presence!$K$8,0,V$5-Presence!$K$6,$B$3)>0.3)*    (OFFSET(Presence!$K$8,0,V$5-Presence!$K$6,$B$3)<2)*    (OFFSET(Presence!$F$8,0,0,$B$3)=$B10)*    IF($C10=\"F\",V$17,1) )","v":0},{"$f":"SUMPRODUCT(    (OFFSET(Presence!$K$8,0,W$5-Presence!$K$6,$B$3)>0.3)*    (OFFSET(Presence!$K$8,0,W$5-Presence!$K$6,$B$3)<2)*    (OFFSET(Presence!$F$8,0,0,$B$3)=$B10)*    IF($C10=\"F\",W$17,1) )","v":0},{"$f":"SUMPRODUCT(    (OFFSET(Presence!$K$8,0,X$5-Presence!$K$6,$B$3)>0.3)*    (OFFSET(Presence!$K$8,0,X$5-Presence!$K$6,$B$3)<2)*    (OFFSET(Presence!$F$8,0,0,$B$3)=$B10)*    IF($C10=\"F\",X$17,1) )","v":0},{"$f":"SUMPRODUCT(    (OFFSET(Presence!$K$8,0,Y$5-Presence!$K$6,$B$3)>0.3)*    (OFFSET(Presence!$K$8,0,Y$5-Presence!$K$6,$B$3)<2)*    (OFFSET(Presence!$F$8,0,0,$B$3)=$B10)*    IF($C10=\"F\",Y$17,1) )","v":0},{"$f":"SUMPRODUCT(    (OFFSET(Presence!$K$8,0,Z$5-Presence!$K$6,$B$3)>0.3)*    (OFFSET(Presence!$K$8,0,Z$5-Presence!$K$6,$B$3)<2)*    (OFFSET(Presence!$F$8,0,0,$B$3)=$B10)*    IF($C10=\"F\",Z$17,1) )","v":0},{"$f":"SUMPRODUCT(    (OFFSET(Presence!$K$8,0,AA$5-Presence!$K$6,$B$3)>0.3)*    (OFFSET(Presence!$K$8,0,AA$5-Presence!$K$6,$B$3)<2)*    (OFFSET(Presence!$F$8,0,0,$B$3)=$B10)*    IF($C10=\"F\",AA$17,1) )","v":0},{"$f":"SUMPRODUCT(    (OFFSET(Presence!$K$8,0,AB$5-Presence!$K$6,$B$3)>0.3)*    (OFFSET(Presence!$K$8,0,AB$5-Presence!$K$6,$B$3)<2)*    (OFFSET(Presence!$F$8,0,0,$B$3)=$B10)*    IF($C10=\"F\",AB$17,1) )","v":0},{"$f":"SUMPRODUCT(    (OFFSET(Presence!$K$8,0,AC$5-Presence!$K$6,$B$3)>0.3)*    (OFFSET(Presence!$K$8,0,AC$5-Presence!$K$6,$B$3)<2)*    (OFFSET(Presence!$F$8,0,0,$B$3)=$B10)*    IF($C10=\"F\",AC$17,1) )","v":0},{"$f":"SUMPRODUCT(    (OFFSET(Presence!$K$8,0,AD$5-Presence!$K$6,$B$3)>0.3)*    (OFFSET(Presence!$K$8,0,AD$5-Presence!$K$6,$B$3)<2)*    (OFFSET(Presence!$F$8,0,0,$B$3)=$B10)*    IF($C10=\"F\",AD$17,1) )","v":0},{"$f":"SUMPRODUCT(    (OFFSET(Presence!$K$8,0,AE$5-Presence!$K$6,$B$3)>0.3)*    (OFFSET(Presence!$K$8,0,AE$5-Presence!$K$6,$B$3)<2)*    (OFFSET(Presence!$F$8,0,0,$B$3)=$B10)*    IF($C10=\"F\",AE$17,1) )","v":0},{"$f":"SUMPRODUCT(    (OFFSET(Presence!$K$8,0,AF$5-Presence!$K$6,$B$3)>0.3)*    (OFFSET(Presence!$K$8,0,AF$5-Presence!$K$6,$B$3)<2)*    (OFFSET(Presence!$F$8,0,0,$B$3)=$B10)*    IF($C10=\"F\",AF$17,1) )","v":0},{"$f":"SUMPRODUCT(    (OFFSET(Presence!$K$8,0,AG$5-Presence!$K$6,$B$3)>0.3)*    (OFFSET(Presence!$K$8,0,AG$5-Presence!$K$6,$B$3)<2)*    (OFFSET(Presence!$F$8,0,0,$B$3)=$B10)*    IF($C10=\"F\",AG$17,1) )","v":0},{"$f":"SUMPRODUCT(    (OFFSET(Presence!$K$8,0,AH$5-Presence!$K$6,$B$3)>0.3)*    (OFFSET(Presence!$K$8,0,AH$5-Presence!$K$6,$B$3)<2)*    (OFFSET(Presence!$F$8,0,0,$B$3)=$B10)*    IF($C10=\"F\",AH$17,1) )","v":0},{"$f":"SUMPRODUCT(    (OFFSET(Presence!$K$8,0,AI$5-Presence!$K$6,$B$3)>0.3)*    (OFFSET(Presence!$K$8,0,AI$5-Presence!$K$6,$B$3)<2)*    (OFFSET(Presence!$F$8,0,0,$B$3)=$B10)*    IF($C10=\"F\",AI$17,1) )","v":0},{"$f":"SUMPRODUCT(    (OFFSET(Presence!$K$8,0,AJ$5-Presence!$K$6,$B$3)>0.3)*    (OFFSET(Presence!$K$8,0,AJ$5-Presence!$K$6,$B$3)<2)*    (OFFSET(Presence!$F$8,0,0,$B$3)=$B10)*    IF($C10=\"F\",AJ$17,1) )","v":0},{"$f":"SUMPRODUCT(    (OFFSET(Presence!$K$8,0,AK$5-Presence!$K$6,$B$3)>0.3)*    (OFFSET(Presence!$K$8,0,AK$5-Presence!$K$6,$B$3)<2)*    (OFFSET(Presence!$F$8,0,0,$B$3)=$B10)*    IF($C10=\"F\",AK$17,1) )","v":0},{"$f":"SUMPRODUCT(    (OFFSET(Presence!$K$8,0,AL$5-Presence!$K$6,$B$3)>0.3)*    (OFFSET(Presence!$K$8,0,AL$5-Presence!$K$6,$B$3)<2)*    (OFFSET(Presence!$F$8,0,0,$B$3)=$B10)*    IF($C10=\"F\",AL$17,1) )","v":0},{"$f":"SUMPRODUCT(    (OFFSET(Presence!$K$8,0,AM$5-Presence!$K$6,$B$3)>0.3)*    (OFFSET(Presence!$K$8,0,AM$5-Presence!$K$6,$B$3)<2)*    (OFFSET(Presence!$F$8,0,0,$B$3)=$B10)*    IF($C10=\"F\",AM$17,1) )","v":0},{"$f":"SUMPRODUCT(    (OFFSET(Presence!$K$8,0,AN$5-Presence!$K$6,$B$3)>0.3)*    (OFFSET(Presence!$K$8,0,AN$5-Presence!$K$6,$B$3)<2)*    (OFFSET(Presence!$F$8,0,0,$B$3)=$B10)*    IF($C10=\"F\",AN$17,1) )","v":0},{"$f":"SUMPRODUCT(    (OFFSET(Presence!$K$8,0,AO$5-Presence!$K$6,$B$3)>0.3)*    (OFFSET(Presence!$K$8,0,AO$5-Presence!$K$6,$B$3)<2)*    (OFFSET(Presence!$F$8,0,0,$B$3)=$B10)*    IF($C10=\"F\",AO$17,1) )","v":0},{"$f":"SUMPRODUCT(    (OFFSET(Presence!$K$8,0,AP$5-Presence!$K$6,$B$3)>0.3)*    (OFFSET(Presence!$K$8,0,AP$5-Presence!$K$6,$B$3)<2)*    (OFFSET(Presence!$F$8,0,0,$B$3)=$B10)*    IF($C10=\"F\",AP$17,1) )","v":0},{"$f":"SUMPRODUCT(    (OFFSET(Presence!$K$8,0,AQ$5-Presence!$K$6,$B$3)>0.3)*    (OFFSET(Presence!$K$8,0,AQ$5-Presence!$K$6,$B$3)<2)*    (OFFSET(Presence!$F$8,0,0,$B$3)=$B10)*    IF($C10=\"F\",AQ$17,1) )","v":0},{"$f":"SUMPRODUCT(    (OFFSET(Presence!$K$8,0,AR$5-Presence!$K$6,$B$3)>0.3)*    (OFFSET(Presence!$K$8,0,AR$5-Presence!$K$6,$B$3)<2)*    (OFFSET(Presence!$F$8,0,0,$B$3)=$B10)*    IF($C10=\"F\",AR$17,1) )","v":0},{"$f":"SUMPRODUCT(    (OFFSET(Presence!$K$8,0,AS$5-Presence!$K$6,$B$3)>0.3)*    (OFFSET(Presence!$K$8,0,AS$5-Presence!$K$6,$B$3)<2)*    (OFFSET(Presence!$F$8,0,0,$B$3)=$B10)*    IF($C10=\"F\",AS$17,1) )","v":0},{"$f":"SUMPRODUCT(    (OFFSET(Presence!$K$8,0,AT$5-Presence!$K$6,$B$3)>0.3)*    (OFFSET(Presence!$K$8,0,AT$5-Presence!$K$6,$B$3)<2)*    (OFFSET(Presence!$F$8,0,0,$B$3)=$B10)*    IF($C10=\"F\",AT$17,1) )","v":0},{"$f":"SUMPRODUCT(    (OFFSET(Presence!$K$8,0,AU$5-Presence!$K$6,$B$3)>0.3)*    (OFFSET(Presence!$K$8,0,AU$5-Presence!$K$6,$B$3)<2)*    (OFFSET(Presence!$F$8,0,0,$B$3)=$B10)*    IF($C10=\"F\",AU$17,1) )","v":0},{"$f":"SUMPRODUCT(    (OFFSET(Presence!$K$8,0,AV$5-Presence!$K$6,$B$3)>0.3)*    (OFFSET(Presence!$K$8,0,AV$5-Presence!$K$6,$B$3)<2)*    (OFFSET(Presence!$F$8,0,0,$B$3)=$B10)*    IF($C10=\"F\",AV$17,1) )","v":0},{"$f":"SUMPRODUCT(    (OFFSET(Presence!$K$8,0,AW$5-Presence!$K$6,$B$3)>0.3)*    (OFFSET(Presence!$K$8,0,AW$5-Presence!$K$6,$B$3)<2)*    (OFFSET(Presence!$F$8,0,0,$B$3)=$B10)*    IF($C10=\"F\",AW$17,1) )","v":0},{"$f":"SUMPRODUCT(    (OFFSET(Presence!$K$8,0,AX$5-Presence!$K$6,$B$3)>0.3)*    (OFFSET(Presence!$K$8,0,AX$5-Presence!$K$6,$B$3)<2)*    (OFFSET(Presence!$F$8,0,0,$B$3)=$B10)*    IF($C10=\"F\",AX$17,1) )","v":0}]
[null,"MIXTE SOCIALE",null,{"$f":"SUMPRODUCT(    (OFFSET(Presence!$K$8,0,D$5-Presence!$K$6,$B$3)>0.3)*    (OFFSET(Presence!$K$8,0,D$5-Presence!$K$6,$B$3)<2)*    (OFFSET(Presence!$F$8,0,0,$B$3)=$B11)*    IF($C11=\"F\",D$17,1) )","v":0},{"$f":"SUMPRODUCT(    (OFFSET(Presence!$K$8,0,E$5-Presence!$K$6,$B$3)>0.3)*    (OFFSET(Presence!$K$8,0,E$5-Presence!$K$6,$B$3)<2)*    (OFFSET(Presence!$F$8,0,0,$B$3)=$B11)*    IF($C11=\"F\",E$17,1) )","v":0},{"$f":"SUMPRODUCT(    (OFFSET(Presence!$K$8,0,F$5-Presence!$K$6,$B$3)>0.3)*    (OFFSET(Presence!$K$8,0,F$5-Presence!$K$6,$B$3)<2)*    (OFFSET(Presence!$F$8,0,0,$B$3)=$B11)*    IF($C11=\"F\",F$17,1) )","v":0},{"$f":"SUMPRODUCT(    (OFFSET(Presence!$K$8,0,G$5-Presence!$K$6,$B$3)>0.3)*    (OFFSET(Presence!$K$8,0,G$5-Presence!$K$6,$B$3)<2)*    (OFFSET(Presence!$F$8,0,0,$B$3)=$B11)*    IF($C11=\"F\",G$17,1) )","v":0},{"$f":"SUMPRODUCT(    (OFFSET(Presence!$K$8,0,H$5-Presence!$K$6,$B$3)>0.3)*    (OFFSET(Presence!$K$8,0,H$5-Presence!$K$6,$B$3)<2)*    (OFFSET(Presence!$F$8,0,0,$B$3)=$B11)*    IF($C11=\"F\",H$17,1) )","v":0},{"$f":"SUMPRODUCT(    (OFFSET(Presence!$K$8,0,I$5-Presence!$K$6,$B$3)>0.3)*    (OFFSET(Presence!$K$8,0,I$5-Presence!$K$6,$B$3)<2)*    (OFFSET(Presence!$F$8,0,0,$B$3)=$B11)*    IF($C11=\"F\",I$17,1) )","v":0},{"$f":"SUMPRODUCT(    (OFFSET(Presence!$K$8,0,J$5-Presence!$K$6,$B$3)>0.3)*    (OFFSET(Presence!$K$8,0,J$5-Presence!$K$6,$B$3)<2)*    (OFFSET(Presence!$F$8,0,0,$B$3)=$B11)*    IF($C11=\"F\",J$17,1) )","v":0},{"$f":"SUMPRODUCT(    (OFFSET(Presence!$K$8,0,K$5-Presence!$K$6,$B$3)>0.3)*    (OFFSET(Presence!$K$8,0,K$5-Presence!$K$6,$B$3)<2)*    (OFFSET(Presence!$F$8,0,0,$B$3)=$B11)*    IF($C11=\"F\",K$17,1) )","v":0},{"$f":"SUMPRODUCT(    (OFFSET(Presence!$K$8,0,L$5-Presence!$K$6,$B$3)>0.3)*    (OFFSET(Presence!$K$8,0,L$5-Presence!$K$6,$B$3)<2)*    (OFFSET(Presence!$F$8,0,0,$B$3)=$B11)*    IF($C11=\"F\",L$17,1) )","v":0},{"$f":"SUMPRODUCT(    (OFFSET(Presence!$K$8,0,M$5-Presence!$K$6,$B$3)>0.3)*    (OFFSET(Presence!$K$8,0,M$5-Presence!$K$6,$B$3)<2)*    (OFFSET(Presence!$F$8,0,0,$B$3)=$B11)*    IF($C11=\"F\",M$17,1) )","v":0},{"$f":"SUMPRODUCT(    (OFFSET(Presence!$K$8,0,N$5-Presence!$K$6,$B$3)>0.3)*    (OFFSET(Presence!$K$8,0,N$5-Presence!$K$6,$B$3)<2)*    (OFFSET(Presence!$F$8,0,0,$B$3)=$B11)*    IF($C11=\"F\",N$17,1) )","v":0},{"$f":"SUMPRODUCT(    (OFFSET(Presence!$K$8,0,O$5-Presence!$K$6,$B$3)>0.3)*    (OFFSET(Presence!$K$8,0,O$5-Presence!$K$6,$B$3)<2)*    (OFFSET(Presence!$F$8,0,0,$B$3)=$B11)*    IF($C11=\"F\",O$17,1) )","v":0},{"$f":"SUMPRODUCT(    (OFFSET(Presence!$K$8,0,P$5-Presence!$K$6,$B$3)>0.3)*    (OFFSET(Presence!$K$8,0,P$5-Presence!$K$6,$B$3)<2)*    (OFFSET(Presence!$F$8,0,0,$B$3)=$B11)*    IF($C11=\"F\",P$17,1) )","v":0},{"$f":"SUMPRODUCT(    (OFFSET(Presence!$K$8,0,Q$5-Presence!$K$6,$B$3)>0.3)*    (OFFSET(Presence!$K$8,0,Q$5-Presence!$K$6,$B$3)<2)*    (OFFSET(Presence!$F$8,0,0,$B$3)=$B11)*    IF($C11=\"F\",Q$17,1) )","v":0},{"$f":"SUMPRODUCT(    (OFFSET(Presence!$K$8,0,R$5-Presence!$K$6,$B$3)>0.3)*    (OFFSET(Presence!$K$8,0,R$5-Presence!$K$6,$B$3)<2)*    (OFFSET(Presence!$F$8,0,0,$B$3)=$B11)*    IF($C11=\"F\",R$17,1) )","v":0},{"$f":"SUMPRODUCT(    (OFFSET(Presence!$K$8,0,S$5-Presence!$K$6,$B$3)>0.3)*    (OFFSET(Presence!$K$8,0,S$5-Presence!$K$6,$B$3)<2)*    (OFFSET(Presence!$F$8,0,0,$B$3)=$B11)*    IF($C11=\"F\",S$17,1) )","v":0},{"$f":"SUMPRODUCT(    (OFFSET(Presence!$K$8,0,T$5-Presence!$K$6,$B$3)>0.3)*    (OFFSET(Presence!$K$8,0,T$5-Presence!$K$6,$B$3)<2)*    (OFFSET(Presence!$F$8,0,0,$B$3)=$B11)*    IF($C11=\"F\",T$17,1) )","v":0},{"$f":"SUMPRODUCT(    (OFFSET(Presence!$K$8,0,U$5-Presence!$K$6,$B$3)>0.3)*    (OFFSET(Presence!$K$8,0,U$5-Presence!$K$6,$B$3)<2)*    (OFFSET(Presence!$F$8,0,0,$B$3)=$B11)*    IF($C11=\"F\",U$17,1) )","v":0},{"$f":"SUMPRODUCT(    (OFFSET(Presence!$K$8,0,V$5-Presence!$K$6,$B$3)>0.3)*    (OFFSET(Presence!$K$8,0,V$5-Presence!$K$6,$B$3)<2)*    (OFFSET(Presence!$F$8,0,0,$B$3)=$B11)*    IF($C11=\"F\",V$17,1) )","v":0},{"$f":"SUMPRODUCT(    (OFFSET(Presence!$K$8,0,W$5-Presence!$K$6,$B$3)>0.3)*    (OFFSET(Presence!$K$8,0,W$5-Presence!$K$6,$B$3)<2)*    (OFFSET(Presence!$F$8,0,0,$B$3)=$B11)*    IF($C11=\"F\",W$17,1) )","v":0},{"$f":"SUMPRODUCT(    (OFFSET(Presence!$K$8,0,X$5-Presence!$K$6,$B$3)>0.3)*    (OFFSET(Presence!$K$8,0,X$5-Presence!$K$6,$B$3)<2)*    (OFFSET(Presence!$F$8,0,0,$B$3)=$B11)*    IF($C11=\"F\",X$17,1) )","v":0},{"$f":"SUMPRODUCT(    (OFFSET(Presence!$K$8,0,Y$5-Presence!$K$6,$B$3)>0.3)*    (OFFSET(Presence!$K$8,0,Y$5-Presence!$K$6,$B$3)<2)*    (OFFSET(Presence!$F$8,0,0,$B$3)=$B11)*    IF($C11=\"F\",Y$17,1) )","v":0},{"$f":"SUMPRODUCT(    (OFFSET(Presence!$K$8,0,Z$5-Presence!$K$6,$B$3)>0.3)*    (OFFSET(Presence!$K$8,0,Z$5-Presence!$K$6,$B$3)<2)*    (OFFSET(Presence!$F$8,0,0,$B$3)=$B11)*    IF($C11=\"F\",Z$17,1) )","v":0},{"$f":"SUMPRODUCT(    (OFFSET(Presence!$K$8,0,AA$5-Presence!$K$6,$B$3)>0.3)*    (OFFSET(Presence!$K$8,0,AA$5-Presence!$K$6,$B$3)<2)*    (OFFSET(Presence!$F$8,0,0,$B$3)=$B11)*    IF($C11=\"F\",AA$17,1) )","v":0},{"$f":"SUMPRODUCT(    (OFFSET(Presence!$K$8,0,AB$5-Presence!$K$6,$B$3)>0.3)*    (OFFSET(Presence!$K$8,0,AB$5-Presence!$K$6,$B$3)<2)*    (OFFSET(Presence!$F$8,0,0,$B$3)=$B11)*    IF($C11=\"F\",AB$17,1) )","v":0},{"$f":"SUMPRODUCT(    (OFFSET(Presence!$K$8,0,AC$5-Presence!$K$6,$B$3)>0.3)*    (OFFSET(Presence!$K$8,0,AC$5-Presence!$K$6,$B$3)<2)*    (OFFSET(Presence!$F$8,0,0,$B$3)=$B11)*    IF($C11=\"F\",AC$17,1) )","v":0},{"$f":"SUMPRODUCT(    (OFFSET(Presence!$K$8,0,AD$5-Presence!$K$6,$B$3)>0.3)*    (OFFSET(Presence!$K$8,0,AD$5-Presence!$K$6,$B$3)<2)*    (OFFSET(Presence!$F$8,0,0,$B$3)=$B11)*    IF($C11=\"F\",AD$17,1) )","v":0},{"$f":"SUMPRODUCT(    (OFFSET(Presence!$K$8,0,AE$5-Presence!$K$6,$B$3)>0.3)*    (OFFSET(Presence!$K$8,0,AE$5-Presence!$K$6,$B$3)<2)*    (OFFSET(Presence!$F$8,0,0,$B$3)=$B11)*    IF($C11=\"F\",AE$17,1) )","v":0},{"$f":"SUMPRODUCT(    (OFFSET(Presence!$K$8,0,AF$5-Presence!$K$6,$B$3)>0.3)*    (OFFSET(Presence!$K$8,0,AF$5-Presence!$K$6,$B$3)<2)*    (OFFSET(Presence!$F$8,0,0,$B$3)=$B11)*    IF($C11=\"F\",AF$17,1) )","v":0},{"$f":"SUMPRODUCT(    (OFFSET(Presence!$K$8,0,AG$5-Presence!$K$6,$B$3)>0.3)*    (OFFSET(Presence!$K$8,0,AG$5-Presence!$K$6,$B$3)<2)*    (OFFSET(Presence!$F$8,0,0,$B$3)=$B11)*    IF($C11=\"F\",AG$17,1) )","v":0},{"$f":"SUMPRODUCT(    (OFFSET(Presence!$K$8,0,AH$5-Presence!$K$6,$B$3)>0.3)*    (OFFSET(Presence!$K$8,0,AH$5-Presence!$K$6,$B$3)<2)*    (OFFSET(Presence!$F$8,0,0,$B$3)=$B11)*    IF($C11=\"F\",AH$17,1) )","v":0},{"$f":"SUMPRODUCT(    (OFFSET(Presence!$K$8,0,AI$5-Presence!$K$6,$B$3)>0.3)*    (OFFSET(Presence!$K$8,0,AI$5-Presence!$K$6,$B$3)<2)*    (OFFSET(Presence!$F$8,0,0,$B$3)=$B11)*    IF($C11=\"F\",AI$17,1) )","v":0},{"$f":"SUMPRODUCT(    (OFFSET(Presence!$K$8,0,AJ$5-Presence!$K$6,$B$3)>0.3)*    (OFFSET(Presence!$K$8,0,AJ$5-Presence!$K$6,$B$3)<2)*    (OFFSET(Presence!$F$8,0,0,$B$3)=$B11)*    IF($C11=\"F\",AJ$17,1) )","v":0},{"$f":"SUMPRODUCT(    (OFFSET(Presence!$K$8,0,AK$5-Presence!$K$6,$B$3)>0.3)*    (OFFSET(Presence!$K$8,0,AK$5-Presence!$K$6,$B$3)<2)*    (OFFSET(Presence!$F$8,0,0,$B$3)=$B11)*    IF($C11=\"F\",AK$17,1) )","v":0},{"$f":"SUMPRODUCT(    (OFFSET(Presence!$K$8,0,AL$5-Presence!$K$6,$B$3)>0.3)*    (OFFSET(Presence!$K$8,0,AL$5-Presence!$K$6,$B$3)<2)*    (OFFSET(Presence!$F$8,0,0,$B$3)=$B11)*    IF($C11=\"F\",AL$17,1) )","v":0},{"$f":"SUMPRODUCT(    (OFFSET(Presence!$K$8,0,AM$5-Presence!$K$6,$B$3)>0.3)*    (OFFSET(Presence!$K$8,0,AM$5-Presence!$K$6,$B$3)<2)*    (OFFSET(Presence!$F$8,0,0,$B$3)=$B11)*    IF($C11=\"F\",AM$17,1) )","v":0},{"$f":"SUMPRODUCT(    (OFFSET(Presence!$K$8,0,AN$5-Presence!$K$6,$B$3)>0.3)*    (OFFSET(Presence!$K$8,0,AN$5-Presence!$K$6,$B$3)<2)*    (OFFSET(Presence!$F$8,0,0,$B$3)=$B11)*    IF($C11=\"F\",AN$17,1) )","v":0},{"$f":"SUMPRODUCT(    (OFFSET(Presence!$K$8,0,AO$5-Presence!$K$6,$B$3)>0.3)*    (OFFSET(Presence!$K$8,0,AO$5-Presence!$K$6,$B$3)<2)*    (OFFSET(Presence!$F$8,0,0,$B$3)=$B11)*    IF($C11=\"F\",AO$17,1) )","v":0},{"$f":"SUMPRODUCT(    (OFFSET(Presence!$K$8,0,AP$5-Presence!$K$6,$B$3)>0.3)*    (OFFSET(Presence!$K$8,0,AP$5-Presence!$K$6,$B$3)<2)*    (OFFSET(Presence!$F$8,0,0,$B$3)=$B11)*    IF($C11=\"F\",AP$17,1) )","v":0},{"$f":"SUMPRODUCT(    (OFFSET(Presence!$K$8,0,AQ$5-Presence!$K$6,$B$3)>0.3)*    (OFFSET(Presence!$K$8,0,AQ$5-Presence!$K$6,$B$3)<2)*    (OFFSET(Presence!$F$8,0,0,$B$3)=$B11)*    IF($C11=\"F\",AQ$17,1) )","v":0},{"$f":"SUMPRODUCT(    (OFFSET(Presence!$K$8,0,AR$5-Presence!$K$6,$B$3)>0.3)*    (OFFSET(Presence!$K$8,0,AR$5-Presence!$K$6,$B$3)<2)*    (OFFSET(Presence!$F$8,0,0,$B$3)=$B11)*    IF($C11=\"F\",AR$17,1) )","v":0},{"$f":"SUMPRODUCT(    (OFFSET(Presence!$K$8,0,AS$5-Presence!$K$6,$B$3)>0.3)*    (OFFSET(Presence!$K$8,0,AS$5-Presence!$K$6,$B$3)<2)*    (OFFSET(Presence!$F$8,0,0,$B$3)=$B11)*    IF($C11=\"F\",AS$17,1) )","v":0},{"$f":"SUMPRODUCT(    (OFFSET(Presence!$K$8,0,AT$5-Presence!$K$6,$B$3)>0.3)*    (OFFSET(Presence!$K$8,0,AT$5-Presence!$K$6,$B$3)<2)*    (OFFSET(Presence!$F$8,0,0,$B$3)=$B11)*    IF($C11=\"F\",AT$17,1) )","v":0},{"$f":"SUMPRODUCT(    (OFFSET(Presence!$K$8,0,AU$5-Presence!$K$6,$B$3)>0.3)*    (OFFSET(Presence!$K$8,0,AU$5-Presence!$K$6,$B$3)<2)*    (OFFSET(Presence!$F$8,0,0,$B$3)=$B11)*    IF($C11=\"F\",AU$17,1) )","v":0},{"$f":"SUMPRODUCT(    (OFFSET(Presence!$K$8,0,AV$5-Presence!$K$6,$B$3)>0.3)*    (OFFSET(Presence!$K$8,0,AV$5-Presence!$K$6,$B$3)<2)*    (OFFSET(Presence!$F$8,0,0,$B$3)=$B11)*    IF($C11=\"F\",AV$17,1) )","v":0},{"$f":"SUMPRODUCT(    (OFFSET(Presence!$K$8,0,AW$5-Presence!$K$6,$B$3)>0.3)*    (OFFSET(Presence!$K$8,0,AW$5-Presence!$K$6,$B$3)<2)*    (OFFSET(Presence!$F$8,0,0,$B$3)=$B11)*    IF($C11=\"F\",AW$17,1) )","v":0},{"$f":"SUMPRODUCT(    (OFFSET(Presence!$K$8,0,AX$5-Presence!$K$6,$B$3)>0.3)*    (OFFSET(Presence!$K$8,0,AX$5-Presence!$K$6,$B$3)<2)*    (OFFSET(Presence!$F$8,0,0,$B$3)=$B11)*    IF($C11=\"F\",AX$17,1) )","v":0}]
[null,"MIXTE MATIN",null,{"$f":"SUMPRODUCT(    (OFFSET(Presence!$K$8,0,D$5-Presence!$K$6,$B$3)>0.3)*    (OFFSET(Presence!$K$8,0,D$5-Presence!$K$6,$B$3)<2)*    (OFFSET(Presence!$F$8,0,0,$B$3)=$B12)*    IF($C12=\"F\",D$17,1) )","v":0},{"$f":"SUMPRODUCT(    (OFFSET(Presence!$K$8,0,E$5-Presence!$K$6,$B$3)>0.3)*    (OFFSET(Presence!$K$8,0,E$5-Presence!$K$6,$B$3)<2)*    (OFFSET(Presence!$F$8,0,0,$B$3)=$B12)*    IF($C12=\"F\",E$17,1) )","v":0},{"$f":"SUMPRODUCT(    (OFFSET(Presence!$K$8,0,F$5-Presence!$K$6,$B$3)>0.3)*    (OFFSET(Presence!$K$8,0,F$5-Presence!$K$6,$B$3)<2)*    (OFFSET(Presence!$F$8,0,0,$B$3)=$B12)*    IF($C12=\"F\",F$17,1) )","v":0},{"$f":"SUMPRODUCT(    (OFFSET(Presence!$K$8,0,G$5-Presence!$K$6,$B$3)>0.3)*    (OFFSET(Presence!$K$8,0,G$5-Presence!$K$6,$B$3)<2)*    (OFFSET(Presence!$F$8,0,0,$B$3)=$B12)*    IF($C12=\"F\",G$17,1) )","v":0},{"$f":"SUMPRODUCT(    (OFFSET(Presence!$K$8,0,H$5-Presence!$K$6,$B$3)>0.3)*    (OFFSET(Presence!$K$8,0,H$5-Presence!$K$6,$B$3)<2)*    (OFFSET(Presence!$F$8,0,0,$B$3)=$B12)*    IF($C12=\"F\",H$17,1) )","v":0},{"$f":"SUMPRODUCT(    (OFFSET(Presence!$K$8,0,I$5-Presence!$K$6,$B$3)>0.3)*    (OFFSET(Presence!$K$8,0,I$5-Presence!$K$6,$B$3)<2)*    (OFFSET(Presence!$F$8,0,0,$B$3)=$B12)*    IF($C12=\"F\",I$17,1) )","v":0},{"$f":"SUMPRODUCT(    (OFFSET(Presence!$K$8,0,J$5-Presence!$K$6,$B$3)>0.3)*    (OFFSET(Presence!$K$8,0,J$5-Presence!$K$6,$B$3)<2)*    (OFFSET(Presence!$F$8,0,0,$B$3)=$B12)*    IF($C12=\"F\",J$17,1) )","v":0},{"$f":"SUMPRODUCT(    (OFFSET(Presence!$K$8,0,K$5-Presence!$K$6,$B$3)>0.3)*    (OFFSET(Presence!$K$8,0,K$5-Presence!$K$6,$B$3)<2)*    (OFFSET(Presence!$F$8,0,0,$B$3)=$B12)*    IF($C12=\"F\",K$17,1) )","v":0},{"$f":"SUMPRODUCT(    (OFFSET(Presence!$K$8,0,L$5-Presence!$K$6,$B$3)>0.3)*    (OFFSET(Presence!$K$8,0,L$5-Presence!$K$6,$B$3)<2)*    (OFFSET(Presence!$F$8,0,0,$B$3)=$B12)*    IF($C12=\"F\",L$17,1) )","v":0},{"$f":"SUMPRODUCT(    (OFFSET(Presence!$K$8,0,M$5-Presence!$K$6,$B$3)>0.3)*    (OFFSET(Presence!$K$8,0,M$5-Presence!$K$6,$B$3)<2)*    (OFFSET(Presence!$F$8,0,0,$B$3)=$B12)*    IF($C12=\"F\",M$17,1) )","v":0},{"$f":"SUMPRODUCT(    (OFFSET(Presence!$K$8,0,N$5-Presence!$K$6,$B$3)>0.3)*    (OFFSET(Presence!$K$8,0,N$5-Presence!$K$6,$B$3)<2)*    (OFFSET(Presence!$F$8,0,0,$B$3)=$B12)*    IF($C12=\"F\",N$17,1) )","v":0},{"$f":"SUMPRODUCT(    (OFFSET(Presence!$K$8,0,O$5-Presence!$K$6,$B$3)>0.3)*    (OFFSET(Presence!$K$8,0,O$5-Presence!$K$6,$B$3)<2)*    (OFFSET(Presence!$F$8,0,0,$B$3)=$B12)*    IF($C12=\"F\",O$17,1) )","v":0},{"$f":"SUMPRODUCT(    (OFFSET(Presence!$K$8,0,P$5-Presence!$K$6,$B$3)>0.3)*    (OFFSET(Presence!$K$8,0,P$5-Presence!$K$6,$B$3)<2)*    (OFFSET(Presence!$F$8,0,0,$B$3)=$B12)*    IF($C12=\"F\",P$17,1) )","v":0},{"$f":"SUMPRODUCT(    (OFFSET(Presence!$K$8,0,Q$5-Presence!$K$6,$B$3)>0.3)*    (OFFSET(Presence!$K$8,0,Q$5-Presence!$K$6,$B$3)<2)*    (OFFSET(Presence!$F$8,0,0,$B$3)=$B12)*    IF($C12=\"F\",Q$17,1) )","v":0},{"$f":"SUMPRODUCT(    (OFFSET(Presence!$K$8,0,R$5-Presence!$K$6,$B$3)>0.3)*    (OFFSET(Presence!$K$8,0,R$5-Presence!$K$6,$B$3)<2)*    (OFFSET(Presence!$F$8,0,0,$B$3)=$B12)*    IF($C12=\"F\",R$17,1) )","v":0},{"$f":"SUMPRODUCT(    (OFFSET(Presence!$K$8,0,S$5-Presence!$K$6,$B$3)>0.3)*    (OFFSET(Presence!$K$8,0,S$5-Presence!$K$6,$B$3)<2)*    (OFFSET(Presence!$F$8,0,0,$B$3)=$B12)*    IF($C12=\"F\",S$17,1) )","v":0},{"$f":"SUMPRODUCT(    (OFFSET(Presence!$K$8,0,T$5-Presence!$K$6,$B$3)>0.3)*    (OFFSET(Presence!$K$8,0,T$5-Presence!$K$6,$B$3)<2)*    (OFFSET(Presence!$F$8,0,0,$B$3)=$B12)*    IF($C12=\"F\",T$17,1) )","v":0},{"$f":"SUMPRODUCT(    (OFFSET(Presence!$K$8,0,U$5-Presence!$K$6,$B$3)>0.3)*    (OFFSET(Presence!$K$8,0,U$5-Presence!$K$6,$B$3)<2)*    (OFFSET(Presence!$F$8,0,0,$B$3)=$B12)*    IF($C12=\"F\",U$17,1) )","v":0},{"$f":"SUMPRODUCT(    (OFFSET(Presence!$K$8,0,V$5-Presence!$K$6,$B$3)>0.3)*    (OFFSET(Presence!$K$8,0,V$5-Presence!$K$6,$B$3)<2)*    (OFFSET(Presence!$F$8,0,0,$B$3)=$B12)*    IF($C12=\"F\",V$17,1) )","v":0},{"$f":"SUMPRODUCT(    (OFFSET(Presence!$K$8,0,W$5-Presence!$K$6,$B$3)>0.3)*    (OFFSET(Presence!$K$8,0,W$5-Presence!$K$6,$B$3)<2)*    (OFFSET(Presence!$F$8,0,0,$B$3)=$B12)*    IF($C12=\"F\",W$17,1) )","v":0},{"$f":"SUMPRODUCT(    (OFFSET(Presence!$K$8,0,X$5-Presence!$K$6,$B$3)>0.3)*    (OFFSET(Presence!$K$8,0,X$5-Presence!$K$6,$B$3)<2)*    (OFFSET(Presence!$F$8,0,0,$B$3)=$B12)*    IF($C12=\"F\",X$17,1) )","v":0},{"$f":"SUMPRODUCT(    (OFFSET(Presence!$K$8,0,Y$5-Presence!$K$6,$B$3)>0.3)*    (OFFSET(Presence!$K$8,0,Y$5-Presence!$K$6,$B$3)<2)*    (OFFSET(Presence!$F$8,0,0,$B$3)=$B12)*    IF($C12=\"F\",Y$17,1) )","v":0},{"$f":"SUMPRODUCT(    (OFFSET(Presence!$K$8,0,Z$5-Presence!$K$6,$B$3)>0.3)*    (OFFSET(Presence!$K$8,0,Z$5-Presence!$K$6,$B$3)<2)*    (OFFSET(Presence!$F$8,0,0,$B$3)=$B12)*    IF($C12=\"F\",Z$17,1) )","v":0},{"$f":"SUMPRODUCT(    (OFFSET(Presence!$K$8,0,AA$5-Presence!$K$6,$B$3)>0.3)*    (OFFSET(Presence!$K$8,0,AA$5-Presence!$K$6,$B$3)<2)*    (OFFSET(Presence!$F$8,0,0,$B$3)=$B12)*    IF($C12=\"F\",AA$17,1) )","v":0},{"$f":"SUMPRODUCT(    (OFFSET(Presence!$K$8,0,AB$5-Presence!$K$6,$B$3)>0.3)*    (OFFSET(Presence!$K$8,0,AB$5-Presence!$K$6,$B$3)<2)*    (OFFSET(Presence!$F$8,0,0,$B$3)=$B12)*    IF($C12=\"F\",AB$17,1) )","v":0},{"$f":"SUMPRODUCT(    (OFFSET(Presence!$K$8,0,AC$5-Presence!$K$6,$B$3)>0.3)*    (OFFSET(Presence!$K$8,0,AC$5-Presence!$K$6,$B$3)<2)*    (OFFSET(Presence!$F$8,0,0,$B$3)=$B12)*    IF($C12=\"F\",AC$17,1) )","v":0},{"$f":"SUMPRODUCT(    (OFFSET(Presence!$K$8,0,AD$5-Presence!$K$6,$B$3)>0.3)*    (OFFSET(Presence!$K$8,0,AD$5-Presence!$K$6,$B$3)<2)*    (OFFSET(Presence!$F$8,0,0,$B$3)=$B12)*    IF($C12=\"F\",AD$17,1) )","v":0},{"$f":"SUMPRODUCT(    (OFFSET(Presence!$K$8,0,AE$5-Presence!$K$6,$B$3)>0.3)*    (OFFSET(Presence!$K$8,0,AE$5-Presence!$K$6,$B$3)<2)*    (OFFSET(Presence!$F$8,0,0,$B$3)=$B12)*    IF($C12=\"F\",AE$17,1) )","v":0},{"$f":"SUMPRODUCT(    (OFFSET(Presence!$K$8,0,AF$5-Presence!$K$6,$B$3)>0.3)*    (OFFSET(Presence!$K$8,0,AF$5-Presence!$K$6,$B$3)<2)*    (OFFSET(Presence!$F$8,0,0,$B$3)=$B12)*    IF($C12=\"F\",AF$17,1) )","v":0},{"$f":"SUMPRODUCT(    (OFFSET(Presence!$K$8,0,AG$5-Presence!$K$6,$B$3)>0.3)*    (OFFSET(Presence!$K$8,0,AG$5-Presence!$K$6,$B$3)<2)*    (OFFSET(Presence!$F$8,0,0,$B$3)=$B12)*    IF($C12=\"F\",AG$17,1) )","v":0},{"$f":"SUMPRODUCT(    (OFFSET(Presence!$K$8,0,AH$5-Presence!$K$6,$B$3)>0.3)*    (OFFSET(Presence!$K$8,0,AH$5-Presence!$K$6,$B$3)<2)*    (OFFSET(Presence!$F$8,0,0,$B$3)=$B12)*    IF($C12=\"F\",AH$17,1) )","v":0},{"$f":"SUMPRODUCT(    (OFFSET(Presence!$K$8,0,AI$5-Presence!$K$6,$B$3)>0.3)*    (OFFSET(Presence!$K$8,0,AI$5-Presence!$K$6,$B$3)<2)*    (OFFSET(Presence!$F$8,0,0,$B$3)=$B12)*    IF($C12=\"F\",AI$17,1) )","v":0},{"$f":"SUMPRODUCT(    (OFFSET(Presence!$K$8,0,AJ$5-Presence!$K$6,$B$3)>0.3)*    (OFFSET(Presence!$K$8,0,AJ$5-Presence!$K$6,$B$3)<2)*    (OFFSET(Presence!$F$8,0,0,$B$3)=$B12)*    IF($C12=\"F\",AJ$17,1) )","v":0},{"$f":"SUMPRODUCT(    (OFFSET(Presence!$K$8,0,AK$5-Presence!$K$6,$B$3)>0.3)*    (OFFSET(Presence!$K$8,0,AK$5-Presence!$K$6,$B$3)<2)*    (OFFSET(Presence!$F$8,0,0,$B$3)=$B12)*    IF($C12=\"F\",AK$17,1) )","v":0},{"$f":"SUMPRODUCT(    (OFFSET(Presence!$K$8,0,AL$5-Presence!$K$6,$B$3)>0.3)*    (OFFSET(Presence!$K$8,0,AL$5-Presence!$K$6,$B$3)<2)*    (OFFSET(Presence!$F$8,0,0,$B$3)=$B12)*    IF($C12=\"F\",AL$17,1) )","v":0},{"$f":"SUMPRODUCT(    (OFFSET(Presence!$K$8,0,AM$5-Presence!$K$6,$B$3)>0.3)*    (OFFSET(Presence!$K$8,0,AM$5-Presence!$K$6,$B$3)<2)*    (OFFSET(Presence!$F$8,0,0,$B$3)=$B12)*    IF($C12=\"F\",AM$17,1) )","v":0},{"$f":"SUMPRODUCT(    (OFFSET(Presence!$K$8,0,AN$5-Presence!$K$6,$B$3)>0.3)*    (OFFSET(Presence!$K$8,0,AN$5-Presence!$K$6,$B$3)<2)*    (OFFSET(Presence!$F$8,0,0,$B$3)=$B12)*    IF($C12=\"F\",AN$17,1) )","v":0},{"$f":"SUMPRODUCT(    (OFFSET(Presence!$K$8,0,AO$5-Presence!$K$6,$B$3)>0.3)*    (OFFSET(Presence!$K$8,0,AO$5-Presence!$K$6,$B$3)<2)*    (OFFSET(Presence!$F$8,0,0,$B$3)=$B12)*    IF($C12=\"F\",AO$17,1) )","v":0},{"$f":"SUMPRODUCT(    (OFFSET(Presence!$K$8,0,AP$5-Presence!$K$6,$B$3)>0.3)*    (OFFSET(Presence!$K$8,0,AP$5-Presence!$K$6,$B$3)<2)*    (OFFSET(Presence!$F$8,0,0,$B$3)=$B12)*    IF($C12=\"F\",AP$17,1) )","v":0},{"$f":"SUMPRODUCT(    (OFFSET(Presence!$K$8,0,AQ$5-Presence!$K$6,$B$3)>0.3)*    (OFFSET(Presence!$K$8,0,AQ$5-Presence!$K$6,$B$3)<2)*    (OFFSET(Presence!$F$8,0,0,$B$3)=$B12)*    IF($C12=\"F\",AQ$17,1) )","v":0},{"$f":"SUMPRODUCT(    (OFFSET(Presence!$K$8,0,AR$5-Presence!$K$6,$B$3)>0.3)*    (OFFSET(Presence!$K$8,0,AR$5-Presence!$K$6,$B$3)<2)*    (OFFSET(Presence!$F$8,0,0,$B$3)=$B12)*    IF($C12=\"F\",AR$17,1) )","v":0},{"$f":"SUMPRODUCT(    (OFFSET(Presence!$K$8,0,AS$5-Presence!$K$6,$B$3)>0.3)*    (OFFSET(Presence!$K$8,0,AS$5-Presence!$K$6,$B$3)<2)*    (OFFSET(Presence!$F$8,0,0,$B$3)=$B12)*    IF($C12=\"F\",AS$17,1) )","v":0},{"$f":"SUMPRODUCT(    (OFFSET(Presence!$K$8,0,AT$5-Presence!$K$6,$B$3)>0.3)*    (OFFSET(Presence!$K$8,0,AT$5-Presence!$K$6,$B$3)<2)*    (OFFSET(Presence!$F$8,0,0,$B$3)=$B12)*    IF($C12=\"F\",AT$17,1) )","v":0},{"$f":"SUMPRODUCT(    (OFFSET(Presence!$K$8,0,AU$5-Presence!$K$6,$B$3)>0.3)*    (OFFSET(Presence!$K$8,0,AU$5-Presence!$K$6,$B$3)<2)*    (OFFSET(Presence!$F$8,0,0,$B$3)=$B12)*    IF($C12=\"F\",AU$17,1) )","v":0},{"$f":"SUMPRODUCT(    (OFFSET(Presence!$K$8,0,AV$5-Presence!$K$6,$B$3)>0.3)*    (OFFSET(Presence!$K$8,0,AV$5-Presence!$K$6,$B$3)<2)*    (OFFSET(Presence!$F$8,0,0,$B$3)=$B12)*    IF($C12=\"F\",AV$17,1) )","v":0},{"$f":"SUMPRODUCT(    (OFFSET(Presence!$K$8,0,AW$5-Presence!$K$6,$B$3)>0.3)*    (OFFSET(Presence!$K$8,0,AW$5-Presence!$K$6,$B$3)<2)*    (OFFSET(Presence!$F$8,0,0,$B$3)=$B12)*    IF($C12=\"F\",AW$17,1) )","v":0},{"$f":"SUMPRODUCT(    (OFFSET(Presence!$K$8,0,AX$5-Presence!$K$6,$B$3)>0.3)*    (OFFSET(Presence!$K$8,0,AX$5-Presence!$K$6,$B$3)<2)*    (OFFSET(Presence!$F$8,0,0,$B$3)=$B12)*    IF($C12=\"F\",AX$17,1) )","v":0}]
[null,"INTERIM MIXTE MATIN",null,{"$f":"SUMPRODUCT(    (OFFSET(Presence!$K$8,0,D$5-Presence!$K$6,$B$3)>0.3)*    (OFFSET(Presence!$K$8,0,D$5-Presence!$K$6,$B$3)<2)*    (OFFSET(Presence!$F$8,0,0,$B$3)=$B13)*    IF($C13=\"F\",D$17,1) )","v":0},{"$f":"SUMPRODUCT(    (OFFSET(Presence!$K$8,0,E$5-Presence!$K$6,$B$3)>0.3)*    (OFFSET(Presence!$K$8,0,E$5-Presence!$K$6,$B$3)<2)*    (OFFSET(Presence!$F$8,0,0,$B$3)=$B13)*    IF($C13=\"F\",E$17,1) )","v":0},{"$f":"SUMPRODUCT(    (OFFSET(Presence!$K$8,0,F$5-Presence!$K$6,$B$3)>0.3)*    (OFFSET(Presence!$K$8,0,F$5-Presence!$K$6,$B$3)<2)*    (OFFSET(Presence!$F$8,0,0,$B$3)=$B13)*    IF($C13=\"F\",F$17,1) )","v":0},{"$f":"SUMPRODUCT(    (OFFSET(Presence!$K$8,0,G$5-Presence!$K$6,$B$3)>0.3)*    (OFFSET(Presence!$K$8,0,G$5-Presence!$K$6,$B$3)<2)*    (OFFSET(Presence!$F$8,0,0,$B$3)=$B13)*    IF($C13=\"F\",G$17,1) )","v":0},{"$f":"SUMPRODUCT(    (OFFSET(Presence!$K$8,0,H$5-Presence!$K$6,$B$3)>0.3)*    (OFFSET(Presence!$K$8,0,H$5-Presence!$K$6,$B$3)<2)*    (OFFSET(Presence!$F$8,0,0,$B$3)=$B13)*    IF($C13=\"F\",H$17,1) )","v":0},{"$f":"SUMPRODUCT(    (OFFSET(Presence!$K$8,0,I$5-Presence!$K$6,$B$3)>0.3)*    (OFFSET(Presence!$K$8,0,I$5-Presence!$K$6,$B$3)<2)*    (OFFSET(Presence!$F$8,0,0,$B$3)=$B13)*    IF($C13=\"F\",I$17,1) )","v":0},{"$f":"SUMPRODUCT(    (OFFSET(Presence!$K$8,0,J$5-Presence!$K$6,$B$3)>0.3)*    (OFFSET(Presence!$K$8,0,J$5-Presence!$K$6,$B$3)<2)*    (OFFSET(Presence!$F$8,0,0,$B$3)=$B13)*    IF($C13=\"F\",J$17,1) )","v":0},{"$f":"SUMPRODUCT(    (OFFSET(Presence!$K$8,0,K$5-Presence!$K$6,$B$3)>0.3)*    (OFFSET(Presence!$K$8,0,K$5-Presence!$K$6,$B$3)<2)*    (OFFSET(Presence!$F$8,0,0,$B$3)=$B13)*    IF($C13=\"F\",K$17,1) )","v":0},{"$f":"SUMPRODUCT(    (OFFSET(Presence!$K$8,0,L$5-Presence!$K$6,$B$3)>0.3)*    (OFFSET(Presence!$K$8,0,L$5-Presence!$K$6,$B$3)<2)*    (OFFSET(Presence!$F$8,0,0,$B$3)=$B13)*    IF($C13=\"F\",L$17,1) )","v":0},{"$f":"SUMPRODUCT(    (OFFSET(Presence!$K$8,0,M$5-Presence!$K$6,$B$3)>0.3)*    (OFFSET(Presence!$K$8,0,M$5-Presence!$K$6,$B$3)<2)*    (OFFSET(Presence!$F$8,0,0,$B$3)=$B13)*    IF($C13=\"F\",M$17,1) )","v":0},{"$f":"SUMPRODUCT(    (OFFSET(Presence!$K$8,0,N$5-Presence!$K$6,$B$3)>0.3)*    (OFFSET(Presence!$K$8,0,N$5-Presence!$K$6,$B$3)<2)*    (OFFSET(Presence!$F$8,0,0,$B$3)=$B13)*    IF($C13=\"F\",N$17,1) )","v":0},{"$f":"SUMPRODUCT(    (OFFSET(Presence!$K$8,0,O$5-Presence!$K$6,$B$3)>0.3)*    (OFFSET(Presence!$K$8,0,O$5-Presence!$K$6,$B$3)<2)*    (OFFSET(Presence!$F$8,0,0,$B$3)=$B13)*    IF($C13=\"F\",O$17,1) )","v":0},{"$f":"SUMPRODUCT(    (OFFSET(Presence!$K$8,0,P$5-Presence!$K$6,$B$3)>0.3)*    (OFFSET(Presence!$K$8,0,P$5-Presence!$K$6,$B$3)<2)*    (OFFSET(Presence!$F$8,0,0,$B$3)=$B13)*    IF($C13=\"F\",P$17,1) )","v":0},{"$f":"SUMPRODUCT(    (OFFSET(Presence!$K$8,0,Q$5-Presence!$K$6,$B$3)>0.3)*    (OFFSET(Presence!$K$8,0,Q$5-Presence!$K$6,$B$3)<2)*    (OFFSET(Presence!$F$8,0,0,$B$3)=$B13)*    IF($C13=\"F\",Q$17,1) )","v":0},{"$f":"SUMPRODUCT(    (OFFSET(Presence!$K$8,0,R$5-Presence!$K$6,$B$3)>0.3)*    (OFFSET(Presence!$K$8,0,R$5-Presence!$K$6,$B$3)<2)*    (OFFSET(Presence!$F$8,0,0,$B$3)=$B13)*    IF($C13=\"F\",R$17,1) )","v":0},{"$f":"SUMPRODUCT(    (OFFSET(Presence!$K$8,0,S$5-Presence!$K$6,$B$3)>0.3)*    (OFFSET(Presence!$K$8,0,S$5-Presence!$K$6,$B$3)<2)*    (OFFSET(Presence!$F$8,0,0,$B$3)=$B13)*    IF($C13=\"F\",S$17,1) )","v":0},{"$f":"SUMPRODUCT(    (OFFSET(Presence!$K$8,0,T$5-Presence!$K$6,$B$3)>0.3)*    (OFFSET(Presence!$K$8,0,T$5-Presence!$K$6,$B$3)<2)*    (OFFSET(Presence!$F$8,0,0,$B$3)=$B13)*    IF($C13=\"F\",T$17,1) )","v":0},{"$f":"SUMPRODUCT(    (OFFSET(Presence!$K$8,0,U$5-Presence!$K$6,$B$3)>0.3)*    (OFFSET(Presence!$K$8,0,U$5-Presence!$K$6,$B$3)<2)*    (OFFSET(Presence!$F$8,0,0,$B$3)=$B13)*    IF($C13=\"F\",U$17,1) )","v":0},{"$f":"SUMPRODUCT(    (OFFSET(Presence!$K$8,0,V$5-Presence!$K$6,$B$3)>0.3)*    (OFFSET(Presence!$K$8,0,V$5-Presence!$K$6,$B$3)<2)*    (OFFSET(Presence!$F$8,0,0,$B$3)=$B13)*    IF($C13=\"F\",V$17,1) )","v":0},{"$f":"SUMPRODUCT(    (OFFSET(Presence!$K$8,0,W$5-Presence!$K$6,$B$3)>0.3)*    (OFFSET(Presence!$K$8,0,W$5-Presence!$K$6,$B$3)<2)*    (OFFSET(Presence!$F$8,0,0,$B$3)=$B13)*    IF($C13=\"F\",W$17,1) )","v":0},{"$f":"SUMPRODUCT(    (OFFSET(Presence!$K$8,0,X$5-Presence!$K$6,$B$3)>0.3)*    (OFFSET(Presence!$K$8,0,X$5-Presence!$K$6,$B$3)<2)*    (OFFSET(Presence!$F$8,0,0,$B$3)=$B13)*    IF($C13=\"F\",X$17,1) )","v":0},{"$f":"SUMPRODUCT(    (OFFSET(Presence!$K$8,0,Y$5-Presence!$K$6,$B$3)>0.3)*    (OFFSET(Presence!$K$8,0,Y$5-Presence!$K$6,$B$3)<2)*    (OFFSET(Presence!$F$8,0,0,$B$3)=$B13)*    IF($C13=\"F\",Y$17,1) )","v":0},{"$f":"SUMPRODUCT(    (OFFSET(Presence!$K$8,0,Z$5-Presence!$K$6,$B$3)>0.3)*    (OFFSET(Presence!$K$8,0,Z$5-Presence!$K$6,$B$3)<2)*    (OFFSET(Presence!$F$8,0,0,$B$3)=$B13)*    IF($C13=\"F\",Z$17,1) )","v":0},{"$f":"SUMPRODUCT(    (OFFSET(Presence!$K$8,0,AA$5-Presence!$K$6,$B$3)>0.3)*    (OFFSET(Presence!$K$8,0,AA$5-Presence!$K$6,$B$3)<2)*    (OFFSET(Presence!$F$8,0,0,$B$3)=$B13)*    IF($C13=\"F\",AA$17,1) )","v":0},{"$f":"SUMPRODUCT(    (OFFSET(Presence!$K$8,0,AB$5-Presence!$K$6,$B$3)>0.3)*    (OFFSET(Presence!$K$8,0,AB$5-Presence!$K$6,$B$3)<2)*    (OFFSET(Presence!$F$8,0,0,$B$3)=$B13)*    IF($C13=\"F\",AB$17,1) )","v":0},{"$f":"SUMPRODUCT(    (OFFSET(Presence!$K$8,0,AC$5-Presence!$K$6,$B$3)>0.3)*    (OFFSET(Presence!$K$8,0,AC$5-Presence!$K$6,$B$3)<2)*    (OFFSET(Presence!$F$8,0,0,$B$3)=$B13)*    IF($C13=\"F\",AC$17,1) )","v":0},{"$f":"SUMPRODUCT(    (OFFSET(Presence!$K$8,0,AD$5-Presence!$K$6,$B$3)>0.3)*    (OFFSET(Presence!$K$8,0,AD$5-Presence!$K$6,$B$3)<2)*    (OFFSET(Presence!$F$8,0,0,$B$3)=$B13)*    IF($C13=\"F\",AD$17,1) )","v":0},{"$f":"SUMPRODUCT(    (OFFSET(Presence!$K$8,0,AE$5-Presence!$K$6,$B$3)>0.3)*    (OFFSET(Presence!$K$8,0,AE$5-Presence!$K$6,$B$3)<2)*    (OFFSET(Presence!$F$8,0,0,$B$3)=$B13)*    IF($C13=\"F\",AE$17,1) )","v":0},{"$f":"SUMPRODUCT(    (OFFSET(Presence!$K$8,0,AF$5-Presence!$K$6,$B$3)>0.3)*    (OFFSET(Presence!$K$8,0,AF$5-Presence!$K$6,$B$3)<2)*    (OFFSET(Presence!$F$8,0,0,$B$3)=$B13)*    IF($C13=\"F\",AF$17,1) )","v":0},{"$f":"SUMPRODUCT(    (OFFSET(Presence!$K$8,0,AG$5-Presence!$K$6,$B$3)>0.3)*    (OFFSET(Presence!$K$8,0,AG$5-Presence!$K$6,$B$3)<2)*    (OFFSET(Presence!$F$8,0,0,$B$3)=$B13)*    IF($C13=\"F\",AG$17,1) )","v":0},{"$f":"SUMPRODUCT(    (OFFSET(Presence!$K$8,0,AH$5-Presence!$K$6,$B$3)>0.3)*    (OFFSET(Presence!$K$8,0,AH$5-Presence!$K$6,$B$3)<2)*    (OFFSET(Presence!$F$8,0,0,$B$3)=$B13)*    IF($C13=\"F\",AH$17,1) )","v":0},{"$f":"SUMPRODUCT(    (OFFSET(Presence!$K$8,0,AI$5-Presence!$K$6,$B$3)>0.3)*    (OFFSET(Presence!$K$8,0,AI$5-Presence!$K$6,$B$3)<2)*    (OFFSET(Presence!$F$8,0,0,$B$3)=$B13)*    IF($C13=\"F\",AI$17,1) )","v":0},{"$f":"SUMPRODUCT(    (OFFSET(Presence!$K$8,0,AJ$5-Presence!$K$6,$B$3)>0.3)*    (OFFSET(Presence!$K$8,0,AJ$5-Presence!$K$6,$B$3)<2)*    (OFFSET(Presence!$F$8,0,0,$B$3)=$B13)*    IF($C13=\"F\",AJ$17,1) )","v":0},{"$f":"SUMPRODUCT(    (OFFSET(Presence!$K$8,0,AK$5-Presence!$K$6,$B$3)>0.3)*    (OFFSET(Presence!$K$8,0,AK$5-Presence!$K$6,$B$3)<2)*    (OFFSET(Presence!$F$8,0,0,$B$3)=$B13)*    IF($C13=\"F\",AK$17,1) )","v":0},{"$f":"SUMPRODUCT(    (OFFSET(Presence!$K$8,0,AL$5-Presence!$K$6,$B$3)>0.3)*    (OFFSET(Presence!$K$8,0,AL$5-Presence!$K$6,$B$3)<2)*    (OFFSET(Presence!$F$8,0,0,$B$3)=$B13)*    IF($C13=\"F\",AL$17,1) )","v":0},{"$f":"SUMPRODUCT(    (OFFSET(Presence!$K$8,0,AM$5-Presence!$K$6,$B$3)>0.3)*    (OFFSET(Presence!$K$8,0,AM$5-Presence!$K$6,$B$3)<2)*    (OFFSET(Presence!$F$8,0,0,$B$3)=$B13)*    IF($C13=\"F\",AM$17,1) )","v":0},{"$f":"SUMPRODUCT(    (OFFSET(Presence!$K$8,0,AN$5-Presence!$K$6,$B$3)>0.3)*    (OFFSET(Presence!$K$8,0,AN$5-Presence!$K$6,$B$3)<2)*    (OFFSET(Presence!$F$8,0,0,$B$3)=$B13)*    IF($C13=\"F\",AN$17,1) )","v":0},{"$f":"SUMPRODUCT(    (OFFSET(Presence!$K$8,0,AO$5-Presence!$K$6,$B$3)>0.3)*    (OFFSET(Presence!$K$8,0,AO$5-Presence!$K$6,$B$3)<2)*    (OFFSET(Presence!$F$8,0,0,$B$3)=$B13)*    IF($C13=\"F\",AO$17,1) )","v":0},{"$f":"SUMPRODUCT(    (OFFSET(Presence!$K$8,0,AP$5-Presence!$K$6,$B$3)>0.3)*    (OFFSET(Presence!$K$8,0,AP$5-Presence!$K$6,$B$3)<2)*    (OFFSET(Presence!$F$8,0,0,$B$3)=$B13)*    IF($C13=\"F\",AP$17,1) )","v":0},{"$f":"SUMPRODUCT(    (OFFSET(Presence!$K$8,0,AQ$5-Presence!$K$6,$B$3)>0.3)*    (OFFSET(Presence!$K$8,0,AQ$5-Presence!$K$6,$B$3)<2)*    (OFFSET(Presence!$F$8,0,0,$B$3)=$B13)*    IF($C13=\"F\",AQ$17,1) )","v":0},{"$f":"SUMPRODUCT(    (OFFSET(Presence!$K$8,0,AR$5-Presence!$K$6,$B$3)>0.3)*    (OFFSET(Presence!$K$8,0,AR$5-Presence!$K$6,$B$3)<2)*    (OFFSET(Presence!$F$8,0,0,$B$3)=$B13)*    IF($C13=\"F\",AR$17,1) )","v":0},{"$f":"SUMPRODUCT(    (OFFSET(Presence!$K$8,0,AS$5-Presence!$K$6,$B$3)>0.3)*    (OFFSET(Presence!$K$8,0,AS$5-Presence!$K$6,$B$3)<2)*    (OFFSET(Presence!$F$8,0,0,$B$3)=$B13)*    IF($C13=\"F\",AS$17,1) )","v":0},{"$f":"SUMPRODUCT(    (OFFSET(Presence!$K$8,0,AT$5-Presence!$K$6,$B$3)>0.3)*    (OFFSET(Presence!$K$8,0,AT$5-Presence!$K$6,$B$3)<2)*    (OFFSET(Presence!$F$8,0,0,$B$3)=$B13)*    IF($C13=\"F\",AT$17,1) )","v":0},{"$f":"SUMPRODUCT(    (OFFSET(Presence!$K$8,0,AU$5-Presence!$K$6,$B$3)>0.3)*    (OFFSET(Presence!$K$8,0,AU$5-Presence!$K$6,$B$3)<2)*    (OFFSET(Presence!$F$8,0,0,$B$3)=$B13)*    IF($C13=\"F\",AU$17,1) )","v":0},{"$f":"SUMPRODUCT(    (OFFSET(Presence!$K$8,0,AV$5-Presence!$K$6,$B$3)>0.3)*    (OFFSET(Presence!$K$8,0,AV$5-Presence!$K$6,$B$3)<2)*    (OFFSET(Presence!$F$8,0,0,$B$3)=$B13)*    IF($C13=\"F\",AV$17,1) )","v":0},{"$f":"SUMPRODUCT(    (OFFSET(Presence!$K$8,0,AW$5-Presence!$K$6,$B$3)>0.3)*    (OFFSET(Presence!$K$8,0,AW$5-Presence!$K$6,$B$3)<2)*    (OFFSET(Presence!$F$8,0,0,$B$3)=$B13)*    IF($C13=\"F\",AW$17,1) )","v":0},{"$f":"SUMPRODUCT(    (OFFSET(Presence!$K$8,0,AX$5-Presence!$K$6,$B$3)>0.3)*    (OFFSET(Presence!$K$8,0,AX$5-Presence!$K$6,$B$3)<2)*    (OFFSET(Presence!$F$8,0,0,$B$3)=$B13)*    IF($C13=\"F\",AX$17,1) )","v":0}]
[null,"H.SUPP",7,{"$f":"IF(OFFSET(Presence!$K$2,0,D$5-Presence!$K$6)=0,\"\",OFFSET(Presence!$K$2,0,D$5-Presence!$K$6))","v":""},{"$f":"IF(OFFSET(Presence!$K$2,0,E$5-Presence!$K$6)=0,\"\",OFFSET(Presence!$K$2,0,E$5-Presence!$K$6))","v":""},{"$f":"IF(OFFSET(Presence!$K$2,0,F$5-Presence!$K$6)=0,\"\",OFFSET(Presence!$K$2,0,F$5-Presence!$K$6))","v":""},{"$f":"IF(OFFSET(Presence!$K$2,0,G$5-Presence!$K$6)=0,\"\",OFFSET(Presence!$K$2,0,G$5-Presence!$K$6))","v":""},{"$f":"IF(OFFSET(Presence!$K$2,0,H$5-Presence!$K$6)=0,\"\",OFFSET(Presence!$K$2,0,H$5-Presence!$K$6))","v":""},{"$f":"IF(OFFSET(Presence!$K$2,0,I$5-Presence!$K$6)=0,\"\",OFFSET(Presence!$K$2,0,I$5-Presence!$K$6))","v":""},{"$f":"IF(OFFSET(Presence!$K$2,0,J$5-Presence!$K$6)=0,\"\",OFFSET(Presence!$K$2,0,J$5-Presence!$K$6))","v":""},{"$f":"IF(OFFSET(Presence!$K$2,0,K$5-Presence!$K$6)=0,\"\",OFFSET(Presence!$K$2,0,K$5-Presence!$K$6))","v":""},{"$f":"IF(OFFSET(Presence!$K$2,0,L$5-Presence!$K$6)=0,\"\",OFFSET(Presence!$K$2,0,L$5-Presence!$K$6))","v":""},{"$f":"IF(OFFSET(Presence!$K$2,0,M$5-Presence!$K$6)=0,\"\",OFFSET(Presence!$K$2,0,M$5-Presence!$K$6))","v":""},{"$f":"IF(OFFSET(Presence!$K$2,0,N$5-Presence!$K$6)=0,\"\",OFFSET(Presence!$K$2,0,N$5-Presence!$K$6))","v":""},{"$f":"IF(OFFSET(Presence!$K$2,0,O$5-Presence!$K$6)=0,\"\",OFFSET(Presence!$K$2,0,O$5-Presence!$K$6))","v":""},{"$f":"IF(OFFSET(Presence!$K$2,0,P$5-Presence!$K$6)=0,\"\",OFFSET(Presence!$K$2,0,P$5-Presence!$K$6))","v":""},{"$f":"IF(OFFSET(Presence!$K$2,0,Q$5-Presence!$K$6)=0,\"\",OFFSET(Presence!$K$2,0,Q$5-Presence!$K$6))","v":""},{"$f":"IF(OFFSET(Presence!$K$2,0,R$5-Presence!$K$6)=0,\"\",OFFSET(Presence!$K$2,0,R$5-Presence!$K$6))","v":""},{"$f":"IF(OFFSET(Presence!$K$2,0,S$5-Presence!$K$6)=0,\"\",OFFSET(Presence!$K$2,0,S$5-Presence!$K$6))","v":""},{"$f":"IF(OFFSET(Presence!$K$2,0,T$5-Presence!$K$6)=0,\"\",OFFSET(Presence!$K$2,0,T$5-Presence!$K$6))","v":""},{"$f":"IF(OFFSET(Presence!$K$2,0,U$5-Presence!$K$6)=0,\"\",OFFSET(Presence!$K$2,0,U$5-Presence!$K$6))","v":""},{"$f":"IF(OFFSET(Presence!$K$2,0,V$5-Presence!$K$6)=0,\"\",OFFSET(Presence!$K$2,0,V$5-Presence!$K$6))","v":""},{"$f":"IF(OFFSET(Presence!$K$2,0,W$5-Presence!$K$6)=0,\"\",OFFSET(Presence!$K$2,0,W$5-Presence!$K$6))","v":""},{"$f":"IF(OFFSET(Presence!$K$2,0,X$5-Presence!$K$6)=0,\"\",OFFSET(Presence!$K$2,0,X$5-Presence!$K$6))","v":""},{"$f":"IF(OFFSET(Presence!$K$2,0,Y$5-Presence!$K$6)=0,\"\",OFFSET(Presence!$K$2,0,Y$5-Presence!$K$6))","v":""},{"$f":"IF(OFFSET(Presence!$K$2,0,Z$5-Presence!$K$6)=0,\"\",OFFSET(Presence!$K$2,0,Z$5-Presence!$K$6))","v":""},{"$f":"IF(OFFSET(Presence!$K$2,0,AA$5-Presence!$K$6)=0,\"\",OFFSET(Presence!$K$2,0,AA$5-Presence!$K$6))","v":""},{"$f":"IF(OFFSET(Presence!$K$2,0,AB$5-Presence!$K$6)=0,\"\",OFFSET(Presence!$K$2,0,AB$5-Presence!$K$6))","v":""},{"$f":"IF(OFFSET(Presence!$K$2,0,AC$5-Presence!$K$6)=0,\"\",OFFSET(Presence!$K$2,0,AC$5-Presence!$K$6))","v":""},{"$f":"IF(OFFSET(Presence!$K$2,0,AD$5-Presence!$K$6)=0,\"\",OFFSET(Presence!$K$2,0,AD$5-Presence!$K$6))","v":""},{"$f":"IF(OFFSET(Presence!$K$2,0,AE$5-Presence!$K$6)=0,\"\",OFFSET(Presence!$K$2,0,AE$5-Presence!$K$6))","v":""},{"$f":"IF(OFFSET(Presence!$K$2,0,AF$5-Presence!$K$6)=0,\"\",OFFSET(Presence!$K$2,0,AF$5-Presence!$K$6))","v":""},{"$f":"IF(OFFSET(Presence!$K$2,0,AG$5-Presence!$K$6)=0,\"\",OFFSET(Presence!$K$2,0,AG$5-Presence!$K$6))","v":""},{"$f":"IF(OFFSET(Presence!$K$2,0,AH$5-Presence!$K$6)=0,\"\",OFFSET(Presence!$K$2,0,AH$5-Presence!$K$6))","v":""},{"$f":"IF(OFFSET(Presence!$K$2,0,AI$5-Presence!$K$6)=0,\"\",OFFSET(Presence!$K$2,0,AI$5-Presence!$K$6))","v":""},{"$f":"IF(OFFSET(Presence!$K$2,0,AJ$5-Presence!$K$6)=0,\"\",OFFSET(Presence!$K$2,0,AJ$5-Presence!$K$6))","v":""},{"$f":"IF(OFFSET(Presence!$K$2,0,AK$5-Presence!$K$6)=0,\"\",OFFSET(Presence!$K$2,0,AK$5-Presence!$K$6))","v":""},{"$f":"IF(OFFSET(Presence!$K$2,0,AL$5-Presence!$K$6)=0,\"\",OFFSET(Presence!$K$2,0,AL$5-Presence!$K$6))","v":""},{"$f":"IF(OFFSET(Presence!$K$2,0,AM$5-Presence!$K$6)=0,\"\",OFFSET(Presence!$K$2,0,AM$5-Presence!$K$6))","v":""},{"$f":"IF(OFFSET(Presence!$K$2,0,AN$5-Presence!$K$6)=0,\"\",OFFSET(Presence!$K$2,0,AN$5-Presence!$K$6))","v":""},{"$f":"IF(OFFSET(Presence!$K$2,0,AO$5-Presence!$K$6)=0,\"\",OFFSET(Presence!$K$2,0,AO$5-Presence!$K$6))","v":""},{"$f":"IF(OFFSET(Presence!$K$2,0,AP$5-Presence!$K$6)=0,\"\",OFFSET(Presence!$K$2,0,AP$5-Presence!$K$6))","v":""},{"$f":"IF(OFFSET(Presence!$K$2,0,AQ$5-Presence!$K$6)=0,\"\",OFFSET(Presence!$K$2,0,AQ$5-Presence!$K$6))","v":""},{"$f":"IF(OFFSET(Presence!$K$2,0,AR$5-Presence!$K$6)=0,\"\",OFFSET(Presence!$K$2,0,AR$5-Presence!$K$6))","v":""},{"$f":"IF(OFFSET(Presence!$K$2,0,AS$5-Presence!$K$6)=0,\"\",OFFSET(Presence!$K$2,0,AS$5-Presence!$K$6))","v":""},{"$f":"IF(OFFSET(Presence!$K$2,0,AT$5-Presence!$K$6)=0,\"\",OFFSET(Presence!$K$2,0,AT$5-Presence!$K$6))","v":""},{"$f":"IF(OFFSET(Presence!$K$2,0,AU$5-Presence!$K$6)=0,\"\",OFFSET(Presence!$K$2,0,AU$5-Presence!$K$6))","v":""},{"$f":"IF(OFFSET(Presence!$K$2,0,AV$5-Presence!$K$6)=0,\"\",OFFSET(Presence!$K$2,0,AV$5-Presence!$K$6))","v":""},{"$f":"IF(OFFSET(Presence!$K$2,0,AW$5-Presence!$K$6)=0,\"\",OFFSET(Presence!$K$2,0,AW$5-Presence!$K$6))","v":""},{"$f":"IF(OFFSET(Presence!$K$2,0,AX$5-Presence!$K$6)=0,\"\",OFFSET(Presence!$K$2,0,AX$5-Presence!$K$6))","v":""}]
[]
[]
[null,"FILTRE HEBDO",null,{"$f":"OFFSET(Annexe!$B$1,WEEKDAY(D5,2)-1,0)","v":1},{"$f":"OFFSET(Annexe!$B$1,WEEKDAY(E5,2)-1,0)","v":0},{"$f":"OFFSET(Annexe!$B$1,WEEKDAY(F5,2)-1,0)","v":0},{"$f":"OFFSET(Annexe!$B$1,WEEKDAY(G5,2)-1,0)","v":0},{"$f":"OFFSET(Annexe!$B$1,WEEKDAY(H5,2)-1,0)","v":0},{"$f":"OFFSET(Annexe!$B$1,WEEKDAY(I5,2)-1,0)","v":0},{"$f":"OFFSET(Annexe!$B$1,WEEKDAY(J5,2)-1,0)","v":1},{"$f":"OFFSET(Annexe!$B$1,WEEKDAY(K5,2)-1,0)","v":1},{"$f":"OFFSET(Annexe!$B$1,WEEKDAY(L5,2)-1,0)","v":0},{"$f":"OFFSET(Annexe!$B$1,WEEKDAY(M5,2)-1,0)","v":0},{"$f":"OFFSET(Annexe!$B$1,WEEKDAY(N5,2)-1,0)","v":0},{"$f":"OFFSET(Annexe!$B$1,WEEKDAY(O5,2)-1,0)","v":0},{"$f":"OFFSET(Annexe!$B$1,WEEKDAY(P5,2)-1,0)","v":0},{"$f":"OFFSET(Annexe!$B$1,WEEKDAY(Q5,2)-1,0)","v":1},{"$f":"OFFSET(Annexe!$B$1,WEEKDAY(R5,2)-1,0)","v":1},{"$f":"OFFSET(Annexe!$B$1,WEEKDAY(S5,2)-1,0)","v":0},{"$f":"OFFSET(Annexe!$B$1,WEEKDAY(T5,2)-1,0)","v":0},{"$f":"OFFSET(Annexe!$B$1,WEEKDAY(U5,2)-1,0)","v":0},{"$f":"OFFSET(Annexe!$B$1,WEEKDAY(V5,2)-1,0)","v":0},{"$f":"OFFSET(Annexe!$B$1,WEEKDAY(W5,2)-1,0)","v":0},{"$f":"OFFSET(Annexe!$B$1,WEEKDAY(X5,2)-1,0)","v":1},{"$f":"OFFSET(Annexe!$B$1,WEEKDAY(Y5,2)-1,0)","v":1},{"$f":"OFFSET(Annexe!$B$1,WEEKDAY(Z5,2)-1,0)","v":0},{"$f":"OFFSET(Annexe!$B$1,WEEKDAY(AA5,2)-1,0)","v":0},{"$f":"OFFSET(Annexe!$B$1,WEEKDAY(AB5,2)-1,0)","v":0},{"$f":"OFFSET(Annexe!$B$1,WEEKDAY(AC5,2)-1,0)","v":0},{"$f":"OFFSET(Annexe!$B$1,WEEKDAY(AD5,2)-1,0)","v":0},{"$f":"OFFSET(Annexe!$B$1,WEEKDAY(AE5,2)-1,0)","v":1},{"$f":"OFFSET(Annexe!$B$1,WEEKDAY(AF5,2)-1,0)","v":1},{"$f":"OFFSET(Annexe!$B$1,WEEKDAY(AG5,2)-1,0)","v":0},{"$f":"OFFSET(Annexe!$B$1,WEEKDAY(AH5,2)-1,0)","v":0},{"$f":"OFFSET(Annexe!$B$1,WEEKDAY(AI5,2)-1,0)","v":0},{"$f":"OFFSET(Annexe!$B$1,WEEKDAY(AJ5,2)-1,0)","v":0},{"$f":"OFFSET(Annexe!$B$1,WEEKDAY(AK5,2)-1,0)","v":0},{"$f":"OFFSET(Annexe!$B$1,WEEKDAY(AL5,2)-1,0)","v":1},{"$f":"OFFSET(Annexe!$B$1,WEEKDAY(AM5,2)-1,0)","v":1},{"$f":"OFFSET(Annexe!$B$1,WEEKDAY(AN5,2)-1,0)","v":0},{"$f":"OFFSET(Annexe!$B$1,WEEKDAY(AO5,2)-1,0)","v":0},{"$f":"OFFSET(Annexe!$B$1,WEEKDAY(AP5,2)-1,0)","v":0},{"$f":"OFFSET(Annexe!$B$1,WEEKDAY(AQ5,2)-1,0)","v":0},{"$f":"OFFSET(Annexe!$B$1,WEEKDAY(AR5,2)-1,0)","v":0},{"$f":"OFFSET(Annexe!$B$1,WEEKDAY(AS5,2)-1,0)","v":1},{"$f":"OFFSET(Annexe!$B$1,WEEKDAY(AT5,2)-1,0)","v":1},{"$f":"OFFSET(Annexe!$B$1,WEEKDAY(AU5,2)-1,0)","v":0},{"$f":"OFFSET(Annexe!$B$1,WEEKDAY(AV5,2)-1,0)","v":0},{"$f":"OFFSET(Annexe!$B$1,WEEKDAY(AW5,2)-1,0)","v":0},{"$f":"OFFSET(Annexe!$B$1,WEEKDAY(AX5,2)-1,0)","v":0}]
[]
[null,"TOTAL",null,{"$f":"SUM(D6:D13)","v":0},{"$f":"SUM(E6:E13)","v":0},{"$f":"SUM(F6:F13)","v":0},{"$f":"SUM(G6:G13)","v":0},{"$f":"SUM(H6:H13)","v":0},{"$f":"SUM(I6:I13)","v":0},{"$f":"SUM(J6:J13)","v":0},{"$f":"SUM(K6:K13)","v":0},{"$f":"SUM(L6:L13)","v":0},{"$f":"SUM(M6:M13)","v":0},{"$f":"SUM(N6:N13)","v":0},{"$f":"SUM(O6:O13)","v":0},{"$f":"SUM(P6:P13)","v":0},{"$f":"SUM(Q6:Q13)","v":0},{"$f":"SUM(R6:R13)","v":0},{"$f":"SUM(S6:S13)","v":0},{"$f":"SUM(T6:T13)","v":0},{"$f":"SUM(U6:U13)","v":0},{"$f":"SUM(V6:V13)","v":0},{"$f":"SUM(W6:W13)","v":0},{"$f":"SUM(X6:X13)","v":0},{"$f":"SUM(Y6:Y13)","v":0},{"$f":"SUM(Z6:Z13)","v":0},{"$f":"SUM(AA6:AA13)","v":0},{"$f":"SUM(AB6:AB13)","v":0},{"$f":"SUM(AC6:AC13)","v":0},{"$f":"SUM(AD6:AD13)","v":0},{"$f":"SUM(AE6:AE13)","v":0},{"$f":"SUM(AF6:AF13)","v":0},{"$f":"SUM(AG6:AG13)","v":0},{"$f":"SUM(AH6:AH13)","v":0},{"$f":"SUM(AI6:AI13)","v":0},{"$f":"SUM(AJ6:AJ13)","v":0},{"$f":"SUM(AK6:AK13)","v":0},{"$f":"SUM(AL6:AL13)","v":0},{"$f":"SUM(AM6:AM13)","v":0},{"$f":"SUM(AN6:AN13)","v":0},{"$f":"SUM(AO6:AO13)","v":0},{"$f":"SUM(AP6:AP13)","v":0},{"$f":"SUM(AQ6:AQ13)","v":0},{"$f":"SUM(AR6:AR13)","v":0},{"$f":"SUM(AS6:AS13)","v":0},{"$f":"SUM(AT6:AT13)","v":0},{"$f":"SUM(AU6:AU13)","v":0},{"$f":"SUM(AV6:AV13)","v":0},{"$f":"SUM(AW6:AW13)","v":0},{"$f":"SUM(AX6:AX13)","v":0}]
[null,"TOTAL avec HS",null,{"$f":"IF(D$14=\"\",D$19,D$19+D$14/$C$14)","v":0},{"$f":"IF(E$14=\"\",E$19,E$19+E$14/$C$14)","v":0},{"$f":"IF(F$14=\"\",F$19,F$19+F$14/$C$14)","v":0},{"$f":"IF(G$14=\"\",G$19,G$19+G$14/$C$14)","v":0},{"$f":"IF(H$14=\"\",H$19,H$19+H$14/$C$14)","v":0},{"$f":"IF(I$14=\"\",I$19,I$19+I$14/$C$14)","v":0},{"$f":"IF(J$14=\"\",J$19,J$19+J$14/$C$14)","v":0},{"$f":"IF(K$14=\"\",K$19,K$19+K$14/$C$14)","v":0},{"$f":"IF(L$14=\"\",L$19,L$19+L$14/$C$14)","v":0},{"$f":"IF(M$14=\"\",M$19,M$19+M$14/$C$14)","v":0},{"$f":"IF(N$14=\"\",N$19,N$19+N$14/$C$14)","v":0},{"$f":"IF(O$14=\"\",O$19,O$19+O$14/$C$14)","v":0},{"$f":"IF(P$14=\"\",P$19,P$19+P$14/$C$14)","v":0},{"$f":"IF(Q$14=\"\",Q$19,Q$19+Q$14/$C$14)","v":0},{"$f":"IF(R$14=\"\",R$19,R$19+R$14/$C$14)","v":0},{"$f":"IF(S$14=\"\",S$19,S$19+S$14/$C$14)","v":0},{"$f":"IF(T$14=\"\",T$19,T$19+T$14/$C$14)","v":0},{"$f":"IF(U$14=\"\",U$19,U$19+U$14/$C$14)","v":0},{"$f":"IF(V$14=\"\",V$19,V$19+V$14/$C$14)","v":0},{"$f":"IF(W$14=\"\",W$19,W$19+W$14/$C$14)","v":0},{"$f":"IF(X$14=\"\",X$19,X$19+X$14/$C$14)","v":0},{"$f":"IF(Y$14=\"\",Y$19,Y$19+Y$14/$C$14)","v":0},{"$f":"IF(Z$14=\"\",Z$19,Z$19+Z$14/$C$14)","v":0},{"$f":"IF(AA$14=\"\",AA$19,AA$19+AA$14/$C$14)","v":0},{"$f":"IF(AB$14=\"\",AB$19,AB$19+AB$14/$C$14)","v":0},{"$f":"IF(AC$14=\"\",AC$19,AC$19+AC$14/$C$14)","v":0},{"$f":"IF(AD$14=\"\",AD$19,AD$19+AD$14/$C$14)","v":0},{"$f":"IF(AE$14=\"\",AE$19,AE$19+AE$14/$C$14)","v":0},{"$f":"IF(AF$14=\"\",AF$19,AF$19+AF$14/$C$14)","v":0},{"$f":"IF(AG$14=\"\",AG$19,AG$19+AG$14/$C$14)","v":0},{"$f":"IF(AH$14=\"\",AH$19,AH$19+AH$14/$C$14)","v":0},{"$f":"IF(AI$14=\"\",AI$19,AI$19+AI$14/$C$14)","v":0},{"$f":"IF(AJ$14=\"\",AJ$19,AJ$19+AJ$14/$C$14)","v":0},{"$f":"IF(AK$14=\"\",AK$19,AK$19+AK$14/$C$14)","v":0},{"$f":"IF(AL$14=\"\",AL$19,AL$19+AL$14/$C$14)","v":0},{"$f":"IF(AM$14=\"\",AM$19,AM$19+AM$14/$C$14)","v":0},{"$f":"IF(AN$14=\"\",AN$19,AN$19+AN$14/$C$14)","v":0},{"$f":"IF(AO$14=\"\",AO$19,AO$19+AO$14/$C$14)","v":0},{"$f":"IF(AP$14=\"\",AP$19,AP$19+AP$14/$C$14)","v":0},{"$f":"IF(AQ$14=\"\",AQ$19,AQ$19+AQ$14/$C$14)","v":0},{"$f":"IF(AR$14=\"\",AR$19,AR$19+AR$14/$C$14)","v":0},{"$f":"IF(AS$14=\"\",AS$19,AS$19+AS$14/$C$14)","v":0},{"$f":"IF(AT$14=\"\",AT$19,AT$19+AT$14/$C$14)","v":0},{"$f":"IF(AU$14=\"\",AU$19,AU$19+AU$14/$C$14)","v":0},{"$f":"IF(AV$14=\"\",AV$19,AV$19+AV$14/$C$14)","v":0},{"$f":"IF(AW$14=\"\",AW$19,AW$19+AW$14/$C$14)","v":0},{"$f":"IF(AX$14=\"\",AX$19,AX$19+AX$14/$C$14)","v":0}]

{"sheet":"Modop","index":2,"n_rows":0,"n_cols":0,"rows_kept":0,"cut":false,"hidden":false,"merged":[]}

{"sheet":"Prevision","index":3,"n_rows":14,"n_cols":130,"rows_kept":14,"cut":false,"hidden":false,"merged":[]}
[]
[null,null,null,null,null,null,null,null,null,"TOTAL",{"$f":"SUM(K8:K14)","v":0},{"$f":"SUM(L8:L14)","v":0},{"$f":"SUM(M8:M14)","v":0},{"$f":"SUM(N8:N14)","v":0},{"$f":"SUM(O8:O14)","v":0},{"$f":"SUM(P8:P14)","v":0},{"$f":"SUM(Q8:Q14)","v":0},{"$f":"SUM(R8:R14)","v":0},{"$f":"SUM(S8:S14)","v":0},{"$f":"SUM(T8:T14)","v":0},{"$f":"SUM(U8:U14)","v":0},{"$f":"SUM(V8:V14)","v":0},{"$f":"SUM(W8:W14)","v":0},{"$f":"SUM(X8:X14)","v":0},{"$f":"SUM(Y8:Y14)","v":0},{"$f":"SUM(Z8:Z14)","v":0},{"$f":"SUM(AA8:AA14)","v":0},{"$f":"SUM(AB8:AB14)","v":0},{"$f":"SUM(AC8:AC14)","v":0},{"$f":"SUM(AD8:AD14)","v":0},{"$f":"SUM(AE8:AE14)","v":0},{"$f":"SUM(AF8:AF14)","v":0},{"$f":"SUM(AG8:AG14)","v":0},{"$f":"SUM(AH8:AH14)","v":0},{"$f":"SUM(AI8:AI14)","v":0},{"$f":"SUM(AJ8:AJ14)","v":0},{"$f":"SUM(AK8:AK14)","v":0},{"$f":"SUM(AL8:AL14)","v":0},{"$f":"SUM(AM8:AM14)","v":0},{"$f":"SUM(AN8:AN14)","v":0},{"$f":"SUM(AO8:AO14)","v":0},{"$f":"SUM(AP8:AP14)","v":0},{"$f":"SUM(AQ8:AQ14)","v":0},{"$f":"SUM(AR8:AR14)","v":0},{"$f":"SUM(AS8:AS14)","v":0},{"$f":"SUM(AT8:AT14)","v":0},{"$f":"SUM(AU8:AU14)","v":0},{"$f":"SUM(AV8:AV14)","v":0},{"$f":"SUM(AW8:AW14)","v":0},{"$f":"SUM(AX8:AX14)","v":0},{"$f":"SUM(AY8:AY14)","v":0},{"$f":"SUM(AZ8:AZ14)","v":0},{"$f":"SUM(BA8:BA14)","v":0},{"$f":"SUM(BB8:BB14)","v":0},{"$f":"SUM(BC8:BC14)","v":0},{"$f":"SUM(BD8:BD14)","v":0},{"$f":"SUM(BE8:BE14)","v":0},{"$f":"SUM(BF8:BF14)","v":0},{"$f":"SUM(BG8:BG14)","v":0},{"$f":"SUM(BH8:BH14)","v":0},{"$f":"SUM(BI8:BI14)","v":0},{"$f":"SUM(BJ8:BJ14)","v":0},{"$f":"SUM(BK8:BK14)","v":0},{"$f":"SUM(BL8:BL14)","v":0},{"$f":"SUM(BM8:BM14)","v":0},{"$f":"SUM(BN8:BN14)","v":0},{"$f":"SUM(BO8:BO14)","v":0},{"$f":"SUM(BP8:BP14)","v":0},{"$f":"SUM(BQ8:BQ14)","v":0},{"$f":"SUM(BR8:BR14)","v":0},{"$f":"SUM(BS8:BS14)","v":0},{"$f":"SUM(BT8:BT14)","v":0},{"$f":"SUM(BU8:BU14)","v":0},{"$f":"SUM(BV8:BV14)","v":0},{"$f":"SUM(BW8:BW14)","v":0},{"$f":"SUM(BX8:BX14)","v":0},{"$f":"SUM(BY8:BY14)","v":0},{"$f":"SUM(BZ8:BZ14)","v":0},{"$f":"SUM(CA8:CA14)","v":0},{"$f":"SUM(CB8:CB14)","v":0},{"$f":"SUM(CC8:CC14)","v":0},{"$f":"SUM(CD8:CD14)","v":0},{"$f":"SUM(CE8:CE14)","v":0},{"$f":"SUM(CF8:CF14)","v":0},{"$f":"SUM(CG8:CG14)","v":0},{"$f":"SUM(CH8:CH14)","v":0},{"$f":"SUM(CI8:CI14)","v":0},{"$f":"SUM(CJ8:CJ14)","v":0},{"$f":"SUM(CK8:CK14)","v":0},{"$f":"SUM(CL8:CL14)","v":0},{"$f":"SUM(CM8:CM14)","v":0},{"$f":"SUM(CN8:CN14)","v":0},{"$f":"SUM(CO8:CO14)","v":0},{"$f":"SUM(CP8:CP14)","v":0},{"$f":"SUM(CQ8:CQ14)","v":0},{"$f":"SUM(CR8:CR14)","v":0},{"$f":"SUM(CS8:CS14)","v":0},{"$f":"SUM(CT8:CT14)","v":0},{"$f":"SUM(CU8:CU14)","v":0},{"$f":"SUM(CV8:CV14)","v":0},{"$f":"SUM(CW8:CW14)","v":0},{"$f":"SUM(CX8:CX14)","v":0},{"$f":"SUM(CY8:CY14)","v":0},{"$f":"SUM(CZ8:CZ14)","v":0},{"$f":"SUM(DA8:DA14)","v":0},{"$f":"SUM(DB8:DB14)","v":0},{"$f":"SUM(DC8:DC14)","v":0},{"$f":"SUM(DD8:DD14)","v":0},{"$f":"SUM(DE8:DE14)","v":0},{"$f":"SUM(DF8:DF14)","v":0},{"$f":"SUM(DG8:DG14)","v":0},{"$f":"SUM(DH8:DH14)","v":0},{"$f":"SUM(DI8:DI14)","v":0},{"$f":"SUM(DJ8:DJ14)","v":0},{"$f":"SUM(DK8:DK14)","v":0},{"$f":"SUM(DL8:DL14)","v":0},{"$f":"SUM(DM8:DM14)","v":0},{"$f":"SUM(DN8:DN14)","v":0},{"$f":"SUM(DO8:DO14)","v":0},{"$f":"SUM(DP8:DP14)","v":0},{"$f":"SUM(DQ8:DQ14)","v":0},{"$f":"SUM(DR8:DR14)","v":0},{"$f":"SUM(DS8:DS14)","v":0},{"$f":"SUM(DT8:DT14)","v":0},{"$f":"SUM(DU8:DU14)","v":0},{"$f":"SUM(DV8:DV14)","v":0},{"$f":"SUM(DW8:DW14)","v":0},{"$f":"SUM(DX8:DX14)","v":0},{"$f":"SUM(DY8:DY14)","v":0},{"$f":"SUM(DZ8:DZ14)","v":0}]
[]
[null,null,null,null,null,null,null,null,null,null,null,{"$f":"IF(L6=TODAY(),\"AUJ\",\"\")","v":""},{"$f":"IF(M6=TODAY(),\"AUJ\",\"\")","v":""},{"$f":"IF(N6=TODAY(),\"AUJ\",\"\")","v":""},{"$f":"IF(O6=TODAY(),\"AUJ\",\"\")","v":""},{"$f":"IF(P6=TODAY(),\"AUJ\",\"\")","v":""},{"$f":"IF(Q6=TODAY(),\"AUJ\",\"\")","v":""},{"$f":"IF(R6=TODAY(),\"AUJ\",\"\")","v":""},{"$f":"IF(S6=TODAY(),\"AUJ\",\"\")","v":""},{"$f":"IF(T6=TODAY(),\"AUJ\",\"\")","v":""},{"$f":"IF(U6=TODAY(),\"AUJ\",\"\")","v":""},{"$f":"IF(V6=TODAY(),\"AUJ\",\"\")","v":""},{"$f":"IF(W6=TODAY(),\"AUJ\",\"\")","v":""},{"$f":"IF(X6=TODAY(),\"AUJ\",\"\")","v":"AUJ"}]
[null,null,null,null,null,null,"2019-01-01",null,null,null,{"$f":"CONCATENATE(\"S\",_xlfn.ISOWEEKNUM(K6))","v":"S12"},"S3","S3","S3","S3","S3","S3","S3","S3","S3","S3","S3","S3","S3","S3","S3","S3","S3","S3","S3","S3","S3","S3","S3","S3","S3","S3","S3","S3","S3","S3","S3","S3","S3","S3","S3","S3","S3","S3","S3","S3","S3","S3","S3","S3","S3","S3","S3","S3","S3","S3","S3","S3","S3","S3","S3","S3","S3","S3","S3","S3","S3","S3","S3","S3","S3","S3","S3","S3","S3","S3","S3","S3","S3","S3","S3","S3","S3","S3","S3","S3","S3","S3","S3","S3","S3","S3","S3","S3","S3","S3","S4","S5","S6","S7","S8","S9","S10","S11","S12","S13","S14","S15","S16","S17","S18","S19","S20","S21","S22","S23","S24","S25","S26","S27","S28","S29","S30","S31","S32"]
[null,null,3,4,5,7,17,18,26,27,{"$f":"TODAY()-WEEKDAY(TODAY(),3)-7","v":"2021-03-22"},{"$f":"K6+1","v":"2021-03-23"},{"$f":"L6+1","v":"2021-03-24"},{"$f":"M6+1","v":"2021-03-25"},{"$f":"N6+1","v":"2021-03-26"},{"$f":"O6+1","v":"2021-03-27"},{"$f":"P6+1","v":"2021-03-28"},{"$f":"Q6+1","v":"2021-03-29"},{"$f":"R6+1","v":"2021-03-30"},{"$f":"S6+1","v":"2021-03-31"},{"$f":"T6+1","v":"2021-04-01"},{"$f":"U6+1","v":"2021-04-02"},{"$f":"V6+1","v":"2021-04-03"},{"$f":"W6+1","v":"2021-04-04"},{"$f":"X6+1","v":"2021-04-05"},{"$f":"Y6+1","v":"2021-04-06"},{"$f":"Z6+1","v":"2021-04-07"},{"$f":"AA6+1","v":"2021-04-08"},{"$f":"AB6+1","v":"2021-04-09"},{"$f":"AC6+1","v":"2021-04-10"},{"$f":"AD6+1","v":"2021-04-11"},{"$f":"AE6+1","v":"2021-04-12"},{"$f":"AF6+1","v":"2021-04-13"},{"$f":"AG6+1","v":"2021-04-14"},{"$f":"AH6+1","v":"2021-04-15"},{"$f":"AI6+1","v":"2021-04-16"},{"$f":"AJ6+1","v":"2021-04-17"},{"$f":"AK6+1","v":"2021-04-18"},{"$f":"AL6+1","v":"2021-04-19"},{"$f":"AM6+1","v":"2021-04-20"},{"$f":"AN6+1","v":"2021-04-21"},{"$f":"AO6+1","v":"2021-04-22"},{"$f":"AP6+1","v":"2021-04-23"},{"$f":"AQ6+1","v":"2021-04-24"},{"$f":"AR6+1","v":"2021-04-25"},{"$f":"AS6+1","v":"2021-04-26"},{"$f":"AT6+1","v":"2021-04-27"},{"$f":"AU6+1","v":"2021-04-28"},{"$f":"AV6+1","v":"2021-04-29"},{"$f":"AW6+1","v":"2021-04-30"},{"$f":"AX6+1","v":"2021-05-01"},{"$f":"AY6+1","v":"2021-05-02"},{"$f":"AZ6+1","v":"2021-05-03"},{"$f":"BA6+1","v":"2021-05-04"},{"$f":"BB6+1","v":"2021-05-05"},{"$f":"BC6+1","v":"2021-05-06"},{"$f":"BD6+1","v":"2021-05-07"},{"$f":"BE6+1","v":"2021-05-08"},{"$f":"BF6+1","v":"2021-05-09"},{"$f":"BG6+1","v":"2021-05-10"},{"$f":"BH6+1","v":"2021-05-11"},{"$f":"BI6+1","v":"2021-05-12"},{"$f":"BJ6+1","v":"2021-05-13"},{"$f":"BK6+1","v":"2021-05-14"},{"$f":"BL6+1","v":"2021-05-15"},{"$f":"BM6+1","v":"2021-05-16"},{"$f":"BN6+1","v":"2021-05-17"},{"$f":"BO6+1","v":"2021-05-18"},{"$f":"BP6+1","v":"2021-05-19"},{"$f":"BQ6+1","v":"2021-05-20"},{"$f":"BR6+1","v":"2021-05-21"},{"$f":"BS6+1","v":"2021-05-22"},{"$f":"BT6+1","v":"2021-05-23"},{"$f":"BU6+1","v":"2021-05-24"},{"$f":"BV6+1","v":"2021-05-25"},{"$f":"BW6+1","v":"2021-05-26"},{"$f":"BX6+1","v":"2021-05-27"},{"$f":"BY6+1","v":"2021-05-28"},{"$f":"BZ6+1","v":"2021-05-29"},{"$f":"CA6+1","v":"2021-05-30"},{"$f":"CB6+1","v":"2021-05-31"},{"$f":"CC6+1","v":"2021-06-01"},{"$f":"CD6+1","v":"2021-06-02"},{"$f":"CE6+1","v":"2021-06-03"},{"$f":"CF6+1","v":"2021-06-04"},{"$f":"CG6+1","v":"2021-06-05"},{"$f":"CH6+1","v":"2021-06-06"},{"$f":"CI6+1","v":"2021-06-07"},{"$f":"CJ6+1","v":"2021-06-08"},{"$f":"CK6+1","v":"2021-06-09"},{"$f":"CL6+1","v":"2021-06-10"},{"$f":"CM6+1","v":"2021-06-11"},{"$f":"CN6+1","v":"2021-06-12"},{"$f":"CO6+1","v":"2021-06-13"},{"$f":"CP6+1","v":"2021-06-14"},{"$f":"CQ6+1","v":"2021-06-15"},{"$f":"CR6+1","v":"2021-06-16"},{"$f":"CS6+1","v":"2021-06-17"},{"$f":"CT6+1","v":"2021-06-18"},{"$f":"CU6+1","v":"2021-06-19"},{"$f":"CV6+1","v":"2021-06-20"},{"$f":"CW6+1","v":"2021-06-21"},{"$f":"CX6+1","v":"2021-06-22"},{"$f":"CY6+1","v":"2021-06-23"},{"$f":"CZ6+1","v":"2021-06-24"},{"$f":"DA6+1","v":"2021-06-25"},{"$f":"DB6+1","v":"2021-06-26"},{"$f":"DC6+1","v":"2021-06-27"},{"$f":"DD6+1","v":"2021-06-28"},{"$f":"DE6+1","v":"2021-06-29"},{"$f":"DF6+1","v":"2021-06-30"},{"$f":"DG6+1","v":"2021-07-01"},{"$f":"DH6+1","v":"2021-07-02"},{"$f":"DI6+1","v":"2021-07-03"},{"$f":"DJ6+1","v":"2021-07-04"},{"$f":"DK6+1","v":"2021-07-05"},{"$f":"DL6+1","v":"2021-07-06"},{"$f":"DM6+1","v":"2021-07-07"},{"$f":"DN6+1","v":"2021-07-08"},{"$f":"DO6+1","v":"2021-07-09"},{"$f":"DP6+1","v":"2021-07-10"},{"$f":"DQ6+1","v":"2021-07-11"},{"$f":"DR6+1","v":"2021-07-12"},{"$f":"DS6+1","v":"2021-07-13"},{"$f":"DT6+1","v":"2021-07-14"},{"$f":"DU6+1","v":"2021-07-15"},{"$f":"DV6+1","v":"2021-07-16"},{"$f":"DW6+1","v":"2021-07-17"},{"$f":"DX6+1","v":"2021-07-18"},{"$f":"DY6+1","v":"2021-07-19"}]
[null,"Ref INTERIM","Nom","Prénom","Equipe","Cycle","Validé Prod","Saisi GA","Date entrée","Date de fin",{"$f":"K6","v":"2021-03-22"},{"$f":"L6","v":"2021-03-23"},{"$f":"M6","v":"2021-03-24"},{"$f":"N6","v":"2021-03-25"},{"$f":"O6","v":"2021-03-26"},{"$f":"P6","v":"2021-03-27"},{"$f":"Q6","v":"2021-03-28"},{"$f":"R6","v":"2021-03-29"},{"$f":"S6","v":"2021-03-30"},{"$f":"T6","v":"2021-03-31"},{"$f":"U6","v":"2021-04-01"},{"$f":"V6","v":"2021-04-02"},{"$f":"W6","v":"2021-04-03"},{"$f":"X6","v":"2021-04-04"},{"$f":"Y6","v":"2021-04-05"},{"$f":"Z6","v":"2021-04-06"},{"$f":"AA6","v":"2021-04-07"},{"$f":"AB6","v":"2021-04-08"},{"$f":"AC6","v":"2021-04-09"},{"$f":"AD6","v":"2021-04-10"},{"$f":"AE6","v":"2021-04-11"},{"$f":"AF6","v":"2021-04-12"},{"$f":"AG6","v":"2021-04-13"},{"$f":"AH6","v":"2021-04-14"},{"$f":"AI6","v":"2021-04-15"},{"$f":"AJ6","v":"2021-04-16"},{"$f":"AK6","v":"2021-04-17"},{"$f":"AL6","v":"2021-04-18"},{"$f":"AM6","v":"2021-04-19"},{"$f":"AN6","v":"2021-04-20"},{"$f":"AO6","v":"2021-04-21"},{"$f":"AP6","v":"2021-04-22"},{"$f":"AQ6","v":"2021-04-23"},{"$f":"AR6","v":"2021-04-24"},{"$f":"AS6","v":"2021-04-25"},{"$f":"AT6","v":"2021-04-26"},{"$f":"AU6","v":"2021-04-27"},{"$f":"AV6","v":"2021-04-28"},{"$f":"AW6","v":"2021-04-29"},{"$f":"AX6","v":"2021-04-30"},{"$f":"AY6","v":"2021-05-01"},{"$f":"AZ6","v":"2021-05-02"},{"$f":"BA6","v":"2021-05-03"},{"$f":"BB6","v":"2021-05-04"},{"$f":"BC6","v":"2021-05-05"},{"$f":"BD6","v":"2021-05-06"},{"$f":"BE6","v":"2021-05-07"},{"$f":"BF6","v":"2021-05-08"},{"$f":"BG6","v":"2021-05-09"},{"$f":"BH6","v":"2021-05-10"},{"$f":"BI6","v":"2021-05-11"},{"$f":"BJ6","v":"2021-05-12"},{"$f":"BK6","v":"2021-05-13"},{"$f":"BL6","v":"2021-05-14"},{"$f":"BM6","v":"2021-05-15"},{"$f":"BN6","v":"2021-05-16"},{"$f":"BO6","v":"2021-05-17"},{"$f":"BP6","v":"2021-05-18"},{"$f":"BQ6","v":"2021-05-19"},{"$f":"BR6","v":"2021-05-20"},{"$f":"BS6","v":"2021-05-21"},{"$f":"BT6","v":"2021-05-22"},{"$f":"BU6","v":"2021-05-23"},{"$f":"BV6","v":"2021-05-24"},{"$f":"BW6","v":"2021-05-25"},{"$f":"BX6","v":"2021-05-26"},{"$f":"BY6","v":"2021-05-27"},{"$f":"BZ6","v":"2021-05-28"},{"$f":"CA6","v":"2021-05-29"},{"$f":"CB6","v":"2021-05-30"},{"$f":"CC6","v":"2021-05-31"},{"$f":"CD6","v":"2021-06-01"},{"$f":"CE6","v":"2021-06-02"},{"$f":"CF6","v":"2021-06-03"},{"$f":"CG6","v":"2021-06-04"},{"$f":"CH6","v":"2021-06-05"},{"$f":"CI6","v":"2021-06-06"},{"$f":"CJ6","v":"2021-06-07"},{"$f":"CK6","v":"2021-06-08"},{"$f":"CL6","v":"2021-06-09"},{"$f":"CM6","v":"2021-06-10"},{"$f":"CN6","v":"2021-06-11"},{"$f":"CO6","v":"2021-06-12"},{"$f":"CP6","v":"2021-06-13"},{"$f":"CQ6","v":"2021-06-14"},{"$f":"CR6","v":"2021-06-15"},{"$f":"CS6","v":"2021-06-16"},{"$f":"CT6","v":"2021-06-17"},{"$f":"CU6","v":"2021-06-18"},{"$f":"CV6","v":"2021-06-19"},{"$f":"CW6","v":"2021-06-20"},{"$f":"CX6","v":"2021-06-21"},{"$f":"CY6","v":"2021-06-22"},{"$f":"CZ6","v":"2021-06-23"},{"$f":"DA6","v":"2021-06-24"},{"$f":"DB6","v":"2021-06-25"},{"$f":"DC6","v":"2021-06-26"},{"$f":"DD6","v":"2021-06-27"},{"$f":"DE6","v":"2021-06-28"},{"$f":"DF6","v":"2021-06-29"},{"$f":"DG6","v":"2021-06-30"},{"$f":"DH6","v":"2021-07-01"},{"$f":"DI6","v":"2021-07-02"},{"$f":"DJ6","v":"2021-07-03"},{"$f":"DK6","v":"2021-07-04"},{"$f":"DL6","v":"2021-07-05"},{"$f":"DM6","v":"2021-07-06"},{"$f":"DN6","v":"2021-07-07"},{"$f":"DO6","v":"2021-07-08"},{"$f":"DP6","v":"2021-07-09"},{"$f":"DQ6","v":"2021-07-10"},{"$f":"DR6","v":"2021-07-11"},{"$f":"DS6","v":"2021-07-12"},{"$f":"DT6","v":"2021-07-13"},{"$f":"DU6","v":"2021-07-14"},{"$f":"DV6","v":"2021-07-15"},{"$f":"DW6","v":"2021-07-16"},{"$f":"DX6","v":"2021-07-17"},{"$f":"DY6","v":"2021-07-18"},{"$f":"DZ6","v":"2021-07-19"}]
[null,{"$f":"IF(OFFSET('Besoin Interim'!$B$7,ROWS($B$8:$B8),0)=\"\",\"\",OFFSET('Besoin Interim'!$B$7,ROWS($B$8:$B8),0))","v":"INT_8"},{"$f":"IF($B8=\"\",\"\",OFFSET('Besoin Interim'!$B$7,ROWS($B$8:$B8),C$6))","v":"AGENT"},{"$f":"IF($B8=\"\",\"\",OFFSET('Besoin Interim'!$B$7,ROWS($B$8:$B8),D$6))","v":"MOHAMED"},{"$f":"IF($B8=\"\",\"\",OFFSET('Besoin Interim'!$B$7,ROWS($B$8:$B8),E$6))","v":"FIXE MATIN"},{"$f":"IF($B8=\"\",\"\",OFFSET('Besoin Interim'!$B$7,ROWS($B$8:$B8),F$6))","v":"FM-C01-S2"},{"$f":"IF($B8=\"\",\"\",OFFSET('Besoin Interim'!$B$7,ROWS($B$8:$B8),G$6))","v":"2019-01-02"},{"$f":"IF($B8=\"\",\"\",OFFSET('Besoin Interim'!$B$7,ROWS($B$8:$B8),H$6))","v":"NON"},{"$f":"IF($B8=\"\",\"\",OFFSET('Besoin Interim'!$B$7,ROWS($B$8:$B8),I$6))","v":"2019-01-02"},{"$f":"IF($B8=\"\",\"\",OFFSET('Besoin Interim'!$B$7,ROWS($B$8:$B8),J$6))","v":"2019-01-05"},{"$f":"IF(AND($H8<>\"OUI\",$G8>$G$5),IF($I8=\"\",\"\",IF(AND(K$6>=$I8,K$6<=$J8),OFFSET(Calendrier!$K$3,MATCH(Prevision!$F8,Calendrier!$A$4:$A$20,0),COLUMN()-COLUMN($K:$K)),\"\")),\"\")","v":""},{"$f":"IF(AND($H8<>\"OUI\",$G8>$G$5),IF($I8=\"\",\"\",IF(AND(L$6>=$I8,L$6<=$J8),OFFSET(Calendrier!$K$3,MATCH(Prevision!$F8,Calendrier!$A$4:$A$20,0),COLUMN()-COLUMN($K:$K)),\"\")),\"\")","v":""},{"$f":"IF(AND($H8<>\"OUI\",$G8>$G$5),IF($I8=\"\",\"\",IF(AND(M$6>=$I8,M$6<=$J8),OFFSET(Calendrier!$K$3,MATCH(Prevision!$F8,Calendrier!$A$4:$A$20,0),COLUMN()-COLUMN($K:$K)),\"\")),\"\")","v":""},{"$f":"IF(AND($H8<>\"OUI\",$G8>$G$5),IF($I8=\"\",\"\",IF(AND(N$6>=$I8,N$6<=$J8),OFFSET(Calendrier!$K$3,MATCH(Prevision!$F8,Calendrier!$A$4:$A$20,0),COLUMN()-COLUMN($K:$K)),\"\")),\"\")","v":""},{"$f":"IF(AND($H8<>\"OUI\",$G8>$G$5),IF($I8=\"\",\"\",IF(AND(O$6>=$I8,O$6<=$J8),OFFSET(Calendrier!$K$3,MATCH(Prevision!$F8,Calendrier!$A$4:$A$20,0),COLUMN()-COLUMN($K:$K)),\"\")),\"\")","v":""},{"$f":"IF(AND($H8<>\"OUI\",$G8>$G$5),IF($I8=\"\",\"\",IF(AND(P$6>=$I8,P$6<=$J8),OFFSET(Calendrier!$K$3,MATCH(Prevision!$F8,Calendrier!$A$4:$A$20,0),COLUMN()-COLUMN($K:$K)),\"\")),\"\")","v":""},{"$f":"IF(AND($H8<>\"OUI\",$G8>$G$5),IF($I8=\"\",\"\",IF(AND(Q$6>=$I8,Q$6<=$J8),OFFSET(Calendrier!$K$3,MATCH(Prevision!$F8,Calendrier!$A$4:$A$20,0),COLUMN()-COLUMN($K:$K)),\"\")),\"\")","v":""},{"$f":"IF(AND($H8<>\"OUI\",$G8>$G$5),IF($I8=\"\",\"\",IF(AND(R$6>=$I8,R$6<=$J8),OFFSET(Calendrier!$K$3,MATCH(Prevision!$F8,Calendrier!$A$4:$A$20,0),COLUMN()-COLUMN($K:$K)),\"\")),\"\")","v":""},{"$f":"IF(AND($H8<>\"OUI\",$G8>$G$5),IF($I8=\"\",\"\",IF(AND(S$6>=$I8,S$6<=$J8),OFFSET(Calendrier!$K$3,MATCH(Prevision!$F8,Calendrier!$A$4:$A$20,0),COLUMN()-COLUMN($K:$K)),\"\")),\"\")","v":""},{"$f":"IF(AND($H8<>\"OUI\",$G8>$G$5),IF($I8=\"\",\"\",IF(AND(T$6>=$I8,T$6<=$J8),OFFSET(Calendrier!$K$3,MATCH(Prevision!$F8,Calendrier!$A$4:$A$20,0),COLUMN()-COLUMN($K:$K)),\"\")),\"\")","v":""},{"$f":"IF(AND($H8<>\"OUI\",$G8>$G$5),IF($I8=\"\",\"\",IF(AND(U$6>=$I8,U$6<=$J8),OFFSET(Calendrier!$K$3,MATCH(Prevision!$F8,Calendrier!$A$4:$A$20,0),COLUMN()-COLUMN($K:$K)),\"\")),\"\")","v":""},{"$f":"IF(AND($H8<>\"OUI\",$G8>$G$5),IF($I8=\"\",\"\",IF(AND(V$6>=$I8,V$6<=$J8),OFFSET(Calendrier!$K$3,MATCH(Prevision!$F8,Calendrier!$A$4:$A$20,0),COLUMN()-COLUMN($K:$K)),\"\")),\"\")","v":""},{"$f":"IF(AND($H8<>\"OUI\",$G8>$G$5),IF($I8=\"\",\"\",IF(AND(W$6>=$I8,W$6<=$J8),OFFSET(Calendrier!$K$3,MATCH(Prevision!$F8,Calendrier!$A$4:$A$20,0),COLUMN()-COLUMN($K:$K)),\"\")),\"\")","v":""},{"$f":"IF(AND($H8<>\"OUI\",$G8>$G$5),IF($I8=\"\",\"\",IF(AND(X$6>=$I8,X$6<=$J8),OFFSET(Calendrier!$K$3,MATCH(Prevision!$F8,Calendrier!$A$4:$A$20,0),COLUMN()-COLUMN($K:$K)),\"\")),\"\")","v":""},{"$f":"IF(AND($H8<>\"OUI\",$G8>$G$5),IF($I8=\"\",\"\",IF(AND(Y$6>=$I8,Y$6<=$J8),OFFSET(Calendrier!$K$3,MATCH(Prevision!$F8,Calendrier!$A$4:$A$20,0),COLUMN()-COLUMN($K:$K)),\"\")),\"\")","v":""},{"$f":"IF(AND($H8<>\"OUI\",$G8>$G$5),IF($I8=\"\",\"\",IF(AND(Z$6>=$I8,Z$6<=$J8),OFFSET(Calendrier!$K$3,MATCH(Prevision!$F8,Calendrier!$A$4:$A$20,0),COLUMN()-COLUMN($K:$K)),\"\")),\"\")","v":""},{"$f":"IF(AND($H8<>\"OUI\",$G8>$G$5),IF($I8=\"\",\"\",IF(AND(AA$6>=$I8,AA$6<=$J8),OFFSET(Calendrier!$K$3,MATCH(Prevision!$F8,Calendrier!$A$4:$A$20,0),COLUMN()-COLUMN($K:$K)),\"\")),\"\")","v":""},{"$f":"IF(AND($H8<>\"OUI\",$G8>$G$5),IF($I8=\"\",\"\",IF(AND(AB$6>=$I8,AB$6<=$J8),OFFSET(Calendrier!$K$3,MATCH(Prevision!$F8,Calendrier!$A$4:$A$20,0),COLUMN()-COLUMN($K:$K)),\"\")),\"\")","v":""},{"$f":"IF(AND($H8<>\"OUI\",$G8>$G$5),IF($I8=\"\",\"\",IF(AND(AC$6>=$I8,AC$6<=$J8),OFFSET(Calendrier!$K$3,MATCH(Prevision!$F8,Calendrier!$A$4:$A$20,0),COLUMN()-COLUMN($K:$K)),\"\")),\"\")","v":""},{"$f":"IF(AND($H8<>\"OUI\",$G8>$G$5),IF($I8=\"\",\"\",IF(AND(AD$6>=$I8,AD$6<=$J8),OFFSET(Calendrier!$K$3,MATCH(Prevision!$F8,Calendrier!$A$4:$A$20,0),COLUMN()-COLUMN($K:$K)),\"\")),\"\")","v":""},{"$f":"IF(AND($H8<>\"OUI\",$G8>$G$5),IF($I8=\"\",\"\",IF(AND(AE$6>=$I8,AE$6<=$J8),OFFSET(Calendrier!$K$3,MATCH(Prevision!$F8,Calendrier!$A$4:$A$20,0),COLUMN()-COLUMN($K:$K)),\"\")),\"\")","v":""},{"$f":"IF(AND($H8<>\"OUI\",$G8>$G$5),IF($I8=\"\",\"\",IF(AND(AF$6>=$I8,AF$6<=$J8),OFFSET(Calendrier!$K$3,MATCH(Prevision!$F8,Calendrier!$A$4:$A$20,0),COLUMN()-COLUMN($K:$K)),\"\")),\"\")","v":""},{"$f":"IF(AND($H8<>\"OUI\",$G8>$G$5),IF($I8=\"\",\"\",IF(AND(AG$6>=$I8,AG$6<=$J8),OFFSET(Calendrier!$K$3,MATCH(Prevision!$F8,Calendrier!$A$4:$A$20,0),COLUMN()-COLUMN($K:$K)),\"\")),\"\")","v":""},{"$f":"IF(AND($H8<>\"OUI\",$G8>$G$5),IF($I8=\"\",\"\",IF(AND(AH$6>=$I8,AH$6<=$J8),OFFSET(Calendrier!$K$3,MATCH(Prevision!$F8,Calendrier!$A$4:$A$20,0),COLUMN()-COLUMN($K:$K)),\"\")),\"\")","v":""},{"$f":"IF(AND($H8<>\"OUI\",$G8>$G$5),IF($I8=\"\",\"\",IF(AND(AI$6>=$I8,AI$6<=$J8),OFFSET(Calendrier!$K$3,MATCH(Prevision!$F8,Calendrier!$A$4:$A$20,0),COLUMN()-COLUMN($K:$K)),\"\")),\"\")","v":""},{"$f":"IF(AND($H8<>\"OUI\",$G8>$G$5),IF($I8=\"\",\"\",IF(AND(AJ$6>=$I8,AJ$6<=$J8),OFFSET(Calendrier!$K$3,MATCH(Prevision!$F8,Calendrier!$A$4:$A$20,0),COLUMN()-COLUMN($K:$K)),\"\")),\"\")","v":""},{"$f":"IF(AND($H8<>\"OUI\",$G8>$G$5),IF($I8=\"\",\"\",IF(AND(AK$6>=$I8,AK$6<=$J8),OFFSET(Calendrier!$K$3,MATCH(Prevision!$F8,Calendrier!$A$4:$A$20,0),COLUMN()-COLUMN($K:$K)),\"\")),\"\")","v":""},{"$f":"IF(AND($H8<>\"OUI\",$G8>$G$5),IF($I8=\"\",\"\",IF(AND(AL$6>=$I8,AL$6<=$J8),OFFSET(Calendrier!$K$3,MATCH(Prevision!$F8,Calendrier!$A$4:$A$20,0),COLUMN()-COLUMN($K:$K)),\"\")),\"\")","v":""},{"$f":"IF(AND($H8<>\"OUI\",$G8>$G$5),IF($I8=\"\",\"\",IF(AND(AM$6>=$I8,AM$6<=$J8),OFFSET(Calendrier!$K$3,MATCH(Prevision!$F8,Calendrier!$A$4:$A$20,0),COLUMN()-COLUMN($K:$K)),\"\")),\"\")","v":""},{"$f":"IF(AND($H8<>\"OUI\",$G8>$G$5),IF($I8=\"\",\"\",IF(AND(AN$6>=$I8,AN$6<=$J8),OFFSET(Calendrier!$K$3,MATCH(Prevision!$F8,Calendrier!$A$4:$A$20,0),COLUMN()-COLUMN($K:$K)),\"\")),\"\")","v":""},{"$f":"IF(AND($H8<>\"OUI\",$G8>$G$5),IF($I8=\"\",\"\",IF(AND(AO$6>=$I8,AO$6<=$J8),OFFSET(Calendrier!$K$3,MATCH(Prevision!$F8,Calendrier!$A$4:$A$20,0),COLUMN()-COLUMN($K:$K)),\"\")),\"\")","v":""},{"$f":"IF(AND($H8<>\"OUI\",$G8>$G$5),IF($I8=\"\",\"\",IF(AND(AP$6>=$I8,AP$6<=$J8),OFFSET(Calendrier!$K$3,MATCH(Prevision!$F8,Calendrier!$A$4:$A$20,0),COLUMN()-COLUMN($K:$K)),\"\")),\"\")","v":""},{"$f":"IF(AND($H8<>\"OUI\",$G8>$G$5),IF($I8=\"\",\"\",IF(AND(AQ$6>=$I8,AQ$6<=$J8),OFFSET(Calendrier!$K$3,MATCH(Prevision!$F8,Calendrier!$A$4:$A$20,0),COLUMN()-COLUMN($K:$K)),\"\")),\"\")","v":""},{"$f":"IF(AND($H8<>\"OUI\",$G8>$G$5),IF($I8=\"\",\"\",IF(AND(AR$6>=$I8,AR$6<=$J8),OFFSET(Calendrier!$K$3,MATCH(Prevision!$F8,Calendrier!$A$4:$A$20,0),COLUMN()-COLUMN($K:$K)),\"\")),\"\")","v":""},{"$f":"IF(AND($H8<>\"OUI\",$G8>$G$5),IF($I8=\"\",\"\",IF(AND(AS$6>=$I8,AS$6<=$J8),OFFSET(Calendrier!$K$3,MATCH(Prevision!$F8,Calendrier!$A$4:$A$20,0),COLUMN()-COLUMN($K:$K)),\"\")),\"\")","v":""},{"$f":"IF(AND($H8<>\"OUI\",$G8>$G$5),IF($I8=\"\",\"\",IF(AND(AT$6>=$I8,AT$6<=$J8),OFFSET(Calendrier!$K$3,MATCH(Prevision!$F8,Calendrier!$A$4:$A$20,0),COLUMN()-COLUMN($K:$K)),\"\")),\"\")","v":""},{"$f":"IF(AND($H8<>\"OUI\",$G8>$G$5),IF($I8=\"\",\"\",IF(AND(AU$6>=$I8,AU$6<=$J8),OFFSET(Calendrier!$K$3,MATCH(Prevision!$F8,Calendrier!$A$4:$A$20,0),COLUMN()-COLUMN($K:$K)),\"\")),\"\")","v":""},{"$f":"IF(AND($H8<>\"OUI\",$G8>$G$5),IF($I8=\"\",\"\",IF(AND(AV$6>=$I8,AV$6<=$J8),OFFSET(Calendrier!$K$3,MATCH(Prevision!$F8,Calendrier!$A$4:$A$20,0),COLUMN()-COLUMN($K:$K)),\"\")),\"\")","v":""},{"$f":"IF(AND($H8<>\"OUI\",$G8>$G$5),IF($I8=\"\",\"\",IF(AND(AW$6>=$I8,AW$6<=$J8),OFFSET(Calendrier!$K$3,MATCH(Prevision!$F8,Calendrier!$A$4:$A$20,0),COLUMN()-COLUMN($K:$K)),\"\")),\"\")","v":""},{"$f":"IF(AND($H8<>\"OUI\",$G8>$G$5),IF($I8=\"\",\"\",IF(AND(AX$6>=$I8,AX$6<=$J8),OFFSET(Calendrier!$K$3,MATCH(Prevision!$F8,Calendrier!$A$4:$A$20,0),COLUMN()-COLUMN($K:$K)),\"\")),\"\")","v":""},{"$f":"IF(AND($H8<>\"OUI\",$G8>$G$5),IF($I8=\"\",\"\",IF(AND(AY$6>=$I8,AY$6<=$J8),OFFSET(Calendrier!$K$3,MATCH(Prevision!$F8,Calendrier!$A$4:$A$20,0),COLUMN()-COLUMN($K:$K)),\"\")),\"\")","v":""},{"$f":"IF(AND($H8<>\"OUI\",$G8>$G$5),IF($I8=\"\",\"\",IF(AND(AZ$6>=$I8,AZ$6<=$J8),OFFSET(Calendrier!$K$3,MATCH(Prevision!$F8,Calendrier!$A$4:$A$20,0),COLUMN()-COLUMN($K:$K)),\"\")),\"\")","v":""},{"$f":"IF(AND($H8<>\"OUI\",$G8>$G$5),IF($I8=\"\",\"\",IF(AND(BA$6>=$I8,BA$6<=$J8),OFFSET(Calendrier!$K$3,MATCH(Prevision!$F8,Calendrier!$A$4:$A$20,0),COLUMN()-COLUMN($K:$K)),\"\")),\"\")","v":""},{"$f":"IF(AND($H8<>\"OUI\",$G8>$G$5),IF($I8=\"\",\"\",IF(AND(BB$6>=$I8,BB$6<=$J8),OFFSET(Calendrier!$K$3,MATCH(Prevision!$F8,Calendrier!$A$4:$A$20,0),COLUMN()-COLUMN($K:$K)),\"\")),\"\")","v":""},{"$f":"IF(AND($H8<>\"OUI\",$G8>$G$5),IF($I8=\"\",\"\",IF(AND(BC$6>=$I8,BC$6<=$J8),OFFSET(Calendrier!$K$3,MATCH(Prevision!$F8,Calendrier!$A$4:$A$20,0),COLUMN()-COLUMN($K:$K)),\"\")),\"\")","v":""},{"$f":"IF(AND($H8<>\"OUI\",$G8>$G$5),IF($I8=\"\",\"\",IF(AND(BD$6>=$I8,BD$6<=$J8),OFFSET(Calendrier!$K$3,MATCH(Prevision!$F8,Calendrier!$A$4:$A$20,0),COLUMN()-COLUMN($K:$K)),\"\")),\"\")","v":""},{"$f":"IF(AND($H8<>\"OUI\",$G8>$G$5),IF($I8=\"\",\"\",IF(AND(BE$6>=$I8,BE$6<=$J8),OFFSET(Calendrier!$K$3,MATCH(Prevision!$F8,Calendrier!$A$4:$A$20,0),COLUMN()-COLUMN($K:$K)),\"\")),\"\")","v":""},{"$f":"IF(AND($H8<>\"OUI\",$G8>$G$5),IF($I8=\"\",\"\",IF(AND(BF$6>=$I8,BF$6<=$J8),OFFSET(Calendrier!$K$3,MATCH(Prevision!$F8,Calendrier!$A$4:$A$20,0),COLUMN()-COLUMN($K:$K)),\"\")),\"\")","v":""},{"$f":"IF(AND($H8<>\"OUI\",$G8>$G$5),IF($I8=\"\",\"\",IF(AND(BG$6>=$I8,BG$6<=$J8),OFFSET(Calendrier!$K$3,MATCH(Prevision!$F8,Calendrier!$A$4:$A$20,0),COLUMN()-COLUMN($K:$K)),\"\")),\"\")","v":""},{"$f":"IF(AND($H8<>\"OUI\",$G8>$G$5),IF($I8=\"\",\"\",IF(AND(BH$6>=$I8,BH$6<=$J8),OFFSET(Calendrier!$K$3,MATCH(Prevision!$F8,Calendrier!$A$4:$A$20,0),COLUMN()-COLUMN($K:$K)),\"\")),\"\")","v":""},{"$f":"IF(AND($H8<>\"OUI\",$G8>$G$5),IF($I8=\"\",\"\",IF(AND(BI$6>=$I8,BI$6<=$J8),OFFSET(Calendrier!$K$3,MATCH(Prevision!$F8,Calendrier!$A$4:$A$20,0),COLUMN()-COLUMN($K:$K)),\"\")),\"\")","v":""},{"$f":"IF(AND($H8<>\"OUI\",$G8>$G$5),IF($I8=\"\",\"\",IF(AND(BJ$6>=$I8,BJ$6<=$J8),OFFSET(Calendrier!$K$3,MATCH(Prevision!$F8,Calendrier!$A$4:$A$20,0),COLUMN()-COLUMN($K:$K)),\"\")),\"\")","v":""},{"$f":"IF(AND($H8<>\"OUI\",$G8>$G$5),IF($I8=\"\",\"\",IF(AND(BK$6>=$I8,BK$6<=$J8),OFFSET(Calendrier!$K$3,MATCH(Prevision!$F8,Calendrier!$A$4:$A$20,0),COLUMN()-COLUMN($K:$K)),\"\")),\"\")","v":""},{"$f":"IF(AND($H8<>\"OUI\",$G8>$G$5),IF($I8=\"\",\"\",IF(AND(BL$6>=$I8,BL$6<=$J8),OFFSET(Calendrier!$K$3,MATCH(Prevision!$F8,Calendrier!$A$4:$A$20,0),COLUMN()-COLUMN($K:$K)),\"\")),\"\")","v":""},{"$f":"IF(AND($H8<>\"OUI\",$G8>$G$5),IF($I8=\"\",\"\",IF(AND(BM$6>=$I8,BM$6<=$J8),OFFSET(Calendrier!$K$3,MATCH(Prevision!$F8,Calendrier!$A$4:$A$20,0),COLUMN()-COLUMN($K:$K)),\"\")),\"\")","v":""},{"$f":"IF(AND($H8<>\"OUI\",$G8>$G$5),IF($I8=\"\",\"\",IF(AND(BN$6>=$I8,BN$6<=$J8),OFFSET(Calendrier!$K$3,MATCH(Prevision!$F8,Calendrier!$A$4:$A$20,0),COLUMN()-COLUMN($K:$K)),\"\")),\"\")","v":""},{"$f":"IF(AND($H8<>\"OUI\",$G8>$G$5),IF($I8=\"\",\"\",IF(AND(BO$6>=$I8,BO$6<=$J8),OFFSET(Calendrier!$K$3,MATCH(Prevision!$F8,Calendrier!$A$4:$A$20,0),COLUMN()-COLUMN($K:$K)),\"\")),\"\")","v":""},{"$f":"IF(AND($H8<>\"OUI\",$G8>$G$5),IF($I8=\"\",\"\",IF(AND(BP$6>=$I8,BP$6<=$J8),OFFSET(Calendrier!$K$3,MATCH(Prevision!$F8,Calendrier!$A$4:$A$20,0),COLUMN()-COLUMN($K:$K)),\"\")),\"\")","v":""},{"$f":"IF(AND($H8<>\"OUI\",$G8>$G$5),IF($I8=\"\",\"\",IF(AND(BQ$6>=$I8,BQ$6<=$J8),OFFSET(Calendrier!$K$3,MATCH(Prevision!$F8,Calendrier!$A$4:$A$20,0),COLUMN()-COLUMN($K:$K)),\"\")),\"\")","v":""},{"$f":"IF(AND($H8<>\"OUI\",$G8>$G$5),IF($I8=\"\",\"\",IF(AND(BR$6>=$I8,BR$6<=$J8),OFFSET(Calendrier!$K$3,MATCH(Prevision!$F8,Calendrier!$A$4:$A$20,0),COLUMN()-COLUMN($K:$K)),\"\")),\"\")","v":""},{"$f":"IF(AND($H8<>\"OUI\",$G8>$G$5),IF($I8=\"\",\"\",IF(AND(BS$6>=$I8,BS$6<=$J8),OFFSET(Calendrier!$K$3,MATCH(Prevision!$F8,Calendrier!$A$4:$A$20,0),COLUMN()-COLUMN($K:$K)),\"\")),\"\")","v":""},{"$f":"IF(AND($H8<>\"OUI\",$G8>$G$5),IF($I8=\"\",\"\",IF(AND(BT$6>=$I8,BT$6<=$J8),OFFSET(Calendrier!$K$3,MATCH(Prevision!$F8,Calendrier!$A$4:$A$20,0),COLUMN()-COLUMN($K:$K)),\"\")),\"\")","v":""},{"$f":"IF(AND($H8<>\"OUI\",$G8>$G$5),IF($I8=\"\",\"\",IF(AND(BU$6>=$I8,BU$6<=$J8),OFFSET(Calendrier!$K$3,MATCH(Prevision!$F8,Calendrier!$A$4:$A$20,0),COLUMN()-COLUMN($K:$K)),\"\")),\"\")","v":""},{"$f":"IF(AND($H8<>\"OUI\",$G8>$G$5),IF($I8=\"\",\"\",IF(AND(BV$6>=$I8,BV$6<=$J8),OFFSET(Calendrier!$K$3,MATCH(Prevision!$F8,Calendrier!$A$4:$A$20,0),COLUMN()-COLUMN($K:$K)),\"\")),\"\")","v":""},{"$f":"IF(AND($H8<>\"OUI\",$G8>$G$5),IF($I8=\"\",\"\",IF(AND(BW$6>=$I8,BW$6<=$J8),OFFSET(Calendrier!$K$3,MATCH(Prevision!$F8,Calendrier!$A$4:$A$20,0),COLUMN()-COLUMN($K:$K)),\"\")),\"\")","v":""},{"$f":"IF(AND($H8<>\"OUI\",$G8>$G$5),IF($I8=\"\",\"\",IF(AND(BX$6>=$I8,BX$6<=$J8),OFFSET(Calendrier!$K$3,MATCH(Prevision!$F8,Calendrier!$A$4:$A$20,0),COLUMN()-COLUMN($K:$K)),\"\")),\"\")","v":""},{"$f":"IF(AND($H8<>\"OUI\",$G8>$G$5),IF($I8=\"\",\"\",IF(AND(BY$6>=$I8,BY$6<=$J8),OFFSET(Calendrier!$K$3,MATCH(Prevision!$F8,Calendrier!$A$4:$A$20,0),COLUMN()-COLUMN($K:$K)),\"\")),\"\")","v":""},{"$f":"IF(AND($H8<>\"OUI\",$G8>$G$5),IF($I8=\"\",\"\",IF(AND(BZ$6>=$I8,BZ$6<=$J8),OFFSET(Calendrier!$K$3,MATCH(Prevision!$F8,Calendrier!$A$4:$A$20,0),COLUMN()-COLUMN($K:$K)),\"\")),\"\")","v":""},{"$f":"IF(AND($H8<>\"OUI\",$G8>$G$5),IF($I8=\"\",\"\",IF(AND(CA$6>=$I8,CA$6<=$J8),OFFSET(Calendrier!$K$3,MATCH(Prevision!$F8,Calendrier!$A$4:$A$20,0),COLUMN()-COLUMN($K:$K)),\"\")),\"\")","v":""},{"$f":"IF(AND($H8<>\"OUI\",$G8>$G$5),IF($I8=\"\",\"\",IF(AND(CB$6>=$I8,CB$6<=$J8),OFFSET(Calendrier!$K$3,MATCH(Prevision!$F8,Calendrier!$A$4:$A$20,0),COLUMN()-COLUMN($K:$K)),\"\")),\"\")","v":""},{"$f":"IF(AND($H8<>\"OUI\",$G8>$G$5),IF($I8=\"\",\"\",IF(AND(CC$6>=$I8,CC$6<=$J8),OFFSET(Calendrier!$K$3,MATCH(Prevision!$F8,Calendrier!$A$4:$A$20,0),COLUMN()-COLUMN($K:$K)),\"\")),\"\")","v":""},{"$f":"IF(AND($H8<>\"OUI\",$G8>$G$5),IF($I8=\"\",\"\",IF(AND(CD$6>=$I8,CD$6<=$J8),OFFSET(Calendrier!$K$3,MATCH(Prevision!$F8,Calendrier!$A$4:$A$20,0),COLUMN()-COLUMN($K:$K)),\"\")),\"\")","v":""},{"$f":"IF(AND($H8<>\"OUI\",$G8>$G$5),IF($I8=\"\",\"\",IF(AND(CE$6>=$I8,CE$6<=$J8),OFFSET(Calendrier!$K$3,MATCH(Prevision!$F8,Calendrier!$A$4:$A$20,0),COLUMN()-COLUMN($K:$K)),\"\")),\"\")","v":""},{"$f":"IF(AND($H8<>\"OUI\",$G8>$G$5),IF($I8=\"\",\"\",IF(AND(CF$6>=$I8,CF$6<=$J8),OFFSET(Calendrier!$K$3,MATCH(Prevision!$F8,Calendrier!$A$4:$A$20,0),COLUMN()-COLUMN($K:$K)),\"\")),\"\")","v":""},{"$f":"IF(AND($H8<>\"OUI\",$G8>$G$5),IF($I8=\"\",\"\",IF(AND(CG$6>=$I8,CG$6<=$J8),OFFSET(Calendrier!$K$3,MATCH(Prevision!$F8,Calendrier!$A$4:$A$20,0),COLUMN()-COLUMN($K:$K)),\"\")),\"\")","v":""},{"$f":"IF(AND($H8<>\"OUI\",$G8>$G$5),IF($I8=\"\",\"\",IF(AND(CH$6>=$I8,CH$6<=$J8),OFFSET(Calendrier!$K$3,MATCH(Prevision!$F8,Calendrier!$A$4:$A$20,0),COLUMN()-COLUMN($K:$K)),\"\")),\"\")","v":""},{"$f":"IF(AND($H8<>\"OUI\",$G8>$G$5),IF($I8=\"\",\"\",IF(AND(CI$6>=$I8,CI$6<=$J8),OFFSET(Calendrier!$K$3,MATCH(Prevision!$F8,Calendrier!$A$4:$A$20,0),COLUMN()-COLUMN($K:$K)),\"\")),\"\")","v":""},{"$f":"IF(AND($H8<>\"OUI\",$G8>$G$5),IF($I8=\"\",\"\",IF(AND(CJ$6>=$I8,CJ$6<=$J8),OFFSET(Calendrier!$K$3,MATCH(Prevision!$F8,Calendrier!$A$4:$A$20,0),COLUMN()-COLUMN($K:$K)),\"\")),\"\")","v":""},{"$f":"IF(AND($H8<>\"OUI\",$G8>$G$5),IF($I8=\"\",\"\",IF(AND(CK$6>=$I8,CK$6<=$J8),OFFSET(Calendrier!$K$3,MATCH(Prevision!$F8,Calendrier!$A$4:$A$20,0),COLUMN()-COLUMN($K:$K)),\"\")),\"\")","v":""},{"$f":"IF(AND($H8<>\"OUI\",$G8>$G$5),IF($I8=\"\",\"\",IF(AND(CL$6>=$I8,CL$6<=$J8),OFFSET(Calendrier!$K$3,MATCH(Prevision!$F8,Calendrier!$A$4:$A$20,0),COLUMN()-COLUMN($K:$K)),\"\")),\"\")","v":""},{"$f":"IF(AND($H8<>\"OUI\",$G8>$G$5),IF($I8=\"\",\"\",IF(AND(CM$6>=$I8,CM$6<=$J8),OFFSET(Calendrier!$K$3,MATCH(Prevision!$F8,Calendrier!$A$4:$A$20,0),COLUMN()-COLUMN($K:$K)),\"\")),\"\")","v":""},{"$f":"IF(AND($H8<>\"OUI\",$G8>$G$5),IF($I8=\"\",\"\",IF(AND(CN$6>=$I8,CN$6<=$J8),OFFSET(Calendrier!$K$3,MATCH(Prevision!$F8,Calendrier!$A$4:$A$20,0),COLUMN()-COLUMN($K:$K)),\"\")),\"\")","v":""},{"$f":"IF(AND($H8<>\"OUI\",$G8>$G$5),IF($I8=\"\",\"\",IF(AND(CO$6>=$I8,CO$6<=$J8),OFFSET(Calendrier!$K$3,MATCH(Prevision!$F8,Calendrier!$A$4:$A$20,0),COLUMN()-COLUMN($K:$K)),\"\")),\"\")","v":""},{"$f":"IF(AND($H8<>\"OUI\",$G8>$G$5),IF($I8=\"\",\"\",IF(AND(CP$6>=$I8,CP$6<=$J8),OFFSET(Calendrier!$K$3,MATCH(Prevision!$F8,Calendrier!$A$4:$A$20,0),COLUMN()-COLUMN($K:$K)),\"\")),\"\")","v":""},{"$f":"IF(AND($H8<>\"OUI\",$G8>$G$5),IF($I8=\"\",\"\",IF(AND(CQ$6>=$I8,CQ$6<=$J8),OFFSET(Calendrier!$K$3,MATCH(Prevision!$F8,Calendrier!$A$4:$A$20,0),COLUMN()-COLUMN($K:$K)),\"\")),\"\")","v":""},{"$f":"IF(AND($H8<>\"OUI\",$G8>$G$5),IF($I8=\"\",\"\",IF(AND(CR$6>=$I8,CR$6<=$J8),OFFSET(Calendrier!$K$3,MATCH(Prevision!$F8,Calendrier!$A$4:$A$20,0),COLUMN()-COLUMN($K:$K)),\"\")),\"\")","v":""},{"$f":"IF(AND($H8<>\"OUI\",$G8>$G$5),IF($I8=\"\",\"\",IF(AND(CS$6>=$I8,CS$6<=$J8),OFFSET(Calendrier!$K$3,MATCH(Prevision!$F8,Calendrier!$A$4:$A$20,0),COLUMN()-COLUMN($K:$K)),\"\")),\"\")","v":""},{"$f":"IF(AND($H8<>\"OUI\",$G8>$G$5),IF($I8=\"\",\"\",IF(AND(CT$6>=$I8,CT$6<=$J8),OFFSET(Calendrier!$K$3,MATCH(Prevision!$F8,Calendrier!$A$4:$A$20,0),COLUMN()-COLUMN($K:$K)),\"\")),\"\")","v":""},{"$f":"IF(AND($H8<>\"OUI\",$G8>$G$5),IF($I8=\"\",\"\",IF(AND(CU$6>=$I8,CU$6<=$J8),OFFSET(Calendrier!$K$3,MATCH(Prevision!$F8,Calendrier!$A$4:$A$20,0),COLUMN()-COLUMN($K:$K)),\"\")),\"\")","v":""},{"$f":"IF(AND($H8<>\"OUI\",$G8>$G$5),IF($I8=\"\",\"\",IF(AND(CV$6>=$I8,CV$6<=$J8),OFFSET(Calendrier!$K$3,MATCH(Prevision!$F8,Calendrier!$A$4:$A$20,0),COLUMN()-COLUMN($K:$K)),\"\")),\"\")","v":""},{"$f":"IF(AND($H8<>\"OUI\",$G8>$G$5),IF($I8=\"\",\"\",IF(AND(CW$6>=$I8,CW$6<=$J8),OFFSET(Calendrier!$K$3,MATCH(Prevision!$F8,Calendrier!$A$4:$A$20,0),COLUMN()-COLUMN($K:$K)),\"\")),\"\")","v":""},{"$f":"IF(AND($H8<>\"OUI\",$G8>$G$5),IF($I8=\"\",\"\",IF(AND(CX$6>=$I8,CX$6<=$J8),OFFSET(Calendrier!$K$3,MATCH(Prevision!$F8,Calendrier!$A$4:$A$20,0),COLUMN()-COLUMN($K:$K)),\"\")),\"\")","v":""},{"$f":"IF(AND($H8<>\"OUI\",$G8>$G$5),IF($I8=\"\",\"\",IF(AND(CY$6>=$I8,CY$6<=$J8),OFFSET(Calendrier!$K$3,MATCH(Prevision!$F8,Calendrier!$A$4:$A$20,0),COLUMN()-COLUMN($K:$K)),\"\")),\"\")","v":""},{"$f":"IF(AND($H8<>\"OUI\",$G8>$G$5),IF($I8=\"\",\"\",IF(AND(CZ$6>=$I8,CZ$6<=$J8),OFFSET(Calendrier!$K$3,MATCH(Prevision!$F8,Calendrier!$A$4:$A$20,0),COLUMN()-COLUMN($K:$K)),\"\")),\"\")","v":""},{"$f":"IF(AND($H8<>\"OUI\",$G8>$G$5),IF($I8=\"\",\"\",IF(AND(DA$6>=$I8,DA$6<=$J8),OFFSET(Calendrier!$K$3,MATCH(Prevision!$F8,Calendrier!$A$4:$A$20,0),COLUMN()-COLUMN($K:$K)),\"\")),\"\")","v":""},{"$f":"IF(AND($H8<>\"OUI\",$G8>$G$5),IF($I8=\"\",\"\",IF(AND(DB$6>=$I8,DB$6<=$J8),OFFSET(Calendrier!$K$3,MATCH(Prevision!$F8,Calendrier!$A$4:$A$20,0),COLUMN()-COLUMN($K:$K)),\"\")),\"\")","v":""},{"$f":"IF(AND($H8<>\"OUI\",$G8>$G$5),IF($I8=\"\",\"\",IF(AND(DC$6>=$I8,DC$6<=$J8),OFFSET(Calendrier!$K$3,MATCH(Prevision!$F8,Calendrier!$A$4:$A$20,0),COLUMN()-COLUMN($K:$K)),\"\")),\"\")","v":""},{"$f":"IF(AND($H8<>\"OUI\",$G8>$G$5),IF($I8=\"\",\"\",IF(AND(DD$6>=$I8,DD$6<=$J8),OFFSET(Calendrier!$K$3,MATCH(Prevision!$F8,Calendrier!$A$4:$A$20,0),COLUMN()-COLUMN($K:$K)),\"\")),\"\")","v":""},{"$f":"IF(AND($H8<>\"OUI\",$G8>$G$5),IF($I8=\"\",\"\",IF(AND(DE$6>=$I8,DE$6<=$J8),OFFSET(Calendrier!$K$3,MATCH(Prevision!$F8,Calendrier!$A$4:$A$20,0),COLUMN()-COLUMN($K:$K)),\"\")),\"\")","v":""},{"$f":"IF(AND($H8<>\"OUI\",$G8>$G$5),IF($I8=\"\",\"\",IF(AND(DF$6>=$I8,DF$6<=$J8),OFFSET(Calendrier!$K$3,MATCH(Prevision!$F8,Calendrier!$A$4:$A$20,0),COLUMN()-COLUMN($K:$K)),\"\")),\"\")","v":""},{"$f":"IF(AND($H8<>\"OUI\",$G8>$G$5),IF($I8=\"\",\"\",IF(AND(DG$6>=$I8,DG$6<=$J8),OFFSET(Calendrier!$K$3,MATCH(Prevision!$F8,Calendrier!$A$4:$A$20,0),COLUMN()-COLUMN($K:$K)),\"\")),\"\")","v":""},{"$f":"IF(AND($H8<>\"OUI\",$G8>$G$5),IF($I8=\"\",\"\",IF(AND(DH$6>=$I8,DH$6<=$J8),OFFSET(Calendrier!$K$3,MATCH(Prevision!$F8,Calendrier!$A$4:$A$20,0),COLUMN()-COLUMN($K:$K)),\"\")),\"\")","v":""},{"$f":"IF(AND($H8<>\"OUI\",$G8>$G$5),IF($I8=\"\",\"\",IF(AND(DI$6>=$I8,DI$6<=$J8),OFFSET(Calendrier!$K$3,MATCH(Prevision!$F8,Calendrier!$A$4:$A$20,0),COLUMN()-COLUMN($K:$K)),\"\")),\"\")","v":""},{"$f":"IF(AND($H8<>\"OUI\",$G8>$G$5),IF($I8=\"\",\"\",IF(AND(DJ$6>=$I8,DJ$6<=$J8),OFFSET(Calendrier!$K$3,MATCH(Prevision!$F8,Calendrier!$A$4:$A$20,0),COLUMN()-COLUMN($K:$K)),\"\")),\"\")","v":""},{"$f":"IF(AND($H8<>\"OUI\",$G8>$G$5),IF($I8=\"\",\"\",IF(AND(DK$6>=$I8,DK$6<=$J8),OFFSET(Calendrier!$K$3,MATCH(Prevision!$F8,Calendrier!$A$4:$A$20,0),COLUMN()-COLUMN($K:$K)),\"\")),\"\")","v":""},{"$f":"IF(AND($H8<>\"OUI\",$G8>$G$5),IF($I8=\"\",\"\",IF(AND(DL$6>=$I8,DL$6<=$J8),OFFSET(Calendrier!$K$3,MATCH(Prevision!$F8,Calendrier!$A$4:$A$20,0),COLUMN()-COLUMN($K:$K)),\"\")),\"\")","v":""},{"$f":"IF(AND($H8<>\"OUI\",$G8>$G$5),IF($I8=\"\",\"\",IF(AND(DM$6>=$I8,DM$6<=$J8),OFFSET(Calendrier!$K$3,MATCH(Prevision!$F8,Calendrier!$A$4:$A$20,0),COLUMN()-COLUMN($K:$K)),\"\")),\"\")","v":""},{"$f":"IF(AND($H8<>\"OUI\",$G8>$G$5),IF($I8=\"\",\"\",IF(AND(DN$6>=$I8,DN$6<=$J8),OFFSET(Calendrier!$K$3,MATCH(Prevision!$F8,Calendrier!$A$4:$A$20,0),COLUMN()-COLUMN($K:$K)),\"\")),\"\")","v":""},{"$f":"IF(AND($H8<>\"OUI\",$G8>$G$5),IF($I8=\"\",\"\",IF(AND(DO$6>=$I8,DO$6<=$J8),OFFSET(Calendrier!$K$3,MATCH(Prevision!$F8,Calendrier!$A$4:$A$20,0),COLUMN()-COLUMN($K:$K)),\"\")),\"\")","v":""},{"$f":"IF(AND($H8<>\"OUI\",$G8>$G$5),IF($I8=\"\",\"\",IF(AND(DP$6>=$I8,DP$6<=$J8),OFFSET(Calendrier!$K$3,MATCH(Prevision!$F8,Calendrier!$A$4:$A$20,0),COLUMN()-COLUMN($K:$K)),\"\")),\"\")","v":""},{"$f":"IF(AND($H8<>\"OUI\",$G8>$G$5),IF($I8=\"\",\"\",IF(AND(DQ$6>=$I8,DQ$6<=$J8),OFFSET(Calendrier!$K$3,MATCH(Prevision!$F8,Calendrier!$A$4:$A$20,0),COLUMN()-COLUMN($K:$K)),\"\")),\"\")","v":""},{"$f":"IF(AND($H8<>\"OUI\",$G8>$G$5),IF($I8=\"\",\"\",IF(AND(DR$6>=$I8,DR$6<=$J8),OFFSET(Calendrier!$K$3,MATCH(Prevision!$F8,Calendrier!$A$4:$A$20,0),COLUMN()-COLUMN($K:$K)),\"\")),\"\")","v":""},{"$f":"IF(AND($H8<>\"OUI\",$G8>$G$5),IF($I8=\"\",\"\",IF(AND(DS$6>=$I8,DS$6<=$J8),OFFSET(Calendrier!$K$3,MATCH(Prevision!$F8,Calendrier!$A$4:$A$20,0),COLUMN()-COLUMN($K:$K)),\"\")),\"\")","v":""},{"$f":"IF(AND($H8<>\"OUI\",$G8>$G$5),IF($I8=\"\",\"\",IF(AND(DT$6>=$I8,DT$6<=$J8),OFFSET(Calendrier!$K$3,MATCH(Prevision!$F8,Calendrier!$A$4:$A$20,0),COLUMN()-COLUMN($K:$K)),\"\")),\"\")","v":""},{"$f":"IF(AND($H8<>\"OUI\",$G8>$G$5),IF($I8=\"\",\"\",IF(AND(DU$6>=$I8,DU$6<=$J8),OFFSET(Calendrier!$K$3,MATCH(Prevision!$F8,Calendrier!$A$4:$A$20,0),COLUMN()-COLUMN($K:$K)),\"\")),\"\")","v":""},{"$f":"IF(AND($H8<>\"OUI\",$G8>$G$5),IF($I8=\"\",\"\",IF(AND(DV$6>=$I8,DV$6<=$J8),OFFSET(Calendrier!$K$3,MATCH(Prevision!$F8,Calendrier!$A$4:$A$20,0),COLUMN()-COLUMN($K:$K)),\"\")),\"\")","v":""},{"$f":"IF(AND($H8<>\"OUI\",$G8>$G$5),IF($I8=\"\",\"\",IF(AND(DW$6>=$I8,DW$6<=$J8),OFFSET(Calendrier!$K$3,MATCH(Prevision!$F8,Calendrier!$A$4:$A$20,0),COLUMN()-COLUMN($K:$K)),\"\")),\"\")","v":""},{"$f":"IF(AND($H8<>\"OUI\",$G8>$G$5),IF($I8=\"\",\"\",IF(AND(DX$6>=$I8,DX$6<=$J8),OFFSET(Calendrier!$K$3,MATCH(Prevision!$F8,Calendrier!$A$4:$A$20,0),COLUMN()-COLUMN($K:$K)),\"\")),\"\")","v":""},{"$f":"IF(AND($H8<>\"OUI\",$G8>$G$5),IF($I8=\"\",\"\",IF(AND(DY$6>=$I8,DY$6<=$J8),OFFSET(Calendrier!$K$3,MATCH(Prevision!$F8,Calendrier!$A$4:$A$20,0),COLUMN()-COLUMN($K:$K)),\"\")),\"\")","v":""},{"$f":"IF(AND($H8<>\"OUI\",$G8>$G$5),IF($I8=\"\",\"\",IF(AND(DZ$6>=$I8,DZ$6<=$J8),OFFSET(Calendrier!$K$3,MATCH(Prevision!$F8,Calendrier!$A$4:$A$20,0),COLUMN()-COLUMN($K:$K)),\"\")),\"\")","v":""}]
[null,{"$f":"IF(OFFSET('Besoin Interim'!$B$7,ROWS($B$8:$B9),0)=\"\",\"\",OFFSET('Besoin Interim'!$B$7,ROWS($B$8:$B9),0))","v":"INT_9"},{"$f":"IF($B9=\"\",\"\",OFFSET('Besoin Interim'!$B$7,ROWS($B$8:$B9),C$6))","v":"AGENT"},{"$f":"IF($B9=\"\",\"\",OFFSET('Besoin Interim'!$B$7,ROWS($B$8:$B9),D$6))","v":"SEBASTIEN"},{"$f":"IF($B9=\"\",\"\",OFFSET('Besoin Interim'!$B$7,ROWS($B$8:$B9),E$6))","v":"FIXE MATIN"},{"$f":"IF($B9=\"\",\"\",OFFSET('Besoin Interim'!$B$7,ROWS($B$8:$B9),F$6))","v":"FM-C01"},{"$f":"IF($B9=\"\",\"\",OFFSET('Besoin Interim'!$B$7,ROWS($B$8:$B9),G$6))","v":"2019-01-09"},{"$f":"IF($B9=\"\",\"\",OFFSET('Besoin Interim'!$B$7,ROWS($B$8:$B9),H$6))","v":"NON"},{"$f":"IF($B9=\"\",\"\",OFFSET('Besoin Interim'!$B$7,ROWS($B$8:$B9),I$6))","v":"2019-01-09"},{"$f":"IF($B9=\"\",\"\",OFFSET('Besoin Interim'!$B$7,ROWS($B$8:$B9),J$6))","v":"2019-01-15"},{"$f":"IF(AND($H9<>\"OUI\",$G9>$G$5),IF($I9=\"\",\"\",IF(AND(K$6>=$I9,K$6<=$J9),OFFSET(Calendrier!$K$3,MATCH(Prevision!$F9,Calendrier!$A$4:$A$20,0),COLUMN()-COLUMN($K:$K)),\"\")),\"\")","v":""},{"$f":"IF(AND($H9<>\"OUI\",$G9>$G$5),IF($I9=\"\",\"\",IF(AND(L$6>=$I9,L$6<=$J9),OFFSET(Calendrier!$K$3,MATCH(Prevision!$F9,Calendrier!$A$4:$A$20,0),COLUMN()-COLUMN($K:$K)),\"\")),\"\")","v":""},{"$f":"IF(AND($H9<>\"OUI\",$G9>$G$5),IF($I9=\"\",\"\",IF(AND(M$6>=$I9,M$6<=$J9),OFFSET(Calendrier!$K$3,MATCH(Prevision!$F9,Calendrier!$A$4:$A$20,0),COLUMN()-COLUMN($K:$K)),\"\")),\"\")","v":""},{"$f":"IF(AND($H9<>\"OUI\",$G9>$G$5),IF($I9=\"\",\"\",IF(AND(N$6>=$I9,N$6<=$J9),OFFSET(Calendrier!$K$3,MATCH(Prevision!$F9,Calendrier!$A$4:$A$20,0),COLUMN()-COLUMN($K:$K)),\"\")),\"\")","v":""},{"$f":"IF(AND($H9<>\"OUI\",$G9>$G$5),IF($I9=\"\",\"\",IF(AND(O$6>=$I9,O$6<=$J9),OFFSET(Calendrier!$K$3,MATCH(Prevision!$F9,Calendrier!$A$4:$A$20,0),COLUMN()-COLUMN($K:$K)),\"\")),\"\")","v":""},{"$f":"IF(AND($H9<>\"OUI\",$G9>$G$5),IF($I9=\"\",\"\",IF(AND(P$6>=$I9,P$6<=$J9),OFFSET(Calendrier!$K$3,MATCH(Prevision!$F9,Calendrier!$A$4:$A$20,0),COLUMN()-COLUMN($K:$K)),\"\")),\"\")","v":""},{"$f":"IF(AND($H9<>\"OUI\",$G9>$G$5),IF($I9=\"\",\"\",IF(AND(Q$6>=$I9,Q$6<=$J9),OFFSET(Calendrier!$K$3,MATCH(Prevision!$F9,Calendrier!$A$4:$A$20,0),COLUMN()-COLUMN($K:$K)),\"\")),\"\")","v":""},{"$f":"IF(AND($H9<>\"OUI\",$G9>$G$5),IF($I9=\"\",\"\",IF(AND(R$6>=$I9,R$6<=$J9),OFFSET(Calendrier!$K$3,MATCH(Prevision!$F9,Calendrier!$A$4:$A$20,0),COLUMN()-COLUMN($K:$K)),\"\")),\"\")","v":""},{"$f":"IF(AND($H9<>\"OUI\",$G9>$G$5),IF($I9=\"\",\"\",IF(AND(S$6>=$I9,S$6<=$J9),OFFSET(Calendrier!$K$3,MATCH(Prevision!$F9,Calendrier!$A$4:$A$20,0),COLUMN()-COLUMN($K:$K)),\"\")),\"\")","v":""},{"$f":"IF(AND($H9<>\"OUI\",$G9>$G$5),IF($I9=\"\",\"\",IF(AND(T$6>=$I9,T$6<=$J9),OFFSET(Calendrier!$K$3,MATCH(Prevision!$F9,Calendrier!$A$4:$A$20,0),COLUMN()-COLUMN($K:$K)),\"\")),\"\")","v":""},{"$f":"IF(AND($H9<>\"OUI\",$G9>$G$5),IF($I9=\"\",\"\",IF(AND(U$6>=$I9,U$6<=$J9),OFFSET(Calendrier!$K$3,MATCH(Prevision!$F9,Calendrier!$A$4:$A$20,0),COLUMN()-COLUMN($K:$K)),\"\")),\"\")","v":""},{"$f":"IF(AND($H9<>\"OUI\",$G9>$G$5),IF($I9=\"\",\"\",IF(AND(V$6>=$I9,V$6<=$J9),OFFSET(Calendrier!$K$3,MATCH(Prevision!$F9,Calendrier!$A$4:$A$20,0),COLUMN()-COLUMN($K:$K)),\"\")),\"\")","v":""},{"$f":"IF(AND($H9<>\"OUI\",$G9>$G$5),IF($I9=\"\",\"\",IF(AND(W$6>=$I9,W$6<=$J9),OFFSET(Calendrier!$K$3,MATCH(Prevision!$F9,Calendrier!$A$4:$A$20,0),COLUMN()-COLUMN($K:$K)),\"\")),\"\")","v":""},{"$f":"IF(AND($H9<>\"OUI\",$G9>$G$5),IF($I9=\"\",\"\",IF(AND(X$6>=$I9,X$6<=$J9),OFFSET(Calendrier!$K$3,MATCH(Prevision!$F9,Calendrier!$A$4:$A$20,0),COLUMN()-COLUMN($K:$K)),\"\")),\"\")","v":""},{"$f":"IF(AND($H9<>\"OUI\",$G9>$G$5),IF($I9=\"\",\"\",IF(AND(Y$6>=$I9,Y$6<=$J9),OFFSET(Calendrier!$K$3,MATCH(Prevision!$F9,Calendrier!$A$4:$A$20,0),COLUMN()-COLUMN($K:$K)),\"\")),\"\")","v":""},{"$f":"IF(AND($H9<>\"OUI\",$G9>$G$5),IF($I9=\"\",\"\",IF(AND(Z$6>=$I9,Z$6<=$J9),OFFSET(Calendrier!$K$3,MATCH(Prevision!$F9,Calendrier!$A$4:$A$20,0),COLUMN()-COLUMN($K:$K)),\"\")),\"\")","v":""},{"$f":"IF(AND($H9<>\"OUI\",$G9>$G$5),IF($I9=\"\",\"\",IF(AND(AA$6>=$I9,AA$6<=$J9),OFFSET(Calendrier!$K$3,MATCH(Prevision!$F9,Calendrier!$A$4:$A$20,0),COLUMN()-COLUMN($K:$K)),\"\")),\"\")","v":""},{"$f":"IF(AND($H9<>\"OUI\",$G9>$G$5),IF($I9=\"\",\"\",IF(AND(AB$6>=$I9,AB$6<=$J9),OFFSET(Calendrier!$K$3,MATCH(Prevision!$F9,Calendrier!$A$4:$A$20,0),COLUMN()-COLUMN($K:$K)),\"\")),\"\")","v":""},{"$f":"IF(AND($H9<>\"OUI\",$G9>$G$5),IF($I9=\"\",\"\",IF(AND(AC$6>=$I9,AC$6<=$J9),OFFSET(Calendrier!$K$3,MATCH(Prevision!$F9,Calendrier!$A$4:$A$20,0),COLUMN()-COLUMN($K:$K)),\"\")),\"\")","v":""},{"$f":"IF(AND($H9<>\"OUI\",$G9>$G$5),IF($I9=\"\",\"\",IF(AND(AD$6>=$I9,AD$6<=$J9),OFFSET(Calendrier!$K$3,MATCH(Prevision!$F9,Calendrier!$A$4:$A$20,0),COLUMN()-COLUMN($K:$K)),\"\")),\"\")","v":""},{"$f":"IF(AND($H9<>\"OUI\",$G9>$G$5),IF($I9=\"\",\"\",IF(AND(AE$6>=$I9,AE$6<=$J9),OFFSET(Calendrier!$K$3,MATCH(Prevision!$F9,Calendrier!$A$4:$A$20,0),COLUMN()-COLUMN($K:$K)),\"\")),\"\")","v":""},{"$f":"IF(AND($H9<>\"OUI\",$G9>$G$5),IF($I9=\"\",\"\",IF(AND(AF$6>=$I9,AF$6<=$J9),OFFSET(Calendrier!$K$3,MATCH(Prevision!$F9,Calendrier!$A$4:$A$20,0),COLUMN()-COLUMN($K:$K)),\"\")),\"\")","v":""},{"$f":"IF(AND($H9<>\"OUI\",$G9>$G$5),IF($I9=\"\",\"\",IF(AND(AG$6>=$I9,AG$6<=$J9),OFFSET(Calendrier!$K$3,MATCH(Prevision!$F9,Calendrier!$A$4:$A$20,0),COLUMN()-COLUMN($K:$K)),\"\")),\"\")","v":""},{"$f":"IF(AND($H9<>\"OUI\",$G9>$G$5),IF($I9=\"\",\"\",IF(AND(AH$6>=$I9,AH$6<=$J9),OFFSET(Calendrier!$K$3,MATCH(Prevision!$F9,Calendrier!$A$4:$A$20,0),COLUMN()-COLUMN($K:$K)),\"\")),\"\")","v":""},{"$f":"IF(AND($H9<>\"OUI\",$G9>$G$5),IF($I9=\"\",\"\",IF(AND(AI$6>=$I9,AI$6<=$J9),OFFSET(Calendrier!$K$3,MATCH(Prevision!$F9,Calendrier!$A$4:$A$20,0),COLUMN()-COLUMN($K:$K)),\"\")),\"\")","v":""},{"$f":"IF(AND($H9<>\"OUI\",$G9>$G$5),IF($I9=\"\",\"\",IF(AND(AJ$6>=$I9,AJ$6<=$J9),OFFSET(Calendrier!$K$3,MATCH(Prevision!$F9,Calendrier!$A$4:$A$20,0),COLUMN()-COLUMN($K:$K)),\"\")),\"\")","v":""},{"$f":"IF(AND($H9<>\"OUI\",$G9>$G$5),IF($I9=\"\",\"\",IF(AND(AK$6>=$I9,AK$6<=$J9),OFFSET(Calendrier!$K$3,MATCH(Prevision!$F9,Calendrier!$A$4:$A$20,0),COLUMN()-COLUMN($K:$K)),\"\")),\"\")","v":""},{"$f":"IF(AND($H9<>\"OUI\",$G9>$G$5),IF($I9=\"\",\"\",IF(AND(AL$6>=$I9,AL$6<=$J9),OFFSET(Calendrier!$K$3,MATCH(Prevision!$F9,Calendrier!$A$4:$A$20,0),COLUMN()-COLUMN($K:$K)),\"\")),\"\")","v":""},{"$f":"IF(AND($H9<>\"OUI\",$G9>$G$5),IF($I9=\"\",\"\",IF(AND(AM$6>=$I9,AM$6<=$J9),OFFSET(Calendrier!$K$3,MATCH(Prevision!$F9,Calendrier!$A$4:$A$20,0),COLUMN()-COLUMN($K:$K)),\"\")),\"\")","v":""},{"$f":"IF(AND($H9<>\"OUI\",$G9>$G$5),IF($I9=\"\",\"\",IF(AND(AN$6>=$I9,AN$6<=$J9),OFFSET(Calendrier!$K$3,MATCH(Prevision!$F9,Calendrier!$A$4:$A$20,0),COLUMN()-COLUMN($K:$K)),\"\")),\"\")","v":""},{"$f":"IF(AND($H9<>\"OUI\",$G9>$G$5),IF($I9=\"\",\"\",IF(AND(AO$6>=$I9,AO$6<=$J9),OFFSET(Calendrier!$K$3,MATCH(Prevision!$F9,Calendrier!$A$4:$A$20,0),COLUMN()-COLUMN($K:$K)),\"\")),\"\")","v":""},{"$f":"IF(AND($H9<>\"OUI\",$G9>$G$5),IF($I9=\"\",\"\",IF(AND(AP$6>=$I9,AP$6<=$J9),OFFSET(Calendrier!$K$3,MATCH(Prevision!$F9,Calendrier!$A$4:$A$20,0),COLUMN()-COLUMN($K:$K)),\"\")),\"\")","v":""},{"$f":"IF(AND($H9<>\"OUI\",$G9>$G$5),IF($I9=\"\",\"\",IF(AND(AQ$6>=$I9,AQ$6<=$J9),OFFSET(Calendrier!$K$3,MATCH(Prevision!$F9,Calendrier!$A$4:$A$20,0),COLUMN()-COLUMN($K:$K)),\"\")),\"\")","v":""},{"$f":"IF(AND($H9<>\"OUI\",$G9>$G$5),IF($I9=\"\",\"\",IF(AND(AR$6>=$I9,AR$6<=$J9),OFFSET(Calendrier!$K$3,MATCH(Prevision!$F9,Calendrier!$A$4:$A$20,0),COLUMN()-COLUMN($K:$K)),\"\")),\"\")","v":""},{"$f":"IF(AND($H9<>\"OUI\",$G9>$G$5),IF($I9=\"\",\"\",IF(AND(AS$6>=$I9,AS$6<=$J9),OFFSET(Calendrier!$K$3,MATCH(Prevision!$F9,Calendrier!$A$4:$A$20,0),COLUMN()-COLUMN($K:$K)),\"\")),\"\")","v":""},{"$f":"IF(AND($H9<>\"OUI\",$G9>$G$5),IF($I9=\"\",\"\",IF(AND(AT$6>=$I9,AT$6<=$J9),OFFSET(Calendrier!$K$3,MATCH(Prevision!$F9,Calendrier!$A$4:$A$20,0),COLUMN()-COLUMN($K:$K)),\"\")),\"\")","v":""},{"$f":"IF(AND($H9<>\"OUI\",$G9>$G$5),IF($I9=\"\",\"\",IF(AND(AU$6>=$I9,AU$6<=$J9),OFFSET(Calendrier!$K$3,MATCH(Prevision!$F9,Calendrier!$A$4:$A$20,0),COLUMN()-COLUMN($K:$K)),\"\")),\"\")","v":""},{"$f":"IF(AND($H9<>\"OUI\",$G9>$G$5),IF($I9=\"\",\"\",IF(AND(AV$6>=$I9,AV$6<=$J9),OFFSET(Calendrier!$K$3,MATCH(Prevision!$F9,Calendrier!$A$4:$A$20,0),COLUMN()-COLUMN($K:$K)),\"\")),\"\")","v":""},{"$f":"IF(AND($H9<>\"OUI\",$G9>$G$5),IF($I9=\"\",\"\",IF(AND(AW$6>=$I9,AW$6<=$J9),OFFSET(Calendrier!$K$3,MATCH(Prevision!$F9,Calendrier!$A$4:$A$20,0),COLUMN()-COLUMN($K:$K)),\"\")),\"\")","v":""},{"$f":"IF(AND($H9<>\"OUI\",$G9>$G$5),IF($I9=\"\",\"\",IF(AND(AX$6>=$I9,AX$6<=$J9),OFFSET(Calendrier!$K$3,MATCH(Prevision!$F9,Calendrier!$A$4:$A$20,0),COLUMN()-COLUMN($K:$K)),\"\")),\"\")","v":""},{"$f":"IF(AND($H9<>\"OUI\",$G9>$G$5),IF($I9=\"\",\"\",IF(AND(AY$6>=$I9,AY$6<=$J9),OFFSET(Calendrier!$K$3,MATCH(Prevision!$F9,Calendrier!$A$4:$A$20,0),COLUMN()-COLUMN($K:$K)),\"\")),\"\")","v":""},{"$f":"IF(AND($H9<>\"OUI\",$G9>$G$5),IF($I9=\"\",\"\",IF(AND(AZ$6>=$I9,AZ$6<=$J9),OFFSET(Calendrier!$K$3,MATCH(Prevision!$F9,Calendrier!$A$4:$A$20,0),COLUMN()-COLUMN($K:$K)),\"\")),\"\")","v":""},{"$f":"IF(AND($H9<>\"OUI\",$G9>$G$5),IF($I9=\"\",\"\",IF(AND(BA$6>=$I9,BA$6<=$J9),OFFSET(Calendrier!$K$3,MATCH(Prevision!$F9,Calendrier!$A$4:$A$20,0),COLUMN()-COLUMN($K:$K)),\"\")),\"\")","v":""},{"$f":"IF(AND($H9<>\"OUI\",$G9>$G$5),IF($I9=\"\",\"\",IF(AND(BB$6>=$I9,BB$6<=$J9),OFFSET(Calendrier!$K$3,MATCH(Prevision!$F9,Calendrier!$A$4:$A$20,0),COLUMN()-COLUMN($K:$K)),\"\")),\"\")","v":""},{"$f":"IF(AND($H9<>\"OUI\",$G9>$G$5),IF($I9=\"\",\"\",IF(AND(BC$6>=$I9,BC$6<=$J9),OFFSET(Calendrier!$K$3,MATCH(Prevision!$F9,Calendrier!$A$4:$A$20,0),COLUMN()-COLUMN($K:$K)),\"\")),\"\")","v":""},{"$f":"IF(AND($H9<>\"OUI\",$G9>$G$5),IF($I9=\"\",\"\",IF(AND(BD$6>=$I9,BD$6<=$J9),OFFSET(Calendrier!$K$3,MATCH(Prevision!$F9,Calendrier!$A$4:$A$20,0),COLUMN()-COLUMN($K:$K)),\"\")),\"\")","v":""},{"$f":"IF(AND($H9<>\"OUI\",$G9>$G$5),IF($I9=\"\",\"\",IF(AND(BE$6>=$I9,BE$6<=$J9),OFFSET(Calendrier!$K$3,MATCH(Prevision!$F9,Calendrier!$A$4:$A$20,0),COLUMN()-COLUMN($K:$K)),\"\")),\"\")","v":""},{"$f":"IF(AND($H9<>\"OUI\",$G9>$G$5),IF($I9=\"\",\"\",IF(AND(BF$6>=$I9,BF$6<=$J9),OFFSET(Calendrier!$K$3,MATCH(Prevision!$F9,Calendrier!$A$4:$A$20,0),COLUMN()-COLUMN($K:$K)),\"\")),\"\")","v":""},{"$f":"IF(AND($H9<>\"OUI\",$G9>$G$5),IF($I9=\"\",\"\",IF(AND(BG$6>=$I9,BG$6<=$J9),OFFSET(Calendrier!$K$3,MATCH(Prevision!$F9,Calendrier!$A$4:$A$20,0),COLUMN()-COLUMN($K:$K)),\"\")),\"\")","v":""},{"$f":"IF(AND($H9<>\"OUI\",$G9>$G$5),IF($I9=\"\",\"\",IF(AND(BH$6>=$I9,BH$6<=$J9),OFFSET(Calendrier!$K$3,MATCH(Prevision!$F9,Calendrier!$A$4:$A$20,0),COLUMN()-COLUMN($K:$K)),\"\")),\"\")","v":""},{"$f":"IF(AND($H9<>\"OUI\",$G9>$G$5),IF($I9=\"\",\"\",IF(AND(BI$6>=$I9,BI$6<=$J9),OFFSET(Calendrier!$K$3,MATCH(Prevision!$F9,Calendrier!$A$4:$A$20,0),COLUMN()-COLUMN($K:$K)),\"\")),\"\")","v":""},{"$f":"IF(AND($H9<>\"OUI\",$G9>$G$5),IF($I9=\"\",\"\",IF(AND(BJ$6>=$I9,BJ$6<=$J9),OFFSET(Calendrier!$K$3,MATCH(Prevision!$F9,Calendrier!$A$4:$A$20,0),COLUMN()-COLUMN($K:$K)),\"\")),\"\")","v":""},{"$f":"IF(AND($H9<>\"OUI\",$G9>$G$5),IF($I9=\"\",\"\",IF(AND(BK$6>=$I9,BK$6<=$J9),OFFSET(Calendrier!$K$3,MATCH(Prevision!$F9,Calendrier!$A$4:$A$20,0),COLUMN()-COLUMN($K:$K)),\"\")),\"\")","v":""},{"$f":"IF(AND($H9<>\"OUI\",$G9>$G$5),IF($I9=\"\",\"\",IF(AND(BL$6>=$I9,BL$6<=$J9),OFFSET(Calendrier!$K$3,MATCH(Prevision!$F9,Calendrier!$A$4:$A$20,0),COLUMN()-COLUMN($K:$K)),\"\")),\"\")","v":""},{"$f":"IF(AND($H9<>\"OUI\",$G9>$G$5),IF($I9=\"\",\"\",IF(AND(BM$6>=$I9,BM$6<=$J9),OFFSET(Calendrier!$K$3,MATCH(Prevision!$F9,Calendrier!$A$4:$A$20,0),COLUMN()-COLUMN($K:$K)),\"\")),\"\")","v":""},{"$f":"IF(AND($H9<>\"OUI\",$G9>$G$5),IF($I9=\"\",\"\",IF(AND(BN$6>=$I9,BN$6<=$J9),OFFSET(Calendrier!$K$3,MATCH(Prevision!$F9,Calendrier!$A$4:$A$20,0),COLUMN()-COLUMN($K:$K)),\"\")),\"\")","v":""},{"$f":"IF(AND($H9<>\"OUI\",$G9>$G$5),IF($I9=\"\",\"\",IF(AND(BO$6>=$I9,BO$6<=$J9),OFFSET(Calendrier!$K$3,MATCH(Prevision!$F9,Calendrier!$A$4:$A$20,0),COLUMN()-COLUMN($K:$K)),\"\")),\"\")","v":""},{"$f":"IF(AND($H9<>\"OUI\",$G9>$G$5),IF($I9=\"\",\"\",IF(AND(BP$6>=$I9,BP$6<=$J9),OFFSET(Calendrier!$K$3,MATCH(Prevision!$F9,Calendrier!$A$4:$A$20,0),COLUMN()-COLUMN($K:$K)),\"\")),\"\")","v":""},{"$f":"IF(AND($H9<>\"OUI\",$G9>$G$5),IF($I9=\"\",\"\",IF(AND(BQ$6>=$I9,BQ$6<=$J9),OFFSET(Calendrier!$K$3,MATCH(Prevision!$F9,Calendrier!$A$4:$A$20,0),COLUMN()-COLUMN($K:$K)),\"\")),\"\")","v":""},{"$f":"IF(AND($H9<>\"OUI\",$G9>$G$5),IF($I9=\"\",\"\",IF(AND(BR$6>=$I9,BR$6<=$J9),OFFSET(Calendrier!$K$3,MATCH(Prevision!$F9,Calendrier!$A$4:$A$20,0),COLUMN()-COLUMN($K:$K)),\"\")),\"\")","v":""},{"$f":"IF(AND($H9<>\"OUI\",$G9>$G$5),IF($I9=\"\",\"\",IF(AND(BS$6>=$I9,BS$6<=$J9),OFFSET(Calendrier!$K$3,MATCH(Prevision!$F9,Calendrier!$A$4:$A$20,0),COLUMN()-COLUMN($K:$K)),\"\")),\"\")","v":""},{"$f":"IF(AND($H9<>\"OUI\",$G9>$G$5),IF($I9=\"\",\"\",IF(AND(BT$6>=$I9,BT$6<=$J9),OFFSET(Calendrier!$K$3,MATCH(Prevision!$F9,Calendrier!$A$4:$A$20,0),COLUMN()-COLUMN($K:$K)),\"\")),\"\")","v":""},{"$f":"IF(AND($H9<>\"OUI\",$G9>$G$5),IF($I9=\"\",\"\",IF(AND(BU$6>=$I9,BU$6<=$J9),OFFSET(Calendrier!$K$3,MATCH(Prevision!$F9,Calendrier!$A$4:$A$20,0),COLUMN()-COLUMN($K:$K)),\"\")),\"\")","v":""},{"$f":"IF(AND($H9<>\"OUI\",$G9>$G$5),IF($I9=\"\",\"\",IF(AND(BV$6>=$I9,BV$6<=$J9),OFFSET(Calendrier!$K$3,MATCH(Prevision!$F9,Calendrier!$A$4:$A$20,0),COLUMN()-COLUMN($K:$K)),\"\")),\"\")","v":""},{"$f":"IF(AND($H9<>\"OUI\",$G9>$G$5),IF($I9=\"\",\"\",IF(AND(BW$6>=$I9,BW$6<=$J9),OFFSET(Calendrier!$K$3,MATCH(Prevision!$F9,Calendrier!$A$4:$A$20,0),COLUMN()-COLUMN($K:$K)),\"\")),\"\")","v":""},{"$f":"IF(AND($H9<>\"OUI\",$G9>$G$5),IF($I9=\"\",\"\",IF(AND(BX$6>=$I9,BX$6<=$J9),OFFSET(Calendrier!$K$3,MATCH(Prevision!$F9,Calendrier!$A$4:$A$20,0),COLUMN()-COLUMN($K:$K)),\"\")),\"\")","v":""},{"$f":"IF(AND($H9<>\"OUI\",$G9>$G$5),IF($I9=\"\",\"\",IF(AND(BY$6>=$I9,BY$6<=$J9),OFFSET(Calendrier!$K$3,MATCH(Prevision!$F9,Calendrier!$A$4:$A$20,0),COLUMN()-COLUMN($K:$K)),\"\")),\"\")","v":""},{"$f":"IF(AND($H9<>\"OUI\",$G9>$G$5),IF($I9=\"\",\"\",IF(AND(BZ$6>=$I9,BZ$6<=$J9),OFFSET(Calendrier!$K$3,MATCH(Prevision!$F9,Calendrier!$A$4:$A$20,0),COLUMN()-COLUMN($K:$K)),\"\")),\"\")","v":""},{"$f":"IF(AND($H9<>\"OUI\",$G9>$G$5),IF($I9=\"\",\"\",IF(AND(CA$6>=$I9,CA$6<=$J9),OFFSET(Calendrier!$K$3,MATCH(Prevision!$F9,Calendrier!$A$4:$A$20,0),COLUMN()-COLUMN($K:$K)),\"\")),\"\")","v":""},{"$f":"IF(AND($H9<>\"OUI\",$G9>$G$5),IF($I9=\"\",\"\",IF(AND(CB$6>=$I9,CB$6<=$J9),OFFSET(Calendrier!$K$3,MATCH(Prevision!$F9,Calendrier!$A$4:$A$20,0),COLUMN()-COLUMN($K:$K)),\"\")),\"\")","v":""},{"$f":"IF(AND($H9<>\"OUI\",$G9>$G$5),IF($I9=\"\",\"\",IF(AND(CC$6>=$I9,CC$6<=$J9),OFFSET(Calendrier!$K$3,MATCH(Prevision!$F9,Calendrier!$A$4:$A$20,0),COLUMN()-COLUMN($K:$K)),\"\")),\"\")","v":""},{"$f":"IF(AND($H9<>\"OUI\",$G9>$G$5),IF($I9=\"\",\"\",IF(AND(CD$6>=$I9,CD$6<=$J9),OFFSET(Calendrier!$K$3,MATCH(Prevision!$F9,Calendrier!$A$4:$A$20,0),COLUMN()-COLUMN($K:$K)),\"\")),\"\")","v":""},{"$f":"IF(AND($H9<>\"OUI\",$G9>$G$5),IF($I9=\"\",\"\",IF(AND(CE$6>=$I9,CE$6<=$J9),OFFSET(Calendrier!$K$3,MATCH(Prevision!$F9,Calendrier!$A$4:$A$20,0),COLUMN()-COLUMN($K:$K)),\"\")),\"\")","v":""},{"$f":"IF(AND($H9<>\"OUI\",$G9>$G$5),IF($I9=\"\",\"\",IF(AND(CF$6>=$I9,CF$6<=$J9),OFFSET(Calendrier!$K$3,MATCH(Prevision!$F9,Calendrier!$A$4:$A$20,0),COLUMN()-COLUMN($K:$K)),\"\")),\"\")","v":""},{"$f":"IF(AND($H9<>\"OUI\",$G9>$G$5),IF($I9=\"\",\"\",IF(AND(CG$6>=$I9,CG$6<=$J9),OFFSET(Calendrier!$K$3,MATCH(Prevision!$F9,Calendrier!$A$4:$A$20,0),COLUMN()-COLUMN($K:$K)),\"\")),\"\")","v":""},{"$f":"IF(AND($H9<>\"OUI\",$G9>$G$5),IF($I9=\"\",\"\",IF(AND(CH$6>=$I9,CH$6<=$J9),OFFSET(Calendrier!$K$3,MATCH(Prevision!$F9,Calendrier!$A$4:$A$20,0),COLUMN()-COLUMN($K:$K)),\"\")),\"\")","v":""},{"$f":"IF(AND($H9<>\"OUI\",$G9>$G$5),IF($I9=\"\",\"\",IF(AND(CI$6>=$I9,CI$6<=$J9),OFFSET(Calendrier!$K$3,MATCH(Prevision!$F9,Calendrier!$A$4:$A$20,0),COLUMN()-COLUMN($K:$K)),\"\")),\"\")","v":""},{"$f":"IF(AND($H9<>\"OUI\",$G9>$G$5),IF($I9=\"\",\"\",IF(AND(CJ$6>=$I9,CJ$6<=$J9),OFFSET(Calendrier!$K$3,MATCH(Prevision!$F9,Calendrier!$A$4:$A$20,0),COLUMN()-COLUMN($K:$K)),\"\")),\"\")","v":""},{"$f":"IF(AND($H9<>\"OUI\",$G9>$G$5),IF($I9=\"\",\"\",IF(AND(CK$6>=$I9,CK$6<=$J9),OFFSET(Calendrier!$K$3,MATCH(Prevision!$F9,Calendrier!$A$4:$A$20,0),COLUMN()-COLUMN($K:$K)),\"\")),\"\")","v":""},{"$f":"IF(AND($H9<>\"OUI\",$G9>$G$5),IF($I9=\"\",\"\",IF(AND(CL$6>=$I9,CL$6<=$J9),OFFSET(Calendrier!$K$3,MATCH(Prevision!$F9,Calendrier!$A$4:$A$20,0),COLUMN()-COLUMN($K:$K)),\"\")),\"\")","v":""},{"$f":"IF(AND($H9<>\"OUI\",$G9>$G$5),IF($I9=\"\",\"\",IF(AND(CM$6>=$I9,CM$6<=$J9),OFFSET(Calendrier!$K$3,MATCH(Prevision!$F9,Calendrier!$A$4:$A$20,0),COLUMN()-COLUMN($K:$K)),\"\")),\"\")","v":""},{"$f":"IF(AND($H9<>\"OUI\",$G9>$G$5),IF($I9=\"\",\"\",IF(AND(CN$6>=$I9,CN$6<=$J9),OFFSET(Calendrier!$K$3,MATCH(Prevision!$F9,Calendrier!$A$4:$A$20,0),COLUMN()-COLUMN($K:$K)),\"\")),\"\")","v":""},{"$f":"IF(AND($H9<>\"OUI\",$G9>$G$5),IF($I9=\"\",\"\",IF(AND(CO$6>=$I9,CO$6<=$J9),OFFSET(Calendrier!$K$3,MATCH(Prevision!$F9,Calendrier!$A$4:$A$20,0),COLUMN()-COLUMN($K:$K)),\"\")),\"\")","v":""},{"$f":"IF(AND($H9<>\"OUI\",$G9>$G$5),IF($I9=\"\",\"\",IF(AND(CP$6>=$I9,CP$6<=$J9),OFFSET(Calendrier!$K$3,MATCH(Prevision!$F9,Calendrier!$A$4:$A$20,0),COLUMN()-COLUMN($K:$K)),\"\")),\"\")","v":""},{"$f":"IF(AND($H9<>\"OUI\",$G9>$G$5),IF($I9=\"\",\"\",IF(AND(CQ$6>=$I9,CQ$6<=$J9),OFFSET(Calendrier!$K$3,MATCH(Prevision!$F9,Calendrier!$A$4:$A$20,0),COLUMN()-COLUMN($K:$K)),\"\")),\"\")","v":""},{"$f":"IF(AND($H9<>\"OUI\",$G9>$G$5),IF($I9=\"\",\"\",IF(AND(CR$6>=$I9,CR$6<=$J9),OFFSET(Calendrier!$K$3,MATCH(Prevision!$F9,Calendrier!$A$4:$A$20,0),COLUMN()-COLUMN($K:$K)),\"\")),\"\")","v":""},{"$f":"IF(AND($H9<>\"OUI\",$G9>$G$5),IF($I9=\"\",\"\",IF(AND(CS$6>=$I9,CS$6<=$J9),OFFSET(Calendrier!$K$3,MATCH(Prevision!$F9,Calendrier!$A$4:$A$20,0),COLUMN()-COLUMN($K:$K)),\"\")),\"\")","v":""},{"$f":"IF(AND($H9<>\"OUI\",$G9>$G$5),IF($I9=\"\",\"\",IF(AND(CT$6>=$I9,CT$6<=$J9),OFFSET(Calendrier!$K$3,MATCH(Prevision!$F9,Calendrier!$A$4:$A$20,0),COLUMN()-COLUMN($K:$K)),\"\")),\"\")","v":""},{"$f":"IF(AND($H9<>\"OUI\",$G9>$G$5),IF($I9=\"\",\"\",IF(AND(CU$6>=$I9,CU$6<=$J9),OFFSET(Calendrier!$K$3,MATCH(Prevision!$F9,Calendrier!$A$4:$A$20,0),COLUMN()-COLUMN($K:$K)),\"\")),\"\")","v":""},{"$f":"IF(AND($H9<>\"OUI\",$G9>$G$5),IF($I9=\"\",\"\",IF(AND(CV$6>=$I9,CV$6<=$J9),OFFSET(Calendrier!$K$3,MATCH(Prevision!$F9,Calendrier!$A$4:$A$20,0),COLUMN()-COLUMN($K:$K)),\"\")),\"\")","v":""},{"$f":"IF(AND($H9<>\"OUI\",$G9>$G$5),IF($I9=\"\",\"\",IF(AND(CW$6>=$I9,CW$6<=$J9),OFFSET(Calendrier!$K$3,MATCH(Prevision!$F9,Calendrier!$A$4:$A$20,0),COLUMN()-COLUMN($K:$K)),\"\")),\"\")","v":""},{"$f":"IF(AND($H9<>\"OUI\",$G9>$G$5),IF($I9=\"\",\"\",IF(AND(CX$6>=$I9,CX$6<=$J9),OFFSET(Calendrier!$K$3,MATCH(Prevision!$F9,Calendrier!$A$4:$A$20,0),COLUMN()-COLUMN($K:$K)),\"\")),\"\")","v":""},{"$f":"IF(AND($H9<>\"OUI\",$G9>$G$5),IF($I9=\"\",\"\",IF(AND(CY$6>=$I9,CY$6<=$J9),OFFSET(Calendrier!$K$3,MATCH(Prevision!$F9,Calendrier!$A$4:$A$20,0),COLUMN()-COLUMN($K:$K)),\"\")),\"\")","v":""},{"$f":"IF(AND($H9<>\"OUI\",$G9>$G$5),IF($I9=\"\",\"\",IF(AND(CZ$6>=$I9,CZ$6<=$J9),OFFSET(Calendrier!$K$3,MATCH(Prevision!$F9,Calendrier!$A$4:$A$20,0),COLUMN()-COLUMN($K:$K)),\"\")),\"\")","v":""},{"$f":"IF(AND($H9<>\"OUI\",$G9>$G$5),IF($I9=\"\",\"\",IF(AND(DA$6>=$I9,DA$6<=$J9),OFFSET(Calendrier!$K$3,MATCH(Prevision!$F9,Calendrier!$A$4:$A$20,0),COLUMN()-COLUMN($K:$K)),\"\")),\"\")","v":""},{"$f":"IF(AND($H9<>\"OUI\",$G9>$G$5),IF($I9=\"\",\"\",IF(AND(DB$6>=$I9,DB$6<=$J9),OFFSET(Calendrier!$K$3,MATCH(Prevision!$F9,Calendrier!$A$4:$A$20,0),COLUMN()-COLUMN($K:$K)),\"\")),\"\")","v":""},{"$f":"IF(AND($H9<>\"OUI\",$G9>$G$5),IF($I9=\"\",\"\",IF(AND(DC$6>=$I9,DC$6<=$J9),OFFSET(Calendrier!$K$3,MATCH(Prevision!$F9,Calendrier!$A$4:$A$20,0),COLUMN()-COLUMN($K:$K)),\"\")),\"\")","v":""},{"$f":"IF(AND($H9<>\"OUI\",$G9>$G$5),IF($I9=\"\",\"\",IF(AND(DD$6>=$I9,DD$6<=$J9),OFFSET(Calendrier!$K$3,MATCH(Prevision!$F9,Calendrier!$A$4:$A$20,0),COLUMN()-COLUMN($K:$K)),\"\")),\"\")","v":""},{"$f":"IF(AND($H9<>\"OUI\",$G9>$G$5),IF($I9=\"\",\"\",IF(AND(DE$6>=$I9,DE$6<=$J9),OFFSET(Calendrier!$K$3,MATCH(Prevision!$F9,Calendrier!$A$4:$A$20,0),COLUMN()-COLUMN($K:$K)),\"\")),\"\")","v":""},{"$f":"IF(AND($H9<>\"OUI\",$G9>$G$5),IF($I9=\"\",\"\",IF(AND(DF$6>=$I9,DF$6<=$J9),OFFSET(Calendrier!$K$3,MATCH(Prevision!$F9,Calendrier!$A$4:$A$20,0),COLUMN()-COLUMN($K:$K)),\"\")),\"\")","v":""},{"$f":"IF(AND($H9<>\"OUI\",$G9>$G$5),IF($I9=\"\",\"\",IF(AND(DG$6>=$I9,DG$6<=$J9),OFFSET(Calendrier!$K$3,MATCH(Prevision!$F9,Calendrier!$A$4:$A$20,0),COLUMN()-COLUMN($K:$K)),\"\")),\"\")","v":""},{"$f":"IF(AND($H9<>\"OUI\",$G9>$G$5),IF($I9=\"\",\"\",IF(AND(DH$6>=$I9,DH$6<=$J9),OFFSET(Calendrier!$K$3,MATCH(Prevision!$F9,Calendrier!$A$4:$A$20,0),COLUMN()-COLUMN($K:$K)),\"\")),\"\")","v":""},{"$f":"IF(AND($H9<>\"OUI\",$G9>$G$5),IF($I9=\"\",\"\",IF(AND(DI$6>=$I9,DI$6<=$J9),OFFSET(Calendrier!$K$3,MATCH(Prevision!$F9,Calendrier!$A$4:$A$20,0),COLUMN()-COLUMN($K:$K)),\"\")),\"\")","v":""},{"$f":"IF(AND($H9<>\"OUI\",$G9>$G$5),IF($I9=\"\",\"\",IF(AND(DJ$6>=$I9,DJ$6<=$J9),OFFSET(Calendrier!$K$3,MATCH(Prevision!$F9,Calendrier!$A$4:$A$20,0),COLUMN()-COLUMN($K:$K)),\"\")),\"\")","v":""},{"$f":"IF(AND($H9<>\"OUI\",$G9>$G$5),IF($I9=\"\",\"\",IF(AND(DK$6>=$I9,DK$6<=$J9),OFFSET(Calendrier!$K$3,MATCH(Prevision!$F9,Calendrier!$A$4:$A$20,0),COLUMN()-COLUMN($K:$K)),\"\")),\"\")","v":""},{"$f":"IF(AND($H9<>\"OUI\",$G9>$G$5),IF($I9=\"\",\"\",IF(AND(DL$6>=$I9,DL$6<=$J9),OFFSET(Calendrier!$K$3,MATCH(Prevision!$F9,Calendrier!$A$4:$A$20,0),COLUMN()-COLUMN($K:$K)),\"\")),\"\")","v":""},{"$f":"IF(AND($H9<>\"OUI\",$G9>$G$5),IF($I9=\"\",\"\",IF(AND(DM$6>=$I9,DM$6<=$J9),OFFSET(Calendrier!$K$3,MATCH(Prevision!$F9,Calendrier!$A$4:$A$20,0),COLUMN()-COLUMN($K:$K)),\"\")),\"\")","v":""},{"$f":"IF(AND($H9<>\"OUI\",$G9>$G$5),IF($I9=\"\",\"\",IF(AND(DN$6>=$I9,DN$6<=$J9),OFFSET(Calendrier!$K$3,MATCH(Prevision!$F9,Calendrier!$A$4:$A$20,0),COLUMN()-COLUMN($K:$K)),\"\")),\"\")","v":""},{"$f":"IF(AND($H9<>\"OUI\",$G9>$G$5),IF($I9=\"\",\"\",IF(AND(DO$6>=$I9,DO$6<=$J9),OFFSET(Calendrier!$K$3,MATCH(Prevision!$F9,Calendrier!$A$4:$A$20,0),COLUMN()-COLUMN($K:$K)),\"\")),\"\")","v":""},{"$f":"IF(AND($H9<>\"OUI\",$G9>$G$5),IF($I9=\"\",\"\",IF(AND(DP$6>=$I9,DP$6<=$J9),OFFSET(Calendrier!$K$3,MATCH(Prevision!$F9,Calendrier!$A$4:$A$20,0),COLUMN()-COLUMN($K:$K)),\"\")),\"\")","v":""},{"$f":"IF(AND($H9<>\"OUI\",$G9>$G$5),IF($I9=\"\",\"\",IF(AND(DQ$6>=$I9,DQ$6<=$J9),OFFSET(Calendrier!$K$3,MATCH(Prevision!$F9,Calendrier!$A$4:$A$20,0),COLUMN()-COLUMN($K:$K)),\"\")),\"\")","v":""},{"$f":"IF(AND($H9<>\"OUI\",$G9>$G$5),IF($I9=\"\",\"\",IF(AND(DR$6>=$I9,DR$6<=$J9),OFFSET(Calendrier!$K$3,MATCH(Prevision!$F9,Calendrier!$A$4:$A$20,0),COLUMN()-COLUMN($K:$K)),\"\")),\"\")","v":""},{"$f":"IF(AND($H9<>\"OUI\",$G9>$G$5),IF($I9=\"\",\"\",IF(AND(DS$6>=$I9,DS$6<=$J9),OFFSET(Calendrier!$K$3,MATCH(Prevision!$F9,Calendrier!$A$4:$A$20,0),COLUMN()-COLUMN($K:$K)),\"\")),\"\")","v":""},{"$f":"IF(AND($H9<>\"OUI\",$G9>$G$5),IF($I9=\"\",\"\",IF(AND(DT$6>=$I9,DT$6<=$J9),OFFSET(Calendrier!$K$3,MATCH(Prevision!$F9,Calendrier!$A$4:$A$20,0),COLUMN()-COLUMN($K:$K)),\"\")),\"\")","v":""},{"$f":"IF(AND($H9<>\"OUI\",$G9>$G$5),IF($I9=\"\",\"\",IF(AND(DU$6>=$I9,DU$6<=$J9),OFFSET(Calendrier!$K$3,MATCH(Prevision!$F9,Calendrier!$A$4:$A$20,0),COLUMN()-COLUMN($K:$K)),\"\")),\"\")","v":""},{"$f":"IF(AND($H9<>\"OUI\",$G9>$G$5),IF($I9=\"\",\"\",IF(AND(DV$6>=$I9,DV$6<=$J9),OFFSET(Calendrier!$K$3,MATCH(Prevision!$F9,Calendrier!$A$4:$A$20,0),COLUMN()-COLUMN($K:$K)),\"\")),\"\")","v":""},{"$f":"IF(AND($H9<>\"OUI\",$G9>$G$5),IF($I9=\"\",\"\",IF(AND(DW$6>=$I9,DW$6<=$J9),OFFSET(Calendrier!$K$3,MATCH(Prevision!$F9,Calendrier!$A$4:$A$20,0),COLUMN()-COLUMN($K:$K)),\"\")),\"\")","v":""},{"$f":"IF(AND($H9<>\"OUI\",$G9>$G$5),IF($I9=\"\",\"\",IF(AND(DX$6>=$I9,DX$6<=$J9),OFFSET(Calendrier!$K$3,MATCH(Prevision!$F9,Calendrier!$A$4:$A$20,0),COLUMN()-COLUMN($K:$K)),\"\")),\"\")","v":""},{"$f":"IF(AND($H9<>\"OUI\",$G9>$G$5),IF($I9=\"\",\"\",IF(AND(DY$6>=$I9,DY$6<=$J9),OFFSET(Calendrier!$K$3,MATCH(Prevision!$F9,Calendrier!$A$4:$A$20,0),COLUMN()-COLUMN($K:$K)),\"\")),\"\")","v":""},{"$f":"IF(AND($H9<>\"OUI\",$G9>$G$5),IF($I9=\"\",\"\",IF(AND(DZ$6>=$I9,DZ$6<=$J9),OFFSET(Calendrier!$K$3,MATCH(Prevision!$F9,Calendrier!$A$4:$A$20,0),COLUMN()-COLUMN($K:$K)),\"\")),\"\")","v":""}]
[null,{"$f":"IF(OFFSET('Besoin Interim'!$B$7,ROWS($B$8:$B10),0)=\"\",\"\",OFFSET('Besoin Interim'!$B$7,ROWS($B$8:$B10),0))","v":"INT_10"},{"$f":"IF($B10=\"\",\"\",OFFSET('Besoin Interim'!$B$7,ROWS($B$8:$B10),C$6))","v":"AGENT"},{"$f":"IF($B10=\"\",\"\",OFFSET('Besoin Interim'!$B$7,ROWS($B$8:$B10),D$6))","v":"ROSELYNE"},{"$f":"IF($B10=\"\",\"\",OFFSET('Besoin Interim'!$B$7,ROWS($B$8:$B10),E$6))","v":"FIXE MATIN"},{"$f":"IF($B10=\"\",\"\",OFFSET('Besoin Interim'!$B$7,ROWS($B$8:$B10),F$6))","v":"FM-C01"},{"$f":"IF($B10=\"\",\"\",OFFSET('Besoin Interim'!$B$7,ROWS($B$8:$B10),G$6))","v":"2019-01-09"},{"$f":"IF($B10=\"\",\"\",OFFSET('Besoin Interim'!$B$7,ROWS($B$8:$B10),H$6))","v":"NON"},{"$f":"IF($B10=\"\",\"\",OFFSET('Besoin Interim'!$B$7,ROWS($B$8:$B10),I$6))","v":"2019-01-09"},{"$f":"IF($B10=\"\",\"\",OFFSET('Besoin Interim'!$B$7,ROWS($B$8:$B10),J$6))","v":"2019-01-15"},{"$f":"IF(AND($H10<>\"OUI\",$G10>$G$5),IF($I10=\"\",\"\",IF(AND(K$6>=$I10,K$6<=$J10),OFFSET(Calendrier!$K$3,MATCH(Prevision!$F10,Calendrier!$A$4:$A$20,0),COLUMN()-COLUMN($K:$K)),\"\")),\"\")","v":""},{"$f":"IF(AND($H10<>\"OUI\",$G10>$G$5),IF($I10=\"\",\"\",IF(AND(L$6>=$I10,L$6<=$J10),OFFSET(Calendrier!$K$3,MATCH(Prevision!$F10,Calendrier!$A$4:$A$20,0),COLUMN()-COLUMN($K:$K)),\"\")),\"\")","v":""},{"$f":"IF(AND($H10<>\"OUI\",$G10>$G$5),IF($I10=\"\",\"\",IF(AND(M$6>=$I10,M$6<=$J10),OFFSET(Calendrier!$K$3,MATCH(Prevision!$F10,Calendrier!$A$4:$A$20,0),COLUMN()-COLUMN($K:$K)),\"\")),\"\")","v":""},{"$f":"IF(AND($H10<>\"OUI\",$G10>$G$5),IF($I10=\"\",\"\",IF(AND(N$6>=$I10,N$6<=$J10),OFFSET(Calendrier!$K$3,MATCH(Prevision!$F10,Calendrier!$A$4:$A$20,0),COLUMN()-COLUMN($K:$K)),\"\")),\"\")","v":""},{"$f":"IF(AND($H10<>\"OUI\",$G10>$G$5),IF($I10=\"\",\"\",IF(AND(O$6>=$I10,O$6<=$J10),OFFSET(Calendrier!$K$3,MATCH(Prevision!$F10,Calendrier!$A$4:$A$20,0),COLUMN()-COLUMN($K:$K)),\"\")),\"\")","v":""},{"$f":"IF(AND($H10<>\"OUI\",$G10>$G$5),IF($I10=\"\",\"\",IF(AND(P$6>=$I10,P$6<=$J10),OFFSET(Calendrier!$K$3,MATCH(Prevision!$F10,Calendrier!$A$4:$A$20,0),COLUMN()-COLUMN($K:$K)),\"\")),\"\")","v":""},{"$f":"IF(AND($H10<>\"OUI\",$G10>$G$5),IF($I10=\"\",\"\",IF(AND(Q$6>=$I10,Q$6<=$J10),OFFSET(Calendrier!$K$3,MATCH(Prevision!$F10,Calendrier!$A$4:$A$20,0),COLUMN()-COLUMN($K:$K)),\"\")),\"\")","v":""},{"$f":"IF(AND($H10<>\"OUI\",$G10>$G$5),IF($I10=\"\",\"\",IF(AND(R$6>=$I10,R$6<=$J10),OFFSET(Calendrier!$K$3,MATCH(Prevision!$F10,Calendrier!$A$4:$A$20,0),COLUMN()-COLUMN($K:$K)),\"\")),\"\")","v":""},{"$f":"IF(AND($H10<>\"OUI\",$G10>$G$5),IF($I10=\"\",\"\",IF(AND(S$6>=$I10,S$6<=$J10),OFFSET(Calendrier!$K$3,MATCH(Prevision!$F10,Calendrier!$A$4:$A$20,0),COLUMN()-COLUMN($K:$K)),\"\")),\"\")","v":""},{"$f":"IF(AND($H10<>\"OUI\",$G10>$G$5),IF($I10=\"\",\"\",IF(AND(T$6>=$I10,T$6<=$J10),OFFSET(Calendrier!$K$3,MATCH(Prevision!$F10,Calendrier!$A$4:$A$20,0),COLUMN()-COLUMN($K:$K)),\"\")),\"\")","v":""},{"$f":"IF(AND($H10<>\"OUI\",$G10>$G$5),IF($I10=\"\",\"\",IF(AND(U$6>=$I10,U$6<=$J10),OFFSET(Calendrier!$K$3,MATCH(Prevision!$F10,Calendrier!$A$4:$A$20,0),COLUMN()-COLUMN($K:$K)),\"\")),\"\")","v":""},{"$f":"IF(AND($H10<>\"OUI\",$G10>$G$5),IF($I10=\"\",\"\",IF(AND(V$6>=$I10,V$6<=$J10),OFFSET(Calendrier!$K$3,MATCH(Prevision!$F10,Calendrier!$A$4:$A$20,0),COLUMN()-COLUMN($K:$K)),\"\")),\"\")","v":""},{"$f":"IF(AND($H10<>\"OUI\",$G10>$G$5),IF($I10=\"\",\"\",IF(AND(W$6>=$I10,W$6<=$J10),OFFSET(Calendrier!$K$3,MATCH(Prevision!$F10,Calendrier!$A$4:$A$20,0),COLUMN()-COLUMN($K:$K)),\"\")),\"\")","v":""},{"$f":"IF(AND($H10<>\"OUI\",$G10>$G$5),IF($I10=\"\",\"\",IF(AND(X$6>=$I10,X$6<=$J10),OFFSET(Calendrier!$K$3,MATCH(Prevision!$F10,Calendrier!$A$4:$A$20,0),COLUMN()-COLUMN($K:$K)),\"\")),\"\")","v":""},{"$f":"IF(AND($H10<>\"OUI\",$G10>$G$5),IF($I10=\"\",\"\",IF(AND(Y$6>=$I10,Y$6<=$J10),OFFSET(Calendrier!$K$3,MATCH(Prevision!$F10,Calendrier!$A$4:$A$20,0),COLUMN()-COLUMN($K:$K)),\"\")),\"\")","v":""},{"$f":"IF(AND($H10<>\"OUI\",$G10>$G$5),IF($I10=\"\",\"\",IF(AND(Z$6>=$I10,Z$6<=$J10),OFFSET(Calendrier!$K$3,MATCH(Prevision!$F10,Calendrier!$A$4:$A$20,0),COLUMN()-COLUMN($K:$K)),\"\")),\"\")","v":""},{"$f":"IF(AND($H10<>\"OUI\",$G10>$G$5),IF($I10=\"\",\"\",IF(AND(AA$6>=$I10,AA$6<=$J10),OFFSET(Calendrier!$K$3,MATCH(Prevision!$F10,Calendrier!$A$4:$A$20,0),COLUMN()-COLUMN($K:$K)),\"\")),\"\")","v":""},{"$f":"IF(AND($H10<>\"OUI\",$G10>$G$5),IF($I10=\"\",\"\",IF(AND(AB$6>=$I10,AB$6<=$J10),OFFSET(Calendrier!$K$3,MATCH(Prevision!$F10,Calendrier!$A$4:$A$20,0),COLUMN()-COLUMN($K:$K)),\"\")),\"\")","v":""},{"$f":"IF(AND($H10<>\"OUI\",$G10>$G$5),IF($I10=\"\",\"\",IF(AND(AC$6>=$I10,AC$6<=$J10),OFFSET(Calendrier!$K$3,MATCH(Prevision!$F10,Calendrier!$A$4:$A$20,0),COLUMN()-COLUMN($K:$K)),\"\")),\"\")","v":""},{"$f":"IF(AND($H10<>\"OUI\",$G10>$G$5),IF($I10=\"\",\"\",IF(AND(AD$6>=$I10,AD$6<=$J10),OFFSET(Calendrier!$K$3,MATCH(Prevision!$F10,Calendrier!$A$4:$A$20,0),COLUMN()-COLUMN($K:$K)),\"\")),\"\")","v":""},{"$f":"IF(AND($H10<>\"OUI\",$G10>$G$5),IF($I10=\"\",\"\",IF(AND(AE$6>=$I10,AE$6<=$J10),OFFSET(Calendrier!$K$3,MATCH(Prevision!$F10,Calendrier!$A$4:$A$20,0),COLUMN()-COLUMN($K:$K)),\"\")),\"\")","v":""},{"$f":"IF(AND($H10<>\"OUI\",$G10>$G$5),IF($I10=\"\",\"\",IF(AND(AF$6>=$I10,AF$6<=$J10),OFFSET(Calendrier!$K$3,MATCH(Prevision!$F10,Calendrier!$A$4:$A$20,0),COLUMN()-COLUMN($K:$K)),\"\")),\"\")","v":""},{"$f":"IF(AND($H10<>\"OUI\",$G10>$G$5),IF($I10=\"\",\"\",IF(AND(AG$6>=$I10,AG$6<=$J10),OFFSET(Calendrier!$K$3,MATCH(Prevision!$F10,Calendrier!$A$4:$A$20,0),COLUMN()-COLUMN($K:$K)),\"\")),\"\")","v":""},{"$f":"IF(AND($H10<>\"OUI\",$G10>$G$5),IF($I10=\"\",\"\",IF(AND(AH$6>=$I10,AH$6<=$J10),OFFSET(Calendrier!$K$3,MATCH(Prevision!$F10,Calendrier!$A$4:$A$20,0),COLUMN()-COLUMN($K:$K)),\"\")),\"\")","v":""},{"$f":"IF(AND($H10<>\"OUI\",$G10>$G$5),IF($I10=\"\",\"\",IF(AND(AI$6>=$I10,AI$6<=$J10),OFFSET(Calendrier!$K$3,MATCH(Prevision!$F10,Calendrier!$A$4:$A$20,0),COLUMN()-COLUMN($K:$K)),\"\")),\"\")","v":""},{"$f":"IF(AND($H10<>\"OUI\",$G10>$G$5),IF($I10=\"\",\"\",IF(AND(AJ$6>=$I10,AJ$6<=$J10),OFFSET(Calendrier!$K$3,MATCH(Prevision!$F10,Calendrier!$A$4:$A$20,0),COLUMN()-COLUMN($K:$K)),\"\")),\"\")","v":""},{"$f":"IF(AND($H10<>\"OUI\",$G10>$G$5),IF($I10=\"\",\"\",IF(AND(AK$6>=$I10,AK$6<=$J10),OFFSET(Calendrier!$K$3,MATCH(Prevision!$F10,Calendrier!$A$4:$A$20,0),COLUMN()-COLUMN($K:$K)),\"\")),\"\")","v":""},{"$f":"IF(AND($H10<>\"OUI\",$G10>$G$5),IF($I10=\"\",\"\",IF(AND(AL$6>=$I10,AL$6<=$J10),OFFSET(Calendrier!$K$3,MATCH(Prevision!$F10,Calendrier!$A$4:$A$20,0),COLUMN()-COLUMN($K:$K)),\"\")),\"\")","v":""},{"$f":"IF(AND($H10<>\"OUI\",$G10>$G$5),IF($I10=\"\",\"\",IF(AND(AM$6>=$I10,AM$6<=$J10),OFFSET(Calendrier!$K$3,MATCH(Prevision!$F10,Calendrier!$A$4:$A$20,0),COLUMN()-COLUMN($K:$K)),\"\")),\"\")","v":""},{"$f":"IF(AND($H10<>\"OUI\",$G10>$G$5),IF($I10=\"\",\"\",IF(AND(AN$6>=$I10,AN$6<=$J10),OFFSET(Calendrier!$K$3,MATCH(Prevision!$F10,Calendrier!$A$4:$A$20,0),COLUMN()-COLUMN($K:$K)),\"\")),\"\")","v":""},{"$f":"IF(AND($H10<>\"OUI\",$G10>$G$5),IF($I10=\"\",\"\",IF(AND(AO$6>=$I10,AO$6<=$J10),OFFSET(Calendrier!$K$3,MATCH(Prevision!$F10,Calendrier!$A$4:$A$20,0),COLUMN()-COLUMN($K:$K)),\"\")),\"\")","v":""},{"$f":"IF(AND($H10<>\"OUI\",$G10>$G$5),IF($I10=\"\",\"\",IF(AND(AP$6>=$I10,AP$6<=$J10),OFFSET(Calendrier!$K$3,MATCH(Prevision!$F10,Calendrier!$A$4:$A$20,0),COLUMN()-COLUMN($K:$K)),\"\")),\"\")","v":""},{"$f":"IF(AND($H10<>\"OUI\",$G10>$G$5),IF($I10=\"\",\"\",IF(AND(AQ$6>=$I10,AQ$6<=$J10),OFFSET(Calendrier!$K$3,MATCH(Prevision!$F10,Calendrier!$A$4:$A$20,0),COLUMN()-COLUMN($K:$K)),\"\")),\"\")","v":""},{"$f":"IF(AND($H10<>\"OUI\",$G10>$G$5),IF($I10=\"\",\"\",IF(AND(AR$6>=$I10,AR$6<=$J10),OFFSET(Calendrier!$K$3,MATCH(Prevision!$F10,Calendrier!$A$4:$A$20,0),COLUMN()-COLUMN($K:$K)),\"\")),\"\")","v":""},{"$f":"IF(AND($H10<>\"OUI\",$G10>$G$5),IF($I10=\"\",\"\",IF(AND(AS$6>=$I10,AS$6<=$J10),OFFSET(Calendrier!$K$3,MATCH(Prevision!$F10,Calendrier!$A$4:$A$20,0),COLUMN()-COLUMN($K:$K)),\"\")),\"\")","v":""},{"$f":"IF(AND($H10<>\"OUI\",$G10>$G$5),IF($I10=\"\",\"\",IF(AND(AT$6>=$I10,AT$6<=$J10),OFFSET(Calendrier!$K$3,MATCH(Prevision!$F10,Calendrier!$A$4:$A$20,0),COLUMN()-COLUMN($K:$K)),\"\")),\"\")","v":""},{"$f":"IF(AND($H10<>\"OUI\",$G10>$G$5),IF($I10=\"\",\"\",IF(AND(AU$6>=$I10,AU$6<=$J10),OFFSET(Calendrier!$K$3,MATCH(Prevision!$F10,Calendrier!$A$4:$A$20,0),COLUMN()-COLUMN($K:$K)),\"\")),\"\")","v":""},{"$f":"IF(AND($H10<>\"OUI\",$G10>$G$5),IF($I10=\"\",\"\",IF(AND(AV$6>=$I10,AV$6<=$J10),OFFSET(Calendrier!$K$3,MATCH(Prevision!$F10,Calendrier!$A$4:$A$20,0),COLUMN()-COLUMN($K:$K)),\"\")),\"\")","v":""},{"$f":"IF(AND($H10<>\"OUI\",$G10>$G$5),IF($I10=\"\",\"\",IF(AND(AW$6>=$I10,AW$6<=$J10),OFFSET(Calendrier!$K$3,MATCH(Prevision!$F10,Calendrier!$A$4:$A$20,0),COLUMN()-COLUMN($K:$K)),\"\")),\"\")","v":""},{"$f":"IF(AND($H10<>\"OUI\",$G10>$G$5),IF($I10=\"\",\"\",IF(AND(AX$6>=$I10,AX$6<=$J10),OFFSET(Calendrier!$K$3,MATCH(Prevision!$F10,Calendrier!$A$4:$A$20,0),COLUMN()-COLUMN($K:$K)),\"\")),\"\")","v":""},{"$f":"IF(AND($H10<>\"OUI\",$G10>$G$5),IF($I10=\"\",\"\",IF(AND(AY$6>=$I10,AY$6<=$J10),OFFSET(Calendrier!$K$3,MATCH(Prevision!$F10,Calendrier!$A$4:$A$20,0),COLUMN()-COLUMN($K:$K)),\"\")),\"\")","v":""},{"$f":"IF(AND($H10<>\"OUI\",$G10>$G$5),IF($I10=\"\",\"\",IF(AND(AZ$6>=$I10,AZ$6<=$J10),OFFSET(Calendrier!$K$3,MATCH(Prevision!$F10,Calendrier!$A$4:$A$20,0),COLUMN()-COLUMN($K:$K)),\"\")),\"\")","v":""},{"$f":"IF(AND($H10<>\"OUI\",$G10>$G$5),IF($I10=\"\",\"\",IF(AND(BA$6>=$I10,BA$6<=$J10),OFFSET(Calendrier!$K$3,MATCH(Prevision!$F10,Calendrier!$A$4:$A$20,0),COLUMN()-COLUMN($K:$K)),\"\")),\"\")","v":""},{"$f":"IF(AND($H10<>\"OUI\",$G10>$G$5),IF($I10=\"\",\"\",IF(AND(BB$6>=$I10,BB$6<=$J10),OFFSET(Calendrier!$K$3,MATCH(Prevision!$F10,Calendrier!$A$4:$A$20,0),COLUMN()-COLUMN($K:$K)),\"\")),\"\")","v":""},{"$f":"IF(AND($H10<>\"OUI\",$G10>$G$5),IF($I10=\"\",\"\",IF(AND(BC$6>=$I10,BC$6<=$J10),OFFSET(Calendrier!$K$3,MATCH(Prevision!$F10,Calendrier!$A$4:$A$20,0),COLUMN()-COLUMN($K:$K)),\"\")),\"\")","v":""},{"$f":"IF(AND($H10<>\"OUI\",$G10>$G$5),IF($I10=\"\",\"\",IF(AND(BD$6>=$I10,BD$6<=$J10),OFFSET(Calendrier!$K$3,MATCH(Prevision!$F10,Calendrier!$A$4:$A$20,0),COLUMN()-COLUMN($K:$K)),\"\")),\"\")","v":""},{"$f":"IF(AND($H10<>\"OUI\",$G10>$G$5),IF($I10=\"\",\"\",IF(AND(BE$6>=$I10,BE$6<=$J10),OFFSET(Calendrier!$K$3,MATCH(Prevision!$F10,Calendrier!$A$4:$A$20,0),COLUMN()-COLUMN($K:$K)),\"\")),\"\")","v":""},{"$f":"IF(AND($H10<>\"OUI\",$G10>$G$5),IF($I10=\"\",\"\",IF(AND(BF$6>=$I10,BF$6<=$J10),OFFSET(Calendrier!$K$3,MATCH(Prevision!$F10,Calendrier!$A$4:$A$20,0),COLUMN()-COLUMN($K:$K)),\"\")),\"\")","v":""},{"$f":"IF(AND($H10<>\"OUI\",$G10>$G$5),IF($I10=\"\",\"\",IF(AND(BG$6>=$I10,BG$6<=$J10),OFFSET(Calendrier!$K$3,MATCH(Prevision!$F10,Calendrier!$A$4:$A$20,0),COLUMN()-COLUMN($K:$K)),\"\")),\"\")","v":""},{"$f":"IF(AND($H10<>\"OUI\",$G10>$G$5),IF($I10=\"\",\"\",IF(AND(BH$6>=$I10,BH$6<=$J10),OFFSET(Calendrier!$K$3,MATCH(Prevision!$F10,Calendrier!$A$4:$A$20,0),COLUMN()-COLUMN($K:$K)),\"\")),\"\")","v":""},{"$f":"IF(AND($H10<>\"OUI\",$G10>$G$5),IF($I10=\"\",\"\",IF(AND(BI$6>=$I10,BI$6<=$J10),OFFSET(Calendrier!$K$3,MATCH(Prevision!$F10,Calendrier!$A$4:$A$20,0),COLUMN()-COLUMN($K:$K)),\"\")),\"\")","v":""},{"$f":"IF(AND($H10<>\"OUI\",$G10>$G$5),IF($I10=\"\",\"\",IF(AND(BJ$6>=$I10,BJ$6<=$J10),OFFSET(Calendrier!$K$3,MATCH(Prevision!$F10,Calendrier!$A$4:$A$20,0),COLUMN()-COLUMN($K:$K)),\"\")),\"\")","v":""},{"$f":"IF(AND($H10<>\"OUI\",$G10>$G$5),IF($I10=\"\",\"\",IF(AND(BK$6>=$I10,BK$6<=$J10),OFFSET(Calendrier!$K$3,MATCH(Prevision!$F10,Calendrier!$A$4:$A$20,0),COLUMN()-COLUMN($K:$K)),\"\")),\"\")","v":""},{"$f":"IF(AND($H10<>\"OUI\",$G10>$G$5),IF($I10=\"\",\"\",IF(AND(BL$6>=$I10,BL$6<=$J10),OFFSET(Calendrier!$K$3,MATCH(Prevision!$F10,Calendrier!$A$4:$A$20,0),COLUMN()-COLUMN($K:$K)),\"\")),\"\")","v":""},{"$f":"IF(AND($H10<>\"OUI\",$G10>$G$5),IF($I10=\"\",\"\",IF(AND(BM$6>=$I10,BM$6<=$J10),OFFSET(Calendrier!$K$3,MATCH(Prevision!$F10,Calendrier!$A$4:$A$20,0),COLUMN()-COLUMN($K:$K)),\"\")),\"\")","v":""},{"$f":"IF(AND($H10<>\"OUI\",$G10>$G$5),IF($I10=\"\",\"\",IF(AND(BN$6>=$I10,BN$6<=$J10),OFFSET(Calendrier!$K$3,MATCH(Prevision!$F10,Calendrier!$A$4:$A$20,0),COLUMN()-COLUMN($K:$K)),\"\")),\"\")","v":""},{"$f":"IF(AND($H10<>\"OUI\",$G10>$G$5),IF($I10=\"\",\"\",IF(AND(BO$6>=$I10,BO$6<=$J10),OFFSET(Calendrier!$K$3,MATCH(Prevision!$F10,Calendrier!$A$4:$A$20,0),COLUMN()-COLUMN($K:$K)),\"\")),\"\")","v":""},{"$f":"IF(AND($H10<>\"OUI\",$G10>$G$5),IF($I10=\"\",\"\",IF(AND(BP$6>=$I10,BP$6<=$J10),OFFSET(Calendrier!$K$3,MATCH(Prevision!$F10,Calendrier!$A$4:$A$20,0),COLUMN()-COLUMN($K:$K)),\"\")),\"\")","v":""},{"$f":"IF(AND($H10<>\"OUI\",$G10>$G$5),IF($I10=\"\",\"\",IF(AND(BQ$6>=$I10,BQ$6<=$J10),OFFSET(Calendrier!$K$3,MATCH(Prevision!$F10,Calendrier!$A$4:$A$20,0),COLUMN()-COLUMN($K:$K)),\"\")),\"\")","v":""},{"$f":"IF(AND($H10<>\"OUI\",$G10>$G$5),IF($I10=\"\",\"\",IF(AND(BR$6>=$I10,BR$6<=$J10),OFFSET(Calendrier!$K$3,MATCH(Prevision!$F10,Calendrier!$A$4:$A$20,0),COLUMN()-COLUMN($K:$K)),\"\")),\"\")","v":""},{"$f":"IF(AND($H10<>\"OUI\",$G10>$G$5),IF($I10=\"\",\"\",IF(AND(BS$6>=$I10,BS$6<=$J10),OFFSET(Calendrier!$K$3,MATCH(Prevision!$F10,Calendrier!$A$4:$A$20,0),COLUMN()-COLUMN($K:$K)),\"\")),\"\")","v":""},{"$f":"IF(AND($H10<>\"OUI\",$G10>$G$5),IF($I10=\"\",\"\",IF(AND(BT$6>=$I10,BT$6<=$J10),OFFSET(Calendrier!$K$3,MATCH(Prevision!$F10,Calendrier!$A$4:$A$20,0),COLUMN()-COLUMN($K:$K)),\"\")),\"\")","v":""},{"$f":"IF(AND($H10<>\"OUI\",$G10>$G$5),IF($I10=\"\",\"\",IF(AND(BU$6>=$I10,BU$6<=$J10),OFFSET(Calendrier!$K$3,MATCH(Prevision!$F10,Calendrier!$A$4:$A$20,0),COLUMN()-COLUMN($K:$K)),\"\")),\"\")","v":""},{"$f":"IF(AND($H10<>\"OUI\",$G10>$G$5),IF($I10=\"\",\"\",IF(AND(BV$6>=$I10,BV$6<=$J10),OFFSET(Calendrier!$K$3,MATCH(Prevision!$F10,Calendrier!$A$4:$A$20,0),COLUMN()-COLUMN($K:$K)),\"\")),\"\")","v":""},{"$f":"IF(AND($H10<>\"OUI\",$G10>$G$5),IF($I10=\"\",\"\",IF(AND(BW$6>=$I10,BW$6<=$J10),OFFSET(Calendrier!$K$3,MATCH(Prevision!$F10,Calendrier!$A$4:$A$20,0),COLUMN()-COLUMN($K:$K)),\"\")),\"\")","v":""},{"$f":"IF(AND($H10<>\"OUI\",$G10>$G$5),IF($I10=\"\",\"\",IF(AND(BX$6>=$I10,BX$6<=$J10),OFFSET(Calendrier!$K$3,MATCH(Prevision!$F10,Calendrier!$A$4:$A$20,0),COLUMN()-COLUMN($K:$K)),\"\")),\"\")","v":""},{"$f":"IF(AND($H10<>\"OUI\",$G10>$G$5),IF($I10=\"\",\"\",IF(AND(BY$6>=$I10,BY$6<=$J10),OFFSET(Calendrier!$K$3,MATCH(Prevision!$F10,Calendrier!$A$4:$A$20,0),COLUMN()-COLUMN($K:$K)),\"\")),\"\")","v":""},{"$f":"IF(AND($H10<>\"OUI\",$G10>$G$5),IF($I10=\"\",\"\",IF(AND(BZ$6>=$I10,BZ$6<=$J10),OFFSET(Calendrier!$K$3,MATCH(Prevision!$F10,Calendrier!$A$4:$A$20,0),COLUMN()-COLUMN($K:$K)),\"\")),\"\")","v":""},{"$f":"IF(AND($H10<>\"OUI\",$G10>$G$5),IF($I10=\"\",\"\",IF(AND(CA$6>=$I10,CA$6<=$J10),OFFSET(Calendrier!$K$3,MATCH(Prevision!$F10,Calendrier!$A$4:$A$20,0),COLUMN()-COLUMN($K:$K)),\"\")),\"\")","v":""},{"$f":"IF(AND($H10<>\"OUI\",$G10>$G$5),IF($I10=\"\",\"\",IF(AND(CB$6>=$I10,CB$6<=$J10),OFFSET(Calendrier!$K$3,MATCH(Prevision!$F10,Calendrier!$A$4:$A$20,0),COLUMN()-COLUMN($K:$K)),\"\")),\"\")","v":""},{"$f":"IF(AND($H10<>\"OUI\",$G10>$G$5),IF($I10=\"\",\"\",IF(AND(CC$6>=$I10,CC$6<=$J10),OFFSET(Calendrier!$K$3,MATCH(Prevision!$F10,Calendrier!$A$4:$A$20,0),COLUMN()-COLUMN($K:$K)),\"\")),\"\")","v":""},{"$f":"IF(AND($H10<>\"OUI\",$G10>$G$5),IF($I10=\"\",\"\",IF(AND(CD$6>=$I10,CD$6<=$J10),OFFSET(Calendrier!$K$3,MATCH(Prevision!$F10,Calendrier!$A$4:$A$20,0),COLUMN()-COLUMN($K:$K)),\"\")),\"\")","v":""},{"$f":"IF(AND($H10<>\"OUI\",$G10>$G$5),IF($I10=\"\",\"\",IF(AND(CE$6>=$I10,CE$6<=$J10),OFFSET(Calendrier!$K$3,MATCH(Prevision!$F10,Calendrier!$A$4:$A$20,0),COLUMN()-COLUMN($K:$K)),\"\")),\"\")","v":""},{"$f":"IF(AND($H10<>\"OUI\",$G10>$G$5),IF($I10=\"\",\"\",IF(AND(CF$6>=$I10,CF$6<=$J10),OFFSET(Calendrier!$K$3,MATCH(Prevision!$F10,Calendrier!$A$4:$A$20,0),COLUMN()-COLUMN($K:$K)),\"\")),\"\")","v":""},{"$f":"IF(AND($H10<>\"OUI\",$G10>$G$5),IF($I10=\"\",\"\",IF(AND(CG$6>=$I10,CG$6<=$J10),OFFSET(Calendrier!$K$3,MATCH(Prevision!$F10,Calendrier!$A$4:$A$20,0),COLUMN()-COLUMN($K:$K)),\"\")),\"\")","v":""},{"$f":"IF(AND($H10<>\"OUI\",$G10>$G$5),IF($I10=\"\",\"\",IF(AND(CH$6>=$I10,CH$6<=$J10),OFFSET(Calendrier!$K$3,MATCH(Prevision!$F10,Calendrier!$A$4:$A$20,0),COLUMN()-COLUMN($K:$K)),\"\")),\"\")","v":""},{"$f":"IF(AND($H10<>\"OUI\",$G10>$G$5),IF($I10=\"\",\"\",IF(AND(CI$6>=$I10,CI$6<=$J10),OFFSET(Calendrier!$K$3,MATCH(Prevision!$F10,Calendrier!$A$4:$A$20,0),COLUMN()-COLUMN($K:$K)),\"\")),\"\")","v":""},{"$f":"IF(AND($H10<>\"OUI\",$G10>$G$5),IF($I10=\"\",\"\",IF(AND(CJ$6>=$I10,CJ$6<=$J10),OFFSET(Calendrier!$K$3,MATCH(Prevision!$F10,Calendrier!$A$4:$A$20,0),COLUMN()-COLUMN($K:$K)),\"\")),\"\")","v":""},{"$f":"IF(AND($H10<>\"OUI\",$G10>$G$5),IF($I10=\"\",\"\",IF(AND(CK$6>=$I10,CK$6<=$J10),OFFSET(Calendrier!$K$3,MATCH(Prevision!$F10,Calendrier!$A$4:$A$20,0),COLUMN()-COLUMN($K:$K)),\"\")),\"\")","v":""},{"$f":"IF(AND($H10<>\"OUI\",$G10>$G$5),IF($I10=\"\",\"\",IF(AND(CL$6>=$I10,CL$6<=$J10),OFFSET(Calendrier!$K$3,MATCH(Prevision!$F10,Calendrier!$A$4:$A$20,0),COLUMN()-COLUMN($K:$K)),\"\")),\"\")","v":""},{"$f":"IF(AND($H10<>\"OUI\",$G10>$G$5),IF($I10=\"\",\"\",IF(AND(CM$6>=$I10,CM$6<=$J10),OFFSET(Calendrier!$K$3,MATCH(Prevision!$F10,Calendrier!$A$4:$A$20,0),COLUMN()-COLUMN($K:$K)),\"\")),\"\")","v":""},{"$f":"IF(AND($H10<>\"OUI\",$G10>$G$5),IF($I10=\"\",\"\",IF(AND(CN$6>=$I10,CN$6<=$J10),OFFSET(Calendrier!$K$3,MATCH(Prevision!$F10,Calendrier!$A$4:$A$20,0),COLUMN()-COLUMN($K:$K)),\"\")),\"\")","v":""},{"$f":"IF(AND($H10<>\"OUI\",$G10>$G$5),IF($I10=\"\",\"\",IF(AND(CO$6>=$I10,CO$6<=$J10),OFFSET(Calendrier!$K$3,MATCH(Prevision!$F10,Calendrier!$A$4:$A$20,0),COLUMN()-COLUMN($K:$K)),\"\")),\"\")","v":""},{"$f":"IF(AND($H10<>\"OUI\",$G10>$G$5),IF($I10=\"\",\"\",IF(AND(CP$6>=$I10,CP$6<=$J10),OFFSET(Calendrier!$K$3,MATCH(Prevision!$F10,Calendrier!$A$4:$A$20,0),COLUMN()-COLUMN($K:$K)),\"\")),\"\")","v":""},{"$f":"IF(AND($H10<>\"OUI\",$G10>$G$5),IF($I10=\"\",\"\",IF(AND(CQ$6>=$I10,CQ$6<=$J10),OFFSET(Calendrier!$K$3,MATCH(Prevision!$F10,Calendrier!$A$4:$A$20,0),COLUMN()-COLUMN($K:$K)),\"\")),\"\")","v":""},{"$f":"IF(AND($H10<>\"OUI\",$G10>$G$5),IF($I10=\"\",\"\",IF(AND(CR$6>=$I10,CR$6<=$J10),OFFSET(Calendrier!$K$3,MATCH(Prevision!$F10,Calendrier!$A$4:$A$20,0),COLUMN()-COLUMN($K:$K)),\"\")),\"\")","v":""},{"$f":"IF(AND($H10<>\"OUI\",$G10>$G$5),IF($I10=\"\",\"\",IF(AND(CS$6>=$I10,CS$6<=$J10),OFFSET(Calendrier!$K$3,MATCH(Prevision!$F10,Calendrier!$A$4:$A$20,0),COLUMN()-COLUMN($K:$K)),\"\")),\"\")","v":""},{"$f":"IF(AND($H10<>\"OUI\",$G10>$G$5),IF($I10=\"\",\"\",IF(AND(CT$6>=$I10,CT$6<=$J10),OFFSET(Calendrier!$K$3,MATCH(Prevision!$F10,Calendrier!$A$4:$A$20,0),COLUMN()-COLUMN($K:$K)),\"\")),\"\")","v":""},{"$f":"IF(AND($H10<>\"OUI\",$G10>$G$5),IF($I10=\"\",\"\",IF(AND(CU$6>=$I10,CU$6<=$J10),OFFSET(Calendrier!$K$3,MATCH(Prevision!$F10,Calendrier!$A$4:$A$20,0),COLUMN()-COLUMN($K:$K)),\"\")),\"\")","v":""},{"$f":"IF(AND($H10<>\"OUI\",$G10>$G$5),IF($I10=\"\",\"\",IF(AND(CV$6>=$I10,CV$6<=$J10),OFFSET(Calendrier!$K$3,MATCH(Prevision!$F10,Calendrier!$A$4:$A$20,0),COLUMN()-COLUMN($K:$K)),\"\")),\"\")","v":""},{"$f":"IF(AND($H10<>\"OUI\",$G10>$G$5),IF($I10=\"\",\"\",IF(AND(CW$6>=$I10,CW$6<=$J10),OFFSET(Calendrier!$K$3,MATCH(Prevision!$F10,Calendrier!$A$4:$A$20,0),COLUMN()-COLUMN($K:$K)),\"\")),\"\")","v":""},{"$f":"IF(AND($H10<>\"OUI\",$G10>$G$5),IF($I10=\"\",\"\",IF(AND(CX$6>=$I10,CX$6<=$J10),OFFSET(Calendrier!$K$3,MATCH(Prevision!$F10,Calendrier!$A$4:$A$20,0),COLUMN()-COLUMN($K:$K)),\"\")),\"\")","v":""},{"$f":"IF(AND($H10<>\"OUI\",$G10>$G$5),IF($I10=\"\",\"\",IF(AND(CY$6>=$I10,CY$6<=$J10),OFFSET(Calendrier!$K$3,MATCH(Prevision!$F10,Calendrier!$A$4:$A$20,0),COLUMN()-COLUMN($K:$K)),\"\")),\"\")","v":""},{"$f":"IF(AND($H10<>\"OUI\",$G10>$G$5),IF($I10=\"\",\"\",IF(AND(CZ$6>=$I10,CZ$6<=$J10),OFFSET(Calendrier!$K$3,MATCH(Prevision!$F10,Calendrier!$A$4:$A$20,0),COLUMN()-COLUMN($K:$K)),\"\")),\"\")","v":""},{"$f":"IF(AND($H10<>\"OUI\",$G10>$G$5),IF($I10=\"\",\"\",IF(AND(DA$6>=$I10,DA$6<=$J10),OFFSET(Calendrier!$K$3,MATCH(Prevision!$F10,Calendrier!$A$4:$A$20,0),COLUMN()-COLUMN($K:$K)),\"\")),\"\")","v":""},{"$f":"IF(AND($H10<>\"OUI\",$G10>$G$5),IF($I10=\"\",\"\",IF(AND(DB$6>=$I10,DB$6<=$J10),OFFSET(Calendrier!$K$3,MATCH(Prevision!$F10,Calendrier!$A$4:$A$20,0),COLUMN()-COLUMN($K:$K)),\"\")),\"\")","v":""},{"$f":"IF(AND($H10<>\"OUI\",$G10>$G$5),IF($I10=\"\",\"\",IF(AND(DC$6>=$I10,DC$6<=$J10),OFFSET(Calendrier!$K$3,MATCH(Prevision!$F10,Calendrier!$A$4:$A$20,0),COLUMN()-COLUMN($K:$K)),\"\")),\"\")","v":""},{"$f":"IF(AND($H10<>\"OUI\",$G10>$G$5),IF($I10=\"\",\"\",IF(AND(DD$6>=$I10,DD$6<=$J10),OFFSET(Calendrier!$K$3,MATCH(Prevision!$F10,Calendrier!$A$4:$A$20,0),COLUMN()-COLUMN($K:$K)),\"\")),\"\")","v":""},{"$f":"IF(AND($H10<>\"OUI\",$G10>$G$5),IF($I10=\"\",\"\",IF(AND(DE$6>=$I10,DE$6<=$J10),OFFSET(Calendrier!$K$3,MATCH(Prevision!$F10,Calendrier!$A$4:$A$20,0),COLUMN()-COLUMN($K:$K)),\"\")),\"\")","v":""},{"$f":"IF(AND($H10<>\"OUI\",$G10>$G$5),IF($I10=\"\",\"\",IF(AND(DF$6>=$I10,DF$6<=$J10),OFFSET(Calendrier!$K$3,MATCH(Prevision!$F10,Calendrier!$A$4:$A$20,0),COLUMN()-COLUMN($K:$K)),\"\")),\"\")","v":""},{"$f":"IF(AND($H10<>\"OUI\",$G10>$G$5),IF($I10=\"\",\"\",IF(AND(DG$6>=$I10,DG$6<=$J10),OFFSET(Calendrier!$K$3,MATCH(Prevision!$F10,Calendrier!$A$4:$A$20,0),COLUMN()-COLUMN($K:$K)),\"\")),\"\")","v":""},{"$f":"IF(AND($H10<>\"OUI\",$G10>$G$5),IF($I10=\"\",\"\",IF(AND(DH$6>=$I10,DH$6<=$J10),OFFSET(Calendrier!$K$3,MATCH(Prevision!$F10,Calendrier!$A$4:$A$20,0),COLUMN()-COLUMN($K:$K)),\"\")),\"\")","v":""},{"$f":"IF(AND($H10<>\"OUI\",$G10>$G$5),IF($I10=\"\",\"\",IF(AND(DI$6>=$I10,DI$6<=$J10),OFFSET(Calendrier!$K$3,MATCH(Prevision!$F10,Calendrier!$A$4:$A$20,0),COLUMN()-COLUMN($K:$K)),\"\")),\"\")","v":""},{"$f":"IF(AND($H10<>\"OUI\",$G10>$G$5),IF($I10=\"\",\"\",IF(AND(DJ$6>=$I10,DJ$6<=$J10),OFFSET(Calendrier!$K$3,MATCH(Prevision!$F10,Calendrier!$A$4:$A$20,0),COLUMN()-COLUMN($K:$K)),\"\")),\"\")","v":""},{"$f":"IF(AND($H10<>\"OUI\",$G10>$G$5),IF($I10=\"\",\"\",IF(AND(DK$6>=$I10,DK$6<=$J10),OFFSET(Calendrier!$K$3,MATCH(Prevision!$F10,Calendrier!$A$4:$A$20,0),COLUMN()-COLUMN($K:$K)),\"\")),\"\")","v":""},{"$f":"IF(AND($H10<>\"OUI\",$G10>$G$5),IF($I10=\"\",\"\",IF(AND(DL$6>=$I10,DL$6<=$J10),OFFSET(Calendrier!$K$3,MATCH(Prevision!$F10,Calendrier!$A$4:$A$20,0),COLUMN()-COLUMN($K:$K)),\"\")),\"\")","v":""},{"$f":"IF(AND($H10<>\"OUI\",$G10>$G$5),IF($I10=\"\",\"\",IF(AND(DM$6>=$I10,DM$6<=$J10),OFFSET(Calendrier!$K$3,MATCH(Prevision!$F10,Calendrier!$A$4:$A$20,0),COLUMN()-COLUMN($K:$K)),\"\")),\"\")","v":""},{"$f":"IF(AND($H10<>\"OUI\",$G10>$G$5),IF($I10=\"\",\"\",IF(AND(DN$6>=$I10,DN$6<=$J10),OFFSET(Calendrier!$K$3,MATCH(Prevision!$F10,Calendrier!$A$4:$A$20,0),COLUMN()-COLUMN($K:$K)),\"\")),\"\")","v":""},{"$f":"IF(AND($H10<>\"OUI\",$G10>$G$5),IF($I10=\"\",\"\",IF(AND(DO$6>=$I10,DO$6<=$J10),OFFSET(Calendrier!$K$3,MATCH(Prevision!$F10,Calendrier!$A$4:$A$20,0),COLUMN()-COLUMN($K:$K)),\"\")),\"\")","v":""},{"$f":"IF(AND($H10<>\"OUI\",$G10>$G$5),IF($I10=\"\",\"\",IF(AND(DP$6>=$I10,DP$6<=$J10),OFFSET(Calendrier!$K$3,MATCH(Prevision!$F10,Calendrier!$A$4:$A$20,0),COLUMN()-COLUMN($K:$K)),\"\")),\"\")","v":""},{"$f":"IF(AND($H10<>\"OUI\",$G10>$G$5),IF($I10=\"\",\"\",IF(AND(DQ$6>=$I10,DQ$6<=$J10),OFFSET(Calendrier!$K$3,MATCH(Prevision!$F10,Calendrier!$A$4:$A$20,0),COLUMN()-COLUMN($K:$K)),\"\")),\"\")","v":""},{"$f":"IF(AND($H10<>\"OUI\",$G10>$G$5),IF($I10=\"\",\"\",IF(AND(DR$6>=$I10,DR$6<=$J10),OFFSET(Calendrier!$K$3,MATCH(Prevision!$F10,Calendrier!$A$4:$A$20,0),COLUMN()-COLUMN($K:$K)),\"\")),\"\")","v":""},{"$f":"IF(AND($H10<>\"OUI\",$G10>$G$5),IF($I10=\"\",\"\",IF(AND(DS$6>=$I10,DS$6<=$J10),OFFSET(Calendrier!$K$3,MATCH(Prevision!$F10,Calendrier!$A$4:$A$20,0),COLUMN()-COLUMN($K:$K)),\"\")),\"\")","v":""},{"$f":"IF(AND($H10<>\"OUI\",$G10>$G$5),IF($I10=\"\",\"\",IF(AND(DT$6>=$I10,DT$6<=$J10),OFFSET(Calendrier!$K$3,MATCH(Prevision!$F10,Calendrier!$A$4:$A$20,0),COLUMN()-COLUMN($K:$K)),\"\")),\"\")","v":""},{"$f":"IF(AND($H10<>\"OUI\",$G10>$G$5),IF($I10=\"\",\"\",IF(AND(DU$6>=$I10,DU$6<=$J10),OFFSET(Calendrier!$K$3,MATCH(Prevision!$F10,Calendrier!$A$4:$A$20,0),COLUMN()-COLUMN($K:$K)),\"\")),\"\")","v":""},{"$f":"IF(AND($H10<>\"OUI\",$G10>$G$5),IF($I10=\"\",\"\",IF(AND(DV$6>=$I10,DV$6<=$J10),OFFSET(Calendrier!$K$3,MATCH(Prevision!$F10,Calendrier!$A$4:$A$20,0),COLUMN()-COLUMN($K:$K)),\"\")),\"\")","v":""},{"$f":"IF(AND($H10<>\"OUI\",$G10>$G$5),IF($I10=\"\",\"\",IF(AND(DW$6>=$I10,DW$6<=$J10),OFFSET(Calendrier!$K$3,MATCH(Prevision!$F10,Calendrier!$A$4:$A$20,0),COLUMN()-COLUMN($K:$K)),\"\")),\"\")","v":""},{"$f":"IF(AND($H10<>\"OUI\",$G10>$G$5),IF($I10=\"\",\"\",IF(AND(DX$6>=$I10,DX$6<=$J10),OFFSET(Calendrier!$K$3,MATCH(Prevision!$F10,Calendrier!$A$4:$A$20,0),COLUMN()-COLUMN($K:$K)),\"\")),\"\")","v":""},{"$f":"IF(AND($H10<>\"OUI\",$G10>$G$5),IF($I10=\"\",\"\",IF(AND(DY$6>=$I10,DY$6<=$J10),OFFSET(Calendrier!$K$3,MATCH(Prevision!$F10,Calendrier!$A$4:$A$20,0),COLUMN()-COLUMN($K:$K)),\"\")),\"\")","v":""},{"$f":"IF(AND($H10<>\"OUI\",$G10>$G$5),IF($I10=\"\",\"\",IF(AND(DZ$6>=$I10,DZ$6<=$J10),OFFSET(Calendrier!$K$3,MATCH(Prevision!$F10,Calendrier!$A$4:$A$20,0),COLUMN()-COLUMN($K:$K)),\"\")),\"\")","v":""}]
[null,{"$f":"IF(OFFSET('Besoin Interim'!$B$7,ROWS($B$8:$B11),0)=\"\",\"\",OFFSET('Besoin Interim'!$B$7,ROWS($B$8:$B11),0))","v":"INT_11"},{"$f":"IF($B11=\"\",\"\",OFFSET('Besoin Interim'!$B$7,ROWS($B$8:$B11),C$6))","v":"AGENT"},{"$f":"IF($B11=\"\",\"\",OFFSET('Besoin Interim'!$B$7,ROWS($B$8:$B11),D$6))","v":"VALENTIN"},{"$f":"IF($B11=\"\",\"\",OFFSET('Besoin Interim'!$B$7,ROWS($B$8:$B11),E$6))","v":"FIXE MATIN"},{"$f":"IF($B11=\"\",\"\",OFFSET('Besoin Interim'!$B$7,ROWS($B$8:$B11),F$6))","v":"FM-C01"},{"$f":"IF($B11=\"\",\"\",OFFSET('Besoin Interim'!$B$7,ROWS($B$8:$B11),G$6))","v":"2019-01-09"},{"$f":"IF($B11=\"\",\"\",OFFSET('Besoin Interim'!$B$7,ROWS($B$8:$B11),H$6))","v":"NON"},{"$f":"IF($B11=\"\",\"\",OFFSET('Besoin Interim'!$B$7,ROWS($B$8:$B11),I$6))","v":"2019-01-09"},{"$f":"IF($B11=\"\",\"\",OFFSET('Besoin Interim'!$B$7,ROWS($B$8:$B11),J$6))","v":"2019-01-15"},{"$f":"IF(AND($H11<>\"OUI\",$G11>$G$5),IF($I11=\"\",\"\",IF(AND(K$6>=$I11,K$6<=$J11),OFFSET(Calendrier!$K$3,MATCH(Prevision!$F11,Calendrier!$A$4:$A$20,0),COLUMN()-COLUMN($K:$K)),\"\")),\"\")","v":""},{"$f":"IF(AND($H11<>\"OUI\",$G11>$G$5),IF($I11=\"\",\"\",IF(AND(L$6>=$I11,L$6<=$J11),OFFSET(Calendrier!$K$3,MATCH(Prevision!$F11,Calendrier!$A$4:$A$20,0),COLUMN()-COLUMN($K:$K)),\"\")),\"\")","v":""},{"$f":"IF(AND($H11<>\"OUI\",$G11>$G$5),IF($I11=\"\",\"\",IF(AND(M$6>=$I11,M$6<=$J11),OFFSET(Calendrier!$K$3,MATCH(Prevision!$F11,Calendrier!$A$4:$A$20,0),COLUMN()-COLUMN($K:$K)),\"\")),\"\")","v":""},{"$f":"IF(AND($H11<>\"OUI\",$G11>$G$5),IF($I11=\"\",\"\",IF(AND(N$6>=$I11,N$6<=$J11),OFFSET(Calendrier!$K$3,MATCH(Prevision!$F11,Calendrier!$A$4:$A$20,0),COLUMN()-COLUMN($K:$K)),\"\")),\"\")","v":""},{"$f":"IF(AND($H11<>\"OUI\",$G11>$G$5),IF($I11=\"\",\"\",IF(AND(O$6>=$I11,O$6<=$J11),OFFSET(Calendrier!$K$3,MATCH(Prevision!$F11,Calendrier!$A$4:$A$20,0),COLUMN()-COLUMN($K:$K)),\"\")),\"\")","v":""},{"$f":"IF(AND($H11<>\"OUI\",$G11>$G$5),IF($I11=\"\",\"\",IF(AND(P$6>=$I11,P$6<=$J11),OFFSET(Calendrier!$K$3,MATCH(Prevision!$F11,Calendrier!$A$4:$A$20,0),COLUMN()-COLUMN($K:$K)),\"\")),\"\")","v":""},{"$f":"IF(AND($H11<>\"OUI\",$G11>$G$5),IF($I11=\"\",\"\",IF(AND(Q$6>=$I11,Q$6<=$J11),OFFSET(Calendrier!$K$3,MATCH(Prevision!$F11,Calendrier!$A$4:$A$20,0),COLUMN()-COLUMN($K:$K)),\"\")),\"\")","v":""},{"$f":"IF(AND($H11<>\"OUI\",$G11>$G$5),IF($I11=\"\",\"\",IF(AND(R$6>=$I11,R$6<=$J11),OFFSET(Calendrier!$K$3,MATCH(Prevision!$F11,Calendrier!$A$4:$A$20,0),COLUMN()-COLUMN($K:$K)),\"\")),\"\")","v":""},{"$f":"IF(AND($H11<>\"OUI\",$G11>$G$5),IF($I11=\"\",\"\",IF(AND(S$6>=$I11,S$6<=$J11),OFFSET(Calendrier!$K$3,MATCH(Prevision!$F11,Calendrier!$A$4:$A$20,0),COLUMN()-COLUMN($K:$K)),\"\")),\"\")","v":""},{"$f":"IF(AND($H11<>\"OUI\",$G11>$G$5),IF($I11=\"\",\"\",IF(AND(T$6>=$I11,T$6<=$J11),OFFSET(Calendrier!$K$3,MATCH(Prevision!$F11,Calendrier!$A$4:$A$20,0),COLUMN()-COLUMN($K:$K)),\"\")),\"\")","v":""},{"$f":"IF(AND($H11<>\"OUI\",$G11>$G$5),IF($I11=\"\",\"\",IF(AND(U$6>=$I11,U$6<=$J11),OFFSET(Calendrier!$K$3,MATCH(Prevision!$F11,Calendrier!$A$4:$A$20,0),COLUMN()-COLUMN($K:$K)),\"\")),\"\")","v":""},{"$f":"IF(AND($H11<>\"OUI\",$G11>$G$5),IF($I11=\"\",\"\",IF(AND(V$6>=$I11,V$6<=$J11),OFFSET(Calendrier!$K$3,MATCH(Prevision!$F11,Calendrier!$A$4:$A$20,0),COLUMN()-COLUMN($K:$K)),\"\")),\"\")","v":""},{"$f":"IF(AND($H11<>\"OUI\",$G11>$G$5),IF($I11=\"\",\"\",IF(AND(W$6>=$I11,W$6<=$J11),OFFSET(Calendrier!$K$3,MATCH(Prevision!$F11,Calendrier!$A$4:$A$20,0),COLUMN()-COLUMN($K:$K)),\"\")),\"\")","v":""},{"$f":"IF(AND($H11<>\"OUI\",$G11>$G$5),IF($I11=\"\",\"\",IF(AND(X$6>=$I11,X$6<=$J11),OFFSET(Calendrier!$K$3,MATCH(Prevision!$F11,Calendrier!$A$4:$A$20,0),COLUMN()-COLUMN($K:$K)),\"\")),\"\")","v":""},{"$f":"IF(AND($H11<>\"OUI\",$G11>$G$5),IF($I11=\"\",\"\",IF(AND(Y$6>=$I11,Y$6<=$J11),OFFSET(Calendrier!$K$3,MATCH(Prevision!$F11,Calendrier!$A$4:$A$20,0),COLUMN()-COLUMN($K:$K)),\"\")),\"\")","v":""},{"$f":"IF(AND($H11<>\"OUI\",$G11>$G$5),IF($I11=\"\",\"\",IF(AND(Z$6>=$I11,Z$6<=$J11),OFFSET(Calendrier!$K$3,MATCH(Prevision!$F11,Calendrier!$A$4:$A$20,0),COLUMN()-COLUMN($K:$K)),\"\")),\"\")","v":""},{"$f":"IF(AND($H11<>\"OUI\",$G11>$G$5),IF($I11=\"\",\"\",IF(AND(AA$6>=$I11,AA$6<=$J11),OFFSET(Calendrier!$K$3,MATCH(Prevision!$F11,Calendrier!$A$4:$A$20,0),COLUMN()-COLUMN($K:$K)),\"\")),\"\")","v":""},{"$f":"IF(AND($H11<>\"OUI\",$G11>$G$5),IF($I11=\"\",\"\",IF(AND(AB$6>=$I11,AB$6<=$J11),OFFSET(Calendrier!$K$3,MATCH(Prevision!$F11,Calendrier!$A$4:$A$20,0),COLUMN()-COLUMN($K:$K)),\"\")),\"\")","v":""},{"$f":"IF(AND($H11<>\"OUI\",$G11>$G$5),IF($I11=\"\",\"\",IF(AND(AC$6>=$I11,AC$6<=$J11),OFFSET(Calendrier!$K$3,MATCH(Prevision!$F11,Calendrier!$A$4:$A$20,0),COLUMN()-COLUMN($K:$K)),\"\")),\"\")","v":""},{"$f":"IF(AND($H11<>\"OUI\",$G11>$G$5),IF($I11=\"\",\"\",IF(AND(AD$6>=$I11,AD$6<=$J11),OFFSET(Calendrier!$K$3,MATCH(Prevision!$F11,Calendrier!$A$4:$A$20,0),COLUMN()-COLUMN($K:$K)),\"\")),\"\")","v":""},{"$f":"IF(AND($H11<>\"OUI\",$G11>$G$5),IF($I11=\"\",\"\",IF(AND(AE$6>=$I11,AE$6<=$J11),OFFSET(Calendrier!$K$3,MATCH(Prevision!$F11,Calendrier!$A$4:$A$20,0),COLUMN()-COLUMN($K:$K)),\"\")),\"\")","v":""},{"$f":"IF(AND($H11<>\"OUI\",$G11>$G$5),IF($I11=\"\",\"\",IF(AND(AF$6>=$I11,AF$6<=$J11),OFFSET(Calendrier!$K$3,MATCH(Prevision!$F11,Calendrier!$A$4:$A$20,0),COLUMN()-COLUMN($K:$K)),\"\")),\"\")","v":""},{"$f":"IF(AND($H11<>\"OUI\",$G11>$G$5),IF($I11=\"\",\"\",IF(AND(AG$6>=$I11,AG$6<=$J11),OFFSET(Calendrier!$K$3,MATCH(Prevision!$F11,Calendrier!$A$4:$A$20,0),COLUMN()-COLUMN($K:$K)),\"\")),\"\")","v":""},{"$f":"IF(AND($H11<>\"OUI\",$G11>$G$5),IF($I11=\"\",\"\",IF(AND(AH$6>=$I11,AH$6<=$J11),OFFSET(Calendrier!$K$3,MATCH(Prevision!$F11,Calendrier!$A$4:$A$20,0),COLUMN()-COLUMN($K:$K)),\"\")),\"\")","v":""},{"$f":"IF(AND($H11<>\"OUI\",$G11>$G$5),IF($I11=\"\",\"\",IF(AND(AI$6>=$I11,AI$6<=$J11),OFFSET(Calendrier!$K$3,MATCH(Prevision!$F11,Calendrier!$A$4:$A$20,0),COLUMN()-COLUMN($K:$K)),\"\")),\"\")","v":""},{"$f":"IF(AND($H11<>\"OUI\",$G11>$G$5),IF($I11=\"\",\"\",IF(AND(AJ$6>=$I11,AJ$6<=$J11),OFFSET(Calendrier!$K$3,MATCH(Prevision!$F11,Calendrier!$A$4:$A$20,0),COLUMN()-COLUMN($K:$K)),\"\")),\"\")","v":""},{"$f":"IF(AND($H11<>\"OUI\",$G11>$G$5),IF($I11=\"\",\"\",IF(AND(AK$6>=$I11,AK$6<=$J11),OFFSET(Calendrier!$K$3,MATCH(Prevision!$F11,Calendrier!$A$4:$A$20,0),COLUMN()-COLUMN($K:$K)),\"\")),\"\")","v":""},{"$f":"IF(AND($H11<>\"OUI\",$G11>$G$5),IF($I11=\"\",\"\",IF(AND(AL$6>=$I11,AL$6<=$J11),OFFSET(Calendrier!$K$3,MATCH(Prevision!$F11,Calendrier!$A$4:$A$20,0),COLUMN()-COLUMN($K:$K)),\"\")),\"\")","v":""},{"$f":"IF(AND($H11<>\"OUI\",$G11>$G$5),IF($I11=\"\",\"\",IF(AND(AM$6>=$I11,AM$6<=$J11),OFFSET(Calendrier!$K$3,MATCH(Prevision!$F11,Calendrier!$A$4:$A$20,0),COLUMN()-COLUMN($K:$K)),\"\")),\"\")","v":""},{"$f":"IF(AND($H11<>\"OUI\",$G11>$G$5),IF($I11=\"\",\"\",IF(AND(AN$6>=$I11,AN$6<=$J11),OFFSET(Calendrier!$K$3,MATCH(Prevision!$F11,Calendrier!$A$4:$A$20,0),COLUMN()-COLUMN($K:$K)),\"\")),\"\")","v":""},{"$f":"IF(AND($H11<>\"OUI\",$G11>$G$5),IF($I11=\"\",\"\",IF(AND(AO$6>=$I11,AO$6<=$J11),OFFSET(Calendrier!$K$3,MATCH(Prevision!$F11,Calendrier!$A$4:$A$20,0),COLUMN()-COLUMN($K:$K)),\"\")),\"\")","v":""},{"$f":"IF(AND($H11<>\"OUI\",$G11>$G$5),IF($I11=\"\",\"\",IF(AND(AP$6>=$I11,AP$6<=$J11),OFFSET(Calendrier!$K$3,MATCH(Prevision!$F11,Calendrier!$A$4:$A$20,0),COLUMN()-COLUMN($K:$K)),\"\")),\"\")","v":""},{"$f":"IF(AND($H11<>\"OUI\",$G11>$G$5),IF($I11=\"\",\"\",IF(AND(AQ$6>=$I11,AQ$6<=$J11),OFFSET(Calendrier!$K$3,MATCH(Prevision!$F11,Calendrier!$A$4:$A$20,0),COLUMN()-COLUMN($K:$K)),\"\")),\"\")","v":""},{"$f":"IF(AND($H11<>\"OUI\",$G11>$G$5),IF($I11=\"\",\"\",IF(AND(AR$6>=$I11,AR$6<=$J11),OFFSET(Calendrier!$K$3,MATCH(Prevision!$F11,Calendrier!$A$4:$A$20,0),COLUMN()-COLUMN($K:$K)),\"\")),\"\")","v":""},{"$f":"IF(AND($H11<>\"OUI\",$G11>$G$5),IF($I11=\"\",\"\",IF(AND(AS$6>=$I11,AS$6<=$J11),OFFSET(Calendrier!$K$3,MATCH(Prevision!$F11,Calendrier!$A$4:$A$20,0),COLUMN()-COLUMN($K:$K)),\"\")),\"\")","v":""},{"$f":"IF(AND($H11<>\"OUI\",$G11>$G$5),IF($I11=\"\",\"\",IF(AND(AT$6>=$I11,AT$6<=$J11),OFFSET(Calendrier!$K$3,MATCH(Prevision!$F11,Calendrier!$A$4:$A$20,0),COLUMN()-COLUMN($K:$K)),\"\")),\"\")","v":""},{"$f":"IF(AND($H11<>\"OUI\",$G11>$G$5),IF($I11=\"\",\"\",IF(AND(AU$6>=$I11,AU$6<=$J11),OFFSET(Calendrier!$K$3,MATCH(Prevision!$F11,Calendrier!$A$4:$A$20,0),COLUMN()-COLUMN($K:$K)),\"\")),\"\")","v":""},{"$f":"IF(AND($H11<>\"OUI\",$G11>$G$5),IF($I11=\"\",\"\",IF(AND(AV$6>=$I11,AV$6<=$J11),OFFSET(Calendrier!$K$3,MATCH(Prevision!$F11,Calendrier!$A$4:$A$20,0),COLUMN()-COLUMN($K:$K)),\"\")),\"\")","v":""},{"$f":"IF(AND($H11<>\"OUI\",$G11>$G$5),IF($I11=\"\",\"\",IF(AND(AW$6>=$I11,AW$6<=$J11),OFFSET(Calendrier!$K$3,MATCH(Prevision!$F11,Calendrier!$A$4:$A$20,0),COLUMN()-COLUMN($K:$K)),\"\")),\"\")","v":""},{"$f":"IF(AND($H11<>\"OUI\",$G11>$G$5),IF($I11=\"\",\"\",IF(AND(AX$6>=$I11,AX$6<=$J11),OFFSET(Calendrier!$K$3,MATCH(Prevision!$F11,Calendrier!$A$4:$A$20,0),COLUMN()-COLUMN($K:$K)),\"\")),\"\")","v":""},{"$f":"IF(AND($H11<>\"OUI\",$G11>$G$5),IF($I11=\"\",\"\",IF(AND(AY$6>=$I11,AY$6<=$J11),OFFSET(Calendrier!$K$3,MATCH(Prevision!$F11,Calendrier!$A$4:$A$20,0),COLUMN()-COLUMN($K:$K)),\"\")),\"\")","v":""},{"$f":"IF(AND($H11<>\"OUI\",$G11>$G$5),IF($I11=\"\",\"\",IF(AND(AZ$6>=$I11,AZ$6<=$J11),OFFSET(Calendrier!$K$3,MATCH(Prevision!$F11,Calendrier!$A$4:$A$20,0),COLUMN()-COLUMN($K:$K)),\"\")),\"\")","v":""},{"$f":"IF(AND($H11<>\"OUI\",$G11>$G$5),IF($I11=\"\",\"\",IF(AND(BA$6>=$I11,BA$6<=$J11),OFFSET(Calendrier!$K$3,MATCH(Prevision!$F11,Calendrier!$A$4:$A$20,0),COLUMN()-COLUMN($K:$K)),\"\")),\"\")","v":""},{"$f":"IF(AND($H11<>\"OUI\",$G11>$G$5),IF($I11=\"\",\"\",IF(AND(BB$6>=$I11,BB$6<=$J11),OFFSET(Calendrier!$K$3,MATCH(Prevision!$F11,Calendrier!$A$4:$A$20,0),COLUMN()-COLUMN($K:$K)),\"\")),\"\")","v":""},{"$f":"IF(AND($H11<>\"OUI\",$G11>$G$5),IF($I11=\"\",\"\",IF(AND(BC$6>=$I11,BC$6<=$J11),OFFSET(Calendrier!$K$3,MATCH(Prevision!$F11,Calendrier!$A$4:$A$20,0),COLUMN()-COLUMN($K:$K)),\"\")),\"\")","v":""},{"$f":"IF(AND($H11<>\"OUI\",$G11>$G$5),IF($I11=\"\",\"\",IF(AND(BD$6>=$I11,BD$6<=$J11),OFFSET(Calendrier!$K$3,MATCH(Prevision!$F11,Calendrier!$A$4:$A$20,0),COLUMN()-COLUMN($K:$K)),\"\")),\"\")","v":""},{"$f":"IF(AND($H11<>\"OUI\",$G11>$G$5),IF($I11=\"\",\"\",IF(AND(BE$6>=$I11,BE$6<=$J11),OFFSET(Calendrier!$K$3,MATCH(Prevision!$F11,Calendrier!$A$4:$A$20,0),COLUMN()-COLUMN($K:$K)),\"\")),\"\")","v":""},{"$f":"IF(AND($H11<>\"OUI\",$G11>$G$5),IF($I11=\"\",\"\",IF(AND(BF$6>=$I11,BF$6<=$J11),OFFSET(Calendrier!$K$3,MATCH(Prevision!$F11,Calendrier!$A$4:$A$20,0),COLUMN()-COLUMN($K:$K)),\"\")),\"\")","v":""},{"$f":"IF(AND($H11<>\"OUI\",$G11>$G$5),IF($I11=\"\",\"\",IF(AND(BG$6>=$I11,BG$6<=$J11),OFFSET(Calendrier!$K$3,MATCH(Prevision!$F11,Calendrier!$A$4:$A$20,0),COLUMN()-COLUMN($K:$K)),\"\")),\"\")","v":""},{"$f":"IF(AND($H11<>\"OUI\",$G11>$G$5),IF($I11=\"\",\"\",IF(AND(BH$6>=$I11,BH$6<=$J11),OFFSET(Calendrier!$K$3,MATCH(Prevision!$F11,Calendrier!$A$4:$A$20,0),COLUMN()-COLUMN($K:$K)),\"\")),\"\")","v":""},{"$f":"IF(AND($H11<>\"OUI\",$G11>$G$5),IF($I11=\"\",\"\",IF(AND(BI$6>=$I11,BI$6<=$J11),OFFSET(Calendrier!$K$3,MATCH(Prevision!$F11,Calendrier!$A$4:$A$20,0),COLUMN()-COLUMN($K:$K)),\"\")),\"\")","v":""},{"$f":"IF(AND($H11<>\"OUI\",$G11>$G$5),IF($I11=\"\",\"\",IF(AND(BJ$6>=$I11,BJ$6<=$J11),OFFSET(Calendrier!$K$3,MATCH(Prevision!$F11,Calendrier!$A$4:$A$20,0),COLUMN()-COLUMN($K:$K)),\"\")),\"\")","v":""},{"$f":"IF(AND($H11<>\"OUI\",$G11>$G$5),IF($I11=\"\",\"\",IF(AND(BK$6>=$I11,BK$6<=$J11),OFFSET(Calendrier!$K$3,MATCH(Prevision!$F11,Calendrier!$A$4:$A$20,0),COLUMN()-COLUMN($K:$K)),\"\")),\"\")","v":""},{"$f":"IF(AND($H11<>\"OUI\",$G11>$G$5),IF($I11=\"\",\"\",IF(AND(BL$6>=$I11,BL$6<=$J11),OFFSET(Calendrier!$K$3,MATCH(Prevision!$F11,Calendrier!$A$4:$A$20,0),COLUMN()-COLUMN($K:$K)),\"\")),\"\")","v":""},{"$f":"IF(AND($H11<>\"OUI\",$G11>$G$5),IF($I11=\"\",\"\",IF(AND(BM$6>=$I11,BM$6<=$J11),OFFSET(Calendrier!$K$3,MATCH(Prevision!$F11,Calendrier!$A$4:$A$20,0),COLUMN()-COLUMN($K:$K)),\"\")),\"\")","v":""},{"$f":"IF(AND($H11<>\"OUI\",$G11>$G$5),IF($I11=\"\",\"\",IF(AND(BN$6>=$I11,BN$6<=$J11),OFFSET(Calendrier!$K$3,MATCH(Prevision!$F11,Calendrier!$A$4:$A$20,0),COLUMN()-COLUMN($K:$K)),\"\")),\"\")","v":""},{"$f":"IF(AND($H11<>\"OUI\",$G11>$G$5),IF($I11=\"\",\"\",IF(AND(BO$6>=$I11,BO$6<=$J11),OFFSET(Calendrier!$K$3,MATCH(Prevision!$F11,Calendrier!$A$4:$A$20,0),COLUMN()-COLUMN($K:$K)),\"\")),\"\")","v":""},{"$f":"IF(AND($H11<>\"OUI\",$G11>$G$5),IF($I11=\"\",\"\",IF(AND(BP$6>=$I11,BP$6<=$J11),OFFSET(Calendrier!$K$3,MATCH(Prevision!$F11,Calendrier!$A$4:$A$20,0),COLUMN()-COLUMN($K:$K)),\"\")),\"\")","v":""},{"$f":"IF(AND($H11<>\"OUI\",$G11>$G$5),IF($I11=\"\",\"\",IF(AND(BQ$6>=$I11,BQ$6<=$J11),OFFSET(Calendrier!$K$3,MATCH(Prevision!$F11,Calendrier!$A$4:$A$20,0),COLUMN()-COLUMN($K:$K)),\"\")),\"\")","v":""},{"$f":"IF(AND($H11<>\"OUI\",$G11>$G$5),IF($I11=\"\",\"\",IF(AND(BR$6>=$I11,BR$6<=$J11),OFFSET(Calendrier!$K$3,MATCH(Prevision!$F11,Calendrier!$A$4:$A$20,0),COLUMN()-COLUMN($K:$K)),\"\")),\"\")","v":""},{"$f":"IF(AND($H11<>\"OUI\",$G11>$G$5),IF($I11=\"\",\"\",IF(AND(BS$6>=$I11,BS$6<=$J11),OFFSET(Calendrier!$K$3,MATCH(Prevision!$F11,Calendrier!$A$4:$A$20,0),COLUMN()-COLUMN($K:$K)),\"\")),\"\")","v":""},{"$f":"IF(AND($H11<>\"OUI\",$G11>$G$5),IF($I11=\"\",\"\",IF(AND(BT$6>=$I11,BT$6<=$J11),OFFSET(Calendrier!$K$3,MATCH(Prevision!$F11,Calendrier!$A$4:$A$20,0),COLUMN()-COLUMN($K:$K)),\"\")),\"\")","v":""},{"$f":"IF(AND($H11<>\"OUI\",$G11>$G$5),IF($I11=\"\",\"\",IF(AND(BU$6>=$I11,BU$6<=$J11),OFFSET(Calendrier!$K$3,MATCH(Prevision!$F11,Calendrier!$A$4:$A$20,0),COLUMN()-COLUMN($K:$K)),\"\")),\"\")","v":""},{"$f":"IF(AND($H11<>\"OUI\",$G11>$G$5),IF($I11=\"\",\"\",IF(AND(BV$6>=$I11,BV$6<=$J11),OFFSET(Calendrier!$K$3,MATCH(Prevision!$F11,Calendrier!$A$4:$A$20,0),COLUMN()-COLUMN($K:$K)),\"\")),\"\")","v":""},{"$f":"IF(AND($H11<>\"OUI\",$G11>$G$5),IF($I11=\"\",\"\",IF(AND(BW$6>=$I11,BW$6<=$J11),OFFSET(Calendrier!$K$3,MATCH(Prevision!$F11,Calendrier!$A$4:$A$20,0),COLUMN()-COLUMN($K:$K)),\"\")),\"\")","v":""},{"$f":"IF(AND($H11<>\"OUI\",$G11>$G$5),IF($I11=\"\",\"\",IF(AND(BX$6>=$I11,BX$6<=$J11),OFFSET(Calendrier!$K$3,MATCH(Prevision!$F11,Calendrier!$A$4:$A$20,0),COLUMN()-COLUMN($K:$K)),\"\")),\"\")","v":""},{"$f":"IF(AND($H11<>\"OUI\",$G11>$G$5),IF($I11=\"\",\"\",IF(AND(BY$6>=$I11,BY$6<=$J11),OFFSET(Calendrier!$K$3,MATCH(Prevision!$F11,Calendrier!$A$4:$A$20,0),COLUMN()-COLUMN($K:$K)),\"\")),\"\")","v":""},{"$f":"IF(AND($H11<>\"OUI\",$G11>$G$5),IF($I11=\"\",\"\",IF(AND(BZ$6>=$I11,BZ$6<=$J11),OFFSET(Calendrier!$K$3,MATCH(Prevision!$F11,Calendrier!$A$4:$A$20,0),COLUMN()-COLUMN($K:$K)),\"\")),\"\")","v":""},{"$f":"IF(AND($H11<>\"OUI\",$G11>$G$5),IF($I11=\"\",\"\",IF(AND(CA$6>=$I11,CA$6<=$J11),OFFSET(Calendrier!$K$3,MATCH(Prevision!$F11,Calendrier!$A$4:$A$20,0),COLUMN()-COLUMN($K:$K)),\"\")),\"\")","v":""},{"$f":"IF(AND($H11<>\"OUI\",$G11>$G$5),IF($I11=\"\",\"\",IF(AND(CB$6>=$I11,CB$6<=$J11),OFFSET(Calendrier!$K$3,MATCH(Prevision!$F11,Calendrier!$A$4:$A$20,0),COLUMN()-COLUMN($K:$K)),\"\")),\"\")","v":""},{"$f":"IF(AND($H11<>\"OUI\",$G11>$G$5),IF($I11=\"\",\"\",IF(AND(CC$6>=$I11,CC$6<=$J11),OFFSET(Calendrier!$K$3,MATCH(Prevision!$F11,Calendrier!$A$4:$A$20,0),COLUMN()-COLUMN($K:$K)),\"\")),\"\")","v":""},{"$f":"IF(AND($H11<>\"OUI\",$G11>$G$5),IF($I11=\"\",\"\",IF(AND(CD$6>=$I11,CD$6<=$J11),OFFSET(Calendrier!$K$3,MATCH(Prevision!$F11,Calendrier!$A$4:$A$20,0),COLUMN()-COLUMN($K:$K)),\"\")),\"\")","v":""},{"$f":"IF(AND($H11<>\"OUI\",$G11>$G$5),IF($I11=\"\",\"\",IF(AND(CE$6>=$I11,CE$6<=$J11),OFFSET(Calendrier!$K$3,MATCH(Prevision!$F11,Calendrier!$A$4:$A$20,0),COLUMN()-COLUMN($K:$K)),\"\")),\"\")","v":""},{"$f":"IF(AND($H11<>\"OUI\",$G11>$G$5),IF($I11=\"\",\"\",IF(AND(CF$6>=$I11,CF$6<=$J11),OFFSET(Calendrier!$K$3,MATCH(Prevision!$F11,Calendrier!$A$4:$A$20,0),COLUMN()-COLUMN($K:$K)),\"\")),\"\")","v":""},{"$f":"IF(AND($H11<>\"OUI\",$G11>$G$5),IF($I11=\"\",\"\",IF(AND(CG$6>=$I11,CG$6<=$J11),OFFSET(Calendrier!$K$3,MATCH(Prevision!$F11,Calendrier!$A$4:$A$20,0),COLUMN()-COLUMN($K:$K)),\"\")),\"\")","v":""},{"$f":"IF(AND($H11<>\"OUI\",$G11>$G$5),IF($I11=\"\",\"\",IF(AND(CH$6>=$I11,CH$6<=$J11),OFFSET(Calendrier!$K$3,MATCH(Prevision!$F11,Calendrier!$A$4:$A$20,0),COLUMN()-COLUMN($K:$K)),\"\")),\"\")","v":""},{"$f":"IF(AND($H11<>\"OUI\",$G11>$G$5),IF($I11=\"\",\"\",IF(AND(CI$6>=$I11,CI$6<=$J11),OFFSET(Calendrier!$K$3,MATCH(Prevision!$F11,Calendrier!$A$4:$A$20,0),COLUMN()-COLUMN($K:$K)),\"\")),\"\")","v":""},{"$f":"IF(AND($H11<>\"OUI\",$G11>$G$5),IF($I11=\"\",\"\",IF(AND(CJ$6>=$I11,CJ$6<=$J11),OFFSET(Calendrier!$K$3,MATCH(Prevision!$F11,Calendrier!$A$4:$A$20,0),COLUMN()-COLUMN($K:$K)),\"\")),\"\")","v":""},{"$f":"IF(AND($H11<>\"OUI\",$G11>$G$5),IF($I11=\"\",\"\",IF(AND(CK$6>=$I11,CK$6<=$J11),OFFSET(Calendrier!$K$3,MATCH(Prevision!$F11,Calendrier!$A$4:$A$20,0),COLUMN()-COLUMN($K:$K)),\"\")),\"\")","v":""},{"$f":"IF(AND($H11<>\"OUI\",$G11>$G$5),IF($I11=\"\",\"\",IF(AND(CL$6>=$I11,CL$6<=$J11),OFFSET(Calendrier!$K$3,MATCH(Prevision!$F11,Calendrier!$A$4:$A$20,0),COLUMN()-COLUMN($K:$K)),\"\")),\"\")","v":""},{"$f":"IF(AND($H11<>\"OUI\",$G11>$G$5),IF($I11=\"\",\"\",IF(AND(CM$6>=$I11,CM$6<=$J11),OFFSET(Calendrier!$K$3,MATCH(Prevision!$F11,Calendrier!$A$4:$A$20,0),COLUMN()-COLUMN($K:$K)),\"\")),\"\")","v":""},{"$f":"IF(AND($H11<>\"OUI\",$G11>$G$5),IF($I11=\"\",\"\",IF(AND(CN$6>=$I11,CN$6<=$J11),OFFSET(Calendrier!$K$3,MATCH(Prevision!$F11,Calendrier!$A$4:$A$20,0),COLUMN()-COLUMN($K:$K)),\"\")),\"\")","v":""},{"$f":"IF(AND($H11<>\"OUI\",$G11>$G$5),IF($I11=\"\",\"\",IF(AND(CO$6>=$I11,CO$6<=$J11),OFFSET(Calendrier!$K$3,MATCH(Prevision!$F11,Calendrier!$A$4:$A$20,0),COLUMN()-COLUMN($K:$K)),\"\")),\"\")","v":""},{"$f":"IF(AND($H11<>\"OUI\",$G11>$G$5),IF($I11=\"\",\"\",IF(AND(CP$6>=$I11,CP$6<=$J11),OFFSET(Calendrier!$K$3,MATCH(Prevision!$F11,Calendrier!$A$4:$A$20,0),COLUMN()-COLUMN($K:$K)),\"\")),\"\")","v":""},{"$f":"IF(AND($H11<>\"OUI\",$G11>$G$5),IF($I11=\"\",\"\",IF(AND(CQ$6>=$I11,CQ$6<=$J11),OFFSET(Calendrier!$K$3,MATCH(Prevision!$F11,Calendrier!$A$4:$A$20,0),COLUMN()-COLUMN($K:$K)),\"\")),\"\")","v":""},{"$f":"IF(AND($H11<>\"OUI\",$G11>$G$5),IF($I11=\"\",\"\",IF(AND(CR$6>=$I11,CR$6<=$J11),OFFSET(Calendrier!$K$3,MATCH(Prevision!$F11,Calendrier!$A$4:$A$20,0),COLUMN()-COLUMN($K:$K)),\"\")),\"\")","v":""},{"$f":"IF(AND($H11<>\"OUI\",$G11>$G$5),IF($I11=\"\",\"\",IF(AND(CS$6>=$I11,CS$6<=$J11),OFFSET(Calendrier!$K$3,MATCH(Prevision!$F11,Calendrier!$A$4:$A$20,0),COLUMN()-COLUMN($K:$K)),\"\")),\"\")","v":""},{"$f":"IF(AND($H11<>\"OUI\",$G11>$G$5),IF($I11=\"\",\"\",IF(AND(CT$6>=$I11,CT$6<=$J11),OFFSET(Calendrier!$K$3,MATCH(Prevision!$F11,Calendrier!$A$4:$A$20,0),COLUMN()-COLUMN($K:$K)),\"\")),\"\")","v":""},{"$f":"IF(AND($H11<>\"OUI\",$G11>$G$5),IF($I11=\"\",\"\",IF(AND(CU$6>=$I11,CU$6<=$J11),OFFSET(Calendrier!$K$3,MATCH(Prevision!$F11,Calendrier!$A$4:$A$20,0),COLUMN()-COLUMN($K:$K)),\"\")),\"\")","v":""},{"$f":"IF(AND($H11<>\"OUI\",$G11>$G$5),IF($I11=\"\",\"\",IF(AND(CV$6>=$I11,CV$6<=$J11),OFFSET(Calendrier!$K$3,MATCH(Prevision!$F11,Calendrier!$A$4:$A$20,0),COLUMN()-COLUMN($K:$K)),\"\")),\"\")","v":""},{"$f":"IF(AND($H11<>\"OUI\",$G11>$G$5),IF($I11=\"\",\"\",IF(AND(CW$6>=$I11,CW$6<=$J11),OFFSET(Calendrier!$K$3,MATCH(Prevision!$F11,Calendrier!$A$4:$A$20,0),COLUMN()-COLUMN($K:$K)),\"\")),\"\")","v":""},{"$f":"IF(AND($H11<>\"OUI\",$G11>$G$5),IF($I11=\"\",\"\",IF(AND(CX$6>=$I11,CX$6<=$J11),OFFSET(Calendrier!$K$3,MATCH(Prevision!$F11,Calendrier!$A$4:$A$20,0),COLUMN()-COLUMN($K:$K)),\"\")),\"\")","v":""},{"$f":"IF(AND($H11<>\"OUI\",$G11>$G$5),IF($I11=\"\",\"\",IF(AND(CY$6>=$I11,CY$6<=$J11),OFFSET(Calendrier!$K$3,MATCH(Prevision!$F11,Calendrier!$A$4:$A$20,0),COLUMN()-COLUMN($K:$K)),\"\")),\"\")","v":""},{"$f":"IF(AND($H11<>\"OUI\",$G11>$G$5),IF($I11=\"\",\"\",IF(AND(CZ$6>=$I11,CZ$6<=$J11),OFFSET(Calendrier!$K$3,MATCH(Prevision!$F11,Calendrier!$A$4:$A$20,0),COLUMN()-COLUMN($K:$K)),\"\")),\"\")","v":""},{"$f":"IF(AND($H11<>\"OUI\",$G11>$G$5),IF($I11=\"\",\"\",IF(AND(DA$6>=$I11,DA$6<=$J11),OFFSET(Calendrier!$K$3,MATCH(Prevision!$F11,Calendrier!$A$4:$A$20,0),COLUMN()-COLUMN($K:$K)),\"\")),\"\")","v":""},{"$f":"IF(AND($H11<>\"OUI\",$G11>$G$5),IF($I11=\"\",\"\",IF(AND(DB$6>=$I11,DB$6<=$J11),OFFSET(Calendrier!$K$3,MATCH(Prevision!$F11,Calendrier!$A$4:$A$20,0),COLUMN()-COLUMN($K:$K)),\"\")),\"\")","v":""},{"$f":"IF(AND($H11<>\"OUI\",$G11>$G$5),IF($I11=\"\",\"\",IF(AND(DC$6>=$I11,DC$6<=$J11),OFFSET(Calendrier!$K$3,MATCH(Prevision!$F11,Calendrier!$A$4:$A$20,0),COLUMN()-COLUMN($K:$K)),\"\")),\"\")","v":""},{"$f":"IF(AND($H11<>\"OUI\",$G11>$G$5),IF($I11=\"\",\"\",IF(AND(DD$6>=$I11,DD$6<=$J11),OFFSET(Calendrier!$K$3,MATCH(Prevision!$F11,Calendrier!$A$4:$A$20,0),COLUMN()-COLUMN($K:$K)),\"\")),\"\")","v":""},{"$f":"IF(AND($H11<>\"OUI\",$G11>$G$5),IF($I11=\"\",\"\",IF(AND(DE$6>=$I11,DE$6<=$J11),OFFSET(Calendrier!$K$3,MATCH(Prevision!$F11,Calendrier!$A$4:$A$20,0),COLUMN()-COLUMN($K:$K)),\"\")),\"\")","v":""},{"$f":"IF(AND($H11<>\"OUI\",$G11>$G$5),IF($I11=\"\",\"\",IF(AND(DF$6>=$I11,DF$6<=$J11),OFFSET(Calendrier!$K$3,MATCH(Prevision!$F11,Calendrier!$A$4:$A$20,0),COLUMN()-COLUMN($K:$K)),\"\")),\"\")","v":""},{"$f":"IF(AND($H11<>\"OUI\",$G11>$G$5),IF($I11=\"\",\"\",IF(AND(DG$6>=$I11,DG$6<=$J11),OFFSET(Calendrier!$K$3,MATCH(Prevision!$F11,Calendrier!$A$4:$A$20,0),COLUMN()-COLUMN($K:$K)),\"\")),\"\")","v":""},{"$f":"IF(AND($H11<>\"OUI\",$G11>$G$5),IF($I11=\"\",\"\",IF(AND(DH$6>=$I11,DH$6<=$J11),OFFSET(Calendrier!$K$3,MATCH(Prevision!$F11,Calendrier!$A$4:$A$20,0),COLUMN()-COLUMN($K:$K)),\"\")),\"\")","v":""},{"$f":"IF(AND($H11<>\"OUI\",$G11>$G$5),IF($I11=\"\",\"\",IF(AND(DI$6>=$I11,DI$6<=$J11),OFFSET(Calendrier!$K$3,MATCH(Prevision!$F11,Calendrier!$A$4:$A$20,0),COLUMN()-COLUMN($K:$K)),\"\")),\"\")","v":""},{"$f":"IF(AND($H11<>\"OUI\",$G11>$G$5),IF($I11=\"\",\"\",IF(AND(DJ$6>=$I11,DJ$6<=$J11),OFFSET(Calendrier!$K$3,MATCH(Prevision!$F11,Calendrier!$A$4:$A$20,0),COLUMN()-COLUMN($K:$K)),\"\")),\"\")","v":""},{"$f":"IF(AND($H11<>\"OUI\",$G11>$G$5),IF($I11=\"\",\"\",IF(AND(DK$6>=$I11,DK$6<=$J11),OFFSET(Calendrier!$K$3,MATCH(Prevision!$F11,Calendrier!$A$4:$A$20,0),COLUMN()-COLUMN($K:$K)),\"\")),\"\")","v":""},{"$f":"IF(AND($H11<>\"OUI\",$G11>$G$5),IF($I11=\"\",\"\",IF(AND(DL$6>=$I11,DL$6<=$J11),OFFSET(Calendrier!$K$3,MATCH(Prevision!$F11,Calendrier!$A$4:$A$20,0),COLUMN()-COLUMN($K:$K)),\"\")),\"\")","v":""},{"$f":"IF(AND($H11<>\"OUI\",$G11>$G$5),IF($I11=\"\",\"\",IF(AND(DM$6>=$I11,DM$6<=$J11),OFFSET(Calendrier!$K$3,MATCH(Prevision!$F11,Calendrier!$A$4:$A$20,0),COLUMN()-COLUMN($K:$K)),\"\")),\"\")","v":""},{"$f":"IF(AND($H11<>\"OUI\",$G11>$G$5),IF($I11=\"\",\"\",IF(AND(DN$6>=$I11,DN$6<=$J11),OFFSET(Calendrier!$K$3,MATCH(Prevision!$F11,Calendrier!$A$4:$A$20,0),COLUMN()-COLUMN($K:$K)),\"\")),\"\")","v":""},{"$f":"IF(AND($H11<>\"OUI\",$G11>$G$5),IF($I11=\"\",\"\",IF(AND(DO$6>=$I11,DO$6<=$J11),OFFSET(Calendrier!$K$3,MATCH(Prevision!$F11,Calendrier!$A$4:$A$20,0),COLUMN()-COLUMN($K:$K)),\"\")),\"\")","v":""},{"$f":"IF(AND($H11<>\"OUI\",$G11>$G$5),IF($I11=\"\",\"\",IF(AND(DP$6>=$I11,DP$6<=$J11),OFFSET(Calendrier!$K$3,MATCH(Prevision!$F11,Calendrier!$A$4:$A$20,0),COLUMN()-COLUMN($K:$K)),\"\")),\"\")","v":""},{"$f":"IF(AND($H11<>\"OUI\",$G11>$G$5),IF($I11=\"\",\"\",IF(AND(DQ$6>=$I11,DQ$6<=$J11),OFFSET(Calendrier!$K$3,MATCH(Prevision!$F11,Calendrier!$A$4:$A$20,0),COLUMN()-COLUMN($K:$K)),\"\")),\"\")","v":""},{"$f":"IF(AND($H11<>\"OUI\",$G11>$G$5),IF($I11=\"\",\"\",IF(AND(DR$6>=$I11,DR$6<=$J11),OFFSET(Calendrier!$K$3,MATCH(Prevision!$F11,Calendrier!$A$4:$A$20,0),COLUMN()-COLUMN($K:$K)),\"\")),\"\")","v":""},{"$f":"IF(AND($H11<>\"OUI\",$G11>$G$5),IF($I11=\"\",\"\",IF(AND(DS$6>=$I11,DS$6<=$J11),OFFSET(Calendrier!$K$3,MATCH(Prevision!$F11,Calendrier!$A$4:$A$20,0),COLUMN()-COLUMN($K:$K)),\"\")),\"\")","v":""},{"$f":"IF(AND($H11<>\"OUI\",$G11>$G$5),IF($I11=\"\",\"\",IF(AND(DT$6>=$I11,DT$6<=$J11),OFFSET(Calendrier!$K$3,MATCH(Prevision!$F11,Calendrier!$A$4:$A$20,0),COLUMN()-COLUMN($K:$K)),\"\")),\"\")","v":""},{"$f":"IF(AND($H11<>\"OUI\",$G11>$G$5),IF($I11=\"\",\"\",IF(AND(DU$6>=$I11,DU$6<=$J11),OFFSET(Calendrier!$K$3,MATCH(Prevision!$F11,Calendrier!$A$4:$A$20,0),COLUMN()-COLUMN($K:$K)),\"\")),\"\")","v":""},{"$f":"IF(AND($H11<>\"OUI\",$G11>$G$5),IF($I11=\"\",\"\",IF(AND(DV$6>=$I11,DV$6<=$J11),OFFSET(Calendrier!$K$3,MATCH(Prevision!$F11,Calendrier!$A$4:$A$20,0),COLUMN()-COLUMN($K:$K)),\"\")),\"\")","v":""},{"$f":"IF(AND($H11<>\"OUI\",$G11>$G$5),IF($I11=\"\",\"\",IF(AND(DW$6>=$I11,DW$6<=$J11),OFFSET(Calendrier!$K$3,MATCH(Prevision!$F11,Calendrier!$A$4:$A$20,0),COLUMN()-COLUMN($K:$K)),\"\")),\"\")","v":""},{"$f":"IF(AND($H11<>\"OUI\",$G11>$G$5),IF($I11=\"\",\"\",IF(AND(DX$6>=$I11,DX$6<=$J11),OFFSET(Calendrier!$K$3,MATCH(Prevision!$F11,Calendrier!$A$4:$A$20,0),COLUMN()-COLUMN($K:$K)),\"\")),\"\")","v":""},{"$f":"IF(AND($H11<>\"OUI\",$G11>$G$5),IF($I11=\"\",\"\",IF(AND(DY$6>=$I11,DY$6<=$J11),OFFSET(Calendrier!$K$3,MATCH(Prevision!$F11,Calendrier!$A$4:$A$20,0),COLUMN()-COLUMN($K:$K)),\"\")),\"\")","v":""},{"$f":"IF(AND($H11<>\"OUI\",$G11>$G$5),IF($I11=\"\",\"\",IF(AND(DZ$6>=$I11,DZ$6<=$J11),OFFSET(Calendrier!$K$3,MATCH(Prevision!$F11,Calendrier!$A$4:$A$20,0),COLUMN()-COLUMN($K:$K)),\"\")),\"\")","v":""}]
[null,{"$f":"IF(OFFSET('Besoin Interim'!$B$7,ROWS($B$8:$B12),0)=\"\",\"\",OFFSET('Besoin Interim'!$B$7,ROWS($B$8:$B12),0))","v":"INT_12"},{"$f":"IF($B12=\"\",\"\",OFFSET('Besoin Interim'!$B$7,ROWS($B$8:$B12),C$6))","v":"AGENT"},{"$f":"IF($B12=\"\",\"\",OFFSET('Besoin Interim'!$B$7,ROWS($B$8:$B12),D$6))","v":"KAYRA"},{"$f":"IF($B12=\"\",\"\",OFFSET('Besoin Interim'!$B$7,ROWS($B$8:$B12),E$6))","v":"FIXE MATIN"},{"$f":"IF($B12=\"\",\"\",OFFSET('Besoin Interim'!$B$7,ROWS($B$8:$B12),F$6))","v":"FM-C01"},{"$f":"IF($B12=\"\",\"\",OFFSET('Besoin Interim'!$B$7,ROWS($B$8:$B12),G$6))","v":"2019-01-09"},{"$f":"IF($B12=\"\",\"\",OFFSET('Besoin Interim'!$B$7,ROWS($B$8:$B12),H$6))","v":"NON"},{"$f":"IF($B12=\"\",\"\",OFFSET('Besoin Interim'!$B$7,ROWS($B$8:$B12),I$6))","v":"2019-01-09"},{"$f":"IF($B12=\"\",\"\",OFFSET('Besoin Interim'!$B$7,ROWS($B$8:$B12),J$6))","v":"2019-01-15"},{"$f":"IF(AND($H12<>\"OUI\",$G12>$G$5),IF($I12=\"\",\"\",IF(AND(K$6>=$I12,K$6<=$J12),OFFSET(Calendrier!$K$3,MATCH(Prevision!$F12,Calendrier!$A$4:$A$20,0),COLUMN()-COLUMN($K:$K)),\"\")),\"\")","v":""},{"$f":"IF(AND($H12<>\"OUI\",$G12>$G$5),IF($I12=\"\",\"\",IF(AND(L$6>=$I12,L$6<=$J12),OFFSET(Calendrier!$K$3,MATCH(Prevision!$F12,Calendrier!$A$4:$A$20,0),COLUMN()-COLUMN($K:$K)),\"\")),\"\")","v":""},{"$f":"IF(AND($H12<>\"OUI\",$G12>$G$5),IF($I12=\"\",\"\",IF(AND(M$6>=$I12,M$6<=$J12),OFFSET(Calendrier!$K$3,MATCH(Prevision!$F12,Calendrier!$A$4:$A$20,0),COLUMN()-COLUMN($K:$K)),\"\")),\"\")","v":""},{"$f":"IF(AND($H12<>\"OUI\",$G12>$G$5),IF($I12=\"\",\"\",IF(AND(N$6>=$I12,N$6<=$J12),OFFSET(Calendrier!$K$3,MATCH(Prevision!$F12,Calendrier!$A$4:$A$20,0),COLUMN()-COLUMN($K:$K)),\"\")),\"\")","v":""},{"$f":"IF(AND($H12<>\"OUI\",$G12>$G$5),IF($I12=\"\",\"\",IF(AND(O$6>=$I12,O$6<=$J12),OFFSET(Calendrier!$K$3,MATCH(Prevision!$F12,Calendrier!$A$4:$A$20,0),COLUMN()-COLUMN($K:$K)),\"\")),\"\")","v":""},{"$f":"IF(AND($H12<>\"OUI\",$G12>$G$5),IF($I12=\"\",\"\",IF(AND(P$6>=$I12,P$6<=$J12),OFFSET(Calendrier!$K$3,MATCH(Prevision!$F12,Calendrier!$A$4:$A$20,0),COLUMN()-COLUMN($K:$K)),\"\")),\"\")","v":""},{"$f":"IF(AND($H12<>\"OUI\",$G12>$G$5),IF($I12=\"\",\"\",IF(AND(Q$6>=$I12,Q$6<=$J12),OFFSET(Calendrier!$K$3,MATCH(Prevision!$F12,Calendrier!$A$4:$A$20,0),COLUMN()-COLUMN($K:$K)),\"\")),\"\")","v":""},{"$f":"IF(AND($H12<>\"OUI\",$G12>$G$5),IF($I12=\"\",\"\",IF(AND(R$6>=$I12,R$6<=$J12),OFFSET(Calendrier!$K$3,MATCH(Prevision!$F12,Calendrier!$A$4:$A$20,0),COLUMN()-COLUMN($K:$K)),\"\")),\"\")","v":""},{"$f":"IF(AND($H12<>\"OUI\",$G12>$G$5),IF($I12=\"\",\"\",IF(AND(S$6>=$I12,S$6<=$J12),OFFSET(Calendrier!$K$3,MATCH(Prevision!$F12,Calendrier!$A$4:$A$20,0),COLUMN()-COLUMN($K:$K)),\"\")),\"\")","v":""},{"$f":"IF(AND($H12<>\"OUI\",$G12>$G$5),IF($I12=\"\",\"\",IF(AND(T$6>=$I12,T$6<=$J12),OFFSET(Calendrier!$K$3,MATCH(Prevision!$F12,Calendrier!$A$4:$A$20,0),COLUMN()-COLUMN($K:$K)),\"\")),\"\")","v":""},{"$f":"IF(AND($H12<>\"OUI\",$G12>$G$5),IF($I12=\"\",\"\",IF(AND(U$6>=$I12,U$6<=$J12),OFFSET(Calendrier!$K$3,MATCH(Prevision!$F12,Calendrier!$A$4:$A$20,0),COLUMN()-COLUMN($K:$K)),\"\")),\"\")","v":""},{"$f":"IF(AND($H12<>\"OUI\",$G12>$G$5),IF($I12=\"\",\"\",IF(AND(V$6>=$I12,V$6<=$J12),OFFSET(Calendrier!$K$3,MATCH(Prevision!$F12,Calendrier!$A$4:$A$20,0),COLUMN()-COLUMN($K:$K)),\"\")),\"\")","v":""},{"$f":"IF(AND($H12<>\"OUI\",$G12>$G$5),IF($I12=\"\",\"\",IF(AND(W$6>=$I12,W$6<=$J12),OFFSET(Calendrier!$K$3,MATCH(Prevision!$F12,Calendrier!$A$4:$A$20,0),COLUMN()-COLUMN($K:$K)),\"\")),\"\")","v":""},{"$f":"IF(AND($H12<>\"OUI\",$G12>$G$5),IF($I12=\"\",\"\",IF(AND(X$6>=$I12,X$6<=$J12),OFFSET(Calendrier!$K$3,MATCH(Prevision!$F12,Calendrier!$A$4:$A$20,0),COLUMN()-COLUMN($K:$K)),\"\")),\"\")","v":""},{"$f":"IF(AND($H12<>\"OUI\",$G12>$G$5),IF($I12=\"\",\"\",IF(AND(Y$6>=$I12,Y$6<=$J12),OFFSET(Calendrier!$K$3,MATCH(Prevision!$F12,Calendrier!$A$4:$A$20,0),COLUMN()-COLUMN($K:$K)),\"\")),\"\")","v":""},{"$f":"IF(AND($H12<>\"OUI\",$G12>$G$5),IF($I12=\"\",\"\",IF(AND(Z$6>=$I12,Z$6<=$J12),OFFSET(Calendrier!$K$3,MATCH(Prevision!$F12,Calendrier!$A$4:$A$20,0),COLUMN()-COLUMN($K:$K)),\"\")),\"\")","v":""},{"$f":"IF(AND($H12<>\"OUI\",$G12>$G$5),IF($I12=\"\",\"\",IF(AND(AA$6>=$I12,AA$6<=$J12),OFFSET(Calendrier!$K$3,MATCH(Prevision!$F12,Calendrier!$A$4:$A$20,0),COLUMN()-COLUMN($K:$K)),\"\")),\"\")","v":""},{"$f":"IF(AND($H12<>\"OUI\",$G12>$G$5),IF($I12=\"\",\"\",IF(AND(AB$6>=$I12,AB$6<=$J12),OFFSET(Calendrier!$K$3,MATCH(Prevision!$F12,Calendrier!$A$4:$A$20,0),COLUMN()-COLUMN($K:$K)),\"\")),\"\")","v":""},{"$f":"IF(AND($H12<>\"OUI\",$G12>$G$5),IF($I12=\"\",\"\",IF(AND(AC$6>=$I12,AC$6<=$J12),OFFSET(Calendrier!$K$3,MATCH(Prevision!$F12,Calendrier!$A$4:$A$20,0),COLUMN()-COLUMN($K:$K)),\"\")),\"\")","v":""},{"$f":"IF(AND($H12<>\"OUI\",$G12>$G$5),IF($I12=\"\",\"\",IF(AND(AD$6>=$I12,AD$6<=$J12),OFFSET(Calendrier!$K$3,MATCH(Prevision!$F12,Calendrier!$A$4:$A$20,0),COLUMN()-COLUMN($K:$K)),\"\")),\"\")","v":""},{"$f":"IF(AND($H12<>\"OUI\",$G12>$G$5),IF($I12=\"\",\"\",IF(AND(AE$6>=$I12,AE$6<=$J12),OFFSET(Calendrier!$K$3,MATCH(Prevision!$F12,Calendrier!$A$4:$A$20,0),COLUMN()-COLUMN($K:$K)),\"\")),\"\")","v":""},{"$f":"IF(AND($H12<>\"OUI\",$G12>$G$5),IF($I12=\"\",\"\",IF(AND(AF$6>=$I12,AF$6<=$J12),OFFSET(Calendrier!$K$3,MATCH(Prevision!$F12,Calendrier!$A$4:$A$20,0),COLUMN()-COLUMN($K:$K)),\"\")),\"\")","v":""},{"$f":"IF(AND($H12<>\"OUI\",$G12>$G$5),IF($I12=\"\",\"\",IF(AND(AG$6>=$I12,AG$6<=$J12),OFFSET(Calendrier!$K$3,MATCH(Prevision!$F12,Calendrier!$A$4:$A$20,0),COLUMN()-COLUMN($K:$K)),\"\")),\"\")","v":""},{"$f":"IF(AND($H12<>\"OUI\",$G12>$G$5),IF($I12=\"\",\"\",IF(AND(AH$6>=$I12,AH$6<=$J12),OFFSET(Calendrier!$K$3,MATCH(Prevision!$F12,Calendrier!$A$4:$A$20,0),COLUMN()-COLUMN($K:$K)),\"\")),\"\")","v":""},{"$f":"IF(AND($H12<>\"OUI\",$G12>$G$5),IF($I12=\"\",\"\",IF(AND(AI$6>=$I12,AI$6<=$J12),OFFSET(Calendrier!$K$3,MATCH(Prevision!$F12,Calendrier!$A$4:$A$20,0),COLUMN()-COLUMN($K:$K)),\"\")),\"\")","v":""},{"$f":"IF(AND($H12<>\"OUI\",$G12>$G$5),IF($I12=\"\",\"\",IF(AND(AJ$6>=$I12,AJ$6<=$J12),OFFSET(Calendrier!$K$3,MATCH(Prevision!$F12,Calendrier!$A$4:$A$20,0),COLUMN()-COLUMN($K:$K)),\"\")),\"\")","v":""},{"$f":"IF(AND($H12<>\"OUI\",$G12>$G$5),IF($I12=\"\",\"\",IF(AND(AK$6>=$I12,AK$6<=$J12),OFFSET(Calendrier!$K$3,MATCH(Prevision!$F12,Calendrier!$A$4:$A$20,0),COLUMN()-COLUMN($K:$K)),\"\")),\"\")","v":""},{"$f":"IF(AND($H12<>\"OUI\",$G12>$G$5),IF($I12=\"\",\"\",IF(AND(AL$6>=$I12,AL$6<=$J12),OFFSET(Calendrier!$K$3,MATCH(Prevision!$F12,Calendrier!$A$4:$A$20,0),COLUMN()-COLUMN($K:$K)),\"\")),\"\")","v":""},{"$f":"IF(AND($H12<>\"OUI\",$G12>$G$5),IF($I12=\"\",\"\",IF(AND(AM$6>=$I12,AM$6<=$J12),OFFSET(Calendrier!$K$3,MATCH(Prevision!$F12,Calendrier!$A$4:$A$20,0),COLUMN()-COLUMN($K:$K)),\"\")),\"\")","v":""},{"$f":"IF(AND($H12<>\"OUI\",$G12>$G$5),IF($I12=\"\",\"\",IF(AND(AN$6>=$I12,AN$6<=$J12),OFFSET(Calendrier!$K$3,MATCH(Prevision!$F12,Calendrier!$A$4:$A$20,0),COLUMN()-COLUMN($K:$K)),\"\")),\"\")","v":""},{"$f":"IF(AND($H12<>\"OUI\",$G12>$G$5),IF($I12=\"\",\"\",IF(AND(AO$6>=$I12,AO$6<=$J12),OFFSET(Calendrier!$K$3,MATCH(Prevision!$F12,Calendrier!$A$4:$A$20,0),COLUMN()-COLUMN($K:$K)),\"\")),\"\")","v":""},{"$f":"IF(AND($H12<>\"OUI\",$G12>$G$5),IF($I12=\"\",\"\",IF(AND(AP$6>=$I12,AP$6<=$J12),OFFSET(Calendrier!$K$3,MATCH(Prevision!$F12,Calendrier!$A$4:$A$20,0),COLUMN()-COLUMN($K:$K)),\"\")),\"\")","v":""},{"$f":"IF(AND($H12<>\"OUI\",$G12>$G$5),IF($I12=\"\",\"\",IF(AND(AQ$6>=$I12,AQ$6<=$J12),OFFSET(Calendrier!$K$3,MATCH(Prevision!$F12,Calendrier!$A$4:$A$20,0),COLUMN()-COLUMN($K:$K)),\"\")),\"\")","v":""},{"$f":"IF(AND($H12<>\"OUI\",$G12>$G$5),IF($I12=\"\",\"\",IF(AND(AR$6>=$I12,AR$6<=$J12),OFFSET(Calendrier!$K$3,MATCH(Prevision!$F12,Calendrier!$A$4:$A$20,0),COLUMN()-COLUMN($K:$K)),\"\")),\"\")","v":""},{"$f":"IF(AND($H12<>\"OUI\",$G12>$G$5),IF($I12=\"\",\"\",IF(AND(AS$6>=$I12,AS$6<=$J12),OFFSET(Calendrier!$K$3,MATCH(Prevision!$F12,Calendrier!$A$4:$A$20,0),COLUMN()-COLUMN($K:$K)),\"\")),\"\")","v":""},{"$f":"IF(AND($H12<>\"OUI\",$G12>$G$5),IF($I12=\"\",\"\",IF(AND(AT$6>=$I12,AT$6<=$J12),OFFSET(Calendrier!$K$3,MATCH(Prevision!$F12,Calendrier!$A$4:$A$20,0),COLUMN()-COLUMN($K:$K)),\"\")),\"\")","v":""},{"$f":"IF(AND($H12<>\"OUI\",$G12>$G$5),IF($I12=\"\",\"\",IF(AND(AU$6>=$I12,AU$6<=$J12),OFFSET(Calendrier!$K$3,MATCH(Prevision!$F12,Calendrier!$A$4:$A$20,0),COLUMN()-COLUMN($K:$K)),\"\")),\"\")","v":""},{"$f":"IF(AND($H12<>\"OUI\",$G12>$G$5),IF($I12=\"\",\"\",IF(AND(AV$6>=$I12,AV$6<=$J12),OFFSET(Calendrier!$K$3,MATCH(Prevision!$F12,Calendrier!$A$4:$A$20,0),COLUMN()-COLUMN($K:$K)),\"\")),\"\")","v":""},{"$f":"IF(AND($H12<>\"OUI\",$G12>$G$5),IF($I12=\"\",\"\",IF(AND(AW$6>=$I12,AW$6<=$J12),OFFSET(Calendrier!$K$3,MATCH(Prevision!$F12,Calendrier!$A$4:$A$20,0),COLUMN()-COLUMN($K:$K)),\"\")),\"\")","v":""},{"$f":"IF(AND($H12<>\"OUI\",$G12>$G$5),IF($I12=\"\",\"\",IF(AND(AX$6>=$I12,AX$6<=$J12),OFFSET(Calendrier!$K$3,MATCH(Prevision!$F12,Calendrier!$A$4:$A$20,0),COLUMN()-COLUMN($K:$K)),\"\")),\"\")","v":""},{"$f":"IF(AND($H12<>\"OUI\",$G12>$G$5),IF($I12=\"\",\"\",IF(AND(AY$6>=$I12,AY$6<=$J12),OFFSET(Calendrier!$K$3,MATCH(Prevision!$F12,Calendrier!$A$4:$A$20,0),COLUMN()-COLUMN($K:$K)),\"\")),\"\")","v":""},{"$f":"IF(AND($H12<>\"OUI\",$G12>$G$5),IF($I12=\"\",\"\",IF(AND(AZ$6>=$I12,AZ$6<=$J12),OFFSET(Calendrier!$K$3,MATCH(Prevision!$F12,Calendrier!$A$4:$A$20,0),COLUMN()-COLUMN($K:$K)),\"\")),\"\")","v":""},{"$f":"IF(AND($H12<>\"OUI\",$G12>$G$5),IF($I12=\"\",\"\",IF(AND(BA$6>=$I12,BA$6<=$J12),OFFSET(Calendrier!$K$3,MATCH(Prevision!$F12,Calendrier!$A$4:$A$20,0),COLUMN()-COLUMN($K:$K)),\"\")),\"\")","v":""},{"$f":"IF(AND($H12<>\"OUI\",$G12>$G$5),IF($I12=\"\",\"\",IF(AND(BB$6>=$I12,BB$6<=$J12),OFFSET(Calendrier!$K$3,MATCH(Prevision!$F12,Calendrier!$A$4:$A$20,0),COLUMN()-COLUMN($K:$K)),\"\")),\"\")","v":""},{"$f":"IF(AND($H12<>\"OUI\",$G12>$G$5),IF($I12=\"\",\"\",IF(AND(BC$6>=$I12,BC$6<=$J12),OFFSET(Calendrier!$K$3,MATCH(Prevision!$F12,Calendrier!$A$4:$A$20,0),COLUMN()-COLUMN($K:$K)),\"\")),\"\")","v":""},{"$f":"IF(AND($H12<>\"OUI\",$G12>$G$5),IF($I12=\"\",\"\",IF(AND(BD$6>=$I12,BD$6<=$J12),OFFSET(Calendrier!$K$3,MATCH(Prevision!$F12,Calendrier!$A$4:$A$20,0),COLUMN()-COLUMN($K:$K)),\"\")),\"\")","v":""},{"$f":"IF(AND($H12<>\"OUI\",$G12>$G$5),IF($I12=\"\",\"\",IF(AND(BE$6>=$I12,BE$6<=$J12),OFFSET(Calendrier!$K$3,MATCH(Prevision!$F12,Calendrier!$A$4:$A$20,0),COLUMN()-COLUMN($K:$K)),\"\")),\"\")","v":""},{"$f":"IF(AND($H12<>\"OUI\",$G12>$G$5),IF($I12=\"\",\"\",IF(AND(BF$6>=$I12,BF$6<=$J12),OFFSET(Calendrier!$K$3,MATCH(Prevision!$F12,Calendrier!$A$4:$A$20,0),COLUMN()-COLUMN($K:$K)),\"\")),\"\")","v":""},{"$f":"IF(AND($H12<>\"OUI\",$G12>$G$5),IF($I12=\"\",\"\",IF(AND(BG$6>=$I12,BG$6<=$J12),OFFSET(Calendrier!$K$3,MATCH(Prevision!$F12,Calendrier!$A$4:$A$20,0),COLUMN()-COLUMN($K:$K)),\"\")),\"\")","v":""},{"$f":"IF(AND($H12<>\"OUI\",$G12>$G$5),IF($I12=\"\",\"\",IF(AND(BH$6>=$I12,BH$6<=$J12),OFFSET(Calendrier!$K$3,MATCH(Prevision!$F12,Calendrier!$A$4:$A$20,0),COLUMN()-COLUMN($K:$K)),\"\")),\"\")","v":""},{"$f":"IF(AND($H12<>\"OUI\",$G12>$G$5),IF($I12=\"\",\"\",IF(AND(BI$6>=$I12,BI$6<=$J12),OFFSET(Calendrier!$K$3,MATCH(Prevision!$F12,Calendrier!$A$4:$A$20,0),COLUMN()-COLUMN($K:$K)),\"\")),\"\")","v":""},{"$f":"IF(AND($H12<>\"OUI\",$G12>$G$5),IF($I12=\"\",\"\",IF(AND(BJ$6>=$I12,BJ$6<=$J12),OFFSET(Calendrier!$K$3,MATCH(Prevision!$F12,Calendrier!$A$4:$A$20,0),COLUMN()-COLUMN($K:$K)),\"\")),\"\")","v":""},{"$f":"IF(AND($H12<>\"OUI\",$G12>$G$5),IF($I12=\"\",\"\",IF(AND(BK$6>=$I12,BK$6<=$J12),OFFSET(Calendrier!$K$3,MATCH(Prevision!$F12,Calendrier!$A$4:$A$20,0),COLUMN()-COLUMN($K:$K)),\"\")),\"\")","v":""},{"$f":"IF(AND($H12<>\"OUI\",$G12>$G$5),IF($I12=\"\",\"\",IF(AND(BL$6>=$I12,BL$6<=$J12),OFFSET(Calendrier!$K$3,MATCH(Prevision!$F12,Calendrier!$A$4:$A$20,0),COLUMN()-COLUMN($K:$K)),\"\")),\"\")","v":""},{"$f":"IF(AND($H12<>\"OUI\",$G12>$G$5),IF($I12=\"\",\"\",IF(AND(BM$6>=$I12,BM$6<=$J12),OFFSET(Calendrier!$K$3,MATCH(Prevision!$F12,Calendrier!$A$4:$A$20,0),COLUMN()-COLUMN($K:$K)),\"\")),\"\")","v":""},{"$f":"IF(AND($H12<>\"OUI\",$G12>$G$5),IF($I12=\"\",\"\",IF(AND(BN$6>=$I12,BN$6<=$J12),OFFSET(Calendrier!$K$3,MATCH(Prevision!$F12,Calendrier!$A$4:$A$20,0),COLUMN()-COLUMN($K:$K)),\"\")),\"\")","v":""},{"$f":"IF(AND($H12<>\"OUI\",$G12>$G$5),IF($I12=\"\",\"\",IF(AND(BO$6>=$I12,BO$6<=$J12),OFFSET(Calendrier!$K$3,MATCH(Prevision!$F12,Calendrier!$A$4:$A$20,0),COLUMN()-COLUMN($K:$K)),\"\")),\"\")","v":""},{"$f":"IF(AND($H12<>\"OUI\",$G12>$G$5),IF($I12=\"\",\"\",IF(AND(BP$6>=$I12,BP$6<=$J12),OFFSET(Calendrier!$K$3,MATCH(Prevision!$F12,Calendrier!$A$4:$A$20,0),COLUMN()-COLUMN($K:$K)),\"\")),\"\")","v":""},{"$f":"IF(AND($H12<>\"OUI\",$G12>$G$5),IF($I12=\"\",\"\",IF(AND(BQ$6>=$I12,BQ$6<=$J12),OFFSET(Calendrier!$K$3,MATCH(Prevision!$F12,Calendrier!$A$4:$A$20,0),COLUMN()-COLUMN($K:$K)),\"\")),\"\")","v":""},{"$f":"IF(AND($H12<>\"OUI\",$G12>$G$5),IF($I12=\"\",\"\",IF(AND(BR$6>=$I12,BR$6<=$J12),OFFSET(Calendrier!$K$3,MATCH(Prevision!$F12,Calendrier!$A$4:$A$20,0),COLUMN()-COLUMN($K:$K)),\"\")),\"\")","v":""},{"$f":"IF(AND($H12<>\"OUI\",$G12>$G$5),IF($I12=\"\",\"\",IF(AND(BS$6>=$I12,BS$6<=$J12),OFFSET(Calendrier!$K$3,MATCH(Prevision!$F12,Calendrier!$A$4:$A$20,0),COLUMN()-COLUMN($K:$K)),\"\")),\"\")","v":""},{"$f":"IF(AND($H12<>\"OUI\",$G12>$G$5),IF($I12=\"\",\"\",IF(AND(BT$6>=$I12,BT$6<=$J12),OFFSET(Calendrier!$K$3,MATCH(Prevision!$F12,Calendrier!$A$4:$A$20,0),COLUMN()-COLUMN($K:$K)),\"\")),\"\")","v":""},{"$f":"IF(AND($H12<>\"OUI\",$G12>$G$5),IF($I12=\"\",\"\",IF(AND(BU$6>=$I12,BU$6<=$J12),OFFSET(Calendrier!$K$3,MATCH(Prevision!$F12,Calendrier!$A$4:$A$20,0),COLUMN()-COLUMN($K:$K)),\"\")),\"\")","v":""},{"$f":"IF(AND($H12<>\"OUI\",$G12>$G$5),IF($I12=\"\",\"\",IF(AND(BV$6>=$I12,BV$6<=$J12),OFFSET(Calendrier!$K$3,MATCH(Prevision!$F12,Calendrier!$A$4:$A$20,0),COLUMN()-COLUMN($K:$K)),\"\")),\"\")","v":""},{"$f":"IF(AND($H12<>\"OUI\",$G12>$G$5),IF($I12=\"\",\"\",IF(AND(BW$6>=$I12,BW$6<=$J12),OFFSET(Calendrier!$K$3,MATCH(Prevision!$F12,Calendrier!$A$4:$A$20,0),COLUMN()-COLUMN($K:$K)),\"\")),\"\")","v":""},{"$f":"IF(AND($H12<>\"OUI\",$G12>$G$5),IF($I12=\"\",\"\",IF(AND(BX$6>=$I12,BX$6<=$J12),OFFSET(Calendrier!$K$3,MATCH(Prevision!$F12,Calendrier!$A$4:$A$20,0),COLUMN()-COLUMN($K:$K)),\"\")),\"\")","v":""},{"$f":"IF(AND($H12<>\"OUI\",$G12>$G$5),IF($I12=\"\",\"\",IF(AND(BY$6>=$I12,BY$6<=$J12),OFFSET(Calendrier!$K$3,MATCH(Prevision!$F12,Calendrier!$A$4:$A$20,0),COLUMN()-COLUMN($K:$K)),\"\")),\"\")","v":""},{"$f":"IF(AND($H12<>\"OUI\",$G12>$G$5),IF($I12=\"\",\"\",IF(AND(BZ$6>=$I12,BZ$6<=$J12),OFFSET(Calendrier!$K$3,MATCH(Prevision!$F12,Calendrier!$A$4:$A$20,0),COLUMN()-COLUMN($K:$K)),\"\")),\"\")","v":""},{"$f":"IF(AND($H12<>\"OUI\",$G12>$G$5),IF($I12=\"\",\"\",IF(AND(CA$6>=$I12,CA$6<=$J12),OFFSET(Calendrier!$K$3,MATCH(Prevision!$F12,Calendrier!$A$4:$A$20,0),COLUMN()-COLUMN($K:$K)),\"\")),\"\")","v":""},{"$f":"IF(AND($H12<>\"OUI\",$G12>$G$5),IF($I12=\"\",\"\",IF(AND(CB$6>=$I12,CB$6<=$J12),OFFSET(Calendrier!$K$3,MATCH(Prevision!$F12,Calendrier!$A$4:$A$20,0),COLUMN()-COLUMN($K:$K)),\"\")),\"\")","v":""},{"$f":"IF(AND($H12<>\"OUI\",$G12>$G$5),IF($I12=\"\",\"\",IF(AND(CC$6>=$I12,CC$6<=$J12),OFFSET(Calendrier!$K$3,MATCH(Prevision!$F12,Calendrier!$A$4:$A$20,0),COLUMN()-COLUMN($K:$K)),\"\")),\"\")","v":""},{"$f":"IF(AND($H12<>\"OUI\",$G12>$G$5),IF($I12=\"\",\"\",IF(AND(CD$6>=$I12,CD$6<=$J12),OFFSET(Calendrier!$K$3,MATCH(Prevision!$F12,Calendrier!$A$4:$A$20,0),COLUMN()-COLUMN($K:$K)),\"\")),\"\")","v":""},{"$f":"IF(AND($H12<>\"OUI\",$G12>$G$5),IF($I12=\"\",\"\",IF(AND(CE$6>=$I12,CE$6<=$J12),OFFSET(Calendrier!$K$3,MATCH(Prevision!$F12,Calendrier!$A$4:$A$20,0),COLUMN()-COLUMN($K:$K)),\"\")),\"\")","v":""},{"$f":"IF(AND($H12<>\"OUI\",$G12>$G$5),IF($I12=\"\",\"\",IF(AND(CF$6>=$I12,CF$6<=$J12),OFFSET(Calendrier!$K$3,MATCH(Prevision!$F12,Calendrier!$A$4:$A$20,0),COLUMN()-COLUMN($K:$K)),\"\")),\"\")","v":""},{"$f":"IF(AND($H12<>\"OUI\",$G12>$G$5),IF($I12=\"\",\"\",IF(AND(CG$6>=$I12,CG$6<=$J12),OFFSET(Calendrier!$K$3,MATCH(Prevision!$F12,Calendrier!$A$4:$A$20,0),COLUMN()-COLUMN($K:$K)),\"\")),\"\")","v":""},{"$f":"IF(AND($H12<>\"OUI\",$G12>$G$5),IF($I12=\"\",\"\",IF(AND(CH$6>=$I12,CH$6<=$J12),OFFSET(Calendrier!$K$3,MATCH(Prevision!$F12,Calendrier!$A$4:$A$20,0),COLUMN()-COLUMN($K:$K)),\"\")),\"\")","v":""},{"$f":"IF(AND($H12<>\"OUI\",$G12>$G$5),IF($I12=\"\",\"\",IF(AND(CI$6>=$I12,CI$6<=$J12),OFFSET(Calendrier!$K$3,MATCH(Prevision!$F12,Calendrier!$A$4:$A$20,0),COLUMN()-COLUMN($K:$K)),\"\")),\"\")","v":""},{"$f":"IF(AND($H12<>\"OUI\",$G12>$G$5),IF($I12=\"\",\"\",IF(AND(CJ$6>=$I12,CJ$6<=$J12),OFFSET(Calendrier!$K$3,MATCH(Prevision!$F12,Calendrier!$A$4:$A$20,0),COLUMN()-COLUMN($K:$K)),\"\")),\"\")","v":""},{"$f":"IF(AND($H12<>\"OUI\",$G12>$G$5),IF($I12=\"\",\"\",IF(AND(CK$6>=$I12,CK$6<=$J12),OFFSET(Calendrier!$K$3,MATCH(Prevision!$F12,Calendrier!$A$4:$A$20,0),COLUMN()-COLUMN($K:$K)),\"\")),\"\")","v":""},{"$f":"IF(AND($H12<>\"OUI\",$G12>$G$5),IF($I12=\"\",\"\",IF(AND(CL$6>=$I12,CL$6<=$J12),OFFSET(Calendrier!$K$3,MATCH(Prevision!$F12,Calendrier!$A$4:$A$20,0),COLUMN()-COLUMN($K:$K)),\"\")),\"\")","v":""},{"$f":"IF(AND($H12<>\"OUI\",$G12>$G$5),IF($I12=\"\",\"\",IF(AND(CM$6>=$I12,CM$6<=$J12),OFFSET(Calendrier!$K$3,MATCH(Prevision!$F12,Calendrier!$A$4:$A$20,0),COLUMN()-COLUMN($K:$K)),\"\")),\"\")","v":""},{"$f":"IF(AND($H12<>\"OUI\",$G12>$G$5),IF($I12=\"\",\"\",IF(AND(CN$6>=$I12,CN$6<=$J12),OFFSET(Calendrier!$K$3,MATCH(Prevision!$F12,Calendrier!$A$4:$A$20,0),COLUMN()-COLUMN($K:$K)),\"\")),\"\")","v":""},{"$f":"IF(AND($H12<>\"OUI\",$G12>$G$5),IF($I12=\"\",\"\",IF(AND(CO$6>=$I12,CO$6<=$J12),OFFSET(Calendrier!$K$3,MATCH(Prevision!$F12,Calendrier!$A$4:$A$20,0),COLUMN()-COLUMN($K:$K)),\"\")),\"\")","v":""},{"$f":"IF(AND($H12<>\"OUI\",$G12>$G$5),IF($I12=\"\",\"\",IF(AND(CP$6>=$I12,CP$6<=$J12),OFFSET(Calendrier!$K$3,MATCH(Prevision!$F12,Calendrier!$A$4:$A$20,0),COLUMN()-COLUMN($K:$K)),\"\")),\"\")","v":""},{"$f":"IF(AND($H12<>\"OUI\",$G12>$G$5),IF($I12=\"\",\"\",IF(AND(CQ$6>=$I12,CQ$6<=$J12),OFFSET(Calendrier!$K$3,MATCH(Prevision!$F12,Calendrier!$A$4:$A$20,0),COLUMN()-COLUMN($K:$K)),\"\")),\"\")","v":""},{"$f":"IF(AND($H12<>\"OUI\",$G12>$G$5),IF($I12=\"\",\"\",IF(AND(CR$6>=$I12,CR$6<=$J12),OFFSET(Calendrier!$K$3,MATCH(Prevision!$F12,Calendrier!$A$4:$A$20,0),COLUMN()-COLUMN($K:$K)),\"\")),\"\")","v":""},{"$f":"IF(AND($H12<>\"OUI\",$G12>$G$5),IF($I12=\"\",\"\",IF(AND(CS$6>=$I12,CS$6<=$J12),OFFSET(Calendrier!$K$3,MATCH(Prevision!$F12,Calendrier!$A$4:$A$20,0),COLUMN()-COLUMN($K:$K)),\"\")),\"\")","v":""},{"$f":"IF(AND($H12<>\"OUI\",$G12>$G$5),IF($I12=\"\",\"\",IF(AND(CT$6>=$I12,CT$6<=$J12),OFFSET(Calendrier!$K$3,MATCH(Prevision!$F12,Calendrier!$A$4:$A$20,0),COLUMN()-COLUMN($K:$K)),\"\")),\"\")","v":""},{"$f":"IF(AND($H12<>\"OUI\",$G12>$G$5),IF($I12=\"\",\"\",IF(AND(CU$6>=$I12,CU$6<=$J12),OFFSET(Calendrier!$K$3,MATCH(Prevision!$F12,Calendrier!$A$4:$A$20,0),COLUMN()-COLUMN($K:$K)),\"\")),\"\")","v":""},{"$f":"IF(AND($H12<>\"OUI\",$G12>$G$5),IF($I12=\"\",\"\",IF(AND(CV$6>=$I12,CV$6<=$J12),OFFSET(Calendrier!$K$3,MATCH(Prevision!$F12,Calendrier!$A$4:$A$20,0),COLUMN()-COLUMN($K:$K)),\"\")),\"\")","v":""},{"$f":"IF(AND($H12<>\"OUI\",$G12>$G$5),IF($I12=\"\",\"\",IF(AND(CW$6>=$I12,CW$6<=$J12),OFFSET(Calendrier!$K$3,MATCH(Prevision!$F12,Calendrier!$A$4:$A$20,0),COLUMN()-COLUMN($K:$K)),\"\")),\"\")","v":""},{"$f":"IF(AND($H12<>\"OUI\",$G12>$G$5),IF($I12=\"\",\"\",IF(AND(CX$6>=$I12,CX$6<=$J12),OFFSET(Calendrier!$K$3,MATCH(Prevision!$F12,Calendrier!$A$4:$A$20,0),COLUMN()-COLUMN($K:$K)),\"\")),\"\")","v":""},{"$f":"IF(AND($H12<>\"OUI\",$G12>$G$5),IF($I12=\"\",\"\",IF(AND(CY$6>=$I12,CY$6<=$J12),OFFSET(Calendrier!$K$3,MATCH(Prevision!$F12,Calendrier!$A$4:$A$20,0),COLUMN()-COLUMN($K:$K)),\"\")),\"\")","v":""},{"$f":"IF(AND($H12<>\"OUI\",$G12>$G$5),IF($I12=\"\",\"\",IF(AND(CZ$6>=$I12,CZ$6<=$J12),OFFSET(Calendrier!$K$3,MATCH(Prevision!$F12,Calendrier!$A$4:$A$20,0),COLUMN()-COLUMN($K:$K)),\"\")),\"\")","v":""},{"$f":"IF(AND($H12<>\"OUI\",$G12>$G$5),IF($I12=\"\",\"\",IF(AND(DA$6>=$I12,DA$6<=$J12),OFFSET(Calendrier!$K$3,MATCH(Prevision!$F12,Calendrier!$A$4:$A$20,0),COLUMN()-COLUMN($K:$K)),\"\")),\"\")","v":""},{"$f":"IF(AND($H12<>\"OUI\",$G12>$G$5),IF($I12=\"\",\"\",IF(AND(DB$6>=$I12,DB$6<=$J12),OFFSET(Calendrier!$K$3,MATCH(Prevision!$F12,Calendrier!$A$4:$A$20,0),COLUMN()-COLUMN($K:$K)),\"\")),\"\")","v":""},{"$f":"IF(AND($H12<>\"OUI\",$G12>$G$5),IF($I12=\"\",\"\",IF(AND(DC$6>=$I12,DC$6<=$J12),OFFSET(Calendrier!$K$3,MATCH(Prevision!$F12,Calendrier!$A$4:$A$20,0),COLUMN()-COLUMN($K:$K)),\"\")),\"\")","v":""},{"$f":"IF(AND($H12<>\"OUI\",$G12>$G$5),IF($I12=\"\",\"\",IF(AND(DD$6>=$I12,DD$6<=$J12),OFFSET(Calendrier!$K$3,MATCH(Prevision!$F12,Calendrier!$A$4:$A$20,0),COLUMN()-COLUMN($K:$K)),\"\")),\"\")","v":""},{"$f":"IF(AND($H12<>\"OUI\",$G12>$G$5),IF($I12=\"\",\"\",IF(AND(DE$6>=$I12,DE$6<=$J12),OFFSET(Calendrier!$K$3,MATCH(Prevision!$F12,Calendrier!$A$4:$A$20,0),COLUMN()-COLUMN($K:$K)),\"\")),\"\")","v":""},{"$f":"IF(AND($H12<>\"OUI\",$G12>$G$5),IF($I12=\"\",\"\",IF(AND(DF$6>=$I12,DF$6<=$J12),OFFSET(Calendrier!$K$3,MATCH(Prevision!$F12,Calendrier!$A$4:$A$20,0),COLUMN()-COLUMN($K:$K)),\"\")),\"\")","v":""},{"$f":"IF(AND($H12<>\"OUI\",$G12>$G$5),IF($I12=\"\",\"\",IF(AND(DG$6>=$I12,DG$6<=$J12),OFFSET(Calendrier!$K$3,MATCH(Prevision!$F12,Calendrier!$A$4:$A$20,0),COLUMN()-COLUMN($K:$K)),\"\")),\"\")","v":""},{"$f":"IF(AND($H12<>\"OUI\",$G12>$G$5),IF($I12=\"\",\"\",IF(AND(DH$6>=$I12,DH$6<=$J12),OFFSET(Calendrier!$K$3,MATCH(Prevision!$F12,Calendrier!$A$4:$A$20,0),COLUMN()-COLUMN($K:$K)),\"\")),\"\")","v":""},{"$f":"IF(AND($H12<>\"OUI\",$G12>$G$5),IF($I12=\"\",\"\",IF(AND(DI$6>=$I12,DI$6<=$J12),OFFSET(Calendrier!$K$3,MATCH(Prevision!$F12,Calendrier!$A$4:$A$20,0),COLUMN()-COLUMN($K:$K)),\"\")),\"\")","v":""},{"$f":"IF(AND($H12<>\"OUI\",$G12>$G$5),IF($I12=\"\",\"\",IF(AND(DJ$6>=$I12,DJ$6<=$J12),OFFSET(Calendrier!$K$3,MATCH(Prevision!$F12,Calendrier!$A$4:$A$20,0),COLUMN()-COLUMN($K:$K)),\"\")),\"\")","v":""},{"$f":"IF(AND($H12<>\"OUI\",$G12>$G$5),IF($I12=\"\",\"\",IF(AND(DK$6>=$I12,DK$6<=$J12),OFFSET(Calendrier!$K$3,MATCH(Prevision!$F12,Calendrier!$A$4:$A$20,0),COLUMN()-COLUMN($K:$K)),\"\")),\"\")","v":""},{"$f":"IF(AND($H12<>\"OUI\",$G12>$G$5),IF($I12=\"\",\"\",IF(AND(DL$6>=$I12,DL$6<=$J12),OFFSET(Calendrier!$K$3,MATCH(Prevision!$F12,Calendrier!$A$4:$A$20,0),COLUMN()-COLUMN($K:$K)),\"\")),\"\")","v":""},{"$f":"IF(AND($H12<>\"OUI\",$G12>$G$5),IF($I12=\"\",\"\",IF(AND(DM$6>=$I12,DM$6<=$J12),OFFSET(Calendrier!$K$3,MATCH(Prevision!$F12,Calendrier!$A$4:$A$20,0),COLUMN()-COLUMN($K:$K)),\"\")),\"\")","v":""},{"$f":"IF(AND($H12<>\"OUI\",$G12>$G$5),IF($I12=\"\",\"\",IF(AND(DN$6>=$I12,DN$6<=$J12),OFFSET(Calendrier!$K$3,MATCH(Prevision!$F12,Calendrier!$A$4:$A$20,0),COLUMN()-COLUMN($K:$K)),\"\")),\"\")","v":""},{"$f":"IF(AND($H12<>\"OUI\",$G12>$G$5),IF($I12=\"\",\"\",IF(AND(DO$6>=$I12,DO$6<=$J12),OFFSET(Calendrier!$K$3,MATCH(Prevision!$F12,Calendrier!$A$4:$A$20,0),COLUMN()-COLUMN($K:$K)),\"\")),\"\")","v":""},{"$f":"IF(AND($H12<>\"OUI\",$G12>$G$5),IF($I12=\"\",\"\",IF(AND(DP$6>=$I12,DP$6<=$J12),OFFSET(Calendrier!$K$3,MATCH(Prevision!$F12,Calendrier!$A$4:$A$20,0),COLUMN()-COLUMN($K:$K)),\"\")),\"\")","v":""},{"$f":"IF(AND($H12<>\"OUI\",$G12>$G$5),IF($I12=\"\",\"\",IF(AND(DQ$6>=$I12,DQ$6<=$J12),OFFSET(Calendrier!$K$3,MATCH(Prevision!$F12,Calendrier!$A$4:$A$20,0),COLUMN()-COLUMN($K:$K)),\"\")),\"\")","v":""},{"$f":"IF(AND($H12<>\"OUI\",$G12>$G$5),IF($I12=\"\",\"\",IF(AND(DR$6>=$I12,DR$6<=$J12),OFFSET(Calendrier!$K$3,MATCH(Prevision!$F12,Calendrier!$A$4:$A$20,0),COLUMN()-COLUMN($K:$K)),\"\")),\"\")","v":""},{"$f":"IF(AND($H12<>\"OUI\",$G12>$G$5),IF($I12=\"\",\"\",IF(AND(DS$6>=$I12,DS$6<=$J12),OFFSET(Calendrier!$K$3,MATCH(Prevision!$F12,Calendrier!$A$4:$A$20,0),COLUMN()-COLUMN($K:$K)),\"\")),\"\")","v":""},{"$f":"IF(AND($H12<>\"OUI\",$G12>$G$5),IF($I12=\"\",\"\",IF(AND(DT$6>=$I12,DT$6<=$J12),OFFSET(Calendrier!$K$3,MATCH(Prevision!$F12,Calendrier!$A$4:$A$20,0),COLUMN()-COLUMN($K:$K)),\"\")),\"\")","v":""},{"$f":"IF(AND($H12<>\"OUI\",$G12>$G$5),IF($I12=\"\",\"\",IF(AND(DU$6>=$I12,DU$6<=$J12),OFFSET(Calendrier!$K$3,MATCH(Prevision!$F12,Calendrier!$A$4:$A$20,0),COLUMN()-COLUMN($K:$K)),\"\")),\"\")","v":""},{"$f":"IF(AND($H12<>\"OUI\",$G12>$G$5),IF($I12=\"\",\"\",IF(AND(DV$6>=$I12,DV$6<=$J12),OFFSET(Calendrier!$K$3,MATCH(Prevision!$F12,Calendrier!$A$4:$A$20,0),COLUMN()-COLUMN($K:$K)),\"\")),\"\")","v":""},{"$f":"IF(AND($H12<>\"OUI\",$G12>$G$5),IF($I12=\"\",\"\",IF(AND(DW$6>=$I12,DW$6<=$J12),OFFSET(Calendrier!$K$3,MATCH(Prevision!$F12,Calendrier!$A$4:$A$20,0),COLUMN()-COLUMN($K:$K)),\"\")),\"\")","v":""},{"$f":"IF(AND($H12<>\"OUI\",$G12>$G$5),IF($I12=\"\",\"\",IF(AND(DX$6>=$I12,DX$6<=$J12),OFFSET(Calendrier!$K$3,MATCH(Prevision!$F12,Calendrier!$A$4:$A$20,0),COLUMN()-COLUMN($K:$K)),\"\")),\"\")","v":""},{"$f":"IF(AND($H12<>\"OUI\",$G12>$G$5),IF($I12=\"\",\"\",IF(AND(DY$6>=$I12,DY$6<=$J12),OFFSET(Calendrier!$K$3,MATCH(Prevision!$F12,Calendrier!$A$4:$A$20,0),COLUMN()-COLUMN($K:$K)),\"\")),\"\")","v":""},{"$f":"IF(AND($H12<>\"OUI\",$G12>$G$5),IF($I12=\"\",\"\",IF(AND(DZ$6>=$I12,DZ$6<=$J12),OFFSET(Calendrier!$K$3,MATCH(Prevision!$F12,Calendrier!$A$4:$A$20,0),COLUMN()-COLUMN($K:$K)),\"\")),\"\")","v":""}]
[null,{"$f":"IF(OFFSET('Besoin Interim'!$B$7,ROWS($B$8:$B13),0)=\"\",\"\",OFFSET('Besoin Interim'!$B$7,ROWS($B$8:$B13),0))","v":"INT_13"},{"$f":"IF($B13=\"\",\"\",OFFSET('Besoin Interim'!$B$7,ROWS($B$8:$B13),C$6))","v":"AGENT"},{"$f":"IF($B13=\"\",\"\",OFFSET('Besoin Interim'!$B$7,ROWS($B$8:$B13),D$6))","v":"SOPHIAN"},{"$f":"IF($B13=\"\",\"\",OFFSET('Besoin Interim'!$B$7,ROWS($B$8:$B13),E$6))","v":"FIXE MATIN"},{"$f":"IF($B13=\"\",\"\",OFFSET('Besoin Interim'!$B$7,ROWS($B$8:$B13),F$6))","v":"FM-C01"},{"$f":"IF($B13=\"\",\"\",OFFSET('Besoin Interim'!$B$7,ROWS($B$8:$B13),G$6))","v":"2019-01-09"},{"$f":"IF($B13=\"\",\"\",OFFSET('Besoin Interim'!$B$7,ROWS($B$8:$B13),H$6))","v":"NON"},{"$f":"IF($B13=\"\",\"\",OFFSET('Besoin Interim'!$B$7,ROWS($B$8:$B13),I$6))","v":"2019-01-09"},{"$f":"IF($B13=\"\",\"\",OFFSET('Besoin Interim'!$B$7,ROWS($B$8:$B13),J$6))","v":"2019-01-12"},{"$f":"IF(AND($H13<>\"OUI\",$G13>$G$5),IF($I13=\"\",\"\",IF(AND(K$6>=$I13,K$6<=$J13),OFFSET(Calendrier!$K$3,MATCH(Prevision!$F13,Calendrier!$A$4:$A$20,0),COLUMN()-COLUMN($K:$K)),\"\")),\"\")","v":""},{"$f":"IF(AND($H13<>\"OUI\",$G13>$G$5),IF($I13=\"\",\"\",IF(AND(L$6>=$I13,L$6<=$J13),OFFSET(Calendrier!$K$3,MATCH(Prevision!$F13,Calendrier!$A$4:$A$20,0),COLUMN()-COLUMN($K:$K)),\"\")),\"\")","v":""},{"$f":"IF(AND($H13<>\"OUI\",$G13>$G$5),IF($I13=\"\",\"\",IF(AND(M$6>=$I13,M$6<=$J13),OFFSET(Calendrier!$K$3,MATCH(Prevision!$F13,Calendrier!$A$4:$A$20,0),COLUMN()-COLUMN($K:$K)),\"\")),\"\")","v":""},{"$f":"IF(AND($H13<>\"OUI\",$G13>$G$5),IF($I13=\"\",\"\",IF(AND(N$6>=$I13,N$6<=$J13),OFFSET(Calendrier!$K$3,MATCH(Prevision!$F13,Calendrier!$A$4:$A$20,0),COLUMN()-COLUMN($K:$K)),\"\")),\"\")","v":""},{"$f":"IF(AND($H13<>\"OUI\",$G13>$G$5),IF($I13=\"\",\"\",IF(AND(O$6>=$I13,O$6<=$J13),OFFSET(Calendrier!$K$3,MATCH(Prevision!$F13,Calendrier!$A$4:$A$20,0),COLUMN()-COLUMN($K:$K)),\"\")),\"\")","v":""},{"$f":"IF(AND($H13<>\"OUI\",$G13>$G$5),IF($I13=\"\",\"\",IF(AND(P$6>=$I13,P$6<=$J13),OFFSET(Calendrier!$K$3,MATCH(Prevision!$F13,Calendrier!$A$4:$A$20,0),COLUMN()-COLUMN($K:$K)),\"\")),\"\")","v":""},{"$f":"IF(AND($H13<>\"OUI\",$G13>$G$5),IF($I13=\"\",\"\",IF(AND(Q$6>=$I13,Q$6<=$J13),OFFSET(Calendrier!$K$3,MATCH(Prevision!$F13,Calendrier!$A$4:$A$20,0),COLUMN()-COLUMN($K:$K)),\"\")),\"\")","v":""},{"$f":"IF(AND($H13<>\"OUI\",$G13>$G$5),IF($I13=\"\",\"\",IF(AND(R$6>=$I13,R$6<=$J13),OFFSET(Calendrier!$K$3,MATCH(Prevision!$F13,Calendrier!$A$4:$A$20,0),COLUMN()-COLUMN($K:$K)),\"\")),\"\")","v":""},{"$f":"IF(AND($H13<>\"OUI\",$G13>$G$5),IF($I13=\"\",\"\",IF(AND(S$6>=$I13,S$6<=$J13),OFFSET(Calendrier!$K$3,MATCH(Prevision!$F13,Calendrier!$A$4:$A$20,0),COLUMN()-COLUMN($K:$K)),\"\")),\"\")","v":""},{"$f":"IF(AND($H13<>\"OUI\",$G13>$G$5),IF($I13=\"\",\"\",IF(AND(T$6>=$I13,T$6<=$J13),OFFSET(Calendrier!$K$3,MATCH(Prevision!$F13,Calendrier!$A$4:$A$20,0),COLUMN()-COLUMN($K:$K)),\"\")),\"\")","v":""},{"$f":"IF(AND($H13<>\"OUI\",$G13>$G$5),IF($I13=\"\",\"\",IF(AND(U$6>=$I13,U$6<=$J13),OFFSET(Calendrier!$K$3,MATCH(Prevision!$F13,Calendrier!$A$4:$A$20,0),COLUMN()-COLUMN($K:$K)),\"\")),\"\")","v":""},{"$f":"IF(AND($H13<>\"OUI\",$G13>$G$5),IF($I13=\"\",\"\",IF(AND(V$6>=$I13,V$6<=$J13),OFFSET(Calendrier!$K$3,MATCH(Prevision!$F13,Calendrier!$A$4:$A$20,0),COLUMN()-COLUMN($K:$K)),\"\")),\"\")","v":""},{"$f":"IF(AND($H13<>\"OUI\",$G13>$G$5),IF($I13=\"\",\"\",IF(AND(W$6>=$I13,W$6<=$J13),OFFSET(Calendrier!$K$3,MATCH(Prevision!$F13,Calendrier!$A$4:$A$20,0),COLUMN()-COLUMN($K:$K)),\"\")),\"\")","v":""},{"$f":"IF(AND($H13<>\"OUI\",$G13>$G$5),IF($I13=\"\",\"\",IF(AND(X$6>=$I13,X$6<=$J13),OFFSET(Calendrier!$K$3,MATCH(Prevision!$F13,Calendrier!$A$4:$A$20,0),COLUMN()-COLUMN($K:$K)),\"\")),\"\")","v":""},{"$f":"IF(AND($H13<>\"OUI\",$G13>$G$5),IF($I13=\"\",\"\",IF(AND(Y$6>=$I13,Y$6<=$J13),OFFSET(Calendrier!$K$3,MATCH(Prevision!$F13,Calendrier!$A$4:$A$20,0),COLUMN()-COLUMN($K:$K)),\"\")),\"\")","v":""},{"$f":"IF(AND($H13<>\"OUI\",$G13>$G$5),IF($I13=\"\",\"\",IF(AND(Z$6>=$I13,Z$6<=$J13),OFFSET(Calendrier!$K$3,MATCH(Prevision!$F13,Calendrier!$A$4:$A$20,0),COLUMN()-COLUMN($K:$K)),\"\")),\"\")","v":""},{"$f":"IF(AND($H13<>\"OUI\",$G13>$G$5),IF($I13=\"\",\"\",IF(AND(AA$6>=$I13,AA$6<=$J13),OFFSET(Calendrier!$K$3,MATCH(Prevision!$F13,Calendrier!$A$4:$A$20,0),COLUMN()-COLUMN($K:$K)),\"\")),\"\")","v":""},{"$f":"IF(AND($H13<>\"OUI\",$G13>$G$5),IF($I13=\"\",\"\",IF(AND(AB$6>=$I13,AB$6<=$J13),OFFSET(Calendrier!$K$3,MATCH(Prevision!$F13,Calendrier!$A$4:$A$20,0),COLUMN()-COLUMN($K:$K)),\"\")),\"\")","v":""},{"$f":"IF(AND($H13<>\"OUI\",$G13>$G$5),IF($I13=\"\",\"\",IF(AND(AC$6>=$I13,AC$6<=$J13),OFFSET(Calendrier!$K$3,MATCH(Prevision!$F13,Calendrier!$A$4:$A$20,0),COLUMN()-COLUMN($K:$K)),\"\")),\"\")","v":""},{"$f":"IF(AND($H13<>\"OUI\",$G13>$G$5),IF($I13=\"\",\"\",IF(AND(AD$6>=$I13,AD$6<=$J13),OFFSET(Calendrier!$K$3,MATCH(Prevision!$F13,Calendrier!$A$4:$A$20,0),COLUMN()-COLUMN($K:$K)),\"\")),\"\")","v":""},{"$f":"IF(AND($H13<>\"OUI\",$G13>$G$5),IF($I13=\"\",\"\",IF(AND(AE$6>=$I13,AE$6<=$J13),OFFSET(Calendrier!$K$3,MATCH(Prevision!$F13,Calendrier!$A$4:$A$20,0),COLUMN()-COLUMN($K:$K)),\"\")),\"\")","v":""},{"$f":"IF(AND($H13<>\"OUI\",$G13>$G$5),IF($I13=\"\",\"\",IF(AND(AF$6>=$I13,AF$6<=$J13),OFFSET(Calendrier!$K$3,MATCH(Prevision!$F13,Calendrier!$A$4:$A$20,0),COLUMN()-COLUMN($K:$K)),\"\")),\"\")","v":""},{"$f":"IF(AND($H13<>\"OUI\",$G13>$G$5),IF($I13=\"\",\"\",IF(AND(AG$6>=$I13,AG$6<=$J13),OFFSET(Calendrier!$K$3,MATCH(Prevision!$F13,Calendrier!$A$4:$A$20,0),COLUMN()-COLUMN($K:$K)),\"\")),\"\")","v":""},{"$f":"IF(AND($H13<>\"OUI\",$G13>$G$5),IF($I13=\"\",\"\",IF(AND(AH$6>=$I13,AH$6<=$J13),OFFSET(Calendrier!$K$3,MATCH(Prevision!$F13,Calendrier!$A$4:$A$20,0),COLUMN()-COLUMN($K:$K)),\"\")),\"\")","v":""},{"$f":"IF(AND($H13<>\"OUI\",$G13>$G$5),IF($I13=\"\",\"\",IF(AND(AI$6>=$I13,AI$6<=$J13),OFFSET(Calendrier!$K$3,MATCH(Prevision!$F13,Calendrier!$A$4:$A$20,0),COLUMN()-COLUMN($K:$K)),\"\")),\"\")","v":""},{"$f":"IF(AND($H13<>\"OUI\",$G13>$G$5),IF($I13=\"\",\"\",IF(AND(AJ$6>=$I13,AJ$6<=$J13),OFFSET(Calendrier!$K$3,MATCH(Prevision!$F13,Calendrier!$A$4:$A$20,0),COLUMN()-COLUMN($K:$K)),\"\")),\"\")","v":""},{"$f":"IF(AND($H13<>\"OUI\",$G13>$G$5),IF($I13=\"\",\"\",IF(AND(AK$6>=$I13,AK$6<=$J13),OFFSET(Calendrier!$K$3,MATCH(Prevision!$F13,Calendrier!$A$4:$A$20,0),COLUMN()-COLUMN($K:$K)),\"\")),\"\")","v":""},{"$f":"IF(AND($H13<>\"OUI\",$G13>$G$5),IF($I13=\"\",\"\",IF(AND(AL$6>=$I13,AL$6<=$J13),OFFSET(Calendrier!$K$3,MATCH(Prevision!$F13,Calendrier!$A$4:$A$20,0),COLUMN()-COLUMN($K:$K)),\"\")),\"\")","v":""},{"$f":"IF(AND($H13<>\"OUI\",$G13>$G$5),IF($I13=\"\",\"\",IF(AND(AM$6>=$I13,AM$6<=$J13),OFFSET(Calendrier!$K$3,MATCH(Prevision!$F13,Calendrier!$A$4:$A$20,0),COLUMN()-COLUMN($K:$K)),\"\")),\"\")","v":""},{"$f":"IF(AND($H13<>\"OUI\",$G13>$G$5),IF($I13=\"\",\"\",IF(AND(AN$6>=$I13,AN$6<=$J13),OFFSET(Calendrier!$K$3,MATCH(Prevision!$F13,Calendrier!$A$4:$A$20,0),COLUMN()-COLUMN($K:$K)),\"\")),\"\")","v":""},{"$f":"IF(AND($H13<>\"OUI\",$G13>$G$5),IF($I13=\"\",\"\",IF(AND(AO$6>=$I13,AO$6<=$J13),OFFSET(Calendrier!$K$3,MATCH(Prevision!$F13,Calendrier!$A$4:$A$20,0),COLUMN()-COLUMN($K:$K)),\"\")),\"\")","v":""},{"$f":"IF(AND($H13<>\"OUI\",$G13>$G$5),IF($I13=\"\",\"\",IF(AND(AP$6>=$I13,AP$6<=$J13),OFFSET(Calendrier!$K$3,MATCH(Prevision!$F13,Calendrier!$A$4:$A$20,0),COLUMN()-COLUMN($K:$K)),\"\")),\"\")","v":""},{"$f":"IF(AND($H13<>\"OUI\",$G13>$G$5),IF($I13=\"\",\"\",IF(AND(AQ$6>=$I13,AQ$6<=$J13),OFFSET(Calendrier!$K$3,MATCH(Prevision!$F13,Calendrier!$A$4:$A$20,0),COLUMN()-COLUMN($K:$K)),\"\")),\"\")","v":""},{"$f":"IF(AND($H13<>\"OUI\",$G13>$G$5),IF($I13=\"\",\"\",IF(AND(AR$6>=$I13,AR$6<=$J13),OFFSET(Calendrier!$K$3,MATCH(Prevision!$F13,Calendrier!$A$4:$A$20,0),COLUMN()-COLUMN($K:$K)),\"\")),\"\")","v":""},{"$f":"IF(AND($H13<>\"OUI\",$G13>$G$5),IF($I13=\"\",\"\",IF(AND(AS$6>=$I13,AS$6<=$J13),OFFSET(Calendrier!$K$3,MATCH(Prevision!$F13,Calendrier!$A$4:$A$20,0),COLUMN()-COLUMN($K:$K)),\"\")),\"\")","v":""},{"$f":"IF(AND($H13<>\"OUI\",$G13>$G$5),IF($I13=\"\",\"\",IF(AND(AT$6>=$I13,AT$6<=$J13),OFFSET(Calendrier!$K$3,MATCH(Prevision!$F13,Calendrier!$A$4:$A$20,0),COLUMN()-COLUMN($K:$K)),\"\")),\"\")","v":""},{"$f":"IF(AND($H13<>\"OUI\",$G13>$G$5),IF($I13=\"\",\"\",IF(AND(AU$6>=$I13,AU$6<=$J13),OFFSET(Calendrier!$K$3,MATCH(Prevision!$F13,Calendrier!$A$4:$A$20,0),COLUMN()-COLUMN($K:$K)),\"\")),\"\")","v":""},{"$f":"IF(AND($H13<>\"OUI\",$G13>$G$5),IF($I13=\"\",\"\",IF(AND(AV$6>=$I13,AV$6<=$J13),OFFSET(Calendrier!$K$3,MATCH(Prevision!$F13,Calendrier!$A$4:$A$20,0),COLUMN()-COLUMN($K:$K)),\"\")),\"\")","v":""},{"$f":"IF(AND($H13<>\"OUI\",$G13>$G$5),IF($I13=\"\",\"\",IF(AND(AW$6>=$I13,AW$6<=$J13),OFFSET(Calendrier!$K$3,MATCH(Prevision!$F13,Calendrier!$A$4:$A$20,0),COLUMN()-COLUMN($K:$K)),\"\")),\"\")","v":""},{"$f":"IF(AND($H13<>\"OUI\",$G13>$G$5),IF($I13=\"\",\"\",IF(AND(AX$6>=$I13,AX$6<=$J13),OFFSET(Calendrier!$K$3,MATCH(Prevision!$F13,Calendrier!$A$4:$A$20,0),COLUMN()-COLUMN($K:$K)),\"\")),\"\")","v":""},{"$f":"IF(AND($H13<>\"OUI\",$G13>$G$5),IF($I13=\"\",\"\",IF(AND(AY$6>=$I13,AY$6<=$J13),OFFSET(Calendrier!$K$3,MATCH(Prevision!$F13,Calendrier!$A$4:$A$20,0),COLUMN()-COLUMN($K:$K)),\"\")),\"\")","v":""},{"$f":"IF(AND($H13<>\"OUI\",$G13>$G$5),IF($I13=\"\",\"\",IF(AND(AZ$6>=$I13,AZ$6<=$J13),OFFSET(Calendrier!$K$3,MATCH(Prevision!$F13,Calendrier!$A$4:$A$20,0),COLUMN()-COLUMN($K:$K)),\"\")),\"\")","v":""},{"$f":"IF(AND($H13<>\"OUI\",$G13>$G$5),IF($I13=\"\",\"\",IF(AND(BA$6>=$I13,BA$6<=$J13),OFFSET(Calendrier!$K$3,MATCH(Prevision!$F13,Calendrier!$A$4:$A$20,0),COLUMN()-COLUMN($K:$K)),\"\")),\"\")","v":""},{"$f":"IF(AND($H13<>\"OUI\",$G13>$G$5),IF($I13=\"\",\"\",IF(AND(BB$6>=$I13,BB$6<=$J13),OFFSET(Calendrier!$K$3,MATCH(Prevision!$F13,Calendrier!$A$4:$A$20,0),COLUMN()-COLUMN($K:$K)),\"\")),\"\")","v":""},{"$f":"IF(AND($H13<>\"OUI\",$G13>$G$5),IF($I13=\"\",\"\",IF(AND(BC$6>=$I13,BC$6<=$J13),OFFSET(Calendrier!$K$3,MATCH(Prevision!$F13,Calendrier!$A$4:$A$20,0),COLUMN()-COLUMN($K:$K)),\"\")),\"\")","v":""},{"$f":"IF(AND($H13<>\"OUI\",$G13>$G$5),IF($I13=\"\",\"\",IF(AND(BD$6>=$I13,BD$6<=$J13),OFFSET(Calendrier!$K$3,MATCH(Prevision!$F13,Calendrier!$A$4:$A$20,0),COLUMN()-COLUMN($K:$K)),\"\")),\"\")","v":""},{"$f":"IF(AND($H13<>\"OUI\",$G13>$G$5),IF($I13=\"\",\"\",IF(AND(BE$6>=$I13,BE$6<=$J13),OFFSET(Calendrier!$K$3,MATCH(Prevision!$F13,Calendrier!$A$4:$A$20,0),COLUMN()-COLUMN($K:$K)),\"\")),\"\")","v":""},{"$f":"IF(AND($H13<>\"OUI\",$G13>$G$5),IF($I13=\"\",\"\",IF(AND(BF$6>=$I13,BF$6<=$J13),OFFSET(Calendrier!$K$3,MATCH(Prevision!$F13,Calendrier!$A$4:$A$20,0),COLUMN()-COLUMN($K:$K)),\"\")),\"\")","v":""},{"$f":"IF(AND($H13<>\"OUI\",$G13>$G$5),IF($I13=\"\",\"\",IF(AND(BG$6>=$I13,BG$6<=$J13),OFFSET(Calendrier!$K$3,MATCH(Prevision!$F13,Calendrier!$A$4:$A$20,0),COLUMN()-COLUMN($K:$K)),\"\")),\"\")","v":""},{"$f":"IF(AND($H13<>\"OUI\",$G13>$G$5),IF($I13=\"\",\"\",IF(AND(BH$6>=$I13,BH$6<=$J13),OFFSET(Calendrier!$K$3,MATCH(Prevision!$F13,Calendrier!$A$4:$A$20,0),COLUMN()-COLUMN($K:$K)),\"\")),\"\")","v":""},{"$f":"IF(AND($H13<>\"OUI\",$G13>$G$5),IF($I13=\"\",\"\",IF(AND(BI$6>=$I13,BI$6<=$J13),OFFSET(Calendrier!$K$3,MATCH(Prevision!$F13,Calendrier!$A$4:$A$20,0),COLUMN()-COLUMN($K:$K)),\"\")),\"\")","v":""},{"$f":"IF(AND($H13<>\"OUI\",$G13>$G$5),IF($I13=\"\",\"\",IF(AND(BJ$6>=$I13,BJ$6<=$J13),OFFSET(Calendrier!$K$3,MATCH(Prevision!$F13,Calendrier!$A$4:$A$20,0),COLUMN()-COLUMN($K:$K)),\"\")),\"\")","v":""},{"$f":"IF(AND($H13<>\"OUI\",$G13>$G$5),IF($I13=\"\",\"\",IF(AND(BK$6>=$I13,BK$6<=$J13),OFFSET(Calendrier!$K$3,MATCH(Prevision!$F13,Calendrier!$A$4:$A$20,0),COLUMN()-COLUMN($K:$K)),\"\")),\"\")","v":""},{"$f":"IF(AND($H13<>\"OUI\",$G13>$G$5),IF($I13=\"\",\"\",IF(AND(BL$6>=$I13,BL$6<=$J13),OFFSET(Calendrier!$K$3,MATCH(Prevision!$F13,Calendrier!$A$4:$A$20,0),COLUMN()-COLUMN($K:$K)),\"\")),\"\")","v":""},{"$f":"IF(AND($H13<>\"OUI\",$G13>$G$5),IF($I13=\"\",\"\",IF(AND(BM$6>=$I13,BM$6<=$J13),OFFSET(Calendrier!$K$3,MATCH(Prevision!$F13,Calendrier!$A$4:$A$20,0),COLUMN()-COLUMN($K:$K)),\"\")),\"\")","v":""},{"$f":"IF(AND($H13<>\"OUI\",$G13>$G$5),IF($I13=\"\",\"\",IF(AND(BN$6>=$I13,BN$6<=$J13),OFFSET(Calendrier!$K$3,MATCH(Prevision!$F13,Calendrier!$A$4:$A$20,0),COLUMN()-COLUMN($K:$K)),\"\")),\"\")","v":""},{"$f":"IF(AND($H13<>\"OUI\",$G13>$G$5),IF($I13=\"\",\"\",IF(AND(BO$6>=$I13,BO$6<=$J13),OFFSET(Calendrier!$K$3,MATCH(Prevision!$F13,Calendrier!$A$4:$A$20,0),COLUMN()-COLUMN($K:$K)),\"\")),\"\")","v":""},{"$f":"IF(AND($H13<>\"OUI\",$G13>$G$5),IF($I13=\"\",\"\",IF(AND(BP$6>=$I13,BP$6<=$J13),OFFSET(Calendrier!$K$3,MATCH(Prevision!$F13,Calendrier!$A$4:$A$20,0),COLUMN()-COLUMN($K:$K)),\"\")),\"\")","v":""},{"$f":"IF(AND($H13<>\"OUI\",$G13>$G$5),IF($I13=\"\",\"\",IF(AND(BQ$6>=$I13,BQ$6<=$J13),OFFSET(Calendrier!$K$3,MATCH(Prevision!$F13,Calendrier!$A$4:$A$20,0),COLUMN()-COLUMN($K:$K)),\"\")),\"\")","v":""},{"$f":"IF(AND($H13<>\"OUI\",$G13>$G$5),IF($I13=\"\",\"\",IF(AND(BR$6>=$I13,BR$6<=$J13),OFFSET(Calendrier!$K$3,MATCH(Prevision!$F13,Calendrier!$A$4:$A$20,0),COLUMN()-COLUMN($K:$K)),\"\")),\"\")","v":""},{"$f":"IF(AND($H13<>\"OUI\",$G13>$G$5),IF($I13=\"\",\"\",IF(AND(BS$6>=$I13,BS$6<=$J13),OFFSET(Calendrier!$K$3,MATCH(Prevision!$F13,Calendrier!$A$4:$A$20,0),COLUMN()-COLUMN($K:$K)),\"\")),\"\")","v":""},{"$f":"IF(AND($H13<>\"OUI\",$G13>$G$5),IF($I13=\"\",\"\",IF(AND(BT$6>=$I13,BT$6<=$J13),OFFSET(Calendrier!$K$3,MATCH(Prevision!$F13,Calendrier!$A$4:$A$20,0),COLUMN()-COLUMN($K:$K)),\"\")),\"\")","v":""},{"$f":"IF(AND($H13<>\"OUI\",$G13>$G$5),IF($I13=\"\",\"\",IF(AND(BU$6>=$I13,BU$6<=$J13),OFFSET(Calendrier!$K$3,MATCH(Prevision!$F13,Calendrier!$A$4:$A$20,0),COLUMN()-COLUMN($K:$K)),\"\")),\"\")","v":""},{"$f":"IF(AND($H13<>\"OUI\",$G13>$G$5),IF($I13=\"\",\"\",IF(AND(BV$6>=$I13,BV$6<=$J13),OFFSET(Calendrier!$K$3,MATCH(Prevision!$F13,Calendrier!$A$4:$A$20,0),COLUMN()-COLUMN($K:$K)),\"\")),\"\")","v":""},{"$f":"IF(AND($H13<>\"OUI\",$G13>$G$5),IF($I13=\"\",\"\",IF(AND(BW$6>=$I13,BW$6<=$J13),OFFSET(Calendrier!$K$3,MATCH(Prevision!$F13,Calendrier!$A$4:$A$20,0),COLUMN()-COLUMN($K:$K)),\"\")),\"\")","v":""},{"$f":"IF(AND($H13<>\"OUI\",$G13>$G$5),IF($I13=\"\",\"\",IF(AND(BX$6>=$I13,BX$6<=$J13),OFFSET(Calendrier!$K$3,MATCH(Prevision!$F13,Calendrier!$A$4:$A$20,0),COLUMN()-COLUMN($K:$K)),\"\")),\"\")","v":""},{"$f":"IF(AND($H13<>\"OUI\",$G13>$G$5),IF($I13=\"\",\"\",IF(AND(BY$6>=$I13,BY$6<=$J13),OFFSET(Calendrier!$K$3,MATCH(Prevision!$F13,Calendrier!$A$4:$A$20,0),COLUMN()-COLUMN($K:$K)),\"\")),\"\")","v":""},{"$f":"IF(AND($H13<>\"OUI\",$G13>$G$5),IF($I13=\"\",\"\",IF(AND(BZ$6>=$I13,BZ$6<=$J13),OFFSET(Calendrier!$K$3,MATCH(Prevision!$F13,Calendrier!$A$4:$A$20,0),COLUMN()-COLUMN($K:$K)),\"\")),\"\")","v":""},{"$f":"IF(AND($H13<>\"OUI\",$G13>$G$5),IF($I13=\"\",\"\",IF(AND(CA$6>=$I13,CA$6<=$J13),OFFSET(Calendrier!$K$3,MATCH(Prevision!$F13,Calendrier!$A$4:$A$20,0),COLUMN()-COLUMN($K:$K)),\"\")),\"\")","v":""},{"$f":"IF(AND($H13<>\"OUI\",$G13>$G$5),IF($I13=\"\",\"\",IF(AND(CB$6>=$I13,CB$6<=$J13),OFFSET(Calendrier!$K$3,MATCH(Prevision!$F13,Calendrier!$A$4:$A$20,0),COLUMN()-COLUMN($K:$K)),\"\")),\"\")","v":""},{"$f":"IF(AND($H13<>\"OUI\",$G13>$G$5),IF($I13=\"\",\"\",IF(AND(CC$6>=$I13,CC$6<=$J13),OFFSET(Calendrier!$K$3,MATCH(Prevision!$F13,Calendrier!$A$4:$A$20,0),COLUMN()-COLUMN($K:$K)),\"\")),\"\")","v":""},{"$f":"IF(AND($H13<>\"OUI\",$G13>$G$5),IF($I13=\"\",\"\",IF(AND(CD$6>=$I13,CD$6<=$J13),OFFSET(Calendrier!$K$3,MATCH(Prevision!$F13,Calendrier!$A$4:$A$20,0),COLUMN()-COLUMN($K:$K)),\"\")),\"\")","v":""},{"$f":"IF(AND($H13<>\"OUI\",$G13>$G$5),IF($I13=\"\",\"\",IF(AND(CE$6>=$I13,CE$6<=$J13),OFFSET(Calendrier!$K$3,MATCH(Prevision!$F13,Calendrier!$A$4:$A$20,0),COLUMN()-COLUMN($K:$K)),\"\")),\"\")","v":""},{"$f":"IF(AND($H13<>\"OUI\",$G13>$G$5),IF($I13=\"\",\"\",IF(AND(CF$6>=$I13,CF$6<=$J13),OFFSET(Calendrier!$K$3,MATCH(Prevision!$F13,Calendrier!$A$4:$A$20,0),COLUMN()-COLUMN($K:$K)),\"\")),\"\")","v":""},{"$f":"IF(AND($H13<>\"OUI\",$G13>$G$5),IF($I13=\"\",\"\",IF(AND(CG$6>=$I13,CG$6<=$J13),OFFSET(Calendrier!$K$3,MATCH(Prevision!$F13,Calendrier!$A$4:$A$20,0),COLUMN()-COLUMN($K:$K)),\"\")),\"\")","v":""},{"$f":"IF(AND($H13<>\"OUI\",$G13>$G$5),IF($I13=\"\",\"\",IF(AND(CH$6>=$I13,CH$6<=$J13),OFFSET(Calendrier!$K$3,MATCH(Prevision!$F13,Calendrier!$A$4:$A$20,0),COLUMN()-COLUMN($K:$K)),\"\")),\"\")","v":""},{"$f":"IF(AND($H13<>\"OUI\",$G13>$G$5),IF($I13=\"\",\"\",IF(AND(CI$6>=$I13,CI$6<=$J13),OFFSET(Calendrier!$K$3,MATCH(Prevision!$F13,Calendrier!$A$4:$A$20,0),COLUMN()-COLUMN($K:$K)),\"\")),\"\")","v":""},{"$f":"IF(AND($H13<>\"OUI\",$G13>$G$5),IF($I13=\"\",\"\",IF(AND(CJ$6>=$I13,CJ$6<=$J13),OFFSET(Calendrier!$K$3,MATCH(Prevision!$F13,Calendrier!$A$4:$A$20,0),COLUMN()-COLUMN($K:$K)),\"\")),\"\")","v":""},{"$f":"IF(AND($H13<>\"OUI\",$G13>$G$5),IF($I13=\"\",\"\",IF(AND(CK$6>=$I13,CK$6<=$J13),OFFSET(Calendrier!$K$3,MATCH(Prevision!$F13,Calendrier!$A$4:$A$20,0),COLUMN()-COLUMN($K:$K)),\"\")),\"\")","v":""},{"$f":"IF(AND($H13<>\"OUI\",$G13>$G$5),IF($I13=\"\",\"\",IF(AND(CL$6>=$I13,CL$6<=$J13),OFFSET(Calendrier!$K$3,MATCH(Prevision!$F13,Calendrier!$A$4:$A$20,0),COLUMN()-COLUMN($K:$K)),\"\")),\"\")","v":""},{"$f":"IF(AND($H13<>\"OUI\",$G13>$G$5),IF($I13=\"\",\"\",IF(AND(CM$6>=$I13,CM$6<=$J13),OFFSET(Calendrier!$K$3,MATCH(Prevision!$F13,Calendrier!$A$4:$A$20,0),COLUMN()-COLUMN($K:$K)),\"\")),\"\")","v":""},{"$f":"IF(AND($H13<>\"OUI\",$G13>$G$5),IF($I13=\"\",\"\",IF(AND(CN$6>=$I13,CN$6<=$J13),OFFSET(Calendrier!$K$3,MATCH(Prevision!$F13,Calendrier!$A$4:$A$20,0),COLUMN()-COLUMN($K:$K)),\"\")),\"\")","v":""},{"$f":"IF(AND($H13<>\"OUI\",$G13>$G$5),IF($I13=\"\",\"\",IF(AND(CO$6>=$I13,CO$6<=$J13),OFFSET(Calendrier!$K$3,MATCH(Prevision!$F13,Calendrier!$A$4:$A$20,0),COLUMN()-COLUMN($K:$K)),\"\")),\"\")","v":""},{"$f":"IF(AND($H13<>\"OUI\",$G13>$G$5),IF($I13=\"\",\"\",IF(AND(CP$6>=$I13,CP$6<=$J13),OFFSET(Calendrier!$K$3,MATCH(Prevision!$F13,Calendrier!$A$4:$A$20,0),COLUMN()-COLUMN($K:$K)),\"\")),\"\")","v":""},{"$f":"IF(AND($H13<>\"OUI\",$G13>$G$5),IF($I13=\"\",\"\",IF(AND(CQ$6>=$I13,CQ$6<=$J13),OFFSET(Calendrier!$K$3,MATCH(Prevision!$F13,Calendrier!$A$4:$A$20,0),COLUMN()-COLUMN($K:$K)),\"\")),\"\")","v":""},{"$f":"IF(AND($H13<>\"OUI\",$G13>$G$5),IF($I13=\"\",\"\",IF(AND(CR$6>=$I13,CR$6<=$J13),OFFSET(Calendrier!$K$3,MATCH(Prevision!$F13,Calendrier!$A$4:$A$20,0),COLUMN()-COLUMN($K:$K)),\"\")),\"\")","v":""},{"$f":"IF(AND($H13<>\"OUI\",$G13>$G$5),IF($I13=\"\",\"\",IF(AND(CS$6>=$I13,CS$6<=$J13),OFFSET(Calendrier!$K$3,MATCH(Prevision!$F13,Calendrier!$A$4:$A$20,0),COLUMN()-COLUMN($K:$K)),\"\")),\"\")","v":""},{"$f":"IF(AND($H13<>\"OUI\",$G13>$G$5),IF($I13=\"\",\"\",IF(AND(CT$6>=$I13,CT$6<=$J13),OFFSET(Calendrier!$K$3,MATCH(Prevision!$F13,Calendrier!$A$4:$A$20,0),COLUMN()-COLUMN($K:$K)),\"\")),\"\")","v":""},{"$f":"IF(AND($H13<>\"OUI\",$G13>$G$5),IF($I13=\"\",\"\",IF(AND(CU$6>=$I13,CU$6<=$J13),OFFSET(Calendrier!$K$3,MATCH(Prevision!$F13,Calendrier!$A$4:$A$20,0),COLUMN()-COLUMN($K:$K)),\"\")),\"\")","v":""},{"$f":"IF(AND($H13<>\"OUI\",$G13>$G$5),IF($I13=\"\",\"\",IF(AND(CV$6>=$I13,CV$6<=$J13),OFFSET(Calendrier!$K$3,MATCH(Prevision!$F13,Calendrier!$A$4:$A$20,0),COLUMN()-COLUMN($K:$K)),\"\")),\"\")","v":""},{"$f":"IF(AND($H13<>\"OUI\",$G13>$G$5),IF($I13=\"\",\"\",IF(AND(CW$6>=$I13,CW$6<=$J13),OFFSET(Calendrier!$K$3,MATCH(Prevision!$F13,Calendrier!$A$4:$A$20,0),COLUMN()-COLUMN($K:$K)),\"\")),\"\")","v":""},{"$f":"IF(AND($H13<>\"OUI\",$G13>$G$5),IF($I13=\"\",\"\",IF(AND(CX$6>=$I13,CX$6<=$J13),OFFSET(Calendrier!$K$3,MATCH(Prevision!$F13,Calendrier!$A$4:$A$20,0),COLUMN()-COLUMN($K:$K)),\"\")),\"\")","v":""},{"$f":"IF(AND($H13<>\"OUI\",$G13>$G$5),IF($I13=\"\",\"\",IF(AND(CY$6>=$I13,CY$6<=$J13),OFFSET(Calendrier!$K$3,MATCH(Prevision!$F13,Calendrier!$A$4:$A$20,0),COLUMN()-COLUMN($K:$K)),\"\")),\"\")","v":""},{"$f":"IF(AND($H13<>\"OUI\",$G13>$G$5),IF($I13=\"\",\"\",IF(AND(CZ$6>=$I13,CZ$6<=$J13),OFFSET(Calendrier!$K$3,MATCH(Prevision!$F13,Calendrier!$A$4:$A$20,0),COLUMN()-COLUMN($K:$K)),\"\")),\"\")","v":""},{"$f":"IF(AND($H13<>\"OUI\",$G13>$G$5),IF($I13=\"\",\"\",IF(AND(DA$6>=$I13,DA$6<=$J13),OFFSET(Calendrier!$K$3,MATCH(Prevision!$F13,Calendrier!$A$4:$A$20,0),COLUMN()-COLUMN($K:$K)),\"\")),\"\")","v":""},{"$f":"IF(AND($H13<>\"OUI\",$G13>$G$5),IF($I13=\"\",\"\",IF(AND(DB$6>=$I13,DB$6<=$J13),OFFSET(Calendrier!$K$3,MATCH(Prevision!$F13,Calendrier!$A$4:$A$20,0),COLUMN()-COLUMN($K:$K)),\"\")),\"\")","v":""},{"$f":"IF(AND($H13<>\"OUI\",$G13>$G$5),IF($I13=\"\",\"\",IF(AND(DC$6>=$I13,DC$6<=$J13),OFFSET(Calendrier!$K$3,MATCH(Prevision!$F13,Calendrier!$A$4:$A$20,0),COLUMN()-COLUMN($K:$K)),\"\")),\"\")","v":""},{"$f":"IF(AND($H13<>\"OUI\",$G13>$G$5),IF($I13=\"\",\"\",IF(AND(DD$6>=$I13,DD$6<=$J13),OFFSET(Calendrier!$K$3,MATCH(Prevision!$F13,Calendrier!$A$4:$A$20,0),COLUMN()-COLUMN($K:$K)),\"\")),\"\")","v":""},{"$f":"IF(AND($H13<>\"OUI\",$G13>$G$5),IF($I13=\"\",\"\",IF(AND(DE$6>=$I13,DE$6<=$J13),OFFSET(Calendrier!$K$3,MATCH(Prevision!$F13,Calendrier!$A$4:$A$20,0),COLUMN()-COLUMN($K:$K)),\"\")),\"\")","v":""},{"$f":"IF(AND($H13<>\"OUI\",$G13>$G$5),IF($I13=\"\",\"\",IF(AND(DF$6>=$I13,DF$6<=$J13),OFFSET(Calendrier!$K$3,MATCH(Prevision!$F13,Calendrier!$A$4:$A$20,0),COLUMN()-COLUMN($K:$K)),\"\")),\"\")","v":""},{"$f":"IF(AND($H13<>\"OUI\",$G13>$G$5),IF($I13=\"\",\"\",IF(AND(DG$6>=$I13,DG$6<=$J13),OFFSET(Calendrier!$K$3,MATCH(Prevision!$F13,Calendrier!$A$4:$A$20,0),COLUMN()-COLUMN($K:$K)),\"\")),\"\")","v":""},{"$f":"IF(AND($H13<>\"OUI\",$G13>$G$5),IF($I13=\"\",\"\",IF(AND(DH$6>=$I13,DH$6<=$J13),OFFSET(Calendrier!$K$3,MATCH(Prevision!$F13,Calendrier!$A$4:$A$20,0),COLUMN()-COLUMN($K:$K)),\"\")),\"\")","v":""},{"$f":"IF(AND($H13<>\"OUI\",$G13>$G$5),IF($I13=\"\",\"\",IF(AND(DI$6>=$I13,DI$6<=$J13),OFFSET(Calendrier!$K$3,MATCH(Prevision!$F13,Calendrier!$A$4:$A$20,0),COLUMN()-COLUMN($K:$K)),\"\")),\"\")","v":""},{"$f":"IF(AND($H13<>\"OUI\",$G13>$G$5),IF($I13=\"\",\"\",IF(AND(DJ$6>=$I13,DJ$6<=$J13),OFFSET(Calendrier!$K$3,MATCH(Prevision!$F13,Calendrier!$A$4:$A$20,0),COLUMN()-COLUMN($K:$K)),\"\")),\"\")","v":""},{"$f":"IF(AND($H13<>\"OUI\",$G13>$G$5),IF($I13=\"\",\"\",IF(AND(DK$6>=$I13,DK$6<=$J13),OFFSET(Calendrier!$K$3,MATCH(Prevision!$F13,Calendrier!$A$4:$A$20,0),COLUMN()-COLUMN($K:$K)),\"\")),\"\")","v":""},{"$f":"IF(AND($H13<>\"OUI\",$G13>$G$5),IF($I13=\"\",\"\",IF(AND(DL$6>=$I13,DL$6<=$J13),OFFSET(Calendrier!$K$3,MATCH(Prevision!$F13,Calendrier!$A$4:$A$20,0),COLUMN()-COLUMN($K:$K)),\"\")),\"\")","v":""},{"$f":"IF(AND($H13<>\"OUI\",$G13>$G$5),IF($I13=\"\",\"\",IF(AND(DM$6>=$I13,DM$6<=$J13),OFFSET(Calendrier!$K$3,MATCH(Prevision!$F13,Calendrier!$A$4:$A$20,0),COLUMN()-COLUMN($K:$K)),\"\")),\"\")","v":""},{"$f":"IF(AND($H13<>\"OUI\",$G13>$G$5),IF($I13=\"\",\"\",IF(AND(DN$6>=$I13,DN$6<=$J13),OFFSET(Calendrier!$K$3,MATCH(Prevision!$F13,Calendrier!$A$4:$A$20,0),COLUMN()-COLUMN($K:$K)),\"\")),\"\")","v":""},{"$f":"IF(AND($H13<>\"OUI\",$G13>$G$5),IF($I13=\"\",\"\",IF(AND(DO$6>=$I13,DO$6<=$J13),OFFSET(Calendrier!$K$3,MATCH(Prevision!$F13,Calendrier!$A$4:$A$20,0),COLUMN()-COLUMN($K:$K)),\"\")),\"\")","v":""},{"$f":"IF(AND($H13<>\"OUI\",$G13>$G$5),IF($I13=\"\",\"\",IF(AND(DP$6>=$I13,DP$6<=$J13),OFFSET(Calendrier!$K$3,MATCH(Prevision!$F13,Calendrier!$A$4:$A$20,0),COLUMN()-COLUMN($K:$K)),\"\")),\"\")","v":""},{"$f":"IF(AND($H13<>\"OUI\",$G13>$G$5),IF($I13=\"\",\"\",IF(AND(DQ$6>=$I13,DQ$6<=$J13),OFFSET(Calendrier!$K$3,MATCH(Prevision!$F13,Calendrier!$A$4:$A$20,0),COLUMN()-COLUMN($K:$K)),\"\")),\"\")","v":""},{"$f":"IF(AND($H13<>\"OUI\",$G13>$G$5),IF($I13=\"\",\"\",IF(AND(DR$6>=$I13,DR$6<=$J13),OFFSET(Calendrier!$K$3,MATCH(Prevision!$F13,Calendrier!$A$4:$A$20,0),COLUMN()-COLUMN($K:$K)),\"\")),\"\")","v":""},{"$f":"IF(AND($H13<>\"OUI\",$G13>$G$5),IF($I13=\"\",\"\",IF(AND(DS$6>=$I13,DS$6<=$J13),OFFSET(Calendrier!$K$3,MATCH(Prevision!$F13,Calendrier!$A$4:$A$20,0),COLUMN()-COLUMN($K:$K)),\"\")),\"\")","v":""},{"$f":"IF(AND($H13<>\"OUI\",$G13>$G$5),IF($I13=\"\",\"\",IF(AND(DT$6>=$I13,DT$6<=$J13),OFFSET(Calendrier!$K$3,MATCH(Prevision!$F13,Calendrier!$A$4:$A$20,0),COLUMN()-COLUMN($K:$K)),\"\")),\"\")","v":""},{"$f":"IF(AND($H13<>\"OUI\",$G13>$G$5),IF($I13=\"\",\"\",IF(AND(DU$6>=$I13,DU$6<=$J13),OFFSET(Calendrier!$K$3,MATCH(Prevision!$F13,Calendrier!$A$4:$A$20,0),COLUMN()-COLUMN($K:$K)),\"\")),\"\")","v":""},{"$f":"IF(AND($H13<>\"OUI\",$G13>$G$5),IF($I13=\"\",\"\",IF(AND(DV$6>=$I13,DV$6<=$J13),OFFSET(Calendrier!$K$3,MATCH(Prevision!$F13,Calendrier!$A$4:$A$20,0),COLUMN()-COLUMN($K:$K)),\"\")),\"\")","v":""},{"$f":"IF(AND($H13<>\"OUI\",$G13>$G$5),IF($I13=\"\",\"\",IF(AND(DW$6>=$I13,DW$6<=$J13),OFFSET(Calendrier!$K$3,MATCH(Prevision!$F13,Calendrier!$A$4:$A$20,0),COLUMN()-COLUMN($K:$K)),\"\")),\"\")","v":""},{"$f":"IF(AND($H13<>\"OUI\",$G13>$G$5),IF($I13=\"\",\"\",IF(AND(DX$6>=$I13,DX$6<=$J13),OFFSET(Calendrier!$K$3,MATCH(Prevision!$F13,Calendrier!$A$4:$A$20,0),COLUMN()-COLUMN($K:$K)),\"\")),\"\")","v":""},{"$f":"IF(AND($H13<>\"OUI\",$G13>$G$5),IF($I13=\"\",\"\",IF(AND(DY$6>=$I13,DY$6<=$J13),OFFSET(Calendrier!$K$3,MATCH(Prevision!$F13,Calendrier!$A$4:$A$20,0),COLUMN()-COLUMN($K:$K)),\"\")),\"\")","v":""},{"$f":"IF(AND($H13<>\"OUI\",$G13>$G$5),IF($I13=\"\",\"\",IF(AND(DZ$6>=$I13,DZ$6<=$J13),OFFSET(Calendrier!$K$3,MATCH(Prevision!$F13,Calendrier!$A$4:$A$20,0),COLUMN()-COLUMN($K:$K)),\"\")),\"\")","v":""}]
[null,{"$f":"IF(OFFSET('Besoin Interim'!$B$7,ROWS($B$8:$B14),0)=\"\",\"\",OFFSET('Besoin Interim'!$B$7,ROWS($B$8:$B14),0))","v":"INT_14"},{"$f":"IF($B14=\"\",\"\",OFFSET('Besoin Interim'!$B$7,ROWS($B$8:$B14),C$6))","v":"AGENT"},{"$f":"IF($B14=\"\",\"\",OFFSET('Besoin Interim'!$B$7,ROWS($B$8:$B14),D$6))","v":"Haingohasina"},{"$f":"IF($B14=\"\",\"\",OFFSET('Besoin Interim'!$B$7,ROWS($B$8:$B14),E$6))","v":"FIXE MATIN"},{"$f":"IF($B14=\"\",\"\",OFFSET('Besoin Interim'!$B$7,ROWS($B$8:$B14),F$6))","v":"FM-C01-S2"},{"$f":"IF($B14=\"\",\"\",OFFSET('Besoin Interim'!$B$7,ROWS($B$8:$B14),G$6))","v":"2019-01-09"},{"$f":"IF($B14=\"\",\"\",OFFSET('Besoin Interim'!$B$7,ROWS($B$8:$B14),H$6))","v":"NON"},{"$f":"IF($B14=\"\",\"\",OFFSET('Besoin Interim'!$B$7,ROWS($B$8:$B14),I$6))","v":"2019-01-09"},{"$f":"IF($B14=\"\",\"\",OFFSET('Besoin Interim'!$B$7,ROWS($B$8:$B14),J$6))","v":"2019-01-15"},{"$f":"IF(AND($H14<>\"OUI\",$G14>$G$5),IF($I14=\"\",\"\",IF(AND(K$6>=$I14,K$6<=$J14),OFFSET(Calendrier!$K$3,MATCH(Prevision!$F14,Calendrier!$A$4:$A$20,0),COLUMN()-COLUMN($K:$K)),\"\")),\"\")","v":""},{"$f":"IF(AND($H14<>\"OUI\",$G14>$G$5),IF($I14=\"\",\"\",IF(AND(L$6>=$I14,L$6<=$J14),OFFSET(Calendrier!$K$3,MATCH(Prevision!$F14,Calendrier!$A$4:$A$20,0),COLUMN()-COLUMN($K:$K)),\"\")),\"\")","v":""},{"$f":"IF(AND($H14<>\"OUI\",$G14>$G$5),IF($I14=\"\",\"\",IF(AND(M$6>=$I14,M$6<=$J14),OFFSET(Calendrier!$K$3,MATCH(Prevision!$F14,Calendrier!$A$4:$A$20,0),COLUMN()-COLUMN($K:$K)),\"\")),\"\")","v":""},{"$f":"IF(AND($H14<>\"OUI\",$G14>$G$5),IF($I14=\"\",\"\",IF(AND(N$6>=$I14,N$6<=$J14),OFFSET(Calendrier!$K$3,MATCH(Prevision!$F14,Calendrier!$A$4:$A$20,0),COLUMN()-COLUMN($K:$K)),\"\")),\"\")","v":""},{"$f":"IF(AND($H14<>\"OUI\",$G14>$G$5),IF($I14=\"\",\"\",IF(AND(O$6>=$I14,O$6<=$J14),OFFSET(Calendrier!$K$3,MATCH(Prevision!$F14,Calendrier!$A$4:$A$20,0),COLUMN()-COLUMN($K:$K)),\"\")),\"\")","v":""},{"$f":"IF(AND($H14<>\"OUI\",$G14>$G$5),IF($I14=\"\",\"\",IF(AND(P$6>=$I14,P$6<=$J14),OFFSET(Calendrier!$K$3,MATCH(Prevision!$F14,Calendrier!$A$4:$A$20,0),COLUMN()-COLUMN($K:$K)),\"\")),\"\")","v":""},{"$f":"IF(AND($H14<>\"OUI\",$G14>$G$5),IF($I14=\"\",\"\",IF(AND(Q$6>=$I14,Q$6<=$J14),OFFSET(Calendrier!$K$3,MATCH(Prevision!$F14,Calendrier!$A$4:$A$20,0),COLUMN()-COLUMN($K:$K)),\"\")),\"\")","v":""},{"$f":"IF(AND($H14<>\"OUI\",$G14>$G$5),IF($I14=\"\",\"\",IF(AND(R$6>=$I14,R$6<=$J14),OFFSET(Calendrier!$K$3,MATCH(Prevision!$F14,Calendrier!$A$4:$A$20,0),COLUMN()-COLUMN($K:$K)),\"\")),\"\")","v":""},{"$f":"IF(AND($H14<>\"OUI\",$G14>$G$5),IF($I14=\"\",\"\",IF(AND(S$6>=$I14,S$6<=$J14),OFFSET(Calendrier!$K$3,MATCH(Prevision!$F14,Calendrier!$A$4:$A$20,0),COLUMN()-COLUMN($K:$K)),\"\")),\"\")","v":""},{"$f":"IF(AND($H14<>\"OUI\",$G14>$G$5),IF($I14=\"\",\"\",IF(AND(T$6>=$I14,T$6<=$J14),OFFSET(Calendrier!$K$3,MATCH(Prevision!$F14,Calendrier!$A$4:$A$20,0),COLUMN()-COLUMN($K:$K)),\"\")),\"\")","v":""},{"$f":"IF(AND($H14<>\"OUI\",$G14>$G$5),IF($I14=\"\",\"\",IF(AND(U$6>=$I14,U$6<=$J14),OFFSET(Calendrier!$K$3,MATCH(Prevision!$F14,Calendrier!$A$4:$A$20,0),COLUMN()-COLUMN($K:$K)),\"\")),\"\")","v":""},{"$f":"IF(AND($H14<>\"OUI\",$G14>$G$5),IF($I14=\"\",\"\",IF(AND(V$6>=$I14,V$6<=$J14),OFFSET(Calendrier!$K$3,MATCH(Prevision!$F14,Calendrier!$A$4:$A$20,0),COLUMN()-COLUMN($K:$K)),\"\")),\"\")","v":""},{"$f":"IF(AND($H14<>\"OUI\",$G14>$G$5),IF($I14=\"\",\"\",IF(AND(W$6>=$I14,W$6<=$J14),OFFSET(Calendrier!$K$3,MATCH(Prevision!$F14,Calendrier!$A$4:$A$20,0),COLUMN()-COLUMN($K:$K)),\"\")),\"\")","v":""},{"$f":"IF(AND($H14<>\"OUI\",$G14>$G$5),IF($I14=\"\",\"\",IF(AND(X$6>=$I14,X$6<=$J14),OFFSET(Calendrier!$K$3,MATCH(Prevision!$F14,Calendrier!$A$4:$A$20,0),COLUMN()-COLUMN($K:$K)),\"\")),\"\")","v":""},{"$f":"IF(AND($H14<>\"OUI\",$G14>$G$5),IF($I14=\"\",\"\",IF(AND(Y$6>=$I14,Y$6<=$J14),OFFSET(Calendrier!$K$3,MATCH(Prevision!$F14,Calendrier!$A$4:$A$20,0),COLUMN()-COLUMN($K:$K)),\"\")),\"\")","v":""},{"$f":"IF(AND($H14<>\"OUI\",$G14>$G$5),IF($I14=\"\",\"\",IF(AND(Z$6>=$I14,Z$6<=$J14),OFFSET(Calendrier!$K$3,MATCH(Prevision!$F14,Calendrier!$A$4:$A$20,0),COLUMN()-COLUMN($K:$K)),\"\")),\"\")","v":""},{"$f":"IF(AND($H14<>\"OUI\",$G14>$G$5),IF($I14=\"\",\"\",IF(AND(AA$6>=$I14,AA$6<=$J14),OFFSET(Calendrier!$K$3,MATCH(Prevision!$F14,Calendrier!$A$4:$A$20,0),COLUMN()-COLUMN($K:$K)),\"\")),\"\")","v":""},{"$f":"IF(AND($H14<>\"OUI\",$G14>$G$5),IF($I14=\"\",\"\",IF(AND(AB$6>=$I14,AB$6<=$J14),OFFSET(Calendrier!$K$3,MATCH(Prevision!$F14,Calendrier!$A$4:$A$20,0),COLUMN()-COLUMN($K:$K)),\"\")),\"\")","v":""},{"$f":"IF(AND($H14<>\"OUI\",$G14>$G$5),IF($I14=\"\",\"\",IF(AND(AC$6>=$I14,AC$6<=$J14),OFFSET(Calendrier!$K$3,MATCH(Prevision!$F14,Calendrier!$A$4:$A$20,0),COLUMN()-COLUMN($K:$K)),\"\")),\"\")","v":""},{"$f":"IF(AND($H14<>\"OUI\",$G14>$G$5),IF($I14=\"\",\"\",IF(AND(AD$6>=$I14,AD$6<=$J14),OFFSET(Calendrier!$K$3,MATCH(Prevision!$F14,Calendrier!$A$4:$A$20,0),COLUMN()-COLUMN($K:$K)),\"\")),\"\")","v":""},{"$f":"IF(AND($H14<>\"OUI\",$G14>$G$5),IF($I14=\"\",\"\",IF(AND(AE$6>=$I14,AE$6<=$J14),OFFSET(Calendrier!$K$3,MATCH(Prevision!$F14,Calendrier!$A$4:$A$20,0),COLUMN()-COLUMN($K:$K)),\"\")),\"\")","v":""},{"$f":"IF(AND($H14<>\"OUI\",$G14>$G$5),IF($I14=\"\",\"\",IF(AND(AF$6>=$I14,AF$6<=$J14),OFFSET(Calendrier!$K$3,MATCH(Prevision!$F14,Calendrier!$A$4:$A$20,0),COLUMN()-COLUMN($K:$K)),\"\")),\"\")","v":""},{"$f":"IF(AND($H14<>\"OUI\",$G14>$G$5),IF($I14=\"\",\"\",IF(AND(AG$6>=$I14,AG$6<=$J14),OFFSET(Calendrier!$K$3,MATCH(Prevision!$F14,Calendrier!$A$4:$A$20,0),COLUMN()-COLUMN($K:$K)),\"\")),\"\")","v":""},{"$f":"IF(AND($H14<>\"OUI\",$G14>$G$5),IF($I14=\"\",\"\",IF(AND(AH$6>=$I14,AH$6<=$J14),OFFSET(Calendrier!$K$3,MATCH(Prevision!$F14,Calendrier!$A$4:$A$20,0),COLUMN()-COLUMN($K:$K)),\"\")),\"\")","v":""},{"$f":"IF(AND($H14<>\"OUI\",$G14>$G$5),IF($I14=\"\",\"\",IF(AND(AI$6>=$I14,AI$6<=$J14),OFFSET(Calendrier!$K$3,MATCH(Prevision!$F14,Calendrier!$A$4:$A$20,0),COLUMN()-COLUMN($K:$K)),\"\")),\"\")","v":""},{"$f":"IF(AND($H14<>\"OUI\",$G14>$G$5),IF($I14=\"\",\"\",IF(AND(AJ$6>=$I14,AJ$6<=$J14),OFFSET(Calendrier!$K$3,MATCH(Prevision!$F14,Calendrier!$A$4:$A$20,0),COLUMN()-COLUMN($K:$K)),\"\")),\"\")","v":""},{"$f":"IF(AND($H14<>\"OUI\",$G14>$G$5),IF($I14=\"\",\"\",IF(AND(AK$6>=$I14,AK$6<=$J14),OFFSET(Calendrier!$K$3,MATCH(Prevision!$F14,Calendrier!$A$4:$A$20,0),COLUMN()-COLUMN($K:$K)),\"\")),\"\")","v":""},{"$f":"IF(AND($H14<>\"OUI\",$G14>$G$5),IF($I14=\"\",\"\",IF(AND(AL$6>=$I14,AL$6<=$J14),OFFSET(Calendrier!$K$3,MATCH(Prevision!$F14,Calendrier!$A$4:$A$20,0),COLUMN()-COLUMN($K:$K)),\"\")),\"\")","v":""},{"$f":"IF(AND($H14<>\"OUI\",$G14>$G$5),IF($I14=\"\",\"\",IF(AND(AM$6>=$I14,AM$6<=$J14),OFFSET(Calendrier!$K$3,MATCH(Prevision!$F14,Calendrier!$A$4:$A$20,0),COLUMN()-COLUMN($K:$K)),\"\")),\"\")","v":""},{"$f":"IF(AND($H14<>\"OUI\",$G14>$G$5),IF($I14=\"\",\"\",IF(AND(AN$6>=$I14,AN$6<=$J14),OFFSET(Calendrier!$K$3,MATCH(Prevision!$F14,Calendrier!$A$4:$A$20,0),COLUMN()-COLUMN($K:$K)),\"\")),\"\")","v":""},{"$f":"IF(AND($H14<>\"OUI\",$G14>$G$5),IF($I14=\"\",\"\",IF(AND(AO$6>=$I14,AO$6<=$J14),OFFSET(Calendrier!$K$3,MATCH(Prevision!$F14,Calendrier!$A$4:$A$20,0),COLUMN()-COLUMN($K:$K)),\"\")),\"\")","v":""},{"$f":"IF(AND($H14<>\"OUI\",$G14>$G$5),IF($I14=\"\",\"\",IF(AND(AP$6>=$I14,AP$6<=$J14),OFFSET(Calendrier!$K$3,MATCH(Prevision!$F14,Calendrier!$A$4:$A$20,0),COLUMN()-COLUMN($K:$K)),\"\")),\"\")","v":""},{"$f":"IF(AND($H14<>\"OUI\",$G14>$G$5),IF($I14=\"\",\"\",IF(AND(AQ$6>=$I14,AQ$6<=$J14),OFFSET(Calendrier!$K$3,MATCH(Prevision!$F14,Calendrier!$A$4:$A$20,0),COLUMN()-COLUMN($K:$K)),\"\")),\"\")","v":""},{"$f":"IF(AND($H14<>\"OUI\",$G14>$G$5),IF($I14=\"\",\"\",IF(AND(AR$6>=$I14,AR$6<=$J14),OFFSET(Calendrier!$K$3,MATCH(Prevision!$F14,Calendrier!$A$4:$A$20,0),COLUMN()-COLUMN($K:$K)),\"\")),\"\")","v":""},{"$f":"IF(AND($H14<>\"OUI\",$G14>$G$5),IF($I14=\"\",\"\",IF(AND(AS$6>=$I14,AS$6<=$J14),OFFSET(Calendrier!$K$3,MATCH(Prevision!$F14,Calendrier!$A$4:$A$20,0),COLUMN()-COLUMN($K:$K)),\"\")),\"\")","v":""},{"$f":"IF(AND($H14<>\"OUI\",$G14>$G$5),IF($I14=\"\",\"\",IF(AND(AT$6>=$I14,AT$6<=$J14),OFFSET(Calendrier!$K$3,MATCH(Prevision!$F14,Calendrier!$A$4:$A$20,0),COLUMN()-COLUMN($K:$K)),\"\")),\"\")","v":""},{"$f":"IF(AND($H14<>\"OUI\",$G14>$G$5),IF($I14=\"\",\"\",IF(AND(AU$6>=$I14,AU$6<=$J14),OFFSET(Calendrier!$K$3,MATCH(Prevision!$F14,Calendrier!$A$4:$A$20,0),COLUMN()-COLUMN($K:$K)),\"\")),\"\")","v":""},{"$f":"IF(AND($H14<>\"OUI\",$G14>$G$5),IF($I14=\"\",\"\",IF(AND(AV$6>=$I14,AV$6<=$J14),OFFSET(Calendrier!$K$3,MATCH(Prevision!$F14,Calendrier!$A$4:$A$20,0),COLUMN()-COLUMN($K:$K)),\"\")),\"\")","v":""},{"$f":"IF(AND($H14<>\"OUI\",$G14>$G$5),IF($I14=\"\",\"\",IF(AND(AW$6>=$I14,AW$6<=$J14),OFFSET(Calendrier!$K$3,MATCH(Prevision!$F14,Calendrier!$A$4:$A$20,0),COLUMN()-COLUMN($K:$K)),\"\")),\"\")","v":""},{"$f":"IF(AND($H14<>\"OUI\",$G14>$G$5),IF($I14=\"\",\"\",IF(AND(AX$6>=$I14,AX$6<=$J14),OFFSET(Calendrier!$K$3,MATCH(Prevision!$F14,Calendrier!$A$4:$A$20,0),COLUMN()-COLUMN($K:$K)),\"\")),\"\")","v":""},{"$f":"IF(AND($H14<>\"OUI\",$G14>$G$5),IF($I14=\"\",\"\",IF(AND(AY$6>=$I14,AY$6<=$J14),OFFSET(Calendrier!$K$3,MATCH(Prevision!$F14,Calendrier!$A$4:$A$20,0),COLUMN()-COLUMN($K:$K)),\"\")),\"\")","v":""},{"$f":"IF(AND($H14<>\"OUI\",$G14>$G$5),IF($I14=\"\",\"\",IF(AND(AZ$6>=$I14,AZ$6<=$J14),OFFSET(Calendrier!$K$3,MATCH(Prevision!$F14,Calendrier!$A$4:$A$20,0),COLUMN()-COLUMN($K:$K)),\"\")),\"\")","v":""},{"$f":"IF(AND($H14<>\"OUI\",$G14>$G$5),IF($I14=\"\",\"\",IF(AND(BA$6>=$I14,BA$6<=$J14),OFFSET(Calendrier!$K$3,MATCH(Prevision!$F14,Calendrier!$A$4:$A$20,0),COLUMN()-COLUMN($K:$K)),\"\")),\"\")","v":""},{"$f":"IF(AND($H14<>\"OUI\",$G14>$G$5),IF($I14=\"\",\"\",IF(AND(BB$6>=$I14,BB$6<=$J14),OFFSET(Calendrier!$K$3,MATCH(Prevision!$F14,Calendrier!$A$4:$A$20,0),COLUMN()-COLUMN($K:$K)),\"\")),\"\")","v":""},{"$f":"IF(AND($H14<>\"OUI\",$G14>$G$5),IF($I14=\"\",\"\",IF(AND(BC$6>=$I14,BC$6<=$J14),OFFSET(Calendrier!$K$3,MATCH(Prevision!$F14,Calendrier!$A$4:$A$20,0),COLUMN()-COLUMN($K:$K)),\"\")),\"\")","v":""},{"$f":"IF(AND($H14<>\"OUI\",$G14>$G$5),IF($I14=\"\",\"\",IF(AND(BD$6>=$I14,BD$6<=$J14),OFFSET(Calendrier!$K$3,MATCH(Prevision!$F14,Calendrier!$A$4:$A$20,0),COLUMN()-COLUMN($K:$K)),\"\")),\"\")","v":""},{"$f":"IF(AND($H14<>\"OUI\",$G14>$G$5),IF($I14=\"\",\"\",IF(AND(BE$6>=$I14,BE$6<=$J14),OFFSET(Calendrier!$K$3,MATCH(Prevision!$F14,Calendrier!$A$4:$A$20,0),COLUMN()-COLUMN($K:$K)),\"\")),\"\")","v":""},{"$f":"IF(AND($H14<>\"OUI\",$G14>$G$5),IF($I14=\"\",\"\",IF(AND(BF$6>=$I14,BF$6<=$J14),OFFSET(Calendrier!$K$3,MATCH(Prevision!$F14,Calendrier!$A$4:$A$20,0),COLUMN()-COLUMN($K:$K)),\"\")),\"\")","v":""},{"$f":"IF(AND($H14<>\"OUI\",$G14>$G$5),IF($I14=\"\",\"\",IF(AND(BG$6>=$I14,BG$6<=$J14),OFFSET(Calendrier!$K$3,MATCH(Prevision!$F14,Calendrier!$A$4:$A$20,0),COLUMN()-COLUMN($K:$K)),\"\")),\"\")","v":""},{"$f":"IF(AND($H14<>\"OUI\",$G14>$G$5),IF($I14=\"\",\"\",IF(AND(BH$6>=$I14,BH$6<=$J14),OFFSET(Calendrier!$K$3,MATCH(Prevision!$F14,Calendrier!$A$4:$A$20,0),COLUMN()-COLUMN($K:$K)),\"\")),\"\")","v":""},{"$f":"IF(AND($H14<>\"OUI\",$G14>$G$5),IF($I14=\"\",\"\",IF(AND(BI$6>=$I14,BI$6<=$J14),OFFSET(Calendrier!$K$3,MATCH(Prevision!$F14,Calendrier!$A$4:$A$20,0),COLUMN()-COLUMN($K:$K)),\"\")),\"\")","v":""},{"$f":"IF(AND($H14<>\"OUI\",$G14>$G$5),IF($I14=\"\",\"\",IF(AND(BJ$6>=$I14,BJ$6<=$J14),OFFSET(Calendrier!$K$3,MATCH(Prevision!$F14,Calendrier!$A$4:$A$20,0),COLUMN()-COLUMN($K:$K)),\"\")),\"\")","v":""},{"$f":"IF(AND($H14<>\"OUI\",$G14>$G$5),IF($I14=\"\",\"\",IF(AND(BK$6>=$I14,BK$6<=$J14),OFFSET(Calendrier!$K$3,MATCH(Prevision!$F14,Calendrier!$A$4:$A$20,0),COLUMN()-COLUMN($K:$K)),\"\")),\"\")","v":""},{"$f":"IF(AND($H14<>\"OUI\",$G14>$G$5),IF($I14=\"\",\"\",IF(AND(BL$6>=$I14,BL$6<=$J14),OFFSET(Calendrier!$K$3,MATCH(Prevision!$F14,Calendrier!$A$4:$A$20,0),COLUMN()-COLUMN($K:$K)),\"\")),\"\")","v":""},{"$f":"IF(AND($H14<>\"OUI\",$G14>$G$5),IF($I14=\"\",\"\",IF(AND(BM$6>=$I14,BM$6<=$J14),OFFSET(Calendrier!$K$3,MATCH(Prevision!$F14,Calendrier!$A$4:$A$20,0),COLUMN()-COLUMN($K:$K)),\"\")),\"\")","v":""},{"$f":"IF(AND($H14<>\"OUI\",$G14>$G$5),IF($I14=\"\",\"\",IF(AND(BN$6>=$I14,BN$6<=$J14),OFFSET(Calendrier!$K$3,MATCH(Prevision!$F14,Calendrier!$A$4:$A$20,0),COLUMN()-COLUMN($K:$K)),\"\")),\"\")","v":""},{"$f":"IF(AND($H14<>\"OUI\",$G14>$G$5),IF($I14=\"\",\"\",IF(AND(BO$6>=$I14,BO$6<=$J14),OFFSET(Calendrier!$K$3,MATCH(Prevision!$F14,Calendrier!$A$4:$A$20,0),COLUMN()-COLUMN($K:$K)),\"\")),\"\")","v":""},{"$f":"IF(AND($H14<>\"OUI\",$G14>$G$5),IF($I14=\"\",\"\",IF(AND(BP$6>=$I14,BP$6<=$J14),OFFSET(Calendrier!$K$3,MATCH(Prevision!$F14,Calendrier!$A$4:$A$20,0),COLUMN()-COLUMN($K:$K)),\"\")),\"\")","v":""},{"$f":"IF(AND($H14<>\"OUI\",$G14>$G$5),IF($I14=\"\",\"\",IF(AND(BQ$6>=$I14,BQ$6<=$J14),OFFSET(Calendrier!$K$3,MATCH(Prevision!$F14,Calendrier!$A$4:$A$20,0),COLUMN()-COLUMN($K:$K)),\"\")),\"\")","v":""},{"$f":"IF(AND($H14<>\"OUI\",$G14>$G$5),IF($I14=\"\",\"\",IF(AND(BR$6>=$I14,BR$6<=$J14),OFFSET(Calendrier!$K$3,MATCH(Prevision!$F14,Calendrier!$A$4:$A$20,0),COLUMN()-COLUMN($K:$K)),\"\")),\"\")","v":""},{"$f":"IF(AND($H14<>\"OUI\",$G14>$G$5),IF($I14=\"\",\"\",IF(AND(BS$6>=$I14,BS$6<=$J14),OFFSET(Calendrier!$K$3,MATCH(Prevision!$F14,Calendrier!$A$4:$A$20,0),COLUMN()-COLUMN($K:$K)),\"\")),\"\")","v":""},{"$f":"IF(AND($H14<>\"OUI\",$G14>$G$5),IF($I14=\"\",\"\",IF(AND(BT$6>=$I14,BT$6<=$J14),OFFSET(Calendrier!$K$3,MATCH(Prevision!$F14,Calendrier!$A$4:$A$20,0),COLUMN()-COLUMN($K:$K)),\"\")),\"\")","v":""},{"$f":"IF(AND($H14<>\"OUI\",$G14>$G$5),IF($I14=\"\",\"\",IF(AND(BU$6>=$I14,BU$6<=$J14),OFFSET(Calendrier!$K$3,MATCH(Prevision!$F14,Calendrier!$A$4:$A$20,0),COLUMN()-COLUMN($K:$K)),\"\")),\"\")","v":""},{"$f":"IF(AND($H14<>\"OUI\",$G14>$G$5),IF($I14=\"\",\"\",IF(AND(BV$6>=$I14,BV$6<=$J14),OFFSET(Calendrier!$K$3,MATCH(Prevision!$F14,Calendrier!$A$4:$A$20,0),COLUMN()-COLUMN($K:$K)),\"\")),\"\")","v":""},{"$f":"IF(AND($H14<>\"OUI\",$G14>$G$5),IF($I14=\"\",\"\",IF(AND(BW$6>=$I14,BW$6<=$J14),OFFSET(Calendrier!$K$3,MATCH(Prevision!$F14,Calendrier!$A$4:$A$20,0),COLUMN()-COLUMN($K:$K)),\"\")),\"\")","v":""},{"$f":"IF(AND($H14<>\"OUI\",$G14>$G$5),IF($I14=\"\",\"\",IF(AND(BX$6>=$I14,BX$6<=$J14),OFFSET(Calendrier!$K$3,MATCH(Prevision!$F14,Calendrier!$A$4:$A$20,0),COLUMN()-COLUMN($K:$K)),\"\")),\"\")","v":""},{"$f":"IF(AND($H14<>\"OUI\",$G14>$G$5),IF($I14=\"\",\"\",IF(AND(BY$6>=$I14,BY$6<=$J14),OFFSET(Calendrier!$K$3,MATCH(Prevision!$F14,Calendrier!$A$4:$A$20,0),COLUMN()-COLUMN($K:$K)),\"\")),\"\")","v":""},{"$f":"IF(AND($H14<>\"OUI\",$G14>$G$5),IF($I14=\"\",\"\",IF(AND(BZ$6>=$I14,BZ$6<=$J14),OFFSET(Calendrier!$K$3,MATCH(Prevision!$F14,Calendrier!$A$4:$A$20,0),COLUMN()-COLUMN($K:$K)),\"\")),\"\")","v":""},{"$f":"IF(AND($H14<>\"OUI\",$G14>$G$5),IF($I14=\"\",\"\",IF(AND(CA$6>=$I14,CA$6<=$J14),OFFSET(Calendrier!$K$3,MATCH(Prevision!$F14,Calendrier!$A$4:$A$20,0),COLUMN()-COLUMN($K:$K)),\"\")),\"\")","v":""},{"$f":"IF(AND($H14<>\"OUI\",$G14>$G$5),IF($I14=\"\",\"\",IF(AND(CB$6>=$I14,CB$6<=$J14),OFFSET(Calendrier!$K$3,MATCH(Prevision!$F14,Calendrier!$A$4:$A$20,0),COLUMN()-COLUMN($K:$K)),\"\")),\"\")","v":""},{"$f":"IF(AND($H14<>\"OUI\",$G14>$G$5),IF($I14=\"\",\"\",IF(AND(CC$6>=$I14,CC$6<=$J14),OFFSET(Calendrier!$K$3,MATCH(Prevision!$F14,Calendrier!$A$4:$A$20,0),COLUMN()-COLUMN($K:$K)),\"\")),\"\")","v":""},{"$f":"IF(AND($H14<>\"OUI\",$G14>$G$5),IF($I14=\"\",\"\",IF(AND(CD$6>=$I14,CD$6<=$J14),OFFSET(Calendrier!$K$3,MATCH(Prevision!$F14,Calendrier!$A$4:$A$20,0),COLUMN()-COLUMN($K:$K)),\"\")),\"\")","v":""},{"$f":"IF(AND($H14<>\"OUI\",$G14>$G$5),IF($I14=\"\",\"\",IF(AND(CE$6>=$I14,CE$6<=$J14),OFFSET(Calendrier!$K$3,MATCH(Prevision!$F14,Calendrier!$A$4:$A$20,0),COLUMN()-COLUMN($K:$K)),\"\")),\"\")","v":""},{"$f":"IF(AND($H14<>\"OUI\",$G14>$G$5),IF($I14=\"\",\"\",IF(AND(CF$6>=$I14,CF$6<=$J14),OFFSET(Calendrier!$K$3,MATCH(Prevision!$F14,Calendrier!$A$4:$A$20,0),COLUMN()-COLUMN($K:$K)),\"\")),\"\")","v":""},{"$f":"IF(AND($H14<>\"OUI\",$G14>$G$5),IF($I14=\"\",\"\",IF(AND(CG$6>=$I14,CG$6<=$J14),OFFSET(Calendrier!$K$3,MATCH(Prevision!$F14,Calendrier!$A$4:$A$20,0),COLUMN()-COLUMN($K:$K)),\"\")),\"\")","v":""},{"$f":"IF(AND($H14<>\"OUI\",$G14>$G$5),IF($I14=\"\",\"\",IF(AND(CH$6>=$I14,CH$6<=$J14),OFFSET(Calendrier!$K$3,MATCH(Prevision!$F14,Calendrier!$A$4:$A$20,0),COLUMN()-COLUMN($K:$K)),\"\")),\"\")","v":""},{"$f":"IF(AND($H14<>\"OUI\",$G14>$G$5),IF($I14=\"\",\"\",IF(AND(CI$6>=$I14,CI$6<=$J14),OFFSET(Calendrier!$K$3,MATCH(Prevision!$F14,Calendrier!$A$4:$A$20,0),COLUMN()-COLUMN($K:$K)),\"\")),\"\")","v":""},{"$f":"IF(AND($H14<>\"OUI\",$G14>$G$5),IF($I14=\"\",\"\",IF(AND(CJ$6>=$I14,CJ$6<=$J14),OFFSET(Calendrier!$K$3,MATCH(Prevision!$F14,Calendrier!$A$4:$A$20,0),COLUMN()-COLUMN($K:$K)),\"\")),\"\")","v":""},{"$f":"IF(AND($H14<>\"OUI\",$G14>$G$5),IF($I14=\"\",\"\",IF(AND(CK$6>=$I14,CK$6<=$J14),OFFSET(Calendrier!$K$3,MATCH(Prevision!$F14,Calendrier!$A$4:$A$20,0),COLUMN()-COLUMN($K:$K)),\"\")),\"\")","v":""},{"$f":"IF(AND($H14<>\"OUI\",$G14>$G$5),IF($I14=\"\",\"\",IF(AND(CL$6>=$I14,CL$6<=$J14),OFFSET(Calendrier!$K$3,MATCH(Prevision!$F14,Calendrier!$A$4:$A$20,0),COLUMN()-COLUMN($K:$K)),\"\")),\"\")","v":""},{"$f":"IF(AND($H14<>\"OUI\",$G14>$G$5),IF($I14=\"\",\"\",IF(AND(CM$6>=$I14,CM$6<=$J14),OFFSET(Calendrier!$K$3,MATCH(Prevision!$F14,Calendrier!$A$4:$A$20,0),COLUMN()-COLUMN($K:$K)),\"\")),\"\")","v":""},{"$f":"IF(AND($H14<>\"OUI\",$G14>$G$5),IF($I14=\"\",\"\",IF(AND(CN$6>=$I14,CN$6<=$J14),OFFSET(Calendrier!$K$3,MATCH(Prevision!$F14,Calendrier!$A$4:$A$20,0),COLUMN()-COLUMN($K:$K)),\"\")),\"\")","v":""},{"$f":"IF(AND($H14<>\"OUI\",$G14>$G$5),IF($I14=\"\",\"\",IF(AND(CO$6>=$I14,CO$6<=$J14),OFFSET(Calendrier!$K$3,MATCH(Prevision!$F14,Calendrier!$A$4:$A$20,0),COLUMN()-COLUMN($K:$K)),\"\")),\"\")","v":""},{"$f":"IF(AND($H14<>\"OUI\",$G14>$G$5),IF($I14=\"\",\"\",IF(AND(CP$6>=$I14,CP$6<=$J14),OFFSET(Calendrier!$K$3,MATCH(Prevision!$F14,Calendrier!$A$4:$A$20,0),COLUMN()-COLUMN($K:$K)),\"\")),\"\")","v":""},{"$f":"IF(AND($H14<>\"OUI\",$G14>$G$5),IF($I14=\"\",\"\",IF(AND(CQ$6>=$I14,CQ$6<=$J14),OFFSET(Calendrier!$K$3,MATCH(Prevision!$F14,Calendrier!$A$4:$A$20,0),COLUMN()-COLUMN($K:$K)),\"\")),\"\")","v":""},{"$f":"IF(AND($H14<>\"OUI\",$G14>$G$5),IF($I14=\"\",\"\",IF(AND(CR$6>=$I14,CR$6<=$J14),OFFSET(Calendrier!$K$3,MATCH(Prevision!$F14,Calendrier!$A$4:$A$20,0),COLUMN()-COLUMN($K:$K)),\"\")),\"\")","v":""},{"$f":"IF(AND($H14<>\"OUI\",$G14>$G$5),IF($I14=\"\",\"\",IF(AND(CS$6>=$I14,CS$6<=$J14),OFFSET(Calendrier!$K$3,MATCH(Prevision!$F14,Calendrier!$A$4:$A$20,0),COLUMN()-COLUMN($K:$K)),\"\")),\"\")","v":""},{"$f":"IF(AND($H14<>\"OUI\",$G14>$G$5),IF($I14=\"\",\"\",IF(AND(CT$6>=$I14,CT$6<=$J14),OFFSET(Calendrier!$K$3,MATCH(Prevision!$F14,Calendrier!$A$4:$A$20,0),COLUMN()-COLUMN($K:$K)),\"\")),\"\")","v":""},{"$f":"IF(AND($H14<>\"OUI\",$G14>$G$5),IF($I14=\"\",\"\",IF(AND(CU$6>=$I14,CU$6<=$J14),OFFSET(Calendrier!$K$3,MATCH(Prevision!$F14,Calendrier!$A$4:$A$20,0),COLUMN()-COLUMN($K:$K)),\"\")),\"\")","v":""},{"$f":"IF(AND($H14<>\"OUI\",$G14>$G$5),IF($I14=\"\",\"\",IF(AND(CV$6>=$I14,CV$6<=$J14),OFFSET(Calendrier!$K$3,MATCH(Prevision!$F14,Calendrier!$A$4:$A$20,0),COLUMN()-COLUMN($K:$K)),\"\")),\"\")","v":""},{"$f":"IF(AND($H14<>\"OUI\",$G14>$G$5),IF($I14=\"\",\"\",IF(AND(CW$6>=$I14,CW$6<=$J14),OFFSET(Calendrier!$K$3,MATCH(Prevision!$F14,Calendrier!$A$4:$A$20,0),COLUMN()-COLUMN($K:$K)),\"\")),\"\")","v":""},{"$f":"IF(AND($H14<>\"OUI\",$G14>$G$5),IF($I14=\"\",\"\",IF(AND(CX$6>=$I14,CX$6<=$J14),OFFSET(Calendrier!$K$3,MATCH(Prevision!$F14,Calendrier!$A$4:$A$20,0),COLUMN()-COLUMN($K:$K)),\"\")),\"\")","v":""},{"$f":"IF(AND($H14<>\"OUI\",$G14>$G$5),IF($I14=\"\",\"\",IF(AND(CY$6>=$I14,CY$6<=$J14),OFFSET(Calendrier!$K$3,MATCH(Prevision!$F14,Calendrier!$A$4:$A$20,0),COLUMN()-COLUMN($K:$K)),\"\")),\"\")","v":""},{"$f":"IF(AND($H14<>\"OUI\",$G14>$G$5),IF($I14=\"\",\"\",IF(AND(CZ$6>=$I14,CZ$6<=$J14),OFFSET(Calendrier!$K$3,MATCH(Prevision!$F14,Calendrier!$A$4:$A$20,0),COLUMN()-COLUMN($K:$K)),\"\")),\"\")","v":""},{"$f":"IF(AND($H14<>\"OUI\",$G14>$G$5),IF($I14=\"\",\"\",IF(AND(DA$6>=$I14,DA$6<=$J14),OFFSET(Calendrier!$K$3,MATCH(Prevision!$F14,Calendrier!$A$4:$A$20,0),COLUMN()-COLUMN($K:$K)),\"\")),\"\")","v":""},{"$f":"IF(AND($H14<>\"OUI\",$G14>$G$5),IF($I14=\"\",\"\",IF(AND(DB$6>=$I14,DB$6<=$J14),OFFSET(Calendrier!$K$3,MATCH(Prevision!$F14,Calendrier!$A$4:$A$20,0),COLUMN()-COLUMN($K:$K)),\"\")),\"\")","v":""},{"$f":"IF(AND($H14<>\"OUI\",$G14>$G$5),IF($I14=\"\",\"\",IF(AND(DC$6>=$I14,DC$6<=$J14),OFFSET(Calendrier!$K$3,MATCH(Prevision!$F14,Calendrier!$A$4:$A$20,0),COLUMN()-COLUMN($K:$K)),\"\")),\"\")","v":""},{"$f":"IF(AND($H14<>\"OUI\",$G14>$G$5),IF($I14=\"\",\"\",IF(AND(DD$6>=$I14,DD$6<=$J14),OFFSET(Calendrier!$K$3,MATCH(Prevision!$F14,Calendrier!$A$4:$A$20,0),COLUMN()-COLUMN($K:$K)),\"\")),\"\")","v":""},{"$f":"IF(AND($H14<>\"OUI\",$G14>$G$5),IF($I14=\"\",\"\",IF(AND(DE$6>=$I14,DE$6<=$J14),OFFSET(Calendrier!$K$3,MATCH(Prevision!$F14,Calendrier!$A$4:$A$20,0),COLUMN()-COLUMN($K:$K)),\"\")),\"\")","v":""},{"$f":"IF(AND($H14<>\"OUI\",$G14>$G$5),IF($I14=\"\",\"\",IF(AND(DF$6>=$I14,DF$6<=$J14),OFFSET(Calendrier!$K$3,MATCH(Prevision!$F14,Calendrier!$A$4:$A$20,0),COLUMN()-COLUMN($K:$K)),\"\")),\"\")","v":""},{"$f":"IF(AND($H14<>\"OUI\",$G14>$G$5),IF($I14=\"\",\"\",IF(AND(DG$6>=$I14,DG$6<=$J14),OFFSET(Calendrier!$K$3,MATCH(Prevision!$F14,Calendrier!$A$4:$A$20,0),COLUMN()-COLUMN($K:$K)),\"\")),\"\")","v":""},{"$f":"IF(AND($H14<>\"OUI\",$G14>$G$5),IF($I14=\"\",\"\",IF(AND(DH$6>=$I14,DH$6<=$J14),OFFSET(Calendrier!$K$3,MATCH(Prevision!$F14,Calendrier!$A$4:$A$20,0),COLUMN()-COLUMN($K:$K)),\"\")),\"\")","v":""},{"$f":"IF(AND($H14<>\"OUI\",$G14>$G$5),IF($I14=\"\",\"\",IF(AND(DI$6>=$I14,DI$6<=$J14),OFFSET(Calendrier!$K$3,MATCH(Prevision!$F14,Calendrier!$A$4:$A$20,0),COLUMN()-COLUMN($K:$K)),\"\")),\"\")","v":""},{"$f":"IF(AND($H14<>\"OUI\",$G14>$G$5),IF($I14=\"\",\"\",IF(AND(DJ$6>=$I14,DJ$6<=$J14),OFFSET(Calendrier!$K$3,MATCH(Prevision!$F14,Calendrier!$A$4:$A$20,0),COLUMN()-COLUMN($K:$K)),\"\")),\"\")","v":""},{"$f":"IF(AND($H14<>\"OUI\",$G14>$G$5),IF($I14=\"\",\"\",IF(AND(DK$6>=$I14,DK$6<=$J14),OFFSET(Calendrier!$K$3,MATCH(Prevision!$F14,Calendrier!$A$4:$A$20,0),COLUMN()-COLUMN($K:$K)),\"\")),\"\")","v":""},{"$f":"IF(AND($H14<>\"OUI\",$G14>$G$5),IF($I14=\"\",\"\",IF(AND(DL$6>=$I14,DL$6<=$J14),OFFSET(Calendrier!$K$3,MATCH(Prevision!$F14,Calendrier!$A$4:$A$20,0),COLUMN()-COLUMN($K:$K)),\"\")),\"\")","v":""},{"$f":"IF(AND($H14<>\"OUI\",$G14>$G$5),IF($I14=\"\",\"\",IF(AND(DM$6>=$I14,DM$6<=$J14),OFFSET(Calendrier!$K$3,MATCH(Prevision!$F14,Calendrier!$A$4:$A$20,0),COLUMN()-COLUMN($K:$K)),\"\")),\"\")","v":""},{"$f":"IF(AND($H14<>\"OUI\",$G14>$G$5),IF($I14=\"\",\"\",IF(AND(DN$6>=$I14,DN$6<=$J14),OFFSET(Calendrier!$K$3,MATCH(Prevision!$F14,Calendrier!$A$4:$A$20,0),COLUMN()-COLUMN($K:$K)),\"\")),\"\")","v":""},{"$f":"IF(AND($H14<>\"OUI\",$G14>$G$5),IF($I14=\"\",\"\",IF(AND(DO$6>=$I14,DO$6<=$J14),OFFSET(Calendrier!$K$3,MATCH(Prevision!$F14,Calendrier!$A$4:$A$20,0),COLUMN()-COLUMN($K:$K)),\"\")),\"\")","v":""},{"$f":"IF(AND($H14<>\"OUI\",$G14>$G$5),IF($I14=\"\",\"\",IF(AND(DP$6>=$I14,DP$6<=$J14),OFFSET(Calendrier!$K$3,MATCH(Prevision!$F14,Calendrier!$A$4:$A$20,0),COLUMN()-COLUMN($K:$K)),\"\")),\"\")","v":""},{"$f":"IF(AND($H14<>\"OUI\",$G14>$G$5),IF($I14=\"\",\"\",IF(AND(DQ$6>=$I14,DQ$6<=$J14),OFFSET(Calendrier!$K$3,MATCH(Prevision!$F14,Calendrier!$A$4:$A$20,0),COLUMN()-COLUMN($K:$K)),\"\")),\"\")","v":""},{"$f":"IF(AND($H14<>\"OUI\",$G14>$G$5),IF($I14=\"\",\"\",IF(AND(DR$6>=$I14,DR$6<=$J14),OFFSET(Calendrier!$K$3,MATCH(Prevision!$F14,Calendrier!$A$4:$A$20,0),COLUMN()-COLUMN($K:$K)),\"\")),\"\")","v":""},{"$f":"IF(AND($H14<>\"OUI\",$G14>$G$5),IF($I14=\"\",\"\",IF(AND(DS$6>=$I14,DS$6<=$J14),OFFSET(Calendrier!$K$3,MATCH(Prevision!$F14,Calendrier!$A$4:$A$20,0),COLUMN()-COLUMN($K:$K)),\"\")),\"\")","v":""},{"$f":"IF(AND($H14<>\"OUI\",$G14>$G$5),IF($I14=\"\",\"\",IF(AND(DT$6>=$I14,DT$6<=$J14),OFFSET(Calendrier!$K$3,MATCH(Prevision!$F14,Calendrier!$A$4:$A$20,0),COLUMN()-COLUMN($K:$K)),\"\")),\"\")","v":""},{"$f":"IF(AND($H14<>\"OUI\",$G14>$G$5),IF($I14=\"\",\"\",IF(AND(DU$6>=$I14,DU$6<=$J14),OFFSET(Calendrier!$K$3,MATCH(Prevision!$F14,Calendrier!$A$4:$A$20,0),COLUMN()-COLUMN($K:$K)),\"\")),\"\")","v":""},{"$f":"IF(AND($H14<>\"OUI\",$G14>$G$5),IF($I14=\"\",\"\",IF(AND(DV$6>=$I14,DV$6<=$J14),OFFSET(Calendrier!$K$3,MATCH(Prevision!$F14,Calendrier!$A$4:$A$20,0),COLUMN()-COLUMN($K:$K)),\"\")),\"\")","v":""},{"$f":"IF(AND($H14<>\"OUI\",$G14>$G$5),IF($I14=\"\",\"\",IF(AND(DW$6>=$I14,DW$6<=$J14),OFFSET(Calendrier!$K$3,MATCH(Prevision!$F14,Calendrier!$A$4:$A$20,0),COLUMN()-COLUMN($K:$K)),\"\")),\"\")","v":""},{"$f":"IF(AND($H14<>\"OUI\",$G14>$G$5),IF($I14=\"\",\"\",IF(AND(DX$6>=$I14,DX$6<=$J14),OFFSET(Calendrier!$K$3,MATCH(Prevision!$F14,Calendrier!$A$4:$A$20,0),COLUMN()-COLUMN($K:$K)),\"\")),\"\")","v":""},{"$f":"IF(AND($H14<>\"OUI\",$G14>$G$5),IF($I14=\"\",\"\",IF(AND(DY$6>=$I14,DY$6<=$J14),OFFSET(Calendrier!$K$3,MATCH(Prevision!$F14,Calendrier!$A$4:$A$20,0),COLUMN()-COLUMN($K:$K)),\"\")),\"\")","v":""},{"$f":"IF(AND($H14<>\"OUI\",$G14>$G$5),IF($I14=\"\",\"\",IF(AND(DZ$6>=$I14,DZ$6<=$J14),OFFSET(Calendrier!$K$3,MATCH(Prevision!$F14,Calendrier!$A$4:$A$20,0),COLUMN()-COLUMN($K:$K)),\"\")),\"\")","v":""}]

{"sheet":"Cycles","index":4,"n_rows":8,"n_cols":47,"rows_kept":8,"cut":false,"hidden":false,"merged":[]}
[null,null,"(un lundi)",null,null,"SEMAINE 1",null,null,null,null,null,null,"SEMAINE 2",null,null,null,null,null,null,"SEMAINE 3",null,null,null,null,null,null,"SEMAINE 4",null,null,null,null,null,null,"SEMAINE 5",null,null,null,null,null,null,"SEMAINE 6"]
["Ref Cycle","Libelle","DateDebutCycleS1","nbSem","unik","Lu","Ma","Me","Je","Ve","Sa","Di","Lu","Ma","Me","Je","Ve","Sa","Di","Lu","Ma","Me","Je","Ve","Sa","Di","Lu","Ma","Me","Je","Ve","Sa","Di","Lu","Ma","Me","Je","Ve","Sa","Di","Lu","Ma","Me","Je","Ve","Sa","Di"]
[null,"CYCLES INTERIM"]
["FM-C01","Cycle Interim Fixe Matin","2018-01-01",3,null,1,1,1,1,1,"RPO",null,1,1,1,1,1,"RPO",null,1,1,1,1,1,1]
["FM-C01-S2","Cycle Interim Fixe Matin","2017-12-25",3,null,1,1,1,1,1,"RPO",null,1,1,1,1,1,"RPO",null,1,1,1,1,1,1]
["FM-C01-S3","Cycle Interim Fixe Matin","2017-12-18",3,null,1,1,1,1,1,"RPO",null,1,1,1,1,1,"RPO",null,1,1,1,1,1,1]
["Mixte","Cycle Interim Mixte Matin2","2019-01-07",1,null,1,1,1,1,1]
["Mixte2","Cycle Interim Mixte Matin","2019-01-07",1,null,null,1,1,1,1,1]

{"sheet":"Calendrier","index":5,"n_rows":8,"n_cols":130,"rows_kept":8,"cut":false,"hidden":false,"merged":[]}
[]
[]
[null,null,null,null,null,null,null,null,null,null,{"$f":"TODAY()-WEEKDAY(TODAY(),3)-7","v":"2021-03-22"},{"$f":"K3+1","v":"2021-03-23"},{"$f":"L3+1","v":"2021-03-24"},{"$f":"M3+1","v":"2021-03-25"},{"$f":"N3+1","v":"2021-03-26"},{"$f":"O3+1","v":"2021-03-27"},{"$f":"P3+1","v":"2021-03-28"},{"$f":"Q3+1","v":"2021-03-29"},{"$f":"R3+1","v":"2021-03-30"},{"$f":"S3+1","v":"2021-03-31"},{"$f":"T3+1","v":"2021-04-01"},{"$f":"U3+1","v":"2021-04-02"},{"$f":"V3+1","v":"2021-04-03"},{"$f":"W3+1","v":"2021-04-04"},{"$f":"X3+1","v":"2021-04-05"},{"$f":"Y3+1","v":"2021-04-06"},{"$f":"Z3+1","v":"2021-04-07"},{"$f":"AA3+1","v":"2021-04-08"},{"$f":"AB3+1","v":"2021-04-09"},{"$f":"AC3+1","v":"2021-04-10"},{"$f":"AD3+1","v":"2021-04-11"},{"$f":"AE3+1","v":"2021-04-12"},{"$f":"AF3+1","v":"2021-04-13"},{"$f":"AG3+1","v":"2021-04-14"},{"$f":"AH3+1","v":"2021-04-15"},{"$f":"AI3+1","v":"2021-04-16"},{"$f":"AJ3+1","v":"2021-04-17"},{"$f":"AK3+1","v":"2021-04-18"},{"$f":"AL3+1","v":"2021-04-19"},{"$f":"AM3+1","v":"2021-04-20"},{"$f":"AN3+1","v":"2021-04-21"},{"$f":"AO3+1","v":"2021-04-22"},{"$f":"AP3+1","v":"2021-04-23"},{"$f":"AQ3+1","v":"2021-04-24"},{"$f":"AR3+1","v":"2021-04-25"},{"$f":"AS3+1","v":"2021-04-26"},{"$f":"AT3+1","v":"2021-04-27"},{"$f":"AU3+1","v":"2021-04-28"},{"$f":"AV3+1","v":"2021-04-29"},{"$f":"AW3+1","v":"2021-04-30"},{"$f":"AX3+1","v":"2021-05-01"},{"$f":"AY3+1","v":"2021-05-02"},{"$f":"AZ3+1","v":"2021-05-03"},{"$f":"BA3+1","v":"2021-05-04"},{"$f":"BB3+1","v":"2021-05-05"},{"$f":"BC3+1","v":"2021-05-06"},{"$f":"BD3+1","v":"2021-05-07"},{"$f":"BE3+1","v":"2021-05-08"},{"$f":"BF3+1","v":"2021-05-09"},{"$f":"BG3+1","v":"2021-05-10"},{"$f":"BH3+1","v":"2021-05-11"},{"$f":"BI3+1","v":"2021-05-12"},{"$f":"BJ3+1","v":"2021-05-13"},{"$f":"BK3+1","v":"2021-05-14"},{"$f":"BL3+1","v":"2021-05-15"},{"$f":"BM3+1","v":"2021-05-16"},{"$f":"BN3+1","v":"2021-05-17"},{"$f":"BO3+1","v":"2021-05-18"},{"$f":"BP3+1","v":"2021-05-19"},{"$f":"BQ3+1","v":"2021-05-20"},{"$f":"BR3+1","v":"2021-05-21"},{"$f":"BS3+1","v":"2021-05-22"},{"$f":"BT3+1","v":"2021-05-23"},{"$f":"BU3+1","v":"2021-05-24"},{"$f":"BV3+1","v":"2021-05-25"},{"$f":"BW3+1","v":"2021-05-26"},{"$f":"BX3+1","v":"2021-05-27"},{"$f":"BY3+1","v":"2021-05-28"},{"$f":"BZ3+1","v":"2021-05-29"},{"$f":"CA3+1","v":"2021-05-30"},{"$f":"CB3+1","v":"2021-05-31"},{"$f":"CC3+1","v":"2021-06-01"},{"$f":"CD3+1","v":"2021-06-02"},{"$f":"CE3+1","v":"2021-06-03"},{"$f":"CF3+1","v":"2021-06-04"},{"$f":"CG3+1","v":"2021-06-05"},{"$f":"CH3+1","v":"2021-06-06"},{"$f":"CI3+1","v":"2021-06-07"},{"$f":"CJ3+1","v":"2021-06-08"},{"$f":"CK3+1","v":"2021-06-09"},{"$f":"CL3+1","v":"2021-06-10"},{"$f":"CM3+1","v":"2021-06-11"},{"$f":"CN3+1","v":"2021-06-12"},{"$f":"CO3+1","v":"2021-06-13"},{"$f":"CP3+1","v":"2021-06-14"},{"$f":"CQ3+1","v":"2021-06-15"},{"$f":"CR3+1","v":"2021-06-16"},{"$f":"CS3+1","v":"2021-06-17"},{"$f":"CT3+1","v":"2021-06-18"},{"$f":"CU3+1","v":"2021-06-19"},{"$f":"CV3+1","v":"2021-06-20"},{"$f":"CW3+1","v":"2021-06-21"},{"$f":"CX3+1","v":"2021-06-22"},{"$f":"CY3+1","v":"2021-06-23"},{"$f":"CZ3+1","v":"2021-06-24"},{"$f":"DA3+1","v":"2021-06-25"},{"$f":"DB3+1","v":"2021-06-26"},{"$f":"DC3+1","v":"2021-06-27"},{"$f":"DD3+1","v":"2021-06-28"},{"$f":"DE3+1","v":"2021-06-29"},{"$f":"DF3+1","v":"2021-06-30"},{"$f":"DG3+1","v":"2021-07-01"},{"$f":"DH3+1","v":"2021-07-02"},{"$f":"DI3+1","v":"2021-07-03"},{"$f":"DJ3+1","v":"2021-07-04"},{"$f":"DK3+1","v":"2021-07-05"},{"$f":"DL3+1","v":"2021-07-06"},{"$f":"DM3+1","v":"2021-07-07"},{"$f":"DN3+1","v":"2021-07-08"},{"$f":"DO3+1","v":"2021-07-09"},{"$f":"DP3+1","v":"2021-07-10"},{"$f":"DQ3+1","v":"2021-07-11"},{"$f":"DR3+1","v":"2021-07-12"},{"$f":"DS3+1","v":"2021-07-13"},{"$f":"DT3+1","v":"2021-07-14"},{"$f":"DU3+1","v":"2021-07-15"},{"$f":"DV3+1","v":"2021-07-16"},{"$f":"DW3+1","v":"2021-07-17"},{"$f":"DX3+1","v":"2021-07-18"},{"$f":"DY3+1","v":"2021-07-19"}]
["FM-C01","CycleInterim Nuit",null,null,null,null,null,null,null,null,{"$f":"INDEX(OFFSET(Cycles!$F4,0,0,1,7*Cycles!$D4),0,1+MOD(K$3-Cycles!$C4,7*Cycles!$D4))","v":1},{"$f":"INDEX(OFFSET(Cycles!$F4,0,0,1,7*Cycles!$D4),0,1+MOD(L$3-Cycles!$C4,7*Cycles!$D4))","v":1},{"$f":"INDEX(OFFSET(Cycles!$F4,0,0,1,7*Cycles!$D4),0,1+MOD(M$3-Cycles!$C4,7*Cycles!$D4))","v":1},{"$f":"INDEX(OFFSET(Cycles!$F4,0,0,1,7*Cycles!$D4),0,1+MOD(N$3-Cycles!$C4,7*Cycles!$D4))","v":1},{"$f":"INDEX(OFFSET(Cycles!$F4,0,0,1,7*Cycles!$D4),0,1+MOD(O$3-Cycles!$C4,7*Cycles!$D4))","v":1},{"$f":"INDEX(OFFSET(Cycles!$F4,0,0,1,7*Cycles!$D4),0,1+MOD(P$3-Cycles!$C4,7*Cycles!$D4))","v":"RPO"},{"$f":"INDEX(OFFSET(Cycles!$F4,0,0,1,7*Cycles!$D4),0,1+MOD(Q$3-Cycles!$C4,7*Cycles!$D4))","v":0},{"$f":"INDEX(OFFSET(Cycles!$F4,0,0,1,7*Cycles!$D4),0,1+MOD(R$3-Cycles!$C4,7*Cycles!$D4))","v":1},{"$f":"INDEX(OFFSET(Cycles!$F4,0,0,1,7*Cycles!$D4),0,1+MOD(S$3-Cycles!$C4,7*Cycles!$D4))","v":1},{"$f":"INDEX(OFFSET(Cycles!$F4,0,0,1,7*Cycles!$D4),0,1+MOD(T$3-Cycles!$C4,7*Cycles!$D4))","v":1},{"$f":"INDEX(OFFSET(Cycles!$F4,0,0,1,7*Cycles!$D4),0,1+MOD(U$3-Cycles!$C4,7*Cycles!$D4))","v":1},{"$f":"INDEX(OFFSET(Cycles!$F4,0,0,1,7*Cycles!$D4),0,1+MOD(V$3-Cycles!$C4,7*Cycles!$D4))","v":1},{"$f":"INDEX(OFFSET(Cycles!$F4,0,0,1,7*Cycles!$D4),0,1+MOD(W$3-Cycles!$C4,7*Cycles!$D4))","v":"RPO"},{"$f":"INDEX(OFFSET(Cycles!$F4,0,0,1,7*Cycles!$D4),0,1+MOD(X$3-Cycles!$C4,7*Cycles!$D4))","v":0},{"$f":"INDEX(OFFSET(Cycles!$F4,0,0,1,7*Cycles!$D4),0,1+MOD(Y$3-Cycles!$C4,7*Cycles!$D4))","v":1},{"$f":"INDEX(OFFSET(Cycles!$F4,0,0,1,7*Cycles!$D4),0,1+MOD(Z$3-Cycles!$C4,7*Cycles!$D4))","v":1},{"$f":"INDEX(OFFSET(Cycles!$F4,0,0,1,7*Cycles!$D4),0,1+MOD(AA$3-Cycles!$C4,7*Cycles!$D4))","v":1},{"$f":"INDEX(OFFSET(Cycles!$F4,0,0,1,7*Cycles!$D4),0,1+MOD(AB$3-Cycles!$C4,7*Cycles!$D4))","v":1},{"$f":"INDEX(OFFSET(Cycles!$F4,0,0,1,7*Cycles!$D4),0,1+MOD(AC$3-Cycles!$C4,7*Cycles!$D4))","v":1},{"$f":"INDEX(OFFSET(Cycles!$F4,0,0,1,7*Cycles!$D4),0,1+MOD(AD$3-Cycles!$C4,7*Cycles!$D4))","v":1},{"$f":"INDEX(OFFSET(Cycles!$F4,0,0,1,7*Cycles!$D4),0,1+MOD(AE$3-Cycles!$C4,7*Cycles!$D4))","v":0},{"$f":"INDEX(OFFSET(Cycles!$F4,0,0,1,7*Cycles!$D4),0,1+MOD(AF$3-Cycles!$C4,7*Cycles!$D4))","v":1},{"$f":"INDEX(OFFSET(Cycles!$F4,0,0,1,7*Cycles!$D4),0,1+MOD(AG$3-Cycles!$C4,7*Cycles!$D4))","v":1},{"$f":"INDEX(OFFSET(Cycles!$F4,0,0,1,7*Cycles!$D4),0,1+MOD(AH$3-Cycles!$C4,7*Cycles!$D4))","v":1},{"$f":"INDEX(OFFSET(Cycles!$F4,0,0,1,7*Cycles!$D4),0,1+MOD(AI$3-Cycles!$C4,7*Cycles!$D4))","v":1},{"$f":"INDEX(OFFSET(Cycles!$F4,0,0,1,7*Cycles!$D4),0,1+MOD(AJ$3-Cycles!$C4,7*Cycles!$D4))","v":1},{"$f":"INDEX(OFFSET(Cycles!$F4,0,0,1,7*Cycles!$D4),0,1+MOD(AK$3-Cycles!$C4,7*Cycles!$D4))","v":"RPO"},{"$f":"INDEX(OFFSET(Cycles!$F4,0,0,1,7*Cycles!$D4),0,1+MOD(AL$3-Cycles!$C4,7*Cycles!$D4))","v":0},{"$f":"INDEX(OFFSET(Cycles!$F4,0,0,1,7*Cycles!$D4),0,1+MOD(AM$3-Cycles!$C4,7*Cycles!$D4))","v":1},{"$f":"INDEX(OFFSET(Cycles!$F4,0,0,1,7*Cycles!$D4),0,1+MOD(AN$3-Cycles!$C4,7*Cycles!$D4))","v":1},{"$f":"INDEX(OFFSET(Cycles!$F4,0,0,1,7*Cycles!$D4),0,1+MOD(AO$3-Cycles!$C4,7*Cycles!$D4))","v":1},{"$f":"INDEX(OFFSET(Cycles!$F4,0,0,1,7*Cycles!$D4),0,1+MOD(AP$3-Cycles!$C4,7*Cycles!$D4))","v":1},{"$f":"INDEX(OFFSET(Cycles!$F4,0,0,1,7*Cycles!$D4),0,1+MOD(AQ$3-Cycles!$C4,7*Cycles!$D4))","v":1},{"$f":"INDEX(OFFSET(Cycles!$F4,0,0,1,7*Cycles!$D4),0,1+MOD(AR$3-Cycles!$C4,7*Cycles!$D4))","v":"RPO"},{"$f":"INDEX(OFFSET(Cycles!$F4,0,0,1,7*Cycles!$D4),0,1+MOD(AS$3-Cycles!$C4,7*Cycles!$D4))","v":0},{"$f":"INDEX(OFFSET(Cycles!$F4,0,0,1,7*Cycles!$D4),0,1+MOD(AT$3-Cycles!$C4,7*Cycles!$D4))","v":1},{"$f":"INDEX(OFFSET(Cycles!$F4,0,0,1,7*Cycles!$D4),0,1+MOD(AU$3-Cycles!$C4,7*Cycles!$D4))","v":1},{"$f":"INDEX(OFFSET(Cycles!$F4,0,0,1,7*Cycles!$D4),0,1+MOD(AV$3-Cycles!$C4,7*Cycles!$D4))","v":1},{"$f":"INDEX(OFFSET(Cycles!$F4,0,0,1,7*Cycles!$D4),0,1+MOD(AW$3-Cycles!$C4,7*Cycles!$D4))","v":1},{"$f":"INDEX(OFFSET(Cycles!$F4,0,0,1,7*Cycles!$D4),0,1+MOD(AX$3-Cycles!$C4,7*Cycles!$D4))","v":1},{"$f":"INDEX(OFFSET(Cycles!$F4,0,0,1,7*Cycles!$D4),0,1+MOD(AY$3-Cycles!$C4,7*Cycles!$D4))","v":1},{"$f":"INDEX(OFFSET(Cycles!$F4,0,0,1,7*Cycles!$D4),0,1+MOD(AZ$3-Cycles!$C4,7*Cycles!$D4))","v":0},{"$f":"INDEX(OFFSET(Cycles!$F4,0,0,1,7*Cycles!$D4),0,1+MOD(BA$3-Cycles!$C4,7*Cycles!$D4))","v":1},{"$f":"INDEX(OFFSET(Cycles!$F4,0,0,1,7*Cycles!$D4),0,1+MOD(BB$3-Cycles!$C4,7*Cycles!$D4))","v":1},{"$f":"INDEX(OFFSET(Cycles!$F4,0,0,1,7*Cycles!$D4),0,1+MOD(BC$3-Cycles!$C4,7*Cycles!$D4))","v":1},{"$f":"INDEX(OFFSET(Cycles!$F4,0,0,1,7*Cycles!$D4),0,1+MOD(BD$3-Cycles!$C4,7*Cycles!$D4))","v":1},{"$f":"INDEX(OFFSET(Cycles!$F4,0,0,1,7*Cycles!$D4),0,1+MOD(BE$3-Cycles!$C4,7*Cycles!$D4))","v":1},{"$f":"INDEX(OFFSET(Cycles!$F4,0,0,1,7*Cycles!$D4),0,1+MOD(BF$3-Cycles!$C4,7*Cycles!$D4))","v":"RPO"},{"$f":"INDEX(OFFSET(Cycles!$F4,0,0,1,7*Cycles!$D4),0,1+MOD(BG$3-Cycles!$C4,7*Cycles!$D4))","v":0},{"$f":"INDEX(OFFSET(Cycles!$F4,0,0,1,7*Cycles!$D4),0,1+MOD(BH$3-Cycles!$C4,7*Cycles!$D4))","v":1},{"$f":"INDEX(OFFSET(Cycles!$F4,0,0,1,7*Cycles!$D4),0,1+MOD(BI$3-Cycles!$C4,7*Cycles!$D4))","v":1},{"$f":"INDEX(OFFSET(Cycles!$F4,0,0,1,7*Cycles!$D4),0,1+MOD(BJ$3-Cycles!$C4,7*Cycles!$D4))","v":1},{"$f":"INDEX(OFFSET(Cycles!$F4,0,0,1,7*Cycles!$D4),0,1+MOD(BK$3-Cycles!$C4,7*Cycles!$D4))","v":1},{"$f":"INDEX(OFFSET(Cycles!$F4,0,0,1,7*Cycles!$D4),0,1+MOD(BL$3-Cycles!$C4,7*Cycles!$D4))","v":1},{"$f":"INDEX(OFFSET(Cycles!$F4,0,0,1,7*Cycles!$D4),0,1+MOD(BM$3-Cycles!$C4,7*Cycles!$D4))","v":"RPO"},{"$f":"INDEX(OFFSET(Cycles!$F4,0,0,1,7*Cycles!$D4),0,1+MOD(BN$3-Cycles!$C4,7*Cycles!$D4))","v":0},{"$f":"INDEX(OFFSET(Cycles!$F4,0,0,1,7*Cycles!$D4),0,1+MOD(BO$3-Cycles!$C4,7*Cycles!$D4))","v":1},{"$f":"INDEX(OFFSET(Cycles!$F4,0,0,1,7*Cycles!$D4),0,1+MOD(BP$3-Cycles!$C4,7*Cycles!$D4))","v":1},{"$f":"INDEX(OFFSET(Cycles!$F4,0,0,1,7*Cycles!$D4),0,1+MOD(BQ$3-Cycles!$C4,7*Cycles!$D4))","v":1},{"$f":"INDEX(OFFSET(Cycles!$F4,0,0,1,7*Cycles!$D4),0,1+MOD(BR$3-Cycles!$C4,7*Cycles!$D4))","v":1},{"$f":"INDEX(OFFSET(Cycles!$F4,0,0,1,7*Cycles!$D4),0,1+MOD(BS$3-Cycles!$C4,7*Cycles!$D4))","v":1},{"$f":"INDEX(OFFSET(Cycles!$F4,0,0,1,7*Cycles!$D4),0,1+MOD(BT$3-Cycles!$C4,7*Cycles!$D4))","v":1},{"$f":"INDEX(OFFSET(Cycles!$F4,0,0,1,7*Cycles!$D4),0,1+MOD(BU$3-Cycles!$C4,7*Cycles!$D4))","v":0},{"$f":"INDEX(OFFSET(Cycles!$F4,0,0,1,7*Cycles!$D4),0,1+MOD(BV$3-Cycles!$C4,7*Cycles!$D4))","v":1},{"$f":"INDEX(OFFSET(Cycles!$F4,0,0,1,7*Cycles!$D4),0,1+MOD(BW$3-Cycles!$C4,7*Cycles!$D4))","v":1},{"$f":"INDEX(OFFSET(Cycles!$F4,0,0,1,7*Cycles!$D4),0,1+MOD(BX$3-Cycles!$C4,7*Cycles!$D4))","v":1},{"$f":"INDEX(OFFSET(Cycles!$F4,0,0,1,7*Cycles!$D4),0,1+MOD(BY$3-Cycles!$C4,7*Cycles!$D4))","v":1},{"$f":"INDEX(OFFSET(Cycles!$F4,0,0,1,7*Cycles!$D4),0,1+MOD(BZ$3-Cycles!$C4,7*Cycles!$D4))","v":1},{"$f":"INDEX(OFFSET(Cycles!$F4,0,0,1,7*Cycles!$D4),0,1+MOD(CA$3-Cycles!$C4,7*Cycles!$D4))","v":"RPO"},{"$f":"INDEX(OFFSET(Cycles!$F4,0,0,1,7*Cycles!$D4),0,1+MOD(CB$3-Cycles!$C4,7*Cycles!$D4))","v":0},{"$f":"INDEX(OFFSET(Cycles!$F4,0,0,1,7*Cycles!$D4),0,1+MOD(CC$3-Cycles!$C4,7*Cycles!$D4))","v":1},{"$f":"INDEX(OFFSET(Cycles!$F4,0,0,1,7*Cycles!$D4),0,1+MOD(CD$3-Cycles!$C4,7*Cycles!$D4))","v":1},{"$f":"INDEX(OFFSET(Cycles!$F4,0,0,1,7*Cycles!$D4),0,1+MOD(CE$3-Cycles!$C4,7*Cycles!$D4))","v":1},{"$f":"INDEX(OFFSET(Cycles!$F4,0,0,1,7*Cycles!$D4),0,1+MOD(CF$3-Cycles!$C4,7*Cycles!$D4))","v":1},{"$f":"INDEX(OFFSET(Cycles!$F4,0,0,1,7*Cycles!$D4),0,1+MOD(CG$3-Cycles!$C4,7*Cycles!$D4))","v":1},{"$f":"INDEX(OFFSET(Cycles!$F4,0,0,1,7*Cycles!$D4),0,1+MOD(CH$3-Cycles!$C4,7*Cycles!$D4))","v":"RPO"},{"$f":"INDEX(OFFSET(Cycles!$F4,0,0,1,7*Cycles!$D4),0,1+MOD(CI$3-Cycles!$C4,7*Cycles!$D4))","v":0},{"$f":"INDEX(OFFSET(Cycles!$F4,0,0,1,7*Cycles!$D4),0,1+MOD(CJ$3-Cycles!$C4,7*Cycles!$D4))","v":1},{"$f":"INDEX(OFFSET(Cycles!$F4,0,0,1,7*Cycles!$D4),0,1+MOD(CK$3-Cycles!$C4,7*Cycles!$D4))","v":1},{"$f":"INDEX(OFFSET(Cycles!$F4,0,0,1,7*Cycles!$D4),0,1+MOD(CL$3-Cycles!$C4,7*Cycles!$D4))","v":1},{"$f":"INDEX(OFFSET(Cycles!$F4,0,0,1,7*Cycles!$D4),0,1+MOD(CM$3-Cycles!$C4,7*Cycles!$D4))","v":1},{"$f":"INDEX(OFFSET(Cycles!$F4,0,0,1,7*Cycles!$D4),0,1+MOD(CN$3-Cycles!$C4,7*Cycles!$D4))","v":1},{"$f":"INDEX(OFFSET(Cycles!$F4,0,0,1,7*Cycles!$D4),0,1+MOD(CO$3-Cycles!$C4,7*Cycles!$D4))","v":1},{"$f":"INDEX(OFFSET(Cycles!$F4,0,0,1,7*Cycles!$D4),0,1+MOD(CP$3-Cycles!$C4,7*Cycles!$D4))","v":0},{"$f":"INDEX(OFFSET(Cycles!$F4,0,0,1,7*Cycles!$D4),0,1+MOD(CQ$3-Cycles!$C4,7*Cycles!$D4))","v":1},{"$f":"INDEX(OFFSET(Cycles!$F4,0,0,1,7*Cycles!$D4),0,1+MOD(CR$3-Cycles!$C4,7*Cycles!$D4))","v":1},{"$f":"INDEX(OFFSET(Cycles!$F4,0,0,1,7*Cycles!$D4),0,1+MOD(CS$3-Cycles!$C4,7*Cycles!$D4))","v":1},{"$f":"INDEX(OFFSET(Cycles!$F4,0,0,1,7*Cycles!$D4),0,1+MOD(CT$3-Cycles!$C4,7*Cycles!$D4))","v":1},{"$f":"INDEX(OFFSET(Cycles!$F4,0,0,1,7*Cycles!$D4),0,1+MOD(CU$3-Cycles!$C4,7*Cycles!$D4))","v":1},{"$f":"INDEX(OFFSET(Cycles!$F4,0,0,1,7*Cycles!$D4),0,1+MOD(CV$3-Cycles!$C4,7*Cycles!$D4))","v":"RPO"},{"$f":"INDEX(OFFSET(Cycles!$F4,0,0,1,7*Cycles!$D4),0,1+MOD(CW$3-Cycles!$C4,7*Cycles!$D4))","v":0},{"$f":"INDEX(OFFSET(Cycles!$F4,0,0,1,7*Cycles!$D4),0,1+MOD(CX$3-Cycles!$C4,7*Cycles!$D4))","v":1},{"$f":"INDEX(OFFSET(Cycles!$F4,0,0,1,7*Cycles!$D4),0,1+MOD(CY$3-Cycles!$C4,7*Cycles!$D4))","v":1},{"$f":"INDEX(OFFSET(Cycles!$F4,0,0,1,7*Cycles!$D4),0,1+MOD(CZ$3-Cycles!$C4,7*Cycles!$D4))","v":1},{"$f":"INDEX(OFFSET(Cycles!$F4,0,0,1,7*Cycles!$D4),0,1+MOD(DA$3-Cycles!$C4,7*Cycles!$D4))","v":1},{"$f":"INDEX(OFFSET(Cycles!$F4,0,0,1,7*Cycles!$D4),0,1+MOD(DB$3-Cycles!$C4,7*Cycles!$D4))","v":1},{"$f":"INDEX(OFFSET(Cycles!$F4,0,0,1,7*Cycles!$D4),0,1+MOD(DC$3-Cycles!$C4,7*Cycles!$D4))","v":"RPO"},{"$f":"INDEX(OFFSET(Cycles!$F4,0,0,1,7*Cycles!$D4),0,1+MOD(DD$3-Cycles!$C4,7*Cycles!$D4))","v":0},{"$f":"INDEX(OFFSET(Cycles!$F4,0,0,1,7*Cycles!$D4),0,1+MOD(DE$3-Cycles!$C4,7*Cycles!$D4))","v":1},{"$f":"INDEX(OFFSET(Cycles!$F4,0,0,1,7*Cycles!$D4),0,1+MOD(DF$3-Cycles!$C4,7*Cycles!$D4))","v":1},{"$f":"INDEX(OFFSET(Cycles!$F4,0,0,1,7*Cycles!$D4),0,1+MOD(DG$3-Cycles!$C4,7*Cycles!$D4))","v":1},{"$f":"INDEX(OFFSET(Cycles!$F4,0,0,1,7*Cycles!$D4),0,1+MOD(DH$3-Cycles!$C4,7*Cycles!$D4))","v":1},{"$f":"INDEX(OFFSET(Cycles!$F4,0,0,1,7*Cycles!$D4),0,1+MOD(DI$3-Cycles!$C4,7*Cycles!$D4))","v":1},{"$f":"INDEX(OFFSET(Cycles!$F4,0,0,1,7*Cycles!$D4),0,1+MOD(DJ$3-Cycles!$C4,7*Cycles!$D4))","v":1},{"$f":"INDEX(OFFSET(Cycles!$F4,0,0,1,7*Cycles!$D4),0,1+MOD(DK$3-Cycles!$C4,7*Cycles!$D4))","v":0},{"$f":"INDEX(OFFSET(Cycles!$F4,0,0,1,7*Cycles!$D4),0,1+MOD(DL$3-Cycles!$C4,7*Cycles!$D4))","v":1},{"$f":"INDEX(OFFSET(Cycles!$F4,0,0,1,7*Cycles!$D4),0,1+MOD(DM$3-Cycles!$C4,7*Cycles!$D4))","v":1},{"$f":"INDEX(OFFSET(Cycles!$F4,0,0,1,7*Cycles!$D4),0,1+MOD(DN$3-Cycles!$C4,7*Cycles!$D4))","v":1},{"$f":"INDEX(OFFSET(Cycles!$F4,0,0,1,7*Cycles!$D4),0,1+MOD(DO$3-Cycles!$C4,7*Cycles!$D4))","v":1},{"$f":"INDEX(OFFSET(Cycles!$F4,0,0,1,7*Cycles!$D4),0,1+MOD(DP$3-Cycles!$C4,7*Cycles!$D4))","v":1},{"$f":"INDEX(OFFSET(Cycles!$F4,0,0,1,7*Cycles!$D4),0,1+MOD(DQ$3-Cycles!$C4,7*Cycles!$D4))","v":"RPO"},{"$f":"INDEX(OFFSET(Cycles!$F4,0,0,1,7*Cycles!$D4),0,1+MOD(DR$3-Cycles!$C4,7*Cycles!$D4))","v":0},{"$f":"INDEX(OFFSET(Cycles!$F4,0,0,1,7*Cycles!$D4),0,1+MOD(DS$3-Cycles!$C4,7*Cycles!$D4))","v":1},{"$f":"INDEX(OFFSET(Cycles!$F4,0,0,1,7*Cycles!$D4),0,1+MOD(DT$3-Cycles!$C4,7*Cycles!$D4))","v":1},{"$f":"INDEX(OFFSET(Cycles!$F4,0,0,1,7*Cycles!$D4),0,1+MOD(DU$3-Cycles!$C4,7*Cycles!$D4))","v":1},{"$f":"INDEX(OFFSET(Cycles!$F4,0,0,1,7*Cycles!$D4),0,1+MOD(DV$3-Cycles!$C4,7*Cycles!$D4))","v":1},{"$f":"INDEX(OFFSET(Cycles!$F4,0,0,1,7*Cycles!$D4),0,1+MOD(DW$3-Cycles!$C4,7*Cycles!$D4))","v":1},{"$f":"INDEX(OFFSET(Cycles!$F4,0,0,1,7*Cycles!$D4),0,1+MOD(DX$3-Cycles!$C4,7*Cycles!$D4))","v":"RPO"},{"$f":"INDEX(OFFSET(Cycles!$F4,0,0,1,7*Cycles!$D4),0,1+MOD(DY$3-Cycles!$C4,7*Cycles!$D4))","v":0},{"$f":"INDEX(OFFSET(Cycles!$F4,0,0,1,7*Cycles!$D4),0,1+MOD(DZ$3-Cycles!$C4,7*Cycles!$D4))","v":1}]
["FM-C01-S2","CycleInterim SDL",null,null,null,null,null,null,null,null,{"$f":"INDEX(OFFSET(Cycles!$F5,0,0,1,7*Cycles!$D5),0,1+MOD(K$3-Cycles!$C5,7*Cycles!$D5))","v":1},{"$f":"INDEX(OFFSET(Cycles!$F5,0,0,1,7*Cycles!$D5),0,1+MOD(L$3-Cycles!$C5,7*Cycles!$D5))","v":1},{"$f":"INDEX(OFFSET(Cycles!$F5,0,0,1,7*Cycles!$D5),0,1+MOD(M$3-Cycles!$C5,7*Cycles!$D5))","v":1},{"$f":"INDEX(OFFSET(Cycles!$F5,0,0,1,7*Cycles!$D5),0,1+MOD(N$3-Cycles!$C5,7*Cycles!$D5))","v":1},{"$f":"INDEX(OFFSET(Cycles!$F5,0,0,1,7*Cycles!$D5),0,1+MOD(O$3-Cycles!$C5,7*Cycles!$D5))","v":1},{"$f":"INDEX(OFFSET(Cycles!$F5,0,0,1,7*Cycles!$D5),0,1+MOD(P$3-Cycles!$C5,7*Cycles!$D5))","v":"RPO"},{"$f":"INDEX(OFFSET(Cycles!$F5,0,0,1,7*Cycles!$D5),0,1+MOD(Q$3-Cycles!$C5,7*Cycles!$D5))","v":0},{"$f":"INDEX(OFFSET(Cycles!$F5,0,0,1,7*Cycles!$D5),0,1+MOD(R$3-Cycles!$C5,7*Cycles!$D5))","v":1},{"$f":"INDEX(OFFSET(Cycles!$F5,0,0,1,7*Cycles!$D5),0,1+MOD(S$3-Cycles!$C5,7*Cycles!$D5))","v":1},{"$f":"INDEX(OFFSET(Cycles!$F5,0,0,1,7*Cycles!$D5),0,1+MOD(T$3-Cycles!$C5,7*Cycles!$D5))","v":1},{"$f":"INDEX(OFFSET(Cycles!$F5,0,0,1,7*Cycles!$D5),0,1+MOD(U$3-Cycles!$C5,7*Cycles!$D5))","v":1},{"$f":"INDEX(OFFSET(Cycles!$F5,0,0,1,7*Cycles!$D5),0,1+MOD(V$3-Cycles!$C5,7*Cycles!$D5))","v":1},{"$f":"INDEX(OFFSET(Cycles!$F5,0,0,1,7*Cycles!$D5),0,1+MOD(W$3-Cycles!$C5,7*Cycles!$D5))","v":1},{"$f":"INDEX(OFFSET(Cycles!$F5,0,0,1,7*Cycles!$D5),0,1+MOD(X$3-Cycles!$C5,7*Cycles!$D5))","v":0},{"$f":"INDEX(OFFSET(Cycles!$F5,0,0,1,7*Cycles!$D5),0,1+MOD(Y$3-Cycles!$C5,7*Cycles!$D5))","v":1},{"$f":"INDEX(OFFSET(Cycles!$F5,0,0,1,7*Cycles!$D5),0,1+MOD(Z$3-Cycles!$C5,7*Cycles!$D5))","v":1},{"$f":"INDEX(OFFSET(Cycles!$F5,0,0,1,7*Cycles!$D5),0,1+MOD(AA$3-Cycles!$C5,7*Cycles!$D5))","v":1},{"$f":"INDEX(OFFSET(Cycles!$F5,0,0,1,7*Cycles!$D5),0,1+MOD(AB$3-Cycles!$C5,7*Cycles!$D5))","v":1},{"$f":"INDEX(OFFSET(Cycles!$F5,0,0,1,7*Cycles!$D5),0,1+MOD(AC$3-Cycles!$C5,7*Cycles!$D5))","v":1},{"$f":"INDEX(OFFSET(Cycles!$F5,0,0,1,7*Cycles!$D5),0,1+MOD(AD$3-Cycles!$C5,7*Cycles!$D5))","v":"RPO"},{"$f":"INDEX(OFFSET(Cycles!$F5,0,0,1,7*Cycles!$D5),0,1+MOD(AE$3-Cycles!$C5,7*Cycles!$D5))","v":0},{"$f":"INDEX(OFFSET(Cycles!$F5,0,0,1,7*Cycles!$D5),0,1+MOD(AF$3-Cycles!$C5,7*Cycles!$D5))","v":1},{"$f":"INDEX(OFFSET(Cycles!$F5,0,0,1,7*Cycles!$D5),0,1+MOD(AG$3-Cycles!$C5,7*Cycles!$D5))","v":1},{"$f":"INDEX(OFFSET(Cycles!$F5,0,0,1,7*Cycles!$D5),0,1+MOD(AH$3-Cycles!$C5,7*Cycles!$D5))","v":1},{"$f":"INDEX(OFFSET(Cycles!$F5,0,0,1,7*Cycles!$D5),0,1+MOD(AI$3-Cycles!$C5,7*Cycles!$D5))","v":1},{"$f":"INDEX(OFFSET(Cycles!$F5,0,0,1,7*Cycles!$D5),0,1+MOD(AJ$3-Cycles!$C5,7*Cycles!$D5))","v":1},{"$f":"INDEX(OFFSET(Cycles!$F5,0,0,1,7*Cycles!$D5),0,1+MOD(AK$3-Cycles!$C5,7*Cycles!$D5))","v":"RPO"},{"$f":"INDEX(OFFSET(Cycles!$F5,0,0,1,7*Cycles!$D5),0,1+MOD(AL$3-Cycles!$C5,7*Cycles!$D5))","v":0},{"$f":"INDEX(OFFSET(Cycles!$F5,0,0,1,7*Cycles!$D5),0,1+MOD(AM$3-Cycles!$C5,7*Cycles!$D5))","v":1},{"$f":"INDEX(OFFSET(Cycles!$F5,0,0,1,7*Cycles!$D5),0,1+MOD(AN$3-Cycles!$C5,7*Cycles!$D5))","v":1},{"$f":"INDEX(OFFSET(Cycles!$F5,0,0,1,7*Cycles!$D5),0,1+MOD(AO$3-Cycles!$C5,7*Cycles!$D5))","v":1},{"$f":"INDEX(OFFSET(Cycles!$F5,0,0,1,7*Cycles!$D5),0,1+MOD(AP$3-Cycles!$C5,7*Cycles!$D5))","v":1},{"$f":"INDEX(OFFSET(Cycles!$F5,0,0,1,7*Cycles!$D5),0,1+MOD(AQ$3-Cycles!$C5,7*Cycles!$D5))","v":1},{"$f":"INDEX(OFFSET(Cycles!$F5,0,0,1,7*Cycles!$D5),0,1+MOD(AR$3-Cycles!$C5,7*Cycles!$D5))","v":1},{"$f":"INDEX(OFFSET(Cycles!$F5,0,0,1,7*Cycles!$D5),0,1+MOD(AS$3-Cycles!$C5,7*Cycles!$D5))","v":0},{"$f":"INDEX(OFFSET(Cycles!$F5,0,0,1,7*Cycles!$D5),0,1+MOD(AT$3-Cycles!$C5,7*Cycles!$D5))","v":1},{"$f":"INDEX(OFFSET(Cycles!$F5,0,0,1,7*Cycles!$D5),0,1+MOD(AU$3-Cycles!$C5,7*Cycles!$D5))","v":1},{"$f":"INDEX(OFFSET(Cycles!$F5,0,0,1,7*Cycles!$D5),0,1+MOD(AV$3-Cycles!$C5,7*Cycles!$D5))","v":1},{"$f":"INDEX(OFFSET(Cycles!$F5,0,0,1,7*Cycles!$D5),0,1+MOD(AW$3-Cycles!$C5,7*Cycles!$D5))","v":1},{"$f":"INDEX(OFFSET(Cycles!$F5,0,0,1,7*Cycles!$D5),0,1+MOD(AX$3-Cycles!$C5,7*Cycles!$D5))","v":1},{"$f":"INDEX(OFFSET(Cycles!$F5,0,0,1,7*Cycles!$D5),0,1+MOD(AY$3-Cycles!$C5,7*Cycles!$D5))","v":"RPO"},{"$f":"INDEX(OFFSET(Cycles!$F5,0,0,1,7*Cycles!$D5),0,1+MOD(AZ$3-Cycles!$C5,7*Cycles!$D5))","v":0},{"$f":"INDEX(OFFSET(Cycles!$F5,0,0,1,7*Cycles!$D5),0,1+MOD(BA$3-Cycles!$C5,7*Cycles!$D5))","v":1},{"$f":"INDEX(OFFSET(Cycles!$F5,0,0,1,7*Cycles!$D5),0,1+MOD(BB$3-Cycles!$C5,7*Cycles!$D5))","v":1},{"$f":"INDEX(OFFSET(Cycles!$F5,0,0,1,7*Cycles!$D5),0,1+MOD(BC$3-Cycles!$C5,7*Cycles!$D5))","v":1},{"$f":"INDEX(OFFSET(Cycles!$F5,0,0,1,7*Cycles!$D5),0,1+MOD(BD$3-Cycles!$C5,7*Cycles!$D5))","v":1},{"$f":"INDEX(OFFSET(Cycles!$F5,0,0,1,7*Cycles!$D5),0,1+MOD(BE$3-Cycles!$C5,7*Cycles!$D5))","v":1},{"$f":"INDEX(OFFSET(Cycles!$F5,0,0,1,7*Cycles!$D5),0,1+MOD(BF$3-Cycles!$C5,7*Cycles!$D5))","v":"RPO"},{"$f":"INDEX(OFFSET(Cycles!$F5,0,0,1,7*Cycles!$D5),0,1+MOD(BG$3-Cycles!$C5,7*Cycles!$D5))","v":0},{"$f":"INDEX(OFFSET(Cycles!$F5,0,0,1,7*Cycles!$D5),0,1+MOD(BH$3-Cycles!$C5,7*Cycles!$D5))","v":1},{"$f":"INDEX(OFFSET(Cycles!$F5,0,0,1,7*Cycles!$D5),0,1+MOD(BI$3-Cycles!$C5,7*Cycles!$D5))","v":1},{"$f":"INDEX(OFFSET(Cycles!$F5,0,0,1,7*Cycles!$D5),0,1+MOD(BJ$3-Cycles!$C5,7*Cycles!$D5))","v":1},{"$f":"INDEX(OFFSET(Cycles!$F5,0,0,1,7*Cycles!$D5),0,1+MOD(BK$3-Cycles!$C5,7*Cycles!$D5))","v":1},{"$f":"INDEX(OFFSET(Cycles!$F5,0,0,1,7*Cycles!$D5),0,1+MOD(BL$3-Cycles!$C5,7*Cycles!$D5))","v":1},{"$f":"INDEX(OFFSET(Cycles!$F5,0,0,1,7*Cycles!$D5),0,1+MOD(BM$3-Cycles!$C5,7*Cycles!$D5))","v":1},{"$f":"INDEX(OFFSET(Cycles!$F5,0,0,1,7*Cycles!$D5),0,1+MOD(BN$3-Cycles!$C5,7*Cycles!$D5))","v":0},{"$f":"INDEX(OFFSET(Cycles!$F5,0,0,1,7*Cycles!$D5),0,1+MOD(BO$3-Cycles!$C5,7*Cycles!$D5))","v":1},{"$f":"INDEX(OFFSET(Cycles!$F5,0,0,1,7*Cycles!$D5),0,1+MOD(BP$3-Cycles!$C5,7*Cycles!$D5))","v":1},{"$f":"INDEX(OFFSET(Cycles!$F5,0,0,1,7*Cycles!$D5),0,1+MOD(BQ$3-Cycles!$C5,7*Cycles!$D5))","v":1},{"$f":"INDEX(OFFSET(Cycles!$F5,0,0,1,7*Cycles!$D5),0,1+MOD(BR$3-Cycles!$C5,7*Cycles!$D5))","v":1},{"$f":"INDEX(OFFSET(Cycles!$F5,0,0,1,7*Cycles!$D5),0,1+MOD(BS$3-Cycles!$C5,7*Cycles!$D5))","v":1},{"$f":"INDEX(OFFSET(Cycles!$F5,0,0,1,7*Cycles!$D5),0,1+MOD(BT$3-Cycles!$C5,7*Cycles!$D5))","v":"RPO"},{"$f":"INDEX(OFFSET(Cycles!$F5,0,0,1,7*Cycles!$D5),0,1+MOD(BU$3-Cycles!$C5,7*Cycles!$D5))","v":0},{"$f":"INDEX(OFFSET(Cycles!$F5,0,0,1,7*Cycles!$D5),0,1+MOD(BV$3-Cycles!$C5,7*Cycles!$D5))","v":1},{"$f":"INDEX(OFFSET(Cycles!$F5,0,0,1,7*Cycles!$D5),0,1+MOD(BW$3-Cycles!$C5,7*Cycles!$D5))","v":1},{"$f":"INDEX(OFFSET(Cycles!$F5,0,0,1,7*Cycles!$D5),0,1+MOD(BX$3-Cycles!$C5,7*Cycles!$D5))","v":1},{"$f":"INDEX(OFFSET(Cycles!$F5,0,0,1,7*Cycles!$D5),0,1+MOD(BY$3-Cycles!$C5,7*Cycles!$D5))","v":1},{"$f":"INDEX(OFFSET(Cycles!$F5,0,0,1,7*Cycles!$D5),0,1+MOD(BZ$3-Cycles!$C5,7*Cycles!$D5))","v":1},{"$f":"INDEX(OFFSET(Cycles!$F5,0,0,1,7*Cycles!$D5),0,1+MOD(CA$3-Cycles!$C5,7*Cycles!$D5))","v":"RPO"},{"$f":"INDEX(OFFSET(Cycles!$F5,0,0,1,7*Cycles!$D5),0,1+MOD(CB$3-Cycles!$C5,7*Cycles!$D5))","v":0},{"$f":"INDEX(OFFSET(Cycles!$F5,0,0,1,7*Cycles!$D5),0,1+MOD(CC$3-Cycles!$C5,7*Cycles!$D5))","v":1},{"$f":"INDEX(OFFSET(Cycles!$F5,0,0,1,7*Cycles!$D5),0,1+MOD(CD$3-Cycles!$C5,7*Cycles!$D5))","v":1},{"$f":"INDEX(OFFSET(Cycles!$F5,0,0,1,7*Cycles!$D5),0,1+MOD(CE$3-Cycles!$C5,7*Cycles!$D5))","v":1},{"$f":"INDEX(OFFSET(Cycles!$F5,0,0,1,7*Cycles!$D5),0,1+MOD(CF$3-Cycles!$C5,7*Cycles!$D5))","v":1},{"$f":"INDEX(OFFSET(Cycles!$F5,0,0,1,7*Cycles!$D5),0,1+MOD(CG$3-Cycles!$C5,7*Cycles!$D5))","v":1},{"$f":"INDEX(OFFSET(Cycles!$F5,0,0,1,7*Cycles!$D5),0,1+MOD(CH$3-Cycles!$C5,7*Cycles!$D5))","v":1},{"$f":"INDEX(OFFSET(Cycles!$F5,0,0,1,7*Cycles!$D5),0,1+MOD(CI$3-Cycles!$C5,7*Cycles!$D5))","v":0},{"$f":"INDEX(OFFSET(Cycles!$F5,0,0,1,7*Cycles!$D5),0,1+MOD(CJ$3-Cycles!$C5,7*Cycles!$D5))","v":1},{"$f":"INDEX(OFFSET(Cycles!$F5,0,0,1,7*Cycles!$D5),0,1+MOD(CK$3-Cycles!$C5,7*Cycles!$D5))","v":1},{"$f":"INDEX(OFFSET(Cycles!$F5,0,0,1,7*Cycles!$D5),0,1+MOD(CL$3-Cycles!$C5,7*Cycles!$D5))","v":1},{"$f":"INDEX(OFFSET(Cycles!$F5,0,0,1,7*Cycles!$D5),0,1+MOD(CM$3-Cycles!$C5,7*Cycles!$D5))","v":1},{"$f":"INDEX(OFFSET(Cycles!$F5,0,0,1,7*Cycles!$D5),0,1+MOD(CN$3-Cycles!$C5,7*Cycles!$D5))","v":1},{"$f":"INDEX(OFFSET(Cycles!$F5,0,0,1,7*Cycles!$D5),0,1+MOD(CO$3-Cycles!$C5,7*Cycles!$D5))","v":"RPO"},{"$f":"INDEX(OFFSET(Cycles!$F5,0,0,1,7*Cycles!$D5),0,1+MOD(CP$3-Cycles!$C5,7*Cycles!$D5))","v":0},{"$f":"INDEX(OFFSET(Cycles!$F5,0,0,1,7*Cycles!$D5),0,1+MOD(CQ$3-Cycles!$C5,7*Cycles!$D5))","v":1},{"$f":"INDEX(OFFSET(Cycles!$F5,0,0,1,7*Cycles!$D5),0,1+MOD(CR$3-Cycles!$C5,7*Cycles!$D5))","v":1},{"$f":"INDEX(OFFSET(Cycles!$F5,0,0,1,7*Cycles!$D5),0,1+MOD(CS$3-Cycles!$C5,7*Cycles!$D5))","v":1},{"$f":"INDEX(OFFSET(Cycles!$F5,0,0,1,7*Cycles!$D5),0,1+MOD(CT$3-Cycles!$C5,7*Cycles!$D5))","v":1},{"$f":"INDEX(OFFSET(Cycles!$F5,0,0,1,7*Cycles!$D5),0,1+MOD(CU$3-Cycles!$C5,7*Cycles!$D5))","v":1},{"$f":"INDEX(OFFSET(Cycles!$F5,0,0,1,7*Cycles!$D5),0,1+MOD(CV$3-Cycles!$C5,7*Cycles!$D5))","v":"RPO"},{"$f":"INDEX(OFFSET(Cycles!$F5,0,0,1,7*Cycles!$D5),0,1+MOD(CW$3-Cycles!$C5,7*Cycles!$D5))","v":0},{"$f":"INDEX(OFFSET(Cycles!$F5,0,0,1,7*Cycles!$D5),0,1+MOD(CX$3-Cycles!$C5,7*Cycles!$D5))","v":1},{"$f":"INDEX(OFFSET(Cycles!$F5,0,0,1,7*Cycles!$D5),0,1+MOD(CY$3-Cycles!$C5,7*Cycles!$D5))","v":1},{"$f":"INDEX(OFFSET(Cycles!$F5,0,0,1,7*Cycles!$D5),0,1+MOD(CZ$3-Cycles!$C5,7*Cycles!$D5))","v":1},{"$f":"INDEX(OFFSET(Cycles!$F5,0,0,1,7*Cycles!$D5),0,1+MOD(DA$3-Cycles!$C5,7*Cycles!$D5))","v":1},{"$f":"INDEX(OFFSET(Cycles!$F5,0,0,1,7*Cycles!$D5),0,1+MOD(DB$3-Cycles!$C5,7*Cycles!$D5))","v":1},{"$f":"INDEX(OFFSET(Cycles!$F5,0,0,1,7*Cycles!$D5),0,1+MOD(DC$3-Cycles!$C5,7*Cycles!$D5))","v":1},{"$f":"INDEX(OFFSET(Cycles!$F5,0,0,1,7*Cycles!$D5),0,1+MOD(DD$3-Cycles!$C5,7*Cycles!$D5))","v":0},{"$f":"INDEX(OFFSET(Cycles!$F5,0,0,1,7*Cycles!$D5),0,1+MOD(DE$3-Cycles!$C5,7*Cycles!$D5))","v":1},{"$f":"INDEX(OFFSET(Cycles!$F5,0,0,1,7*Cycles!$D5),0,1+MOD(DF$3-Cycles!$C5,7*Cycles!$D5))","v":1},{"$f":"INDEX(OFFSET(Cycles!$F5,0,0,1,7*Cycles!$D5),0,1+MOD(DG$3-Cycles!$C5,7*Cycles!$D5))","v":1},{"$f":"INDEX(OFFSET(Cycles!$F5,0,0,1,7*Cycles!$D5),0,1+MOD(DH$3-Cycles!$C5,7*Cycles!$D5))","v":1},{"$f":"INDEX(OFFSET(Cycles!$F5,0,0,1,7*Cycles!$D5),0,1+MOD(DI$3-Cycles!$C5,7*Cycles!$D5))","v":1},{"$f":"INDEX(OFFSET(Cycles!$F5,0,0,1,7*Cycles!$D5),0,1+MOD(DJ$3-Cycles!$C5,7*Cycles!$D5))","v":"RPO"},{"$f":"INDEX(OFFSET(Cycles!$F5,0,0,1,7*Cycles!$D5),0,1+MOD(DK$3-Cycles!$C5,7*Cycles!$D5))","v":0},{"$f":"INDEX(OFFSET(Cycles!$F5,0,0,1,7*Cycles!$D5),0,1+MOD(DL$3-Cycles!$C5,7*Cycles!$D5))","v":1},{"$f":"INDEX(OFFSET(Cycles!$F5,0,0,1,7*Cycles!$D5),0,1+MOD(DM$3-Cycles!$C5,7*Cycles!$D5))","v":1},{"$f":"INDEX(OFFSET(Cycles!$F5,0,0,1,7*Cycles!$D5),0,1+MOD(DN$3-Cycles!$C5,7*Cycles!$D5))","v":1},{"$f":"INDEX(OFFSET(Cycles!$F5,0,0,1,7*Cycles!$D5),0,1+MOD(DO$3-Cycles!$C5,7*Cycles!$D5))","v":1},{"$f":"INDEX(OFFSET(Cycles!$F5,0,0,1,7*Cycles!$D5),0,1+MOD(DP$3-Cycles!$C5,7*Cycles!$D5))","v":1},{"$f":"INDEX(OFFSET(Cycles!$F5,0,0,1,7*Cycles!$D5),0,1+MOD(DQ$3-Cycles!$C5,7*Cycles!$D5))","v":"RPO"},{"$f":"INDEX(OFFSET(Cycles!$F5,0,0,1,7*Cycles!$D5),0,1+MOD(DR$3-Cycles!$C5,7*Cycles!$D5))","v":0},{"$f":"INDEX(OFFSET(Cycles!$F5,0,0,1,7*Cycles!$D5),0,1+MOD(DS$3-Cycles!$C5,7*Cycles!$D5))","v":1},{"$f":"INDEX(OFFSET(Cycles!$F5,0,0,1,7*Cycles!$D5),0,1+MOD(DT$3-Cycles!$C5,7*Cycles!$D5))","v":1},{"$f":"INDEX(OFFSET(Cycles!$F5,0,0,1,7*Cycles!$D5),0,1+MOD(DU$3-Cycles!$C5,7*Cycles!$D5))","v":1},{"$f":"INDEX(OFFSET(Cycles!$F5,0,0,1,7*Cycles!$D5),0,1+MOD(DV$3-Cycles!$C5,7*Cycles!$D5))","v":1},{"$f":"INDEX(OFFSET(Cycles!$F5,0,0,1,7*Cycles!$D5),0,1+MOD(DW$3-Cycles!$C5,7*Cycles!$D5))","v":1},{"$f":"INDEX(OFFSET(Cycles!$F5,0,0,1,7*Cycles!$D5),0,1+MOD(DX$3-Cycles!$C5,7*Cycles!$D5))","v":1},{"$f":"INDEX(OFFSET(Cycles!$F5,0,0,1,7*Cycles!$D5),0,1+MOD(DY$3-Cycles!$C5,7*Cycles!$D5))","v":0},{"$f":"INDEX(OFFSET(Cycles!$F5,0,0,1,7*Cycles!$D5),0,1+MOD(DZ$3-Cycles!$C5,7*Cycles!$D5))","v":1}]
["FM-C01-S3","CycleInterim SDL S2",null,null,null,null,null,null,null,null,{"$f":"INDEX(OFFSET(Cycles!$F6,0,0,1,7*Cycles!$D6),0,1+MOD(K$3-Cycles!$C6,7*Cycles!$D6))","v":1},{"$f":"INDEX(OFFSET(Cycles!$F6,0,0,1,7*Cycles!$D6),0,1+MOD(L$3-Cycles!$C6,7*Cycles!$D6))","v":1},{"$f":"INDEX(OFFSET(Cycles!$F6,0,0,1,7*Cycles!$D6),0,1+MOD(M$3-Cycles!$C6,7*Cycles!$D6))","v":1},{"$f":"INDEX(OFFSET(Cycles!$F6,0,0,1,7*Cycles!$D6),0,1+MOD(N$3-Cycles!$C6,7*Cycles!$D6))","v":1},{"$f":"INDEX(OFFSET(Cycles!$F6,0,0,1,7*Cycles!$D6),0,1+MOD(O$3-Cycles!$C6,7*Cycles!$D6))","v":1},{"$f":"INDEX(OFFSET(Cycles!$F6,0,0,1,7*Cycles!$D6),0,1+MOD(P$3-Cycles!$C6,7*Cycles!$D6))","v":1},{"$f":"INDEX(OFFSET(Cycles!$F6,0,0,1,7*Cycles!$D6),0,1+MOD(Q$3-Cycles!$C6,7*Cycles!$D6))","v":0},{"$f":"INDEX(OFFSET(Cycles!$F6,0,0,1,7*Cycles!$D6),0,1+MOD(R$3-Cycles!$C6,7*Cycles!$D6))","v":1},{"$f":"INDEX(OFFSET(Cycles!$F6,0,0,1,7*Cycles!$D6),0,1+MOD(S$3-Cycles!$C6,7*Cycles!$D6))","v":1},{"$f":"INDEX(OFFSET(Cycles!$F6,0,0,1,7*Cycles!$D6),0,1+MOD(T$3-Cycles!$C6,7*Cycles!$D6))","v":1},{"$f":"INDEX(OFFSET(Cycles!$F6,0,0,1,7*Cycles!$D6),0,1+MOD(U$3-Cycles!$C6,7*Cycles!$D6))","v":1},{"$f":"INDEX(OFFSET(Cycles!$F6,0,0,1,7*Cycles!$D6),0,1+MOD(V$3-Cycles!$C6,7*Cycles!$D6))","v":1},{"$f":"INDEX(OFFSET(Cycles!$F6,0,0,1,7*Cycles!$D6),0,1+MOD(W$3-Cycles!$C6,7*Cycles!$D6))","v":"RPO"},{"$f":"INDEX(OFFSET(Cycles!$F6,0,0,1,7*Cycles!$D6),0,1+MOD(X$3-Cycles!$C6,7*Cycles!$D6))","v":0},{"$f":"INDEX(OFFSET(Cycles!$F6,0,0,1,7*Cycles!$D6),0,1+MOD(Y$3-Cycles!$C6,7*Cycles!$D6))","v":1},{"$f":"INDEX(OFFSET(Cycles!$F6,0,0,1,7*Cycles!$D6),0,1+MOD(Z$3-Cycles!$C6,7*Cycles!$D6))","v":1},{"$f":"INDEX(OFFSET(Cycles!$F6,0,0,1,7*Cycles!$D6),0,1+MOD(AA$3-Cycles!$C6,7*Cycles!$D6))","v":1},{"$f":"INDEX(OFFSET(Cycles!$F6,0,0,1,7*Cycles!$D6),0,1+MOD(AB$3-Cycles!$C6,7*Cycles!$D6))","v":1},{"$f":"INDEX(OFFSET(Cycles!$F6,0,0,1,7*Cycles!$D6),0,1+MOD(AC$3-Cycles!$C6,7*Cycles!$D6))","v":1},{"$f":"INDEX(OFFSET(Cycles!$F6,0,0,1,7*Cycles!$D6),0,1+MOD(AD$3-Cycles!$C6,7*Cycles!$D6))","v":"RPO"},{"$f":"INDEX(OFFSET(Cycles!$F6,0,0,1,7*Cycles!$D6),0,1+MOD(AE$3-Cycles!$C6,7*Cycles!$D6))","v":0},{"$f":"INDEX(OFFSET(Cycles!$F6,0,0,1,7*Cycles!$D6),0,1+MOD(AF$3-Cycles!$C6,7*Cycles!$D6))","v":1},{"$f":"INDEX(OFFSET(Cycles!$F6,0,0,1,7*Cycles!$D6),0,1+MOD(AG$3-Cycles!$C6,7*Cycles!$D6))","v":1},{"$f":"INDEX(OFFSET(Cycles!$F6,0,0,1,7*Cycles!$D6),0,1+MOD(AH$3-Cycles!$C6,7*Cycles!$D6))","v":1},{"$f":"INDEX(OFFSET(Cycles!$F6,0,0,1,7*Cycles!$D6),0,1+MOD(AI$3-Cycles!$C6,7*Cycles!$D6))","v":1},{"$f":"INDEX(OFFSET(Cycles!$F6,0,0,1,7*Cycles!$D6),0,1+MOD(AJ$3-Cycles!$C6,7*Cycles!$D6))","v":1},{"$f":"INDEX(OFFSET(Cycles!$F6,0,0,1,7*Cycles!$D6),0,1+MOD(AK$3-Cycles!$C6,7*Cycles!$D6))","v":1},{"$f":"INDEX(OFFSET(Cycles!$F6,0,0,1,7*Cycles!$D6),0,1+MOD(AL$3-Cycles!$C6,7*Cycles!$D6))","v":0},{"$f":"INDEX(OFFSET(Cycles!$F6,0,0,1,7*Cycles!$D6),0,1+MOD(AM$3-Cycles!$C6,7*Cycles!$D6))","v":1},{"$f":"INDEX(OFFSET(Cycles!$F6,0,0,1,7*Cycles!$D6),0,1+MOD(AN$3-Cycles!$C6,7*Cycles!$D6))","v":1},{"$f":"INDEX(OFFSET(Cycles!$F6,0,0,1,7*Cycles!$D6),0,1+MOD(AO$3-Cycles!$C6,7*Cycles!$D6))","v":1},{"$f":"INDEX(OFFSET(Cycles!$F6,0,0,1,7*Cycles!$D6),0,1+MOD(AP$3-Cycles!$C6,7*Cycles!$D6))","v":1},{"$f":"INDEX(OFFSET(Cycles!$F6,0,0,1,7*Cycles!$D6),0,1+MOD(AQ$3-Cycles!$C6,7*Cycles!$D6))","v":1},{"$f":"INDEX(OFFSET(Cycles!$F6,0,0,1,7*Cycles!$D6),0,1+MOD(AR$3-Cycles!$C6,7*Cycles!$D6))","v":"RPO"},{"$f":"INDEX(OFFSET(Cycles!$F6,0,0,1,7*Cycles!$D6),0,1+MOD(AS$3-Cycles!$C6,7*Cycles!$D6))","v":0},{"$f":"INDEX(OFFSET(Cycles!$F6,0,0,1,7*Cycles!$D6),0,1+MOD(AT$3-Cycles!$C6,7*Cycles!$D6))","v":1},{"$f":"INDEX(OFFSET(Cycles!$F6,0,0,1,7*Cycles!$D6),0,1+MOD(AU$3-Cycles!$C6,7*Cycles!$D6))","v":1},{"$f":"INDEX(OFFSET(Cycles!$F6,0,0,1,7*Cycles!$D6),0,1+MOD(AV$3-Cycles!$C6,7*Cycles!$D6))","v":1},{"$f":"INDEX(OFFSET(Cycles!$F6,0,0,1,7*Cycles!$D6),0,1+MOD(AW$3-Cycles!$C6,7*Cycles!$D6))","v":1},{"$f":"INDEX(OFFSET(Cycles!$F6,0,0,1,7*Cycles!$D6),0,1+MOD(AX$3-Cycles!$C6,7*Cycles!$D6))","v":1},{"$f":"INDEX(OFFSET(Cycles!$F6,0,0,1,7*Cycles!$D6),0,1+MOD(AY$3-Cycles!$C6,7*Cycles!$D6))","v":"RPO"},{"$f":"INDEX(OFFSET(Cycles!$F6,0,0,1,7*Cycles!$D6),0,1+MOD(AZ$3-Cycles!$C6,7*Cycles!$D6))","v":0},{"$f":"INDEX(OFFSET(Cycles!$F6,0,0,1,7*Cycles!$D6),0,1+MOD(BA$3-Cycles!$C6,7*Cycles!$D6))","v":1},{"$f":"INDEX(OFFSET(Cycles!$F6,0,0,1,7*Cycles!$D6),0,1+MOD(BB$3-Cycles!$C6,7*Cycles!$D6))","v":1},{"$f":"INDEX(OFFSET(Cycles!$F6,0,0,1,7*Cycles!$D6),0,1+MOD(BC$3-Cycles!$C6,7*Cycles!$D6))","v":1},{"$f":"INDEX(OFFSET(Cycles!$F6,0,0,1,7*Cycles!$D6),0,1+MOD(BD$3-Cycles!$C6,7*Cycles!$D6))","v":1},{"$f":"INDEX(OFFSET(Cycles!$F6,0,0,1,7*Cycles!$D6),0,1+MOD(BE$3-Cycles!$C6,7*Cycles!$D6))","v":1},{"$f":"INDEX(OFFSET(Cycles!$F6,0,0,1,7*Cycles!$D6),0,1+MOD(BF$3-Cycles!$C6,7*Cycles!$D6))","v":1},{"$f":"INDEX(OFFSET(Cycles!$F6,0,0,1,7*Cycles!$D6),0,1+MOD(BG$3-Cycles!$C6,7*Cycles!$D6))","v":0},{"$f":"INDEX(OFFSET(Cycles!$F6,0,0,1,7*Cycles!$D6),0,1+MOD(BH$3-Cycles!$C6,7*Cycles!$D6))","v":1},{"$f":"INDEX(OFFSET(Cycles!$F6,0,0,1,7*Cycles!$D6),0,1+MOD(BI$3-Cycles!$C6,7*Cycles!$D6))","v":1},{"$f":"INDEX(OFFSET(Cycles!$F6,0,0,1,7*Cycles!$D6),0,1+MOD(BJ$3-Cycles!$C6,7*Cycles!$D6))","v":1},{"$f":"INDEX(OFFSET(Cycles!$F6,0,0,1,7*Cycles!$D6),0,1+MOD(BK$3-Cycles!$C6,7*Cycles!$D6))","v":1},{"$f":"INDEX(OFFSET(Cycles!$F6,0,0,1,7*Cycles!$D6),0,1+MOD(BL$3-Cycles!$C6,7*Cycles!$D6))","v":1},{"$f":"INDEX(OFFSET(Cycles!$F6,0,0,1,7*Cycles!$D6),0,1+MOD(BM$3-Cycles!$C6,7*Cycles!$D6))","v":"RPO"},{"$f":"INDEX(OFFSET(Cycles!$F6,0,0,1,7*Cycles!$D6),0,1+MOD(BN$3-Cycles!$C6,7*Cycles!$D6))","v":0},{"$f":"INDEX(OFFSET(Cycles!$F6,0,0,1,7*Cycles!$D6),0,1+MOD(BO$3-Cycles!$C6,7*Cycles!$D6))","v":1},{"$f":"INDEX(OFFSET(Cycles!$F6,0,0,1,7*Cycles!$D6),0,1+MOD(BP$3-Cycles!$C6,7*Cycles!$D6))","v":1},{"$f":"INDEX(OFFSET(Cycles!$F6,0,0,1,7*Cycles!$D6),0,1+MOD(BQ$3-Cycles!$C6,7*Cycles!$D6))","v":1},{"$f":"INDEX(OFFSET(Cycles!$F6,0,0,1,7*Cycles!$D6),0,1+MOD(BR$3-Cycles!$C6,7*Cycles!$D6))","v":1},{"$f":"INDEX(OFFSET(Cycles!$F6,0,0,1,7*Cycles!$D6),0,1+MOD(BS$3-Cycles!$C6,7*Cycles!$D6))","v":1},{"$f":"INDEX(OFFSET(Cycles!$F6,0,0,1,7*Cycles!$D6),0,1+MOD(BT$3-Cycles!$C6,7*Cycles!$D6))","v":"RPO"},{"$f":"INDEX(OFFSET(Cycles!$F6,0,0,1,7*Cycles!$D6),0,1+MOD(BU$3-Cycles!$C6,7*Cycles!$D6))","v":0},{"$f":"INDEX(OFFSET(Cycles!$F6,0,0,1,7*Cycles!$D6),0,1+MOD(BV$3-Cycles!$C6,7*Cycles!$D6))","v":1},{"$f":"INDEX(OFFSET(Cycles!$F6,0,0,1,7*Cycles!$D6),0,1+MOD(BW$3-Cycles!$C6,7*Cycles!$D6))","v":1},{"$f":"INDEX(OFFSET(Cycles!$F6,0,0,1,7*Cycles!$D6),0,1+MOD(BX$3-Cycles!$C6,7*Cycles!$D6))","v":1},{"$f":"INDEX(OFFSET(Cycles!$F6,0,0,1,7*Cycles!$D6),0,1+MOD(BY$3-Cycles!$C6,7*Cycles!$D6))","v":1},{"$f":"INDEX(OFFSET(Cycles!$F6,0,0,1,7*Cycles!$D6),0,1+MOD(BZ$3-Cycles!$C6,7*Cycles!$D6))","v":1},{"$f":"INDEX(OFFSET(Cycles!$F6,0,0,1,7*Cycles!$D6),0,1+MOD(CA$3-Cycles!$C6,7*Cycles!$D6))","v":1},{"$f":"INDEX(OFFSET(Cycles!$F6,0,0,1,7*Cycles!$D6),0,1+MOD(CB$3-Cycles!$C6,7*Cycles!$D6))","v":0},{"$f":"INDEX(OFFSET(Cycles!$F6,0,0,1,7*Cycles!$D6),0,1+MOD(CC$3-Cycles!$C6,7*Cycles!$D6))","v":1},{"$f":"INDEX(OFFSET(Cycles!$F6,0,0,1,7*Cycles!$D6),0,1+MOD(CD$3-Cycles!$C6,7*Cycles!$D6))","v":1},{"$f":"INDEX(OFFSET(Cycles!$F6,0,0,1,7*Cycles!$D6),0,1+MOD(CE$3-Cycles!$C6,7*Cycles!$D6))","v":1},{"$f":"INDEX(OFFSET(Cycles!$F6,0,0,1,7*Cycles!$D6),0,1+MOD(CF$3-Cycles!$C6,7*Cycles!$D6))","v":1},{"$f":"INDEX(OFFSET(Cycles!$F6,0,0,1,7*Cycles!$D6),0,1+MOD(CG$3-Cycles!$C6,7*Cycles!$D6))","v":1},{"$f":"INDEX(OFFSET(Cycles!$F6,0,0,1,7*Cycles!$D6),0,1+MOD(CH$3-Cycles!$C6,7*Cycles!$D6))","v":"RPO"},{"$f":"INDEX(OFFSET(Cycles!$F6,0,0,1,7*Cycles!$D6),0,1+MOD(CI$3-Cycles!$C6,7*Cycles!$D6))","v":0},{"$f":"INDEX(OFFSET(Cycles!$F6,0,0,1,7*Cycles!$D6),0,1+MOD(CJ$3-Cycles!$C6,7*Cycles!$D6))","v":1},{"$f":"INDEX(OFFSET(Cycles!$F6,0,0,1,7*Cycles!$D6),0,1+MOD(CK$3-Cycles!$C6,7*Cycles!$D6))","v":1},{"$f":"INDEX(OFFSET(Cycles!$F6,0,0,1,7*Cycles!$D6),0,1+MOD(CL$3-Cycles!$C6,7*Cycles!$D6))","v":1},{"$f":"INDEX(OFFSET(Cycles!$F6,0,0,1,7*Cycles!$D6),0,1+MOD(CM$3-Cycles!$C6,7*Cycles!$D6))","v":1},{"$f":"INDEX(OFFSET(Cycles!$F6,0,0,1,7*Cycles!$D6),0,1+MOD(CN$3-Cycles!$C6,7*Cycles!$D6))","v":1},{"$f":"INDEX(OFFSET(Cycles!$F6,0,0,1,7*Cycles!$D6),0,1+MOD(CO$3-Cycles!$C6,7*Cycles!$D6))","v":"RPO"},{"$f":"INDEX(OFFSET(Cycles!$F6,0,0,1,7*Cycles!$D6),0,1+MOD(CP$3-Cycles!$C6,7*Cycles!$D6))","v":0},{"$f":"INDEX(OFFSET(Cycles!$F6,0,0,1,7*Cycles!$D6),0,1+MOD(CQ$3-Cycles!$C6,7*Cycles!$D6))","v":1},{"$f":"INDEX(OFFSET(Cycles!$F6,0,0,1,7*Cycles!$D6),0,1+MOD(CR$3-Cycles!$C6,7*Cycles!$D6))","v":1},{"$f":"INDEX(OFFSET(Cycles!$F6,0,0,1,7*Cycles!$D6),0,1+MOD(CS$3-Cycles!$C6,7*Cycles!$D6))","v":1},{"$f":"INDEX(OFFSET(Cycles!$F6,0,0,1,7*Cycles!$D6),0,1+MOD(CT$3-Cycles!$C6,7*Cycles!$D6))","v":1},{"$f":"INDEX(OFFSET(Cycles!$F6,0,0,1,7*Cycles!$D6),0,1+MOD(CU$3-Cycles!$C6,7*Cycles!$D6))","v":1},{"$f":"INDEX(OFFSET(Cycles!$F6,0,0,1,7*Cycles!$D6),0,1+MOD(CV$3-Cycles!$C6,7*Cycles!$D6))","v":1},{"$f":"INDEX(OFFSET(Cycles!$F6,0,0,1,7*Cycles!$D6),0,1+MOD(CW$3-Cycles!$C6,7*Cycles!$D6))","v":0},{"$f":"INDEX(OFFSET(Cycles!$F6,0,0,1,7*Cycles!$D6),0,1+MOD(CX$3-Cycles!$C6,7*Cycles!$D6))","v":1},{"$f":"INDEX(OFFSET(Cycles!$F6,0,0,1,7*Cycles!$D6),0,1+MOD(CY$3-Cycles!$C6,7*Cycles!$D6))","v":1},{"$f":"INDEX(OFFSET(Cycles!$F6,0,0,1,7*Cycles!$D6),0,1+MOD(CZ$3-Cycles!$C6,7*Cycles!$D6))","v":1},{"$f":"INDEX(OFFSET(Cycles!$F6,0,0,1,7*Cycles!$D6),0,1+MOD(DA$3-Cycles!$C6,7*Cycles!$D6))","v":1},{"$f":"INDEX(OFFSET(Cycles!$F6,0,0,1,7*Cycles!$D6),0,1+MOD(DB$3-Cycles!$C6,7*Cycles!$D6))","v":1},{"$f":"INDEX(OFFSET(Cycles!$F6,0,0,1,7*Cycles!$D6),0,1+MOD(DC$3-Cycles!$C6,7*Cycles!$D6))","v":"RPO"},{"$f":"INDEX(OFFSET(Cycles!$F6,0,0,1,7*Cycles!$D6),0,1+MOD(DD$3-Cycles!$C6,7*Cycles!$D6))","v":0},{"$f":"INDEX(OFFSET(Cycles!$F6,0,0,1,7*Cycles!$D6),0,1+MOD(DE$3-Cycles!$C6,7*Cycles!$D6))","v":1},{"$f":"INDEX(OFFSET(Cycles!$F6,0,0,1,7*Cycles!$D6),0,1+MOD(DF$3-Cycles!$C6,7*Cycles!$D6))","v":1},{"$f":"INDEX(OFFSET(Cycles!$F6,0,0,1,7*Cycles!$D6),0,1+MOD(DG$3-Cycles!$C6,7*Cycles!$D6))","v":1},{"$f":"INDEX(OFFSET(Cycles!$F6,0,0,1,7*Cycles!$D6),0,1+MOD(DH$3-Cycles!$C6,7*Cycles!$D6))","v":1},{"$f":"INDEX(OFFSET(Cycles!$F6,0,0,1,7*Cycles!$D6),0,1+MOD(DI$3-Cycles!$C6,7*Cycles!$D6))","v":1},{"$f":"INDEX(OFFSET(Cycles!$F6,0,0,1,7*Cycles!$D6),0,1+MOD(DJ$3-Cycles!$C6,7*Cycles!$D6))","v":"RPO"},{"$f":"INDEX(OFFSET(Cycles!$F6,0,0,1,7*Cycles!$D6),0,1+MOD(DK$3-Cycles!$C6,7*Cycles!$D6))","v":0},{"$f":"INDEX(OFFSET(Cycles!$F6,0,0,1,7*Cycles!$D6),0,1+MOD(DL$3-Cycles!$C6,7*Cycles!$D6))","v":1},{"$f":"INDEX(OFFSET(Cycles!$F6,0,0,1,7*Cycles!$D6),0,1+MOD(DM$3-Cycles!$C6,7*Cycles!$D6))","v":1},{"$f":"INDEX(OFFSET(Cycles!$F6,0,0,1,7*Cycles!$D6),0,1+MOD(DN$3-Cycles!$C6,7*Cycles!$D6))","v":1},{"$f":"INDEX(OFFSET(Cycles!$F6,0,0,1,7*Cycles!$D6),0,1+MOD(DO$3-Cycles!$C6,7*Cycles!$D6))","v":1},{"$f":"INDEX(OFFSET(Cycles!$F6,0,0,1,7*Cycles!$D6),0,1+MOD(DP$3-Cycles!$C6,7*Cycles!$D6))","v":1},{"$f":"INDEX(OFFSET(Cycles!$F6,0,0,1,7*Cycles!$D6),0,1+MOD(DQ$3-Cycles!$C6,7*Cycles!$D6))","v":1},{"$f":"INDEX(OFFSET(Cycles!$F6,0,0,1,7*Cycles!$D6),0,1+MOD(DR$3-Cycles!$C6,7*Cycles!$D6))","v":0},{"$f":"INDEX(OFFSET(Cycles!$F6,0,0,1,7*Cycles!$D6),0,1+MOD(DS$3-Cycles!$C6,7*Cycles!$D6))","v":1},{"$f":"INDEX(OFFSET(Cycles!$F6,0,0,1,7*Cycles!$D6),0,1+MOD(DT$3-Cycles!$C6,7*Cycles!$D6))","v":1},{"$f":"INDEX(OFFSET(Cycles!$F6,0,0,1,7*Cycles!$D6),0,1+MOD(DU$3-Cycles!$C6,7*Cycles!$D6))","v":1},{"$f":"INDEX(OFFSET(Cycles!$F6,0,0,1,7*Cycles!$D6),0,1+MOD(DV$3-Cycles!$C6,7*Cycles!$D6))","v":1},{"$f":"INDEX(OFFSET(Cycles!$F6,0,0,1,7*Cycles!$D6),0,1+MOD(DW$3-Cycles!$C6,7*Cycles!$D6))","v":1},{"$f":"INDEX(OFFSET(Cycles!$F6,0,0,1,7*Cycles!$D6),0,1+MOD(DX$3-Cycles!$C6,7*Cycles!$D6))","v":"RPO"},{"$f":"INDEX(OFFSET(Cycles!$F6,0,0,1,7*Cycles!$D6),0,1+MOD(DY$3-Cycles!$C6,7*Cycles!$D6))","v":0},{"$f":"INDEX(OFFSET(Cycles!$F6,0,0,1,7*Cycles!$D6),0,1+MOD(DZ$3-Cycles!$C6,7*Cycles!$D6))","v":1}]
["Mixte",null,null,null,null,null,null,null,null,null,{"$f":"INDEX(OFFSET(Cycles!$F7,0,0,1,7*Cycles!$D7),0,1+MOD(K$3-Cycles!$C7,7*Cycles!$D7))","v":1},{"$f":"INDEX(OFFSET(Cycles!$F7,0,0,1,7*Cycles!$D7),0,1+MOD(L$3-Cycles!$C7,7*Cycles!$D7))","v":1},{"$f":"INDEX(OFFSET(Cycles!$F7,0,0,1,7*Cycles!$D7),0,1+MOD(M$3-Cycles!$C7,7*Cycles!$D7))","v":1},{"$f":"INDEX(OFFSET(Cycles!$F7,0,0,1,7*Cycles!$D7),0,1+MOD(N$3-Cycles!$C7,7*Cycles!$D7))","v":1},{"$f":"INDEX(OFFSET(Cycles!$F7,0,0,1,7*Cycles!$D7),0,1+MOD(O$3-Cycles!$C7,7*Cycles!$D7))","v":1},{"$f":"INDEX(OFFSET(Cycles!$F7,0,0,1,7*Cycles!$D7),0,1+MOD(P$3-Cycles!$C7,7*Cycles!$D7))","v":0},{"$f":"INDEX(OFFSET(Cycles!$F7,0,0,1,7*Cycles!$D7),0,1+MOD(Q$3-Cycles!$C7,7*Cycles!$D7))","v":0},{"$f":"INDEX(OFFSET(Cycles!$F7,0,0,1,7*Cycles!$D7),0,1+MOD(R$3-Cycles!$C7,7*Cycles!$D7))","v":1},{"$f":"INDEX(OFFSET(Cycles!$F7,0,0,1,7*Cycles!$D7),0,1+MOD(S$3-Cycles!$C7,7*Cycles!$D7))","v":1},{"$f":"INDEX(OFFSET(Cycles!$F7,0,0,1,7*Cycles!$D7),0,1+MOD(T$3-Cycles!$C7,7*Cycles!$D7))","v":1},{"$f":"INDEX(OFFSET(Cycles!$F7,0,0,1,7*Cycles!$D7),0,1+MOD(U$3-Cycles!$C7,7*Cycles!$D7))","v":1},{"$f":"INDEX(OFFSET(Cycles!$F7,0,0,1,7*Cycles!$D7),0,1+MOD(V$3-Cycles!$C7,7*Cycles!$D7))","v":1},{"$f":"INDEX(OFFSET(Cycles!$F7,0,0,1,7*Cycles!$D7),0,1+MOD(W$3-Cycles!$C7,7*Cycles!$D7))","v":0},{"$f":"INDEX(OFFSET(Cycles!$F7,0,0,1,7*Cycles!$D7),0,1+MOD(X$3-Cycles!$C7,7*Cycles!$D7))","v":0},{"$f":"INDEX(OFFSET(Cycles!$F7,0,0,1,7*Cycles!$D7),0,1+MOD(Y$3-Cycles!$C7,7*Cycles!$D7))","v":1},{"$f":"INDEX(OFFSET(Cycles!$F7,0,0,1,7*Cycles!$D7),0,1+MOD(Z$3-Cycles!$C7,7*Cycles!$D7))","v":1},{"$f":"INDEX(OFFSET(Cycles!$F7,0,0,1,7*Cycles!$D7),0,1+MOD(AA$3-Cycles!$C7,7*Cycles!$D7))","v":1},{"$f":"INDEX(OFFSET(Cycles!$F7,0,0,1,7*Cycles!$D7),0,1+MOD(AB$3-Cycles!$C7,7*Cycles!$D7))","v":1},{"$f":"INDEX(OFFSET(Cycles!$F7,0,0,1,7*Cycles!$D7),0,1+MOD(AC$3-Cycles!$C7,7*Cycles!$D7))","v":1},{"$f":"INDEX(OFFSET(Cycles!$F7,0,0,1,7*Cycles!$D7),0,1+MOD(AD$3-Cycles!$C7,7*Cycles!$D7))","v":0},{"$f":"INDEX(OFFSET(Cycles!$F7,0,0,1,7*Cycles!$D7),0,1+MOD(AE$3-Cycles!$C7,7*Cycles!$D7))","v":0},{"$f":"INDEX(OFFSET(Cycles!$F7,0,0,1,7*Cycles!$D7),0,1+MOD(AF$3-Cycles!$C7,7*Cycles!$D7))","v":1},{"$f":"INDEX(OFFSET(Cycles!$F7,0,0,1,7*Cycles!$D7),0,1+MOD(AG$3-Cycles!$C7,7*Cycles!$D7))","v":1},{"$f":"INDEX(OFFSET(Cycles!$F7,0,0,1,7*Cycles!$D7),0,1+MOD(AH$3-Cycles!$C7,7*Cycles!$D7))","v":1},{"$f":"INDEX(OFFSET(Cycles!$F7,0,0,1,7*Cycles!$D7),0,1+MOD(AI$3-Cycles!$C7,7*Cycles!$D7))","v":1},{"$f":"INDEX(OFFSET(Cycles!$F7,0,0,1,7*Cycles!$D7),0,1+MOD(AJ$3-Cycles!$C7,7*Cycles!$D7))","v":1},{"$f":"INDEX(OFFSET(Cycles!$F7,0,0,1,7*Cycles!$D7),0,1+MOD(AK$3-Cycles!$C7,7*Cycles!$D7))","v":0},{"$f":"INDEX(OFFSET(Cycles!$F7,0,0,1,7*Cycles!$D7),0,1+MOD(AL$3-Cycles!$C7,7*Cycles!$D7))","v":0},{"$f":"INDEX(OFFSET(Cycles!$F7,0,0,1,7*Cycles!$D7),0,1+MOD(AM$3-Cycles!$C7,7*Cycles!$D7))","v":1},{"$f":"INDEX(OFFSET(Cycles!$F7,0,0,1,7*Cycles!$D7),0,1+MOD(AN$3-Cycles!$C7,7*Cycles!$D7))","v":1},{"$f":"INDEX(OFFSET(Cycles!$F7,0,0,1,7*Cycles!$D7),0,1+MOD(AO$3-Cycles!$C7,7*Cycles!$D7))","v":1},{"$f":"INDEX(OFFSET(Cycles!$F7,0,0,1,7*Cycles!$D7),0,1+MOD(AP$3-Cycles!$C7,7*Cycles!$D7))","v":1},{"$f":"INDEX(OFFSET(Cycles!$F7,0,0,1,7*Cycles!$D7),0,1+MOD(AQ$3-Cycles!$C7,7*Cycles!$D7))","v":1},{"$f":"INDEX(OFFSET(Cycles!$F7,0,0,1,7*Cycles!$D7),0,1+MOD(AR$3-Cycles!$C7,7*Cycles!$D7))","v":0},{"$f":"INDEX(OFFSET(Cycles!$F7,0,0,1,7*Cycles!$D7),0,1+MOD(AS$3-Cycles!$C7,7*Cycles!$D7))","v":0},{"$f":"INDEX(OFFSET(Cycles!$F7,0,0,1,7*Cycles!$D7),0,1+MOD(AT$3-Cycles!$C7,7*Cycles!$D7))","v":1},{"$f":"INDEX(OFFSET(Cycles!$F7,0,0,1,7*Cycles!$D7),0,1+MOD(AU$3-Cycles!$C7,7*Cycles!$D7))","v":1},{"$f":"INDEX(OFFSET(Cycles!$F7,0,0,1,7*Cycles!$D7),0,1+MOD(AV$3-Cycles!$C7,7*Cycles!$D7))","v":1},{"$f":"INDEX(OFFSET(Cycles!$F7,0,0,1,7*Cycles!$D7),0,1+MOD(AW$3-Cycles!$C7,7*Cycles!$D7))","v":1},{"$f":"INDEX(OFFSET(Cycles!$F7,0,0,1,7*Cycles!$D7),0,1+MOD(AX$3-Cycles!$C7,7*Cycles!$D7))","v":1},{"$f":"INDEX(OFFSET(Cycles!$F7,0,0,1,7*Cycles!$D7),0,1+MOD(AY$3-Cycles!$C7,7*Cycles!$D7))","v":0},{"$f":"INDEX(OFFSET(Cycles!$F7,0,0,1,7*Cycles!$D7),0,1+MOD(AZ$3-Cycles!$C7,7*Cycles!$D7))","v":0},{"$f":"INDEX(OFFSET(Cycles!$F7,0,0,1,7*Cycles!$D7),0,1+MOD(BA$3-Cycles!$C7,7*Cycles!$D7))","v":1},{"$f":"INDEX(OFFSET(Cycles!$F7,0,0,1,7*Cycles!$D7),0,1+MOD(BB$3-Cycles!$C7,7*Cycles!$D7))","v":1},{"$f":"INDEX(OFFSET(Cycles!$F7,0,0,1,7*Cycles!$D7),0,1+MOD(BC$3-Cycles!$C7,7*Cycles!$D7))","v":1},{"$f":"INDEX(OFFSET(Cycles!$F7,0,0,1,7*Cycles!$D7),0,1+MOD(BD$3-Cycles!$C7,7*Cycles!$D7))","v":1},{"$f":"INDEX(OFFSET(Cycles!$F7,0,0,1,7*Cycles!$D7),0,1+MOD(BE$3-Cycles!$C7,7*Cycles!$D7))","v":1},{"$f":"INDEX(OFFSET(Cycles!$F7,0,0,1,7*Cycles!$D7),0,1+MOD(BF$3-Cycles!$C7,7*Cycles!$D7))","v":0},{"$f":"INDEX(OFFSET(Cycles!$F7,0,0,1,7*Cycles!$D7),0,1+MOD(BG$3-Cycles!$C7,7*Cycles!$D7))","v":0},{"$f":"INDEX(OFFSET(Cycles!$F7,0,0,1,7*Cycles!$D7),0,1+MOD(BH$3-Cycles!$C7,7*Cycles!$D7))","v":1},{"$f":"INDEX(OFFSET(Cycles!$F7,0,0,1,7*Cycles!$D7),0,1+MOD(BI$3-Cycles!$C7,7*Cycles!$D7))","v":1},{"$f":"INDEX(OFFSET(Cycles!$F7,0,0,1,7*Cycles!$D7),0,1+MOD(BJ$3-Cycles!$C7,7*Cycles!$D7))","v":1},{"$f":"INDEX(OFFSET(Cycles!$F7,0,0,1,7*Cycles!$D7),0,1+MOD(BK$3-Cycles!$C7,7*Cycles!$D7))","v":1},{"$f":"INDEX(OFFSET(Cycles!$F7,0,0,1,7*Cycles!$D7),0,1+MOD(BL$3-Cycles!$C7,7*Cycles!$D7))","v":1},{"$f":"INDEX(OFFSET(Cycles!$F7,0,0,1,7*Cycles!$D7),0,1+MOD(BM$3-Cycles!$C7,7*Cycles!$D7))","v":0},{"$f":"INDEX(OFFSET(Cycles!$F7,0,0,1,7*Cycles!$D7),0,1+MOD(BN$3-Cycles!$C7,7*Cycles!$D7))","v":0},{"$f":"INDEX(OFFSET(Cycles!$F7,0,0,1,7*Cycles!$D7),0,1+MOD(BO$3-Cycles!$C7,7*Cycles!$D7))","v":1},{"$f":"INDEX(OFFSET(Cycles!$F7,0,0,1,7*Cycles!$D7),0,1+MOD(BP$3-Cycles!$C7,7*Cycles!$D7))","v":1},{"$f":"INDEX(OFFSET(Cycles!$F7,0,0,1,7*Cycles!$D7),0,1+MOD(BQ$3-Cycles!$C7,7*Cycles!$D7))","v":1},{"$f":"INDEX(OFFSET(Cycles!$F7,0,0,1,7*Cycles!$D7),0,1+MOD(BR$3-Cycles!$C7,7*Cycles!$D7))","v":1},{"$f":"INDEX(OFFSET(Cycles!$F7,0,0,1,7*Cycles!$D7),0,1+MOD(BS$3-Cycles!$C7,7*Cycles!$D7))","v":1},{"$f":"INDEX(OFFSET(Cycles!$F7,0,0,1,7*Cycles!$D7),0,1+MOD(BT$3-Cycles!$C7,7*Cycles!$D7))","v":0},{"$f":"INDEX(OFFSET(Cycles!$F7,0,0,1,7*Cycles!$D7),0,1+MOD(BU$3-Cycles!$C7,7*Cycles!$D7))","v":0},{"$f":"INDEX(OFFSET(Cycles!$F7,0,0,1,7*Cycles!$D7),0,1+MOD(BV$3-Cycles!$C7,7*Cycles!$D7))","v":1},{"$f":"INDEX(OFFSET(Cycles!$F7,0,0,1,7*Cycles!$D7),0,1+MOD(BW$3-Cycles!$C7,7*Cycles!$D7))","v":1},{"$f":"INDEX(OFFSET(Cycles!$F7,0,0,1,7*Cycles!$D7),0,1+MOD(BX$3-Cycles!$C7,7*Cycles!$D7))","v":1},{"$f":"INDEX(OFFSET(Cycles!$F7,0,0,1,7*Cycles!$D7),0,1+MOD(BY$3-Cycles!$C7,7*Cycles!$D7))","v":1},{"$f":"INDEX(OFFSET(Cycles!$F7,0,0,1,7*Cycles!$D7),0,1+MOD(BZ$3-Cycles!$C7,7*Cycles!$D7))","v":1},{"$f":"INDEX(OFFSET(Cycles!$F7,0,0,1,7*Cycles!$D7),0,1+MOD(CA$3-Cycles!$C7,7*Cycles!$D7))","v":0},{"$f":"INDEX(OFFSET(Cycles!$F7,0,0,1,7*Cycles!$D7),0,1+MOD(CB$3-Cycles!$C7,7*Cycles!$D7))","v":0},{"$f":"INDEX(OFFSET(Cycles!$F7,0,0,1,7*Cycles!$D7),0,1+MOD(CC$3-Cycles!$C7,7*Cycles!$D7))","v":1},{"$f":"INDEX(OFFSET(Cycles!$F7,0,0,1,7*Cycles!$D7),0,1+MOD(CD$3-Cycles!$C7,7*Cycles!$D7))","v":1},{"$f":"INDEX(OFFSET(Cycles!$F7,0,0,1,7*Cycles!$D7),0,1+MOD(CE$3-Cycles!$C7,7*Cycles!$D7))","v":1},{"$f":"INDEX(OFFSET(Cycles!$F7,0,0,1,7*Cycles!$D7),0,1+MOD(CF$3-Cycles!$C7,7*Cycles!$D7))","v":1},{"$f":"INDEX(OFFSET(Cycles!$F7,0,0,1,7*Cycles!$D7),0,1+MOD(CG$3-Cycles!$C7,7*Cycles!$D7))","v":1},{"$f":"INDEX(OFFSET(Cycles!$F7,0,0,1,7*Cycles!$D7),0,1+MOD(CH$3-Cycles!$C7,7*Cycles!$D7))","v":0},{"$f":"INDEX(OFFSET(Cycles!$F7,0,0,1,7*Cycles!$D7),0,1+MOD(CI$3-Cycles!$C7,7*Cycles!$D7))","v":0},{"$f":"INDEX(OFFSET(Cycles!$F7,0,0,1,7*Cycles!$D7),0,1+MOD(CJ$3-Cycles!$C7,7*Cycles!$D7))","v":1},{"$f":"INDEX(OFFSET(Cycles!$F7,0,0,1,7*Cycles!$D7),0,1+MOD(CK$3-Cycles!$C7,7*Cycles!$D7))","v":1},{"$f":"INDEX(OFFSET(Cycles!$F7,0,0,1,7*Cycles!$D7),0,1+MOD(CL$3-Cycles!$C7,7*Cycles!$D7))","v":1},{"$f":"INDEX(OFFSET(Cycles!$F7,0,0,1,7*Cycles!$D7),0,1+MOD(CM$3-Cycles!$C7,7*Cycles!$D7))","v":1},{"$f":"INDEX(OFFSET(Cycles!$F7,0,0,1,7*Cycles!$D7),0,1+MOD(CN$3-Cycles!$C7,7*Cycles!$D7))","v":1},{"$f":"INDEX(OFFSET(Cycles!$F7,0,0,1,7*Cycles!$D7),0,1+MOD(CO$3-Cycles!$C7,7*Cycles!$D7))","v":0},{"$f":"INDEX(OFFSET(Cycles!$F7,0,0,1,7*Cycles!$D7),0,1+MOD(CP$3-Cycles!$C7,7*Cycles!$D7))","v":0},{"$f":"INDEX(OFFSET(Cycles!$F7,0,0,1,7*Cycles!$D7),0,1+MOD(CQ$3-Cycles!$C7,7*Cycles!$D7))","v":1},{"$f":"INDEX(OFFSET(Cycles!$F7,0,0,1,7*Cycles!$D7),0,1+MOD(CR$3-Cycles!$C7,7*Cycles!$D7))","v":1},{"$f":"INDEX(OFFSET(Cycles!$F7,0,0,1,7*Cycles!$D7),0,1+MOD(CS$3-Cycles!$C7,7*Cycles!$D7))","v":1},{"$f":"INDEX(OFFSET(Cycles!$F7,0,0,1,7*Cycles!$D7),0,1+MOD(CT$3-Cycles!$C7,7*Cycles!$D7))","v":1},{"$f":"INDEX(OFFSET(Cycles!$F7,0,0,1,7*Cycles!$D7),0,1+MOD(CU$3-Cycles!$C7,7*Cycles!$D7))","v":1},{"$f":"INDEX(OFFSET(Cycles!$F7,0,0,1,7*Cycles!$D7),0,1+MOD(CV$3-Cycles!$C7,7*Cycles!$D7))","v":0},{"$f":"INDEX(OFFSET(Cycles!$F7,0,0,1,7*Cycles!$D7),0,1+MOD(CW$3-Cycles!$C7,7*Cycles!$D7))","v":0},{"$f":"INDEX(OFFSET(Cycles!$F7,0,0,1,7*Cycles!$D7),0,1+MOD(CX$3-Cycles!$C7,7*Cycles!$D7))","v":1},{"$f":"INDEX(OFFSET(Cycles!$F7,0,0,1,7*Cycles!$D7),0,1+MOD(CY$3-Cycles!$C7,7*Cycles!$D7))","v":1},{"$f":"INDEX(OFFSET(Cycles!$F7,0,0,1,7*Cycles!$D7),0,1+MOD(CZ$3-Cycles!$C7,7*Cycles!$D7))","v":1},{"$f":"INDEX(OFFSET(Cycles!$F7,0,0,1,7*Cycles!$D7),0,1+MOD(DA$3-Cycles!$C7,7*Cycles!$D7))","v":1},{"$f":"INDEX(OFFSET(Cycles!$F7,0,0,1,7*Cycles!$D7),0,1+MOD(DB$3-Cycles!$C7,7*Cycles!$D7))","v":1},{"$f":"INDEX(OFFSET(Cycles!$F7,0,0,1,7*Cycles!$D7),0,1+MOD(DC$3-Cycles!$C7,7*Cycles!$D7))","v":0},{"$f":"INDEX(OFFSET(Cycles!$F7,0,0,1,7*Cycles!$D7),0,1+MOD(DD$3-Cycles!$C7,7*Cycles!$D7))","v":0},{"$f":"INDEX(OFFSET(Cycles!$F7,0,0,1,7*Cycles!$D7),0,1+MOD(DE$3-Cycles!$C7,7*Cycles!$D7))","v":1},{"$f":"INDEX(OFFSET(Cycles!$F7,0,0,1,7*Cycles!$D7),0,1+MOD(DF$3-Cycles!$C7,7*Cycles!$D7))","v":1},{"$f":"INDEX(OFFSET(Cycles!$F7,0,0,1,7*Cycles!$D7),0,1+MOD(DG$3-Cycles!$C7,7*Cycles!$D7))","v":1},{"$f":"INDEX(OFFSET(Cycles!$F7,0,0,1,7*Cycles!$D7),0,1+MOD(DH$3-Cycles!$C7,7*Cycles!$D7))","v":1},{"$f":"INDEX(OFFSET(Cycles!$F7,0,0,1,7*Cycles!$D7),0,1+MOD(DI$3-Cycles!$C7,7*Cycles!$D7))","v":1},{"$f":"INDEX(OFFSET(Cycles!$F7,0,0,1,7*Cycles!$D7),0,1+MOD(DJ$3-Cycles!$C7,7*Cycles!$D7))","v":0},{"$f":"INDEX(OFFSET(Cycles!$F7,0,0,1,7*Cycles!$D7),0,1+MOD(DK$3-Cycles!$C7,7*Cycles!$D7))","v":0},{"$f":"INDEX(OFFSET(Cycles!$F7,0,0,1,7*Cycles!$D7),0,1+MOD(DL$3-Cycles!$C7,7*Cycles!$D7))","v":1},{"$f":"INDEX(OFFSET(Cycles!$F7,0,0,1,7*Cycles!$D7),0,1+MOD(DM$3-Cycles!$C7,7*Cycles!$D7))","v":1},{"$f":"INDEX(OFFSET(Cycles!$F7,0,0,1,7*Cycles!$D7),0,1+MOD(DN$3-Cycles!$C7,7*Cycles!$D7))","v":1},{"$f":"INDEX(OFFSET(Cycles!$F7,0,0,1,7*Cycles!$D7),0,1+MOD(DO$3-Cycles!$C7,7*Cycles!$D7))","v":1},{"$f":"INDEX(OFFSET(Cycles!$F7,0,0,1,7*Cycles!$D7),0,1+MOD(DP$3-Cycles!$C7,7*Cycles!$D7))","v":1},{"$f":"INDEX(OFFSET(Cycles!$F7,0,0,1,7*Cycles!$D7),0,1+MOD(DQ$3-Cycles!$C7,7*Cycles!$D7))","v":0},{"$f":"INDEX(OFFSET(Cycles!$F7,0,0,1,7*Cycles!$D7),0,1+MOD(DR$3-Cycles!$C7,7*Cycles!$D7))","v":0},{"$f":"INDEX(OFFSET(Cycles!$F7,0,0,1,7*Cycles!$D7),0,1+MOD(DS$3-Cycles!$C7,7*Cycles!$D7))","v":1},{"$f":"INDEX(OFFSET(Cycles!$F7,0,0,1,7*Cycles!$D7),0,1+MOD(DT$3-Cycles!$C7,7*Cycles!$D7))","v":1},{"$f":"INDEX(OFFSET(Cycles!$F7,0,0,1,7*Cycles!$D7),0,1+MOD(DU$3-Cycles!$C7,7*Cycles!$D7))","v":1},{"$f":"INDEX(OFFSET(Cycles!$F7,0,0,1,7*Cycles!$D7),0,1+MOD(DV$3-Cycles!$C7,7*Cycles!$D7))","v":1},{"$f":"INDEX(OFFSET(Cycles!$F7,0,0,1,7*Cycles!$D7),0,1+MOD(DW$3-Cycles!$C7,7*Cycles!$D7))","v":1},{"$f":"INDEX(OFFSET(Cycles!$F7,0,0,1,7*Cycles!$D7),0,1+MOD(DX$3-Cycles!$C7,7*Cycles!$D7))","v":0},{"$f":"INDEX(OFFSET(Cycles!$F7,0,0,1,7*Cycles!$D7),0,1+MOD(DY$3-Cycles!$C7,7*Cycles!$D7))","v":0},{"$f":"INDEX(OFFSET(Cycles!$F7,0,0,1,7*Cycles!$D7),0,1+MOD(DZ$3-Cycles!$C7,7*Cycles!$D7))","v":1}]
["Mixte2",null,null,null,null,null,null,null,null,null,{"$f":"INDEX(OFFSET(Cycles!$F8,0,0,1,7*Cycles!$D8),0,1+MOD(K$3-Cycles!$C8,7*Cycles!$D8))","v":0},{"$f":"INDEX(OFFSET(Cycles!$F8,0,0,1,7*Cycles!$D8),0,1+MOD(L$3-Cycles!$C8,7*Cycles!$D8))","v":1},{"$f":"INDEX(OFFSET(Cycles!$F8,0,0,1,7*Cycles!$D8),0,1+MOD(M$3-Cycles!$C8,7*Cycles!$D8))","v":1},{"$f":"INDEX(OFFSET(Cycles!$F8,0,0,1,7*Cycles!$D8),0,1+MOD(N$3-Cycles!$C8,7*Cycles!$D8))","v":1},{"$f":"INDEX(OFFSET(Cycles!$F8,0,0,1,7*Cycles!$D8),0,1+MOD(O$3-Cycles!$C8,7*Cycles!$D8))","v":1},{"$f":"INDEX(OFFSET(Cycles!$F8,0,0,1,7*Cycles!$D8),0,1+MOD(P$3-Cycles!$C8,7*Cycles!$D8))","v":1},{"$f":"INDEX(OFFSET(Cycles!$F8,0,0,1,7*Cycles!$D8),0,1+MOD(Q$3-Cycles!$C8,7*Cycles!$D8))","v":0},{"$f":"INDEX(OFFSET(Cycles!$F8,0,0,1,7*Cycles!$D8),0,1+MOD(R$3-Cycles!$C8,7*Cycles!$D8))","v":0},{"$f":"INDEX(OFFSET(Cycles!$F8,0,0,1,7*Cycles!$D8),0,1+MOD(S$3-Cycles!$C8,7*Cycles!$D8))","v":1},{"$f":"INDEX(OFFSET(Cycles!$F8,0,0,1,7*Cycles!$D8),0,1+MOD(T$3-Cycles!$C8,7*Cycles!$D8))","v":1},{"$f":"INDEX(OFFSET(Cycles!$F8,0,0,1,7*Cycles!$D8),0,1+MOD(U$3-Cycles!$C8,7*Cycles!$D8))","v":1},{"$f":"INDEX(OFFSET(Cycles!$F8,0,0,1,7*Cycles!$D8),0,1+MOD(V$3-Cycles!$C8,7*Cycles!$D8))","v":1},{"$f":"INDEX(OFFSET(Cycles!$F8,0,0,1,7*Cycles!$D8),0,1+MOD(W$3-Cycles!$C8,7*Cycles!$D8))","v":1},{"$f":"INDEX(OFFSET(Cycles!$F8,0,0,1,7*Cycles!$D8),0,1+MOD(X$3-Cycles!$C8,7*Cycles!$D8))","v":0},{"$f":"INDEX(OFFSET(Cycles!$F8,0,0,1,7*Cycles!$D8),0,1+MOD(Y$3-Cycles!$C8,7*Cycles!$D8))","v":0},{"$f":"INDEX(OFFSET(Cycles!$F8,0,0,1,7*Cycles!$D8),0,1+MOD(Z$3-Cycles!$C8,7*Cycles!$D8))","v":1},{"$f":"INDEX(OFFSET(Cycles!$F8,0,0,1,7*Cycles!$D8),0,1+MOD(AA$3-Cycles!$C8,7*Cycles!$D8))","v":1},{"$f":"INDEX(OFFSET(Cycles!$F8,0,0,1,7*Cycles!$D8),0,1+MOD(AB$3-Cycles!$C8,7*Cycles!$D8))","v":1},{"$f":"INDEX(OFFSET(Cycles!$F8,0,0,1,7*Cycles!$D8),0,1+MOD(AC$3-Cycles!$C8,7*Cycles!$D8))","v":1},{"$f":"INDEX(OFFSET(Cycles!$F8,0,0,1,7*Cycles!$D8),0,1+MOD(AD$3-Cycles!$C8,7*Cycles!$D8))","v":1},{"$f":"INDEX(OFFSET(Cycles!$F8,0,0,1,7*Cycles!$D8),0,1+MOD(AE$3-Cycles!$C8,7*Cycles!$D8))","v":0},{"$f":"INDEX(OFFSET(Cycles!$F8,0,0,1,7*Cycles!$D8),0,1+MOD(AF$3-Cycles!$C8,7*Cycles!$D8))","v":0},{"$f":"INDEX(OFFSET(Cycles!$F8,0,0,1,7*Cycles!$D8),0,1+MOD(AG$3-Cycles!$C8,7*Cycles!$D8))","v":1},{"$f":"INDEX(OFFSET(Cycles!$F8,0,0,1,7*Cycles!$D8),0,1+MOD(AH$3-Cycles!$C8,7*Cycles!$D8))","v":1},{"$f":"INDEX(OFFSET(Cycles!$F8,0,0,1,7*Cycles!$D8),0,1+MOD(AI$3-Cycles!$C8,7*Cycles!$D8))","v":1},{"$f":"INDEX(OFFSET(Cycles!$F8,0,0,1,7*Cycles!$D8),0,1+MOD(AJ$3-Cycles!$C8,7*Cycles!$D8))","v":1},{"$f":"INDEX(OFFSET(Cycles!$F8,0,0,1,7*Cycles!$D8),0,1+MOD(AK$3-Cycles!$C8,7*Cycles!$D8))","v":1},{"$f":"INDEX(OFFSET(Cycles!$F8,0,0,1,7*Cycles!$D8),0,1+MOD(AL$3-Cycles!$C8,7*Cycles!$D8))","v":0},{"$f":"INDEX(OFFSET(Cycles!$F8,0,0,1,7*Cycles!$D8),0,1+MOD(AM$3-Cycles!$C8,7*Cycles!$D8))","v":0},{"$f":"INDEX(OFFSET(Cycles!$F8,0,0,1,7*Cycles!$D8),0,1+MOD(AN$3-Cycles!$C8,7*Cycles!$D8))","v":1},{"$f":"INDEX(OFFSET(Cycles!$F8,0,0,1,7*Cycles!$D8),0,1+MOD(AO$3-Cycles!$C8,7*Cycles!$D8))","v":1},{"$f":"INDEX(OFFSET(Cycles!$F8,0,0,1,7*Cycles!$D8),0,1+MOD(AP$3-Cycles!$C8,7*Cycles!$D8))","v":1},{"$f":"INDEX(OFFSET(Cycles!$F8,0,0,1,7*Cycles!$D8),0,1+MOD(AQ$3-Cycles!$C8,7*Cycles!$D8))","v":1},{"$f":"INDEX(OFFSET(Cycles!$F8,0,0,1,7*Cycles!$D8),0,1+MOD(AR$3-Cycles!$C8,7*Cycles!$D8))","v":1},{"$f":"INDEX(OFFSET(Cycles!$F8,0,0,1,7*Cycles!$D8),0,1+MOD(AS$3-Cycles!$C8,7*Cycles!$D8))","v":0},{"$f":"INDEX(OFFSET(Cycles!$F8,0,0,1,7*Cycles!$D8),0,1+MOD(AT$3-Cycles!$C8,7*Cycles!$D8))","v":0},{"$f":"INDEX(OFFSET(Cycles!$F8,0,0,1,7*Cycles!$D8),0,1+MOD(AU$3-Cycles!$C8,7*Cycles!$D8))","v":1},{"$f":"INDEX(OFFSET(Cycles!$F8,0,0,1,7*Cycles!$D8),0,1+MOD(AV$3-Cycles!$C8,7*Cycles!$D8))","v":1},{"$f":"INDEX(OFFSET(Cycles!$F8,0,0,1,7*Cycles!$D8),0,1+MOD(AW$3-Cycles!$C8,7*Cycles!$D8))","v":1},{"$f":"INDEX(OFFSET(Cycles!$F8,0,0,1,7*Cycles!$D8),0,1+MOD(AX$3-Cycles!$C8,7*Cycles!$D8))","v":1},{"$f":"INDEX(OFFSET(Cycles!$F8,0,0,1,7*Cycles!$D8),0,1+MOD(AY$3-Cycles!$C8,7*Cycles!$D8))","v":1},{"$f":"INDEX(OFFSET(Cycles!$F8,0,0,1,7*Cycles!$D8),0,1+MOD(AZ$3-Cycles!$C8,7*Cycles!$D8))","v":0},{"$f":"INDEX(OFFSET(Cycles!$F8,0,0,1,7*Cycles!$D8),0,1+MOD(BA$3-Cycles!$C8,7*Cycles!$D8))","v":0},{"$f":"INDEX(OFFSET(Cycles!$F8,0,0,1,7*Cycles!$D8),0,1+MOD(BB$3-Cycles!$C8,7*Cycles!$D8))","v":1},{"$f":"INDEX(OFFSET(Cycles!$F8,0,0,1,7*Cycles!$D8),0,1+MOD(BC$3-Cycles!$C8,7*Cycles!$D8))","v":1},{"$f":"INDEX(OFFSET(Cycles!$F8,0,0,1,7*Cycles!$D8),0,1+MOD(BD$3-Cycles!$C8,7*Cycles!$D8))","v":1},{"$f":"INDEX(OFFSET(Cycles!$F8,0,0,1,7*Cycles!$D8),0,1+MOD(BE$3-Cycles!$C8,7*Cycles!$D8))","v":1},{"$f":"INDEX(OFFSET(Cycles!$F8,0,0,1,7*Cycles!$D8),0,1+MOD(BF$3-Cycles!$C8,7*Cycles!$D8))","v":1},{"$f":"INDEX(OFFSET(Cycles!$F8,0,0,1,7*Cycles!$D8),0,1+MOD(BG$3-Cycles!$C8,7*Cycles!$D8))","v":0},{"$f":"INDEX(OFFSET(Cycles!$F8,0,0,1,7*Cycles!$D8),0,1+MOD(BH$3-Cycles!$C8,7*Cycles!$D8))","v":0},{"$f":"INDEX(OFFSET(Cycles!$F8,0,0,1,7*Cycles!$D8),0,1+MOD(BI$3-Cycles!$C8,7*Cycles!$D8))","v":1},{"$f":"INDEX(OFFSET(Cycles!$F8,0,0,1,7*Cycles!$D8),0,1+MOD(BJ$3-Cycles!$C8,7*Cycles!$D8))","v":1},{"$f":"INDEX(OFFSET(Cycles!$F8,0,0,1,7*Cycles!$D8),0,1+MOD(BK$3-Cycles!$C8,7*Cycles!$D8))","v":1},{"$f":"INDEX(OFFSET(Cycles!$F8,0,0,1,7*Cycles!$D8),0,1+MOD(BL$3-Cycles!$C8,7*Cycles!$D8))","v":1},{"$f":"INDEX(OFFSET(Cycles!$F8,0,0,1,7*Cycles!$D8),0,1+MOD(BM$3-Cycles!$C8,7*Cycles!$D8))","v":1},{"$f":"INDEX(OFFSET(Cycles!$F8,0,0,1,7*Cycles!$D8),0,1+MOD(BN$3-Cycles!$C8,7*Cycles!$D8))","v":0},{"$f":"INDEX(OFFSET(Cycles!$F8,0,0,1,7*Cycles!$D8),0,1+MOD(BO$3-Cycles!$C8,7*Cycles!$D8))","v":0},{"$f":"INDEX(OFFSET(Cycles!$F8,0,0,1,7*Cycles!$D8),0,1+MOD(BP$3-Cycles!$C8,7*Cycles!$D8))","v":1},{"$f":"INDEX(OFFSET(Cycles!$F8,0,0,1,7*Cycles!$D8),0,1+MOD(BQ$3-Cycles!$C8,7*Cycles!$D8))","v":1},{"$f":"INDEX(OFFSET(Cycles!$F8,0,0,1,7*Cycles!$D8),0,1+MOD(BR$3-Cycles!$C8,7*Cycles!$D8))","v":1},{"$f":"INDEX(OFFSET(Cycles!$F8,0,0,1,7*Cycles!$D8),0,1+MOD(BS$3-Cycles!$C8,7*Cycles!$D8))","v":1},{"$f":"INDEX(OFFSET(Cycles!$F8,0,0,1,7*Cycles!$D8),0,1+MOD(BT$3-Cycles!$C8,7*Cycles!$D8))","v":1},{"$f":"INDEX(OFFSET(Cycles!$F8,0,0,1,7*Cycles!$D8),0,1+MOD(BU$3-Cycles!$C8,7*Cycles!$D8))","v":0},{"$f":"INDEX(OFFSET(Cycles!$F8,0,0,1,7*Cycles!$D8),0,1+MOD(BV$3-Cycles!$C8,7*Cycles!$D8))","v":0},{"$f":"INDEX(OFFSET(Cycles!$F8,0,0,1,7*Cycles!$D8),0,1+MOD(BW$3-Cycles!$C8,7*Cycles!$D8))","v":1},{"$f":"INDEX(OFFSET(Cycles!$F8,0,0,1,7*Cycles!$D8),0,1+MOD(BX$3-Cycles!$C8,7*Cycles!$D8))","v":1},{"$f":"INDEX(OFFSET(Cycles!$F8,0,0,1,7*Cycles!$D8),0,1+MOD(BY$3-Cycles!$C8,7*Cycles!$D8))","v":1},{"$f":"INDEX(OFFSET(Cycles!$F8,0,0,1,7*Cycles!$D8),0,1+MOD(BZ$3-Cycles!$C8,7*Cycles!$D8))","v":1},{"$f":"INDEX(OFFSET(Cycles!$F8,0,0,1,7*Cycles!$D8),0,1+MOD(CA$3-Cycles!$C8,7*Cycles!$D8))","v":1},{"$f":"INDEX(OFFSET(Cycles!$F8,0,0,1,7*Cycles!$D8),0,1+MOD(CB$3-Cycles!$C8,7*Cycles!$D8))","v":0},{"$f":"INDEX(OFFSET(Cycles!$F8,0,0,1,7*Cycles!$D8),0,1+MOD(CC$3-Cycles!$C8,7*Cycles!$D8))","v":0},{"$f":"INDEX(OFFSET(Cycles!$F8,0,0,1,7*Cycles!$D8),0,1+MOD(CD$3-Cycles!$C8,7*Cycles!$D8))","v":1},{"$f":"INDEX(OFFSET(Cycles!$F8,0,0,1,7*Cycles!$D8),0,1+MOD(CE$3-Cycles!$C8,7*Cycles!$D8))","v":1},{"$f":"INDEX(OFFSET(Cycles!$F8,0,0,1,7*Cycles!$D8),0,1+MOD(CF$3-Cycles!$C8,7*Cycles!$D8))","v":1},{"$f":"INDEX(OFFSET(Cycles!$F8,0,0,1,7*Cycles!$D8),0,1+MOD(CG$3-Cycles!$C8,7*Cycles!$D8))","v":1},{"$f":"INDEX(OFFSET(Cycles!$F8,0,0,1,7*Cycles!$D8),0,1+MOD(CH$3-Cycles!$C8,7*Cycles!$D8))","v":1},{"$f":"INDEX(OFFSET(Cycles!$F8,0,0,1,7*Cycles!$D8),0,1+MOD(CI$3-Cycles!$C8,7*Cycles!$D8))","v":0},{"$f":"INDEX(OFFSET(Cycles!$F8,0,0,1,7*Cycles!$D8),0,1+MOD(CJ$3-Cycles!$C8,7*Cycles!$D8))","v":0},{"$f":"INDEX(OFFSET(Cycles!$F8,0,0,1,7*Cycles!$D8),0,1+MOD(CK$3-Cycles!$C8,7*Cycles!$D8))","v":1},{"$f":"INDEX(OFFSET(Cycles!$F8,0,0,1,7*Cycles!$D8),0,1+MOD(CL$3-Cycles!$C8,7*Cycles!$D8))","v":1},{"$f":"INDEX(OFFSET(Cycles!$F8,0,0,1,7*Cycles!$D8),0,1+MOD(CM$3-Cycles!$C8,7*Cycles!$D8))","v":1},{"$f":"INDEX(OFFSET(Cycles!$F8,0,0,1,7*Cycles!$D8),0,1+MOD(CN$3-Cycles!$C8,7*Cycles!$D8))","v":1},{"$f":"INDEX(OFFSET(Cycles!$F8,0,0,1,7*Cycles!$D8),0,1+MOD(CO$3-Cycles!$C8,7*Cycles!$D8))","v":1},{"$f":"INDEX(OFFSET(Cycles!$F8,0,0,1,7*Cycles!$D8),0,1+MOD(CP$3-Cycles!$C8,7*Cycles!$D8))","v":0},{"$f":"INDEX(OFFSET(Cycles!$F8,0,0,1,7*Cycles!$D8),0,1+MOD(CQ$3-Cycles!$C8,7*Cycles!$D8))","v":0},{"$f":"INDEX(OFFSET(Cycles!$F8,0,0,1,7*Cycles!$D8),0,1+MOD(CR$3-Cycles!$C8,7*Cycles!$D8))","v":1},{"$f":"INDEX(OFFSET(Cycles!$F8,0,0,1,7*Cycles!$D8),0,1+MOD(CS$3-Cycles!$C8,7*Cycles!$D8))","v":1},{"$f":"INDEX(OFFSET(Cycles!$F8,0,0,1,7*Cycles!$D8),0,1+MOD(CT$3-Cycles!$C8,7*Cycles!$D8))","v":1},{"$f":"INDEX(OFFSET(Cycles!$F8,0,0,1,7*Cycles!$D8),0,1+MOD(CU$3-Cycles!$C8,7*Cycles!$D8))","v":1},{"$f":"INDEX(OFFSET(Cycles!$F8,0,0,1,7*Cycles!$D8),0,1+MOD(CV$3-Cycles!$C8,7*Cycles!$D8))","v":1},{"$f":"INDEX(OFFSET(Cycles!$F8,0,0,1,7*Cycles!$D8),0,1+MOD(CW$3-Cycles!$C8,7*Cycles!$D8))","v":0},{"$f":"INDEX(OFFSET(Cycles!$F8,0,0,1,7*Cycles!$D8),0,1+MOD(CX$3-Cycles!$C8,7*Cycles!$D8))","v":0},{"$f":"INDEX(OFFSET(Cycles!$F8,0,0,1,7*Cycles!$D8),0,1+MOD(CY$3-Cycles!$C8,7*Cycles!$D8))","v":1},{"$f":"INDEX(OFFSET(Cycles!$F8,0,0,1,7*Cycles!$D8),0,1+MOD(CZ$3-Cycles!$C8,7*Cycles!$D8))","v":1},{"$f":"INDEX(OFFSET(Cycles!$F8,0,0,1,7*Cycles!$D8),0,1+MOD(DA$3-Cycles!$C8,7*Cycles!$D8))","v":1},{"$f":"INDEX(OFFSET(Cycles!$F8,0,0,1,7*Cycles!$D8),0,1+MOD(DB$3-Cycles!$C8,7*Cycles!$D8))","v":1},{"$f":"INDEX(OFFSET(Cycles!$F8,0,0,1,7*Cycles!$D8),0,1+MOD(DC$3-Cycles!$C8,7*Cycles!$D8))","v":1},{"$f":"INDEX(OFFSET(Cycles!$F8,0,0,1,7*Cycles!$D8),0,1+MOD(DD$3-Cycles!$C8,7*Cycles!$D8))","v":0},{"$f":"INDEX(OFFSET(Cycles!$F8,0,0,1,7*Cycles!$D8),0,1+MOD(DE$3-Cycles!$C8,7*Cycles!$D8))","v":0},{"$f":"INDEX(OFFSET(Cycles!$F8,0,0,1,7*Cycles!$D8),0,1+MOD(DF$3-Cycles!$C8,7*Cycles!$D8))","v":1},{"$f":"INDEX(OFFSET(Cycles!$F8,0,0,1,7*Cycles!$D8),0,1+MOD(DG$3-Cycles!$C8,7*Cycles!$D8))","v":1},{"$f":"INDEX(OFFSET(Cycles!$F8,0,0,1,7*Cycles!$D8),0,1+MOD(DH$3-Cycles!$C8,7*Cycles!$D8))","v":1},{"$f":"INDEX(OFFSET(Cycles!$F8,0,0,1,7*Cycles!$D8),0,1+MOD(DI$3-Cycles!$C8,7*Cycles!$D8))","v":1},{"$f":"INDEX(OFFSET(Cycles!$F8,0,0,1,7*Cycles!$D8),0,1+MOD(DJ$3-Cycles!$C8,7*Cycles!$D8))","v":1},{"$f":"INDEX(OFFSET(Cycles!$F8,0,0,1,7*Cycles!$D8),0,1+MOD(DK$3-Cycles!$C8,7*Cycles!$D8))","v":0},{"$f":"INDEX(OFFSET(Cycles!$F8,0,0,1,7*Cycles!$D8),0,1+MOD(DL$3-Cycles!$C8,7*Cycles!$D8))","v":0},{"$f":"INDEX(OFFSET(Cycles!$F8,0,0,1,7*Cycles!$D8),0,1+MOD(DM$3-Cycles!$C8,7*Cycles!$D8))","v":1},{"$f":"INDEX(OFFSET(Cycles!$F8,0,0,1,7*Cycles!$D8),0,1+MOD(DN$3-Cycles!$C8,7*Cycles!$D8))","v":1},{"$f":"INDEX(OFFSET(Cycles!$F8,0,0,1,7*Cycles!$D8),0,1+MOD(DO$3-Cycles!$C8,7*Cycles!$D8))","v":1},{"$f":"INDEX(OFFSET(Cycles!$F8,0,0,1,7*Cycles!$D8),0,1+MOD(DP$3-Cycles!$C8,7*Cycles!$D8))","v":1},{"$f":"INDEX(OFFSET(Cycles!$F8,0,0,1,7*Cycles!$D8),0,1+MOD(DQ$3-Cycles!$C8,7*Cycles!$D8))","v":1},{"$f":"INDEX(OFFSET(Cycles!$F8,0,0,1,7*Cycles!$D8),0,1+MOD(DR$3-Cycles!$C8,7*Cycles!$D8))","v":0},{"$f":"INDEX(OFFSET(Cycles!$F8,0,0,1,7*Cycles!$D8),0,1+MOD(DS$3-Cycles!$C8,7*Cycles!$D8))","v":0},{"$f":"INDEX(OFFSET(Cycles!$F8,0,0,1,7*Cycles!$D8),0,1+MOD(DT$3-Cycles!$C8,7*Cycles!$D8))","v":1},{"$f":"INDEX(OFFSET(Cycles!$F8,0,0,1,7*Cycles!$D8),0,1+MOD(DU$3-Cycles!$C8,7*Cycles!$D8))","v":1},{"$f":"INDEX(OFFSET(Cycles!$F8,0,0,1,7*Cycles!$D8),0,1+MOD(DV$3-Cycles!$C8,7*Cycles!$D8))","v":1},{"$f":"INDEX(OFFSET(Cycles!$F8,0,0,1,7*Cycles!$D8),0,1+MOD(DW$3-Cycles!$C8,7*Cycles!$D8))","v":1},{"$f":"INDEX(OFFSET(Cycles!$F8,0,0,1,7*Cycles!$D8),0,1+MOD(DX$3-Cycles!$C8,7*Cycles!$D8))","v":1},{"$f":"INDEX(OFFSET(Cycles!$F8,0,0,1,7*Cycles!$D8),0,1+MOD(DY$3-Cycles!$C8,7*Cycles!$D8))","v":0},{"$f":"INDEX(OFFSET(Cycles!$F8,0,0,1,7*Cycles!$D8),0,1+MOD(DZ$3-Cycles!$C8,7*Cycles!$D8))","v":0}]

{"sheet":"Annexe","index":6,"n_rows":7,"n_cols":3,"rows_kept":7,"cut":false,"hidden":false,"merged":[]}
["ADECCO",1,"Remplacement d'un agent absent"]
["MANPOWER",0,"Surcroit d'activité"]
["START PEOPLE",0]
["RAS",0]
[null,0]
[null,0]
[null,1]

{"sheet":"Presence","index":7,"n_rows":150,"n_cols":285,"rows_kept":150,"cut":false,"hidden":false,"merged":[]}
[null,null,"dateExport","2020-04-10T10:05:14.958",null,null,null,null,null,null,"Mars",null,null,null,null,null,null,null,null,null,null,null,null,null,null,null,null,null,null,null,null,null,null,null,null,null,null,null,null,null,null,"Avril",null,null,null,null,null,null,null,null,null,null,null,null,null,null,null,null,null,null,null,null,null,null,null,null,null,null,null,null,null,"Mai",null,null,null,null,null,null,null,null,null,null,null,null,null,null,null,null,null,null,null,null,null,null,null,null,null,null,null,null,null,null,"Juin",null,null,null,null,null,null,null,null,null,null,null,null,null,null,null,null,null,null,null,null,null,null,null,null,null,null,null,null,null,"Juillet",null,null,null,null,null,null,null,null,null,null,null,null,null,null,null,null,null,null,null,null,null,null,null,null,null,null,null,null,null,null,"Août",null,null,null,null,null,null,null,null,null,null,null,null,null,null,null,null,null,null,null,null,null,null,null,null,null,null,null,null,null,null,"Septembre",null,null,null,null,null,null,null,null,null,null,null,null,null,null,null,null,null,null,null,null,null,null,null,null,null,null,null,null,null,"Octobre",null,null,null,null,null,null,null,null,null,null,null,null,null,null,null,null,null,null,null,null,null,null,null,null,null,null,null,null,null,null,"Novembre"]
[null,null,null,null,null,null,null,null,"Comptage HSupp",null,0,0,0,0,0,0,44.5,0,13.16,0,0,0,0,0,0,0,0,0,0,0,0,0,0,0,0,0,0,0,0,0,0,0,0,0,0,0,0,0,0,0,0,0,0,0,0,0,0,0,0,0,0,0,0,0,0,0,0,0,0,0,0,0,0,0,0,0,0,0,0,0,0,0,0,0,0,0,0,0,0,0,0,0,0,0,0,0,0,0,0,0,0,0,0,0,0,0,0,0,0,0,0,0,0,0,0,0,0,0,0,0,0,0,0,0,0,0,0,0,0,0,0,0,0,0,0,0,0,0,0,0,0,0,0,0,0,0,0,0,0,0,0,0,0,0,0,0,0,0,0,0,0,0,0,0,0,0,0,0,0,0,0,0,0,0,0,0,0,0,0,0,0,0,0,0,0,0,0,0,0,0,0,0,0,0,0,0,0,0,0,0,0,0,0,0,0,0,0,0,0,0,0,0,0,0,0,0,0,0,0,0,0,0,0,0,0,0,0,0,0,0,0,0,0,0,0,0,0,0,0,0,0,0,0,0,0,0,0,0,0,0,0,0,0,0,0,0,0,0,0,0,0,0,0,0,0,0,0,0,0,0,0,0,0,0,0,0,0,0,0,0,0,0,0,0,0]
[]
[]
[null,null,null,null,null,null,null,null,null,null,"S9","S10","S10","S10","S10","S10","S10","S10","S11","S11","S11","S11","S11","S11","S11","S12","S12","S12","S12","S12","S12","S12","S13","S13","S13","S13","S13","S13","S13","S14","S14","S14","S14","S14","S14","S14","S15","S15","S15","S15","S15","S15","S15","S16","S16","S16","S16","S16","S16","S16","S17","S17","S17","S17","S17","S17","S17","S18","S18","S18","S18","S18","S18","S18","S19","S19","S19","S19","S19","S19","S19","S20","S20","S20","S20","S20","S20","S20","S21","S21","S21","S21","S21","S21","S21","S22","S22","S22","S22","S22","S22","S22","S23","S23","S23","S23","S23","S23","S23","S24","S24","S24","S24","S24","S24","S24","S25","S25","S25","S25","S25","S25","S25","S26","S26","S26","S26","S26","S26","S26","S27","S27","S27","S27","S27","S27","S27","S28","S28","S28","S28","S28","S28","S28","S29","S29","S29","S29","S29","S29","S29","S30","S30","S30","S30","S30","S30","S30","S31","S31","S31","S31","S31","S31","S31","S32","S32","S32","S32","S32","S32","S32","S33","S33","S33","S33","S33","S33","S33","S34","S34","S34","S34","S34","S34","S34","S35","S35","S35","S35","S35","S35","S35","S36","S36","S36","S36","S36","S36","S36","S37","S37","S37","S37","S37","S37","S37","S38","S38","S38","S38","S38","S38","S38","S39","S39","S39","S39","S39","S39","S39","S40","S40","S40","S40","S40","S40","S40","S41","S41","S41","S41","S41","S41","S41","S42","S42","S42","S42","S42","S42","S42","S43","S43","S43","S43","S43","S43","S43","S44","S44","S44","S44","S44","S44","S44","S45","S45","S45","S45","S45","S45","S45","S46","S46","S46","S46","S46","S46","S46","S47","S47","S47","S47","S47","S47","S47","S48","S48","S48","S48","S48","S48","S48","S49"]
[null,null,null,null,null,null,null,null,null,null,"2020-03-01","2020-03-02","2020-03-03","2020-03-04","2020-03-05","2020-03-06","2020-03-07","2020-03-08","2020-03-09","2020-03-10","2020-03-11","2020-03-12","2020-03-13","2020-03-14","2020-03-15","2020-03-16","2020-03-17","2020-03-18","2020-03-19","2020-03-20","2020-03-21","2020-03-22","2020-03-23","2020-03-24","2020-03-25","2020-03-26","2020-03-27","2020-03-28","2020-03-29","2020-03-30","2020-03-31","2020-04-01","2020-04-02","2020-04-03","2020-04-04","2020-04-05","2020-04-06","2020-04-07","2020-04-08","2020-04-09","2020-04-10","2020-04-11","2020-04-12","2020-04-13","2020-04-14","2020-04-15","2020-04-16","2020-04-17","2020-04-18","2020-04-19","2020-04-20","2020-04-21","2020-04-22","2020-04-23","2020-04-24","2020-04-25","2020-04-26","2020-04-27","2020-04-28","2020-04-29","2020-04-30","2020-05-01","2020-05-02","2020-05-03","2020-05-04","2020-05-05","2020-05-06","2020-05-07","2020-05-08","2020-05-09","2020-05-10","2020-05-11","2020-05-12","2020-05-13","2020-05-14","2020-05-15","2020-05-16","2020-05-17","2020-05-18","2020-05-19","2020-05-20","2020-05-21","2020-05-22","2020-05-23","2020-05-24","2020-05-25","2020-05-26","2020-05-27","2020-05-28","2020-05-29","2020-05-30","2020-05-31","2020-06-01","2020-06-02","2020-06-03","2020-06-04","2020-06-05","2020-06-06","2020-06-07","2020-06-08","2020-06-09","2020-06-10","2020-06-11","2020-06-12","2020-06-13","2020-06-14","2020-06-15","2020-06-16","2020-06-17","2020-06-18","2020-06-19","2020-06-20","2020-06-21","2020-06-22","2020-06-23","2020-06-24","2020-06-25","2020-06-26","2020-06-27","2020-06-28","2020-06-29","2020-06-30","2020-07-01","2020-07-02","2020-07-03","2020-07-04","2020-07-05","2020-07-06","2020-07-07","2020-07-08","2020-07-09","2020-07-10","2020-07-11","2020-07-12","2020-07-13","2020-07-14","2020-07-15","2020-07-16","2020-07-17","2020-07-18","2020-07-19","2020-07-20","2020-07-21","2020-07-22","2020-07-23","2020-07-24","2020-07-25","2020-07-26","2020-07-27","2020-07-28","2020-07-29","2020-07-30","2020-07-31","2020-08-01","2020-08-02","2020-08-03","2020-08-04","2020-08-05","2020-08-06","2020-08-07","2020-08-08","2020-08-09","2020-08-10","2020-08-11","2020-08-12","2020-08-13","2020-08-14","2020-08-15","2020-08-16","2020-08-17","2020-08-18","2020-08-19","2020-08-20","2020-08-21","2020-08-22","2020-08-23","2020-08-24","2020-08-25","2020-08-26","2020-08-27","2020-08-28","2020-08-29","2020-08-30","2020-08-31","2020-09-01","2020-09-02","2020-09-03","2020-09-04","2020-09-05","2020-09-06","2020-09-07","2020-09-08","2020-09-09","2020-09-10","2020-09-11","2020-09-12","2020-09-13","2020-09-14","2020-09-15","2020-09-16","2020-09-17","2020-09-18","2020-09-19","2020-09-20","2020-09-21","2020-09-22","2020-09-23","2020-09-24","2020-09-25","2020-09-26","2020-09-27","2020-09-28","2020-09-29","2020-09-30","2020-10-01","2020-10-02","2020-10-03","2020-10-04","2020-10-05","2020-10-06","2020-10-07","2020-10-08","2020-10-09","2020-10-10","2020-10-11","2020-10-12","2020-10-13","2020-10-14","2020-10-15","2020-10-16","2020-10-17","2020-10-18","2020-10-19","2020-10-20","2020-10-21","2020-10-22","2020-10-23","2020-10-24","2020-10-25","2020-10-26","2020-10-27","2020-10-28","2020-10-29","2020-10-30","2020-10-31","2020-11-01","2020-11-02","2020-11-03","2020-11-04","2020-11-05","2020-11-06","2020-11-07","2020-11-08","2020-11-09","2020-11-10","2020-11-11","2020-11-12","2020-11-13","2020-11-14","2020-11-15","2020-11-16","2020-11-17","2020-11-18","2020-11-19","2020-11-20","2020-11-21","2020-11-22","2020-11-23","2020-11-24","2020-11-25","2020-11-26","2020-11-27","2020-11-28","2020-11-29","2020-11-30"]
[null,"Ref GA","idrh","Nom Prénom","UAP","Equipe","Statut","Commentaire","Manager","Quot","2020-03-01","2020-03-02","2020-03-03","2020-03-04","2020-03-05","2020-03-06","2020-03-07","2020-03-08","2020-03-09","2020-03-10","2020-03-11","2020-03-12","2020-03-13","2020-03-14","2020-03-15","2020-03-16","2020-03-17","2020-03-18","2020-03-19","2020-03-20","2020-03-21","2020-03-22","2020-03-23","2020-03-24","2020-03-25","2020-03-26","2020-03-27","2020-03-28","2020-03-29","2020-03-30","2020-03-31","2020-04-01","2020-04-02","2020-04-03","2020-04-04","2020-04-05","2020-04-06","2020-04-07","2020-04-08","2020-04-09","2020-04-10","2020-04-11","2020-04-12","2020-04-13","2020-04-14","2020-04-15","2020-04-16","2020-04-17","2020-04-18","2020-04-19","2020-04-20","2020-04-21","2020-04-22","2020-04-23","2020-04-24","2020-04-25","2020-04-26","2020-04-27","2020-04-28","2020-04-29","2020-04-30","2020-05-01","2020-05-02","2020-05-03","2020-05-04","2020-05-05","2020-05-06","2020-05-07","2020-05-08","2020-05-09","2020-05-10","2020-05-11","2020-05-12","2020-05-13","2020-05-14","2020-05-15","2020-05-16","2020-05-17","2020-05-18","2020-05-19","2020-05-20","2020-05-21","2020-05-22","2020-05-23","2020-05-24","2020-05-25","2020-05-26","2020-05-27","2020-05-28","2020-05-29","2020-05-30","2020-05-31","2020-06-01","2020-06-02","2020-06-03","2020-06-04","2020-06-05","2020-06-06","2020-06-07","2020-06-08","2020-06-09","2020-06-10","2020-06-11","2020-06-12","2020-06-13","2020-06-14","2020-06-15","2020-06-16","2020-06-17","2020-06-18","2020-06-19","2020-06-20","2020-06-21","2020-06-22","2020-06-23","2020-06-24","2020-06-25","2020-06-26","2020-06-27","2020-06-28","2020-06-29","2020-06-30","2020-07-01","2020-07-02","2020-07-03","2020-07-04","2020-07-05","2020-07-06","2020-07-07","2020-07-08","2020-07-09","2020-07-10","2020-07-11","2020-07-12","2020-07-13","2020-07-14","2020-07-15","2020-07-16","2020-07-17","2020-07-18","2020-07-19","2020-07-20","2020-07-21","2020-07-22","2020-07-23","2020-07-24","2020-07-25","2020-07-26","2020-07-27","2020-07-28","2020-07-29","2020-07-30","2020-07-31","2020-08-01","2020-08-02","2020-08-03","2020-08-04","2020-08-05","2020-08-06","2020-08-07","2020-08-08","2020-08-09","2020-08-10","2020-08-11","2020-08-12","2020-08-13","2020-08-14","2020-08-15","2020-08-16","2020-08-17","2020-08-18","2020-08-19","2020-08-20","2020-08-21","2020-08-22","2020-08-23","2020-08-24","2020-08-25","2020-08-26","2020-08-27","2020-08-28","2020-08-29","2020-08-30","2020-08-31","2020-09-01","2020-09-02","2020-09-03","2020-09-04","2020-09-05","2020-09-06","2020-09-07","2020-09-08","2020-09-09","2020-09-10","2020-09-11","2020-09-12","2020-09-13","2020-09-14","2020-09-15","2020-09-16","2020-09-17","2020-09-18","2020-09-19","2020-09-20","2020-09-21","2020-09-22","2020-09-23","2020-09-24","2020-09-25","2020-09-26","2020-09-27","2020-09-28","2020-09-29","2020-09-30","2020-10-01","2020-10-02","2020-10-03","2020-10-04","2020-10-05","2020-10-06","2020-10-07","2020-10-08","2020-10-09","2020-10-10","2020-10-11","2020-10-12","2020-10-13","2020-10-14","2020-10-15","2020-10-16","2020-10-17","2020-10-18","2020-10-19","2020-10-20","2020-10-21","2020-10-22","2020-10-23","2020-10-24","2020-10-25","2020-10-26","2020-10-27","2020-10-28","2020-10-29","2020-10-30","2020-10-31","2020-11-01","2020-11-02","2020-11-03","2020-11-04","2020-11-05","2020-11-06","2020-11-07","2020-11-08","2020-11-09","2020-11-10","2020-11-11","2020-11-12","2020-11-13","2020-11-14","2020-11-15","2020-11-16","2020-11-17","2020-11-18","2020-11-19","2020-11-20","2020-11-21","2020-11-22","2020-11-23","2020-11-24","2020-11-25","2020-11-26","2020-11-27","2020-11-28","2020-11-29","2020-11-30"]
["c","1569537","BDF257","Agent",null,"ENCADREMENT MATIN","CADRE",null,"NEPVEU STEPHANE",100,null,1,1,null,1,1,null,null,null,"CA",1,null,1,1,null,1,1,null,1,1,null,null,null,1,1,null,1,1,null,1,1,null,1,1,null,null,null,"CA","CA","CA","CA","CA",null,"FE",1,null,1,1,null,null,null,1,1,null,1,1,null,1,1,null,"RC","FE",null,null,null,1,1,null,"FE",1,null,1,1,null,1,1,null,null,null,1,1,"FE","CA_p","CA_p",null,1,1,null,1,1,null,null,"FE",1,1,null,1,1,null,1,1,null,1,1,null,null,null,1,1,null,1,1,null,1,1,null,1,1,null,null,null,1,1,null,1,1,null,1,1,null,1,1,null,null,null,"FE",1,null,1,1,null,1,1,null,1,1,null,null,null,1,1,null,1,1,null,1,1,null,1,1,null,null,null,"CA_p","CA_p",null,"CA_p","FE",null,"CA_p","CA_p",null,"CA_p","CA_p",null,null,null,"CA_p","CA_p",null,"CA_p","CA_p",null,1,1,null,1,1,null,null,null,1,1,null,1,1,null,1,1,null,1,1,null,null,null,1,1,null,1,1,null,1,1,null,1,1,null,null,null,1,1,null,1,1,null,1,1,null,1,1,null,null,null,1,1,null,1,1,null,1,1,null,1,1,null,"FE",null,1,1,null,1,1,null,1,1,"FE",1,1,null,null,null,1,1,null,1,1,null,1,1,null,1,1]
[null,"1574557","XJU152","Agent",null,"ENCADREMENT MATIN","CADRE",null,"NEPVEU STEPHANE",100,null,1,1,null,1,1,null,null,null,1,1,null,1,1,null,1,1,null,1,1,null,null,null,"CA","CA","CA","CA","CA",null,1,1,null,1,1,null,null,null,1,1,null,1,1,null,"FE",1,null,1,1,null,null,null,1,1,null,1,1,null,1,1,null,1,"FE",null,null,null,"CA_p","CA_p",null,"FE","CA_p",null,1,1,null,1,1,null,null,null,1,1,"FE",1,1,null,1,1,null,1,1,null,null,"FE",1,1,null,1,1,null,1,1,null,1,1,null,null,null,1,1,null,1,1,null,1,1,null,1,1,null,null,null,1,1,null,1,1,null,1,1,null,1,1,null,null,null,"FE",1,null,1,1,null,1,1,null,1,1,null,null,null,1,1,null,1,1,null,1,1,null,1,1,null,null,null,1,1,null,1,"FE",null,1,1,null,1,1,null,null,null,1,1,null,1,1,null,1,1,null,1,1,null,null,null,1,1,null,1,1,null,1,1,null,1,1,null,null,null,1,1,null,1,1,null,1,1,null,1,1,null,null,null,1,1,null,1,1,null,1,1,null,1,1,null,null,null,1,1,null,1,1,null,1,1,null,1,1,null,"FE",null,1,1,null,1,1,null,1,1,"FE",1,1,null,null,null,1,1,null,1,1,null,1,1,null,1,1]
["c","1575815","GHD153","Agent",null,"ENCADREMENT MATIN","CADRE",null,"NEPVEU STEPHANE",80,null,null,1,1,null,1,1,null,1,1,null,1,1,null,null,null,1,1,null,1,1,null,1,1,null,1,1,null,null,null,1,1,null,1,1,null,1,"CA","CA",1,1,null,null,"FE",1,1,null,1,"CA_p",null,1,1,null,"CA",1,null,null,null,1,1,null,"FE",1,null,1,1,null,1,"FE",null,null,null,1,1,null,1,1,null,1,1,null,"FE",1,null,null,null,1,1,null,1,1,null,"FE",1,null,1,1,null,null,null,"CA_p","CA_p",null,"CA_p","CA_p",null,1,1,null,1,1,null,null,null,1,1,null,1,1,null,1,1,null,1,1,null,null,null,1,1,null,1,1,null,1,"FE",null,1,1,null,null,null,1,1,null,1,1,null,1,1,null,1,1,null,null,null,1,1,null,1,1,null,1,1,null,1,1,"FE",null,null,1,1,null,1,1,null,1,1,null,1,1,null,null,null,1,1,null,1,1,null,1,1,null,1,1,null,null,null,1,1,null,1,1,null,1,1,null,1,1,null,null,null,1,1,null,1,1,null,1,1,null,1,1,null,null,null,1,1,null,1,1,null,1,1,null,1,1,null,null,null,1,1,null,1,1,"FE",1,1,null,1,1,null,null,null,1,"FE",null,1,1,null,1,1,null,1,1,null,null,null,1,1,null,1,1,null,1]
[null,"1606419","BTE679","Agent",null,"ENCADREMENT MATIN","CADRE",null,"NEPVEU STEPHANE",100,null,1,1,null,1,1,null,null,null,1,1,null,1,1,null,1,1,null,1,1,null,null,null,1,1,null,1,1,null,1,1,null,1,1,null,null,null,"CA","CA","CA","CA","CA",null,"FE",1,null,1,1,null,null,null,1,1,null,1,1,null,1,1,null,1,"FE",null,null,null,1,1,null,"FE",1,null,1,1,null,1,1,null,null,null,1,1,"FE",1,1,null,1,1,null,1,1,null,null,"FE",1,1,null,1,1,null,1,1,null,1,1,null,null,null,1,1,null,1,1,null,1,1,null,1,1,null,null,null,1,1,null,1,1,null,1,1,null,1,1,null,null,null,"FE",1,null,1,1,null,1,1,null,1,1,null,null,null,1,1,null,1,1,null,1,1,null,1,1,null,null,null,1,1,null,1,"FE",null,1,1,null,1,1,null,null,null,1,1,null,1,1,null,1,1,null,1,1,null,null,null,1,1,null,1,1,null,1,1,null,1,1,null,null,null,1,1,null,1,1,null,1,1,null,1,1,null,null,null,1,1,null,1,1,null,1,1,null,1,1,null,null,null,1,1,null,1,1,null,1,1,null,1,1,null,"FE",null,1,1,null,1,1,null,1,1,"FE",1,1,null,null,null,1,1,null,1,1,null,1,1,null,1,1]
[null,"1648997","YSZ829","Agent",null,"ENCADREMENT MATIN","CADRE",null,"COULONGES XAVIER",100,null,1,1,1,"CA",1,null,null,1,1,1,"CA",1,null,null,1,1,"CA","CA","CA",null,null,1,1,1,"CA","CA",null,null,1,1,1,1,1,null,null,1,1,1,1,1,null,null,"FE",1,1,1,1,null,null,1,1,1,1,1,null,null,1,1,1,1,"FE",null,null,1,1,1,1,"FE",null,null,1,1,1,1,1,null,null,1,1,1,"FE",1,null,null,1,1,1,1,1,null,null,"FE",1,1,1,1,null,null,1,1,1,1,1,null,null,1,1,1,1,1,null,null,1,1,1,1,1,null,null,1,1,1,1,1,null,null,1,1,1,1,1,null,null,1,"FE",1,1,1,null,null,1,1,1,1,1,null,null,1,1,1,1,1,null,null,1,1,1,1,1,null,null,1,1,1,1,1,"FE",null,1,1,1,1,1,null,null,1,1,1,1,1,null,null,1,1,1,1,1,null,null,1,1,1,1,1,null,null,1,1,1,1,1,null,null,1,1,1,1,1,null,null,1,1,1,1,1,null,null,1,1,1,1,1,null,null,1,1,1,1,1,null,null,1,1,1,1,1,null,null,1,1,1,1,1,null,"FE",1,1,1,1,1,null,null,1,1,"FE",1,1,null,null,1,1,1,1,1,null,null,1,1,1,1,1,null,null,1]
["c","1716285","JRT793","Agent",null,"ENCADREMENT MATIN","CADRE",null,"NEPVEU STEPHANE",100,null,null,1,1,null,1,1,null,1,1,null,"RPO","RPO",null,null,null,"CA","CA","CA","CA","CA",null,"RPO","RPO",null,1,1,null,null,null,1,1,null,1,1,null,1,1,null,1,1,null,null,"FE",1,1,null,1,1,null,1,1,null,1,1,null,null,null,1,1,null,"FE","CA",null,"CA","CA_p",null,"CA_p","FE",null,null,null,1,1,null,1,1,null,1,1,null,"FE","RC",null,null,null,1,1,null,1,1,null,"FE",1,null,1,1,null,null,null,1,1,null,1,1,null,1,1,null,1,1,null,null,null,1,1,null,1,1,null,1,1,null,1,1,null,null,null,1,1,null,1,1,null,1,"FE",null,1,1,null,null,null,1,1,null,1,1,null,1,1,null,1,1,null,null,null,1,1,null,1,1,null,1,1,null,1,1,"FE",null,null,1,1,null,1,1,null,1,1,null,1,1,null,null,null,1,1,null,1,1,null,1,1,null,1,1,null,null,null,1,1,null,1,1,null,1,1,null,1,1,null,null,null,1,1,null,1,1,null,1,1,null,1,1,null,null,null,1,1,null,1,1,null,1,1,null,1,1,null,null,null,1,1,null,1,1,"FE",1,1,null,1,1,null,null,null,1,"FE",null,1,1,null,1,1,null,1,1,null,null,null,1,1,null,1,1,null,1]
[null,"1727146","VUZ240","Agent",null,"ENCADREMENT MATIN","CADRE",null,"NEPVEU STEPHANE",100,null,null,1,1,null,1,1,null,1,1,null,1,1,null,null,null,1,1,null,1,1,null,1,1,null,1,1,null,null,null,"CA_p","CA","CA","CA","CA",null,1,1,null,1,1,null,null,"FE",1,1,null,1,1,null,1,1,null,1,1,null,null,null,1,1,null,"FE",1,null,1,1,null,"CA_p","FE",null,null,null,1,1,null,1,1,null,1,1,null,"FE","CA_p",null,null,null,1,1,null,1,1,null,"FE",1,null,"DIV",1,null,null,null,1,1,null,1,1,null,1,1,null,1,1,null,null,null,1,1,null,1,1,null,1,1,null,1,1,null,null,null,1,1,null,1,1,null,1,"FE",null,1,1,null,null,null,1,1,null,1,1,null,1,1,null,1,1,null,null,null,1,1,null,1,1,null,1,1,null,1,1,"FE",null,null,1,1,null,1,1,null,1,1,null,1,1,null,null,null,1,1,null,1,1,null,1,1,null,1,1,null,null,null,1,1,null,1,1,null,1,1,null,1,1,null,null,null,1,1,null,1,1,null,1,1,null,1,1,null,null,null,1,1,null,1,1,null,1,1,null,1,1,null,null,null,1,1,null,1,1,"FE",1,1,null,1,1,null,null,null,1,"FE",null,1,1,null,1,1,null,1,1,null,null,null,1,1,null,1,1,null,1]
["c","1756261","KMX078","Agent",null,"ENCADREMENT MATIN","CADRE",null,"NEPVEU STEPHANE",100,null,null,1,1,1,1,1,null,1,1,null,1,1,null,null,null,1,1,1,1,1,null,"DIV","DIV",null,"DIV","DIV",null,null,null,1,"DIV","DIV","DIV",1,null,1,1,null,"DIV","DIV",null,null,"FE",1,1,1,1,1,null,1,1,null,1,1,null,null,null,"CA_p","CA_p","CA_p","FE","CA_p",null,"CA_p","CA_p",null,"CA_p","FE",null,null,null,1,1,1,1,1,null,1,1,null,"FE",1,null,null,null,1,1,1,1,1,null,"FE",1,null,1,1,null,null,null,1,1,1,1,1,null,1,1,null,1,1,null,null,null,1,1,1,1,1,null,"CA_p","CA_p",null,"CA_p",1,null,null,null,1,1,"CA_p","CA_p","CA_p",null,"CA_p","FE",null,1,1,null,null,null,1,1,1,1,1,null,1,1,null,1,1,null,null,null,1,1,1,1,1,null,1,1,null,1,1,"FE",null,null,"CA_p","CA_p","CA_p","CA_p","CA_p",null,"CA_p","CA_p",null,"CA_p","CA_p",null,null,null,"CA_p","CA_p","CA_p","CA_p","CA_p",null,1,1,null,1,1,null,null,null,1,1,1,1,1,null,1,1,null,1,1,null,null,null,1,1,1,1,1,null,1,1,null,1,1,null,null,null,1,1,1,1,1,null,1,1,null,1,1,null,null,null,1,1,1,1,1,"FE",1,1,null,1,1,null,null,null,1,"FE",1,1,1,null,1,1,null,1,1,null,null,null,1,1,1,1,1,null,1]
[null,"1763788","KTN758","Agent",null,"ENCADREMENT MATIN","CADRE",null,"NEPVEU STEPHANE",100,null,1,1,1,1,1,null,null,1,"ATM","ATM","ATM","ATM",null,null,"ATM","ATM","ATM","ATM","ATM",null,null,"ATM","ATM",1,1,"DIV",null,null,"DIV","DIV","DIV","DIV","DIV",null,null,"CA","CA_p","CA_p","CA_p","CA_p",null,null,"FE","CA_p","CA_p","CA_p","CA_p",null,null,1,1,1,1,1,null,null,1,1,1,1,"FE",null,null,1,1,1,1,"FE",null,null,1,1,1,1,1,null,null,1,1,1,"FE","JPS",null,null,"JPS","JPS",1,1,1,null,null,"FE",1,1,1,1,null,null,1,1,1,1,1,null,null,1,1,1,1,1,null,null,1,1,1,1,1,null,null,1,1,1,1,1,null,null,1,1,1,1,1,null,null,1,"FE",1,1,1,null,null,1,1,1,1,1,null,null,1,1,1,1,1,null,null,1,1,1,1,1,null,null,1,1,1,1,1,"FE",null,1,1,1,1,1,null,null,1,1,1,1,1,null,null,1,1,1,1,1,null,null,1,1,1,1,1,null,null,1,1,1,1,1,null,null,1,1,1,1,1,null,null,1,1,1,1,1,null,null,1,1,1,1,1,null,null,1,1,1,1,1,null,null,1,1,1,1,1,null,null,1,1,1,1,1,null,"FE",1,1,1,1,1,null,null,1,1,"FE",1,1,null,null,1,1,1,1,1,null,null,1,1,1,1,1,null,null,1]
[null,"1570079","MHF824","Agent",null,"FIXE MATIN","AGENT",null,"CATUSSE MICHEL",100,null,1,1,1,1,1,1,null,1,1,1,1,1,null,null,1,1,1,1,1,null,null,1,1,1,1,1,1,null,1,1,1,1,1,null,null,1,1,1,"CA","CA","CA",null,"FE","CA","CA","CA","CA","CA",null,1,1,1,1,1,null,null,1,1,1,1,"FE",null,null,1,1,1,1,"FE",1,null,1,1,1,1,1,null,null,1,1,1,"FE",1,null,null,1,1,1,1,1,1,null,"FE",1,1,1,1,null,null,1,1,1,1,1,null,null,1,1,1,1,1,1,null,1,1,1,1,1,null,null,1,1,1,1,1,null,null,1,1,1,1,1,1,null,1,"FE",1,1,1,null,null,1,1,1,1,1,null,null,1,1,1,1,1,"CA_p",null,"CA_p","CA_p","CA_p","CA_p","CA_p",null,null,"CA_p","CA_p","CA_p","CA_p","CA_p","FE",null,"CA_p","CA_p","CA_p","CA_p","CA_p","CA_p",null,1,1,1,1,1,null,null,1,1,1,1,1,null,null,1,1,1,1,1,1,null,1,1,1,1,1,null,null,1,1,1,1,1,null,null,1,1,1,1,1,1,null,1,1,1,1,1,null,null,1,1,1,1,1,null,null,1,1,1,1,1,1,null,1,1,1,1,1,null,"FE",1,1,1,1,1,null,null,1,1,"FE",1,1,1,null,1,1,1,1,1,null,null,1,1,1,1,1,null,null,1]
[null,"1758146","KPB453","Agent",null,"FIXE MATIN","AGENT",null,"BARTHELEMY THIERRY",100,null,"CPE","CPE","CPE","CPE","CPE","CPE",null,"CPE","CPE","CPE","CPE","CPE","CPE",null,"CPE","CPE","CPE","CPE","CPE","CPE",null,"CPE","CPE","CPE","CPE","CPE","CPE",null,"CPE","CPE","CPE","CPE","CPE","CPE",null,"CPE","CPE","CPE","CPE","CPE","CPE",null,"FE","CPE","CPE","CPE","CPE","CPE",null,"CPE","CPE","CPE","CPE","CPE","CPE",null,"CPE","CPE","CPE","CPE","FE","CPE",null,"CPE","CPE","CPE","CPE","FE","CPE",null,"CPE","CPE","CPE","CPE","CPE","CPE",null,"CPE","CPE","CPE","FE","CPE","CPE",null,"CPE","CPE","CPE","CPE","CPE","CPE",null,"FE","CPE","CPE","CPE","CPE","CPE",null,"CPE","CPE","CPE","CPE","CPE","CPE",null,"CPE","CPE","CPE","CPE","CPE","CPE",null,"CPE","CPE","CPE","CPE","CPE","CPE",null,"CPE","CPE","CPE","CPE","CPE","CPE",null,"CPE","CPE","CPE","CPE","CPE","CPE",null,1,"FE",1,1,1,null,null,1,1,1,1,1,null,null,1,1,1,1,1,1,null,1,1,1,1,1,null,null,1,1,1,1,1,"FE",null,1,1,1,1,1,1,null,1,1,1,1,1,null,null,1,1,1,1,1,null,null,1,1,1,1,1,1,null,1,1,1,1,1,null,null,1,1,1,1,1,null,null,1,1,1,1,1,1,null,1,1,1,1,1,null,null,1,1,1,1,1,null,null,1,1,1,1,1,1,null,1,1,1,1,1,null,"FE",1,1,1,1,1,null,null,1,1,"FE",1,1,1,null,1,1,1,1,1,null,null,1,1,1,1,1,null,null,1]
[null,"1730031","JXE369","Agent",null,"FIXE MATIN","AGENT",null,"CATUSSE MICHEL",100,null,1,1,1,1,1,"CA",null,"CA","CA","CA","CA","CA","CA",null,1,1,1,1,1,null,null,1,1,1,1,1,1,null,1,1,1,1,1,null,null,1,1,1,1,1,null,null,"FE",1,"CA_?",1,1,1,null,1,1,1,1,1,null,null,1,1,1,1,"FE",null,null,1,1,1,1,"FE",1,null,1,1,1,1,1,null,null,1,1,1,"FE",1,null,null,1,1,1,1,1,1,null,"FE",1,1,1,1,null,null,1,1,1,1,1,null,null,1,1,1,1,1,1,null,1,1,1,1,1,null,null,1,1,1,1,1,null,null,1,1,1,1,1,1,null,1,"FE",1,1,1,null,null,1,1,1,1,1,null,null,1,1,1,1,1,1,null,1,1,1,1,1,null,null,"CA_p","CA_p","CA_p","CA_p","CA_p","FE",null,"CA_p","CA_p","CA_p","CA_p","CA_p","CA_p",null,"CA_p","CA_p","CA_p","CA_p","CA_p",null,null,1,1,1,1,1,null,null,1,1,1,1,1,1,null,1,1,1,1,1,null,null,1,1,1,1,1,null,null,1,1,1,1,1,1,null,1,1,1,1,1,null,null,1,1,1,1,1,null,null,1,1,1,1,1,1,null,1,1,1,1,1,null,"FE",1,1,1,1,1,null,null,1,1,"FE",1,1,1,null,1,1,1,1,1,null,null,1,1,1,1,1,null,null,1]
[null,"1574955","TFY694","Agent",null,"FIXE MATIN","AGENT",null,"FEUGA CHRISTIAN",100,null,"CA","CA","CA","CA","CA","CA",null,1,1,1,1,1,null,null,1,1,1,1,1,1,null,1,1,1,1,1,null,null,1,1,1,1,1,null,null,1,1,1,1,1,1,null,"FE",1,1,1,1,null,null,1,1,1,1,1,null,null,1,1,1,1,"FE",1,null,1,1,1,1,"FE",null,null,1,1,1,1,1,null,null,1,1,1,"FE",1,1,null,1,1,1,1,1,null,null,"FE",1,1,1,1,null,null,1,1,1,1,1,1,null,1,1,1,1,1,null,null,1,1,1,1,1,null,null,1,1,1,1,1,1,null,1,1,1,1,1,null,null,1,"FE","CA_p","CA_p","CA_p",null,null,"CA_p","CA_p","CA_p","CA_p","CA_p","CA_p",null,"CA_p","CA_p","CA_p","CA_p","CA_p",null,null,1,1,1,1,1,null,null,1,1,1,1,1,"FE",null,1,1,1,1,1,null,null,1,1,1,1,1,null,null,1,1,1,1,1,1,null,1,1,1,1,1,null,null,1,1,1,1,1,null,null,1,1,1,1,1,1,null,1,1,1,1,1,null,null,1,1,1,1,1,null,null,1,1,1,1,1,1,null,1,1,1,1,1,null,null,1,1,1,1,1,null,"FE",1,1,1,1,1,1,null,1,1,"FE",1,1,null,null,1,1,1,1,1,null,null,1,1,1,1,1,1,null,"INV"]
[null,"1657112","CNT310","Agent",null,"FIXE MATIN","AGENT",null,"TOUCHE LAURENT",100,null,1,"CA","CA","CA",1,null,null,1,1,1,1,1,1,null,1,1,1,1,1,null,null,1,1,1,1,1,null,null,1,1,1,1,1,1,null,1,1,1,1,1,null,null,"FE",1,1,1,1,null,null,"CA","CA","CA","CA","CA","CA",null,"CA","CA","CA","JPS","FE",null,null,1,1,1,1,"FE",null,null,1,1,1,1,1,1,null,1,1,1,"FE",1,null,null,1,1,1,1,1,null,null,"FE",1,1,1,1,1,null,1,1,1,1,1,null,null,1,1,1,1,1,null,null,"CA_p","CA_p","CA_p","CA_p","CA_p","CA_p",null,"CA_p","CA_p","CA_p","CA_p","CA_p",null,null,"CA_p","CA_p","CA_p","CA_p","CA_p",null,null,1,"FE",1,1,1,1,null,1,1,1,1,1,null,null,1,1,1,1,1,null,null,1,1,1,1,1,1,null,1,1,1,1,1,"FE",null,1,1,1,1,1,null,null,1,1,1,1,1,1,null,1,1,1,1,1,null,null,1,1,1,1,1,null,null,1,1,1,1,1,1,null,1,1,1,1,1,null,null,1,1,1,1,1,null,null,1,1,1,1,1,1,null,1,1,1,1,1,null,null,1,1,1,1,1,null,null,1,1,1,1,1,1,"FE",1,1,1,1,1,null,null,1,1,"FE",1,1,null,null,1,1,1,1,1,1,null,1,1,1,1,1,null,null,1]
["c","1495875","EBF467","Agent",null,"FIXE MATIN","AGENT",null,"LAVAUD JABEUR VERONIQUE",100,null,1,1,1,1,1,null,null,1,1,1,1,1,1,null,"CA","CA","CA","CA","CA","CA",null,"RCE","RCE","RCE","RCE","RCE","RCE",null,1,1,1,1,1,1,null,1,1,1,1,1,null,null,"FE",1,1,1,1,null,null,1,1,1,1,1,1,null,1,1,1,1,"FE",null,null,1,1,1,1,"FE",null,null,1,1,1,1,1,1,null,1,1,1,"FE",1,null,null,1,1,1,1,1,null,null,"FE",1,1,1,1,1,null,1,1,1,1,1,null,null,1,1,1,1,1,null,null,1,1,1,1,1,1,null,1,1,1,1,1,null,null,1,1,1,1,1,null,null,1,"FE",1,1,1,1,null,1,1,1,1,1,null,null,1,1,1,1,1,null,null,1,1,1,1,1,1,null,"CA_p","CA_p","CA_p","CA_p","CA_p","FE",null,"CA_p","CA_p","CA_p","CA_p","CA_p",null,null,"CA_p","CA_p","CA_p","CA_p","CA_p","CA_p",null,1,1,1,1,1,null,null,1,1,1,1,1,null,null,1,1,1,1,1,1,null,1,1,1,1,1,null,null,1,1,1,1,1,null,null,1,1,1,1,1,1,null,1,1,1,1,1,null,null,1,1,1,1,1,null,null,1,1,1,1,1,1,"FE",1,1,1,1,1,null,null,1,1,"FE",1,1,null,null,1,1,1,1,1,1,null,1,1,1,1,1,null,null,1]
["c","1751667","RSZ574","Agent",null,"FIXE MATIN","AGENT",null,"TOUCHE LAURENT",100,null,1,1,1,1,1,null,null,1,"FF",1,"FF",1,1,null,1,1,1,1,1,null,null,1,1,1,1,1,null,null,1,1,1,1,1,1,null,"RPO","FF","FF","RPO","FF",null,null,"FE",1,1,1,1,null,null,1,1,1,1,1,1,null,1,1,1,"FF","FE",null,null,1,1,1,1,"FE",null,null,1,1,1,1,1,1,null,1,1,1,"FE","FF",null,null,1,1,1,1,1,null,null,"FE",1,1,1,1,1,null,1,1,1,1,1,null,null,"CA_p","CA_p","CA_p","CA_p","CA_p",null,null,"CA_p","CA_p","CA_p","CA_p","CA_p","CA_p",null,1,1,1,1,1,null,null,1,1,1,1,1,null,null,1,"FE",1,1,1,1,null,1,1,1,1,1,null,null,1,1,1,1,1,null,null,1,1,1,1,1,1,null,1,"FF","FF","RPO","FF","FE",null,"FF","FF","RPO","FF","FF",null,null,"RPO","FF","FF","RPO","FF","FF",null,1,1,1,1,1,null,null,1,1,1,1,1,null,null,1,1,1,1,1,1,null,1,1,1,1,1,null,null,1,1,1,1,1,null,null,1,1,1,1,1,1,null,1,1,1,1,1,null,null,1,1,1,1,1,null,null,1,1,1,1,1,1,"FE",1,1,1,1,1,null,null,1,1,"FE",1,1,null,null,1,1,1,1,1,1,null,1,1,1,1,1,null,null,1]
[null,"1693694","JFT024","Agent",null,"FIXE MATIN","AGENT",null,"MAZET BERNARD",100,null,1,"TP",1,"TP",1,null,null,1,"TP",1,"TP",1,null,null,1,"TP",1,"TP",1,null,null,"CA","CA","CA","CA","CA",null,null,1,"TP",1,"TP",1,null,null,1,"TP",1,"TP",1,null,null,"FE","TP","CA","CA","CA",null,null,1,"TP",1,"TP",1,null,null,1,"TP",1,"TP","FE",null,null,1,"TP",1,"TP","FE",null,null,1,"TP",1,"TP",1,null,null,1,"TP",1,"FE",1,null,null,1,"TP",1,"TP",1,null,null,"FE","TP",1,"TP",1,null,null,1,"TP",1,"TP",1,null,null,1,"TP",1,"TP",1,null,null,1,"TP",1,"TP",1,null,null,1,"TP",1,"TP",1,null,null,1,"TP",1,"TP",1,null,null,1,"FE",1,"TP",1,null,null,1,"TP",1,"TP",1,null,null,1,"TP",1,"TP",1,null,null,1,"TP",1,"TP",1,null,null,1,"TP",1,"TP",1,"FE",null,1,"TP",1,"TP",1,null,null,1,"TP","CA","CA","CA",null,null,"CA","CA","CA","CA","CA",null,null,1,"TP",1,"TP",1,null,null,1,"TP",1,"TP",1,null,null,1,"TP",1,"TP",1,null,null,1,"TP",1,"TP",1,null,null,1,"TP",1,"TP",1,null,null,1,"TP",1,"TP",1,null,null,1,"TP",1,"TP",1,null,null,1,"TP",1,"TP",1,null,"FE",1,"TP",1,"TP",1,null,null,1,"TP","FE","TP",1,null,null,1,"TP",1,"TP",1,null,null,1,"TP",1,"TP",1,null,null,1]
["c","1753227","KJY192","Agent",null,"FIXE MATIN","AGENT",null,"COUTOULY MARC",100,null,1,1,1,1,1,null,null,1,1,1,1,1,null,null,1,1,1,1,1,1,null,1,1,1,1,1,null,null,"RPO","FF","FF","RPO","FF",null,null,"RPO","FF","FF","RPO","FF","FF",null,"FE",1,1,1,1,null,null,1,1,1,1,1,null,null,1,1,1,1,"FE",1,null,1,1,1,1,"FE",null,null,1,1,1,1,1,null,null,1,1,1,"FE",1,1,null,1,1,1,1,1,null,null,"FE",1,1,1,1,null,null,1,1,1,1,1,1,null,1,1,1,1,1,null,null,1,1,1,1,1,null,null,1,1,1,1,1,1,null,1,1,1,1,1,null,null,1,"FE",1,1,1,null,null,1,1,1,1,1,1,null,"CA_p","CA_p","CA_p","CA_p","CA_p",null,null,"CA_p","CA_p","CA_p","CA_p","CA_p",null,null,"CA_p","CA_p","CA_p","CA_p","CA_p","FE",null,1,1,1,1,1,null,null,1,1,1,1,1,null,null,1,1,1,1,1,1,null,1,1,1,1,1,null,null,1,1,1,1,1,null,null,1,1,1,1,1,1,null,1,1,1,1,1,null,null,1,1,1,1,1,null,null,1,1,1,1,1,1,null,1,1,1,1,1,null,null,1,1,1,1,1,null,"FE",1,1,1,1,1,1,null,1,1,"FE",1,1,null,null,1,1,1,1,1,null,null,1,1,1,1,1,1,null,1]
["c","1512346","EJH658","Agent",null,"FIXE MATIN","AGENT",null,"ANOUILH ALAIN",100,null,1,1,1,1,1,null,null,1,1,1,1,1,1,null,1,"ATM","ATM","ATM","ATM","ATM",null,"ATM","ATM","ATM","ATM","ATM","ATM",null,"ATM","ATM","ATM","ATM","ATM","ATM",null,1,1,"DIV","DIV","DIV",null,null,"FE","CA","CA","CA","CA","CA",null,1,1,1,1,1,1,null,1,1,1,1,"FE",null,null,1,1,1,1,"FE",null,null,1,1,1,1,1,1,null,1,1,1,"FE",1,null,null,1,1,1,1,1,null,null,"FE",1,1,1,1,1,null,1,1,1,1,1,null,null,1,1,1,1,1,null,null,1,1,1,1,1,1,null,1,1,1,1,1,null,null,1,1,1,1,1,null,null,1,"FE",1,1,1,1,null,1,1,1,1,1,null,null,1,1,1,1,1,null,null,1,1,1,1,1,1,null,1,1,1,1,1,"FE",null,1,1,1,1,1,null,null,1,1,1,1,1,1,null,1,1,1,1,1,null,null,1,1,1,1,1,null,null,"CA_p","CA_p","CA_p","CA_p","CA_p","CA_p",null,"CA_p","CA_p","CA_p","CA_p","CA_p",null,null,1,1,1,1,1,null,null,1,1,1,1,1,1,null,1,1,1,1,1,null,null,1,1,1,1,1,null,null,1,1,1,1,1,1,"FE",1,1,1,1,1,null,null,1,1,"FE",1,1,null,null,1,1,1,1,1,1,null,1,1,1,1,1,null,null,1]
["c","1592877","MUD418","Agent",null,"FIXE MATIN","AGENT",null,"ANOUILH ALAIN",100,null,1,"JASA",1,1,1,null,null,1,1,1,1,1,null,null,1,1,1,1,1,1,null,1,1,1,1,1,null,null,1,1,1,1,1,null,null,"CA","CA","CA","CA","CA","CA",null,"FE","CA","CA",1,1,null,null,1,1,1,1,1,null,null,1,1,1,1,"FE",1,null,1,1,1,1,"FE",null,null,1,1,1,1,1,null,null,1,1,1,"FE",1,1,null,1,1,1,1,1,null,null,"FE",1,1,1,1,null,null,1,1,1,1,1,1,null,1,1,1,1,1,null,null,1,1,1,1,1,null,null,1,1,1,1,1,1,null,1,1,1,1,1,null,null,1,"FE",1,1,1,null,null,1,1,1,1,1,1,null,1,1,1,1,1,null,null,1,1,1,1,1,null,null,1,1,1,1,1,"FE",null,1,1,1,1,1,null,null,"CA_p","CA_p","CA_p","CA_p","CA_p",null,null,"CA_p","CA_p","CA_p","CA_p","CA_p","CA_p",null,"CA_p","CA_p","CA_p","CA_p","CA_p",null,null,1,1,1,1,1,null,null,1,1,1,1,1,1,null,1,1,1,1,1,null,null,1,1,1,1,1,null,null,1,1,1,1,1,1,null,1,1,1,1,1,null,null,1,1,1,1,1,null,"FE",1,1,1,1,1,1,null,1,1,"FE",1,1,null,null,1,1,1,1,1,null,null,1,1,1,1,1,1,null,1]
["c","1765211","KUW451","Agent",null,"FIXE MATIN","AGENT",null,"FEUGA CHRISTIAN",50,null,"TP","ATM","ATM","ATM","TP","TP",null,"TP",1,1,1,"TP","TP",null,"TP","DIV","DIV","DIV","TP","TP",null,"TP","DIV","DIV","DIV","TP","TP",null,"TP",1,"DIV","DIV","TP","TP",null,"TP",1,"DIV","DIV","TP","TP",null,"FE",1,1,1,"TP","TP",null,"TP",1,1,1,"TP","TP",null,"TP",1,1,1,"FE","TP",null,"TP",1,1,1,"FE","TP",null,"TP",1,1,1,"TP","TP",null,"TP",1,1,"FE","TP","TP",null,"TP",1,1,1,"TP","TP",null,"FE",1,1,1,"TP","TP",null,"TP",1,1,1,"TP","TP",null,"TP",1,1,1,"TP","TP",null,"TP",1,1,1,"TP","TP",null,"TP",1,1,1,"TP","TP",null,"TP",1,1,1,"TP","TP",null,"TP","FE",1,1,"TP","TP",null,"TP",1,1,1,"TP","TP",null,"TP",1,1,1,"TP","TP",null,"TP",1,1,1,"TP","TP",null,"TP",1,1,1,"TP","FE",null,"TP",1,1,1,"TP","TP",null,"TP",1,1,1,"TP","TP",null,"TP",1,1,1,"TP","TP",null,"TP",1,1,1,"TP","TP",null,"TP",1,1,1,"TP","TP",null,"TP",1,1,1,"TP","TP",null,"TP",1,1,1,"TP","TP",null,"TP",1,1,1,"TP","TP",null,"TP",1,1,1,"TP","TP",null,"TP",1,1,1,"TP","TP",null,"TP",1,1,1,"TP","TP","FE","TP",1,1,1,"TP","TP",null,"TP",1,"FE",1,"TP","TP",null,"TP",1,1,1,"TP","TP",null,"TP",1,1,1,"TP","TP",null,1]
["c","1826671","VDJ431","Agent",null,"FIXE MATIN","AGENT",null,"FEUGA CHRISTIAN",100,null,1,1,1,1,1,null,null,1,1,1,1,1,null,null,1,1,"DISPO","DISPO","DISPO","DISPO",null,"DISPO","DISPO","DISPO","DISPO","DISPO","DISPO",null,"DISPO","DISPO","DISPO",1,1,null,null,1,1,1,1,1,1,null,"FE",1,1,1,1,null,null,1,1,1,1,1,null,null,1,1,1,1,"FE",1,null,"CA_p","CA_p","CA_p","CA_p","FE",null,null,1,1,1,1,1,null,null,1,1,1,"FE",1,1,null,1,1,1,1,1,null,null,"FE",1,1,1,1,null,null,1,1,1,1,1,1,null,1,1,1,1,1,null,null,"CA_p","CA_p","CA_p","CA_p","CA_p",null,null,1,1,1,1,1,1,null,1,1,1,1,1,null,null,1,"FE",1,1,1,null,null,1,1,1,1,1,1,null,1,1,1,1,1,null,null,1,1,1,1,1,null,null,1,1,1,1,1,"FE",null,"CA_p","CA_p","CA_p","CA_p","CA_p",null,null,"CA_p","CA_p","CA_p","CA_p","CA_p",null,null,1,1,1,1,1,1,null,1,1,1,1,1,null,null,1,1,1,1,1,null,null,1,1,1,1,1,1,null,1,1,1,1,1,null,null,1,1,1,1,1,null,null,1,1,1,1,1,1,null,1,1,1,1,1,null,null,1,1,1,1,1,null,"FE",1,1,1,1,1,1,null,1,1,"FE",1,1,null,null,1,1,1,1,1,null,null,1,1,1,1,1,1,null,1]
[null,"1745047","RLY504","Agent",null,"FIXE MATIN","AGENT",null,"COUTOULY MARC",100,null,1,1,1,1,1,null,null,1,1,1,1,1,null,null,1,1,1,"ATM","ATM","ATM",null,"ATM",1,"ATM","ATM","ATM","ATM",null,"ATM","ATM","ATM","ATM","ATM",null,null,1,1,1,1,1,1,null,"FE",1,1,1,1,null,null,1,1,1,1,1,null,null,"CA","CA","CA","CA","FE",1,null,"CA",1,1,1,"FE",null,null,1,1,1,1,1,null,null,1,1,1,"FE",1,1,null,1,1,1,1,1,null,null,"FE",1,1,1,1,null,null,1,1,1,1,1,1,null,1,1,1,1,1,null,null,1,1,1,1,1,null,null,1,1,1,1,1,1,null,1,1,1,1,1,null,null,1,"FE",1,1,1,null,null,1,1,1,1,1,1,null,1,1,1,1,1,null,null,1,1,1,1,1,null,null,1,1,1,1,1,"FE",null,1,1,1,1,1,null,null,1,1,1,1,1,null,null,1,1,1,1,1,1,null,"CA_p","CA_p","CA_p","CA_p","CA_p",null,null,"CA_p","CA_p","CA_p","CA_p","CA_p",null,null,"CA_p","CA_p","CA_p","CA_p","CA_p","CA_p",null,1,1,1,1,1,null,null,1,1,1,1,1,null,null,1,1,1,1,1,1,null,1,1,1,1,1,null,null,1,1,1,1,1,null,"FE",1,1,1,1,1,1,null,1,1,"FE",1,1,null,null,1,1,1,1,1,null,null,1,1,1,1,1,1,null,1]
["c","1742356","KCN210","Agent",null,"FIXE MATIN","AGENT",null,"CATUSSE MICHEL",100,null,1,"JASA",1,"ATM","ATM","ATM",null,"ATM","ATM","ATM","ATM","ATM","ATM",null,"ATM","ATM","ATM","ATM","ATM",null,null,1,1,1,"DIV",1,1,null,1,1,1,1,1,null,null,1,1,1,1,1,null,null,"FE","CA","CA","CA","CA","CA",null,1,1,1,1,1,null,null,1,1,1,1,"FE",null,null,1,1,1,1,"FE",1,null,1,1,1,1,1,null,null,"CA_p","CA_p","CA_p","FE","CA_p",null,null,1,1,1,1,1,1,null,"FE",1,1,1,1,null,null,1,1,1,1,1,null,null,1,1,1,1,1,1,null,1,1,1,1,1,null,null,1,1,1,1,1,null,null,1,1,1,1,1,1,null,1,"FE",1,1,1,null,null,1,1,1,1,1,null,null,"CA_p","CA_p","CA_p","CA_p","CA_p","CA_p",null,"CA_p","CA_p","CA_p","CA_p","CA_p",null,null,"CA_p","CA_p","CA_p","CA_p","CA_p","FE",null,1,1,1,1,1,1,null,1,1,1,1,1,null,null,1,1,1,1,1,null,null,1,1,1,1,1,1,null,1,1,1,1,1,null,null,1,1,1,1,1,null,null,1,1,1,1,1,1,null,1,1,1,1,1,null,null,1,1,1,1,1,null,null,1,1,1,1,1,1,null,1,1,1,1,1,null,"FE",1,1,1,1,1,null,null,1,1,"FE",1,1,1,null,1,1,1,1,1,null,null,1,1,1,1,1,null,null,1]
["c","1708241","VLN375","Agent",null,"FIXE MATIN","AGENT",null,"ANOUILH ALAIN",100,null,"CA",1,1,1,1,1,null,1,1,1,"ATM","ATM","ATM",null,"ATM","ATM","ATM","ATM","ATM","ATM",null,"ATM","ATM","ATM","ATM","ATM","ATM",null,"ATM","ATM","ATM","ATM","ATM","ATM",null,"ATM","ATM","ATM","ATM","ATM","ATM",null,"FE","ATM","ATM","ATM","ATM","ATM",null,"ATM","ATM","ATM","ATM","ATM","ATM",null,1,1,1,1,"FE",null,null,1,1,1,1,"FE",1,null,1,1,1,1,1,null,null,1,1,1,"FE",1,null,null,1,1,1,1,1,1,null,"FE",1,1,1,1,null,null,1,1,1,1,1,null,null,1,1,1,1,1,1,null,1,1,1,1,1,null,null,1,1,1,1,1,null,null,1,1,1,1,1,1,null,1,"FE",1,1,1,null,null,1,1,1,1,1,null,null,1,1,"CA_p","CA_p","CA_p","CA_p",null,"CA_p","CA_p","CA_p","CA_p","CA_p",null,null,1,1,1,1,1,"FE",null,1,1,1,1,1,1,null,1,1,1,1,1,null,null,1,1,1,1,1,null,null,1,1,1,1,1,1,null,1,1,1,1,1,null,null,1,1,1,1,1,null,null,1,1,1,1,1,1,null,1,1,1,1,1,null,null,1,1,1,1,1,null,null,1,1,1,1,1,1,null,1,1,1,1,1,null,"FE",1,1,1,1,1,null,null,1,1,"FE",1,1,1,null,1,1,1,1,1,null,null,1,1,1,1,1,null,null,1]
[null,"1607521","TVJ765","Agent",null,"FIXE MATIN","AGENT",null,"FEUGA CHRISTIAN",100,null,1,1,1,1,1,null,null,1,1,1,1,1,1,null,1,1,1,1,1,null,null,1,1,1,1,1,null,null,1,1,1,1,1,1,null,1,1,1,1,1,null,null,"FE",1,1,1,1,null,null,1,1,1,1,1,1,null,1,1,1,1,"FE",null,null,1,1,1,1,"FE",null,null,"CA_p","CA_p","CA_p","CA_p","CA_p","CA_p",null,1,1,1,"FE","JPS",null,null,1,1,1,1,1,null,null,"FE",1,1,1,1,1,null,1,1,1,1,1,null,null,1,1,1,1,1,null,null,1,1,1,1,1,1,null,"CA_p","CA_p","CA_p","CA_p","CA_p",null,null,"CA_p","CA_p","CA_p","CA_p","CA_p",null,null,"CA_p","FE",1,1,1,1,null,1,1,1,1,1,null,null,1,1,1,1,1,null,null,1,1,1,1,1,1,null,1,1,1,1,1,"FE",null,1,1,1,1,1,null,null,1,1,1,1,1,1,null,1,1,1,1,1,null,null,1,1,1,1,1,null,null,1,1,1,"CA_p","CA_p","CA_p",null,"CA_p","CA_p",1,1,1,null,null,1,1,1,1,1,null,null,1,1,1,1,1,1,null,1,1,1,1,1,null,null,1,1,1,1,1,null,null,1,1,1,1,1,1,"FE",1,1,1,1,1,null,null,1,1,"FE",1,1,null,null,1,1,1,1,1,1,null,1,1,1,1,1,null,null,1]
["c","1679130","PGH123","Agent",null,"FIXE MATIN","AGENT",null,"CATUSSE MICHEL",100,null,1,1,1,1,1,null,null,1,1,"CA",1,1,1,null,1,1,1,"ATM","ATM","ATM",null,"ATM","ATM","ATM","ATM","ATM","ATM",null,"ATM","ATM","ATM","ATM","ATM",1,null,1,1,"DIV","DIV","DIV",null,null,"FE",1,1,1,1,null,null,1,1,1,1,1,1,null,1,1,1,1,"FE",null,null,1,1,1,1,"FE",null,null,1,1,1,1,1,1,null,1,1,1,"FE",1,null,null,1,1,1,1,1,null,null,"FE",1,1,1,1,1,null,1,1,1,1,1,null,null,1,1,1,1,1,null,null,1,1,1,1,1,1,null,1,1,1,1,1,null,null,1,1,1,1,1,null,null,1,"FE",1,1,1,1,null,"CA_p","CA_p","CA_p","CA_p","CA_p",null,null,"CA_p","CA_p","CA_p","CA_p","CA_p",null,null,"CA_p","CA_p","CA_p","CA_p","CA_p","CA_p",null,"CA_p","CA_p","CA_p","CA_p","CA_p","FE",null,"CA_p","CA_p",1,1,1,null,null,1,1,1,1,1,1,null,1,1,1,1,1,null,null,1,1,1,1,1,null,null,1,1,1,1,1,1,null,1,1,1,1,1,null,null,1,1,1,1,1,null,null,1,1,1,1,1,1,null,1,1,1,1,1,null,null,1,1,1,1,1,null,null,1,1,1,1,1,1,"FE",1,1,1,1,1,null,null,1,1,"FE",1,1,null,null,1,1,1,1,1,1,null,1,1,1,1,1,null,null,1]
[null,"1641345","CHA895","Agent",null,"FIXE MATIN","AGENT",null,"FEUGA CHRISTIAN",100,null,"CA","CA","CA","CA","CA","CA",null,1,1,1,1,1,1,null,1,1,1,1,1,null,null,1,1,1,1,1,null,null,1,1,1,1,1,1,null,"CA","CA","CA","CA","CA","CA",null,"FE",1,1,1,1,null,null,1,1,1,1,1,1,null,1,1,1,1,"FE",null,null,"CA_p","CA_p","CA_p","CA_p","FE",null,null,1,1,1,1,1,1,null,1,1,1,"FE",1,null,null,1,1,1,1,1,null,null,"FE",1,1,1,1,1,null,1,1,1,1,1,null,null,1,1,1,1,1,null,null,1,1,1,1,1,1,null,1,1,1,1,1,null,null,1,1,1,1,1,null,null,1,"FE",1,1,1,1,null,"CA_p","CA_p","CA_p","CA_p","CA_p",null,null,"CA_p","CA_p","CA_p","CA_p","CA_p",null,null,1,1,1,1,1,1,null,1,1,1,1,1,"FE",null,1,1,1,1,1,null,null,1,1,1,1,1,1,null,1,1,1,1,1,null,null,1,1,1,1,1,null,null,1,1,1,1,1,1,null,1,1,1,1,1,null,null,1,1,1,1,1,null,null,1,1,1,1,1,1,null,1,1,1,1,1,null,null,1,1,1,1,1,null,null,1,1,1,1,1,1,"FE",1,1,1,1,1,null,null,1,1,"FE",1,1,null,null,1,1,1,1,1,1,null,1,1,1,1,1,null,null,1]
["c","1673798","UXW718","Agent",null,"FIXE MATIN","AGENT",null,"LAVAUD JABEUR VERONIQUE",50,null,"ATM","ATM","ATM","ATM","ATM",null,null,1,1,1,1,1,null,null,"DIV","DIV","DIV","DIV","DIV",null,null,"DIV","DIV","DIV","DIV","DIV",null,null,1,1,"DIV","DIV","DIV",null,null,1,1,"DIV","DIV","DIV",null,null,"FE",1,1,1,1,null,null,1,1,1,1,1,null,null,1,1,1,1,"FE",null,null,1,1,1,1,"FE",null,null,1,1,1,1,1,null,null,1,1,1,"FE",1,null,null,1,1,1,1,1,null,null,"FE",1,1,1,1,null,null,1,1,1,1,1,null,null,1,1,1,1,1,null,null,1,1,1,1,1,null,null,1,1,1,1,1,null,null,1,1,1,1,1,null,null,"CA_p","FE","CA_p","CA_p","CA_p",null,null,"CA_p","CA_p","CA_p","CA_p","CA_p",null,null,"CA_p","CA_p","CA_p","CA_p","CA_p",null,null,"CA_p","CA_p","CA_p","CA_p","CA_p",null,null,1,1,1,1,1,"FE",null,1,1,1,1,1,null,null,1,1,1,1,1,null,null,1,1,1,1,1,null,null,1,1,1,1,1,null,null,1,1,1,1,1,null,null,1,1,1,1,1,null,null,1,1,1,1,1,null,null,1,1,1,1,1,null,null,1,1,1,1,1,null,null,1,1,1,1,1,null,null,1,1,1,1,1,null,"FE",1,1,1,1,1,null,null,1,1,"FE",1,1,null,null,1,1,1,1,1,null,null,1,1,1,1,1,null,null,1]
["c","1711662","PWE916","Agent",null,"FIXE MATIN","AGENT",null,"LAVAUD JABEUR VERONIQUE",100,null,1,1,1,1,1,1,null,1,1,"ASAF",1,1,null,null,"DISPO","DISPO","DISPO","DISPO","DISPO","DISPO",null,"DISPO","DISPO","DISPO","DISPO","DISPO",1,null,1,1,"DIV","DIV","DIV",null,null,1,1,"DIV","DIV","DIV",null,null,"FE","CA","CA","CA","CA","CA",null,1,1,1,1,1,null,null,1,1,1,1,"FE",null,null,1,1,1,"CA_p","FE","CA_p",null,1,1,1,1,1,null,null,1,1,1,"FE",1,null,null,1,1,1,1,1,1,null,"FE",1,1,1,1,null,null,1,1,1,1,1,null,null,1,1,1,1,1,1,null,1,1,1,1,1,null,null,1,1,1,1,1,null,null,1,1,1,1,1,1,null,1,"FE",1,1,1,null,null,1,1,1,1,1,null,null,1,1,1,1,1,1,null,"CA_p","CA_p","CA_p","CA_p","CA_p",null,null,"CA_p","CA_p","CA_p","CA_p","CA_p","FE",null,"CA_p","CA_p","CA_p","CA_p","CA_p","CA_p",null,1,1,1,1,1,null,null,1,1,1,1,1,null,null,1,1,1,1,1,1,null,1,1,1,1,1,null,null,1,1,1,1,1,null,null,1,1,1,1,1,1,null,1,1,1,1,1,null,null,1,1,1,1,1,null,null,1,1,1,1,1,1,null,1,1,1,1,1,null,"FE",1,1,1,1,1,null,null,1,1,"FE",1,1,1,null,1,1,1,1,1,null,null,1,1,1,1,1,null,null,1]
["c","1569918","BDJ423","Agent",null,"FIXE MATIN","AGENT",null,"COUTOULY MARC",100,null,1,1,1,1,1,null,null,1,1,1,1,1,null,null,1,1,1,1,1,"CA_p",null,1,1,1,1,1,null,null,1,1,1,1,1,null,null,1,1,1,1,1,1,null,"FE","CA","CA","CA","CA","CA",null,1,1,1,1,1,null,null,1,1,1,1,"FE",1,null,1,1,1,1,"FE",null,null,1,1,1,1,1,null,null,1,1,1,"FE",1,1,null,1,1,1,1,1,null,null,"FE",1,1,1,1,null,null,1,1,1,1,1,1,null,1,1,1,1,1,null,null,1,1,1,1,1,null,null,1,1,1,1,1,1,null,1,1,1,1,1,null,null,1,"FE",1,1,1,null,null,1,1,1,1,1,1,null,1,1,1,1,1,null,null,1,1,1,1,1,null,null,"CA_p","CA_p","CA_p","CA_p","CA_p","FE",null,"CA_p","CA_p","CA_p","CA_p","CA_p",null,null,"CA_p","CA_p","CA_p","CA_p","CA_p",null,null,1,1,1,1,1,1,null,1,1,1,1,1,null,null,1,1,1,1,1,null,null,1,1,1,1,1,1,null,1,1,1,1,1,null,null,1,1,1,1,1,null,null,1,1,1,1,1,1,null,1,1,1,1,1,null,null,1,1,1,1,1,null,"FE",1,1,1,1,1,1,null,1,1,"FE",1,1,null,null,1,1,1,1,1,null,null,1,1,1,1,1,1,null,1]
[null,"1675642","PEY751","Agent",null,"FIXE MATIN","AGENT",null,"TOUCHE LAURENT",100,null,1,1,1,1,1,1,null,1,1,1,1,"ATM",null,null,1,1,1,1,"DIV",null,null,"DIV","DIV","DIV","DIV","DIV","DIV",null,"DIV","DIV","DIV","DIV","DIV",null,null,"DIV","DIV","DIV","DIV","DIV",null,null,"FE","CA","CA","CA","CA","CA",null,"CA","CA","CA","CA","CA","CA",null,1,1,1,1,"FE",null,null,1,1,1,1,"FE",1,null,1,1,1,1,1,null,null,1,1,1,"FE",1,null,null,1,1,1,1,1,1,null,"FE",1,1,1,1,null,null,1,1,1,1,1,null,null,1,1,1,1,1,1,null,1,1,1,1,1,null,null,1,1,1,1,1,null,null,1,1,1,1,1,1,null,"CA_p","FE","CA_p","CA_p","CA_p",null,null,"CA_p","CA_p","CA_p","CA_p","CA_p",null,null,"CA_p","CA_p","CA_p","CA_p","CA_p","CA_p",null,1,1,1,1,1,null,null,1,1,1,1,1,"FE",null,1,1,1,1,1,1,null,1,1,1,1,1,null,null,1,1,1,1,1,null,null,1,1,1,1,1,1,null,1,1,1,1,1,null,null,1,1,1,1,1,null,null,1,1,1,1,1,1,null,1,1,1,1,1,null,null,1,1,1,1,1,null,null,1,1,1,1,1,1,null,1,1,1,1,1,null,"FE",1,1,1,1,1,null,null,1,1,"FE",1,1,1,null,1,1,1,1,1,null,null,1,1,1,1,1,null,null,1]
[null,"1582982","GKU037","Agent",null,"FIXE MATIN","AGENT",null,"COUTOULY MARC",100,null,1,1,1,1,1,1,null,1,1,1,1,1,null,null,1,1,1,1,1,null,null,"CA","CA","CA","CA","CA","CA",null,1,1,1,1,1,null,null,1,1,1,1,1,null,null,"FE",1,1,1,1,1,null,1,1,1,1,1,null,null,1,1,1,1,"FE",null,null,1,1,1,1,"FE",1,null,1,1,1,1,1,null,null,1,1,1,"FE",1,null,null,1,1,1,1,1,1,null,"FE",1,1,1,1,null,null,1,1,1,1,1,null,null,1,1,1,1,1,1,null,1,1,1,1,1,null,null,1,1,1,1,1,null,null,1,1,1,1,1,1,null,1,"FE",1,1,1,null,null,1,1,1,1,1,null,null,1,1,1,1,1,1,null,1,1,1,1,1,null,null,1,1,1,1,1,"FE",null,1,1,1,1,1,1,null,1,1,1,1,1,null,null,1,1,1,1,1,null,null,1,1,1,1,1,1,null,"CA_p","CA_p","CA_p","CA_p","CA_p",null,null,"CA_p","CA_p","CA_p","CA_p","CA_p",null,null,"CA_p","CA_p","CA_p","CA_p","CA_p","CA_p",null,1,1,1,1,1,null,null,1,1,1,1,1,null,null,1,1,1,1,1,1,null,1,1,1,1,1,null,"FE",1,1,1,1,1,null,null,1,1,"FE",1,1,1,null,1,1,1,1,1,null,null,1,1,1,1,1,null,null,1]
[null,"1677421","UZE759","Agent",null,"FIXE MATIN","AGENT",null,"TOUCHE LAURENT",100,null,1,1,1,1,1,null,null,1,1,1,1,1,null,null,1,1,1,1,1,1,null,"CA","CA",1,1,1,null,null,1,1,1,1,1,null,null,"CA","CA","CA","CA","CA","CA",null,"FE",1,1,1,1,null,null,1,1,1,1,1,null,null,1,1,1,1,"FE",1,null,1,1,1,1,"FE",null,null,1,1,1,1,1,null,null,1,1,1,"FE",1,1,null,1,1,1,1,1,null,null,"FE",1,1,1,1,null,null,1,1,1,1,1,1,null,1,1,1,1,1,null,null,1,1,1,1,1,null,null,1,1,1,1,1,1,null,1,1,1,1,1,null,null,1,"FE",1,1,1,null,null,1,1,1,1,1,1,null,1,1,1,1,1,null,null,1,1,1,1,1,null,null,"CA_p","CA_p","CA_p","CA_p","CA_p","FE",null,"CA_p","CA_p","CA_p","CA_p","CA_p",null,null,"CA_p","CA_p","CA_p","CA_p",1,null,null,1,1,1,1,1,1,null,1,1,1,1,1,null,null,1,1,1,1,1,null,null,1,1,1,1,1,1,null,1,1,1,1,1,null,null,1,1,1,1,1,null,null,1,1,1,1,1,1,null,1,1,1,1,1,null,null,1,1,1,1,1,null,"FE",1,1,1,1,1,1,null,1,1,"FE",1,1,null,null,1,1,1,1,1,null,null,1,1,1,1,1,1,null,1]
[null,"1629376","YJN617","Agent",null,"FIXE MATIN","AGENT",null,"CATUSSE MICHEL",100,null,1,1,1,1,1,"RC",null,1,1,1,1,1,null,null,1,1,1,1,1,null,null,1,1,1,1,1,1,null,1,1,1,1,1,null,null,1,1,1,1,1,null,null,"FE",1,1,1,1,1,null,1,1,1,1,1,null,null,1,1,1,1,"FE",null,null,"CA_p","CA_p","CA_p","CA_p","FE","CA_p",null,1,1,1,1,1,null,null,1,1,1,"FE",1,null,null,1,1,1,1,1,1,null,"FE",1,1,1,1,null,null,1,1,1,1,1,null,null,"CA_p","CA_p","CA_p","CA_p","CA_p","CA_p",null,1,1,1,1,1,null,null,1,1,1,1,1,null,null,1,1,1,1,1,1,null,1,"FE",1,1,1,null,null,1,1,1,1,1,null,null,1,1,1,1,1,1,null,1,1,1,1,1,null,null,1,1,1,1,1,"FE",null,1,1,1,1,1,1,null,1,1,1,1,1,null,null,1,1,1,1,1,null,null,1,1,1,1,1,1,null,1,1,1,1,1,null,null,1,1,1,1,1,null,null,1,1,1,1,1,1,null,1,1,1,1,1,null,null,1,1,1,1,1,null,null,1,1,1,1,1,1,null,1,1,1,1,1,null,"FE",1,1,1,1,1,null,null,1,1,"FE",1,1,1,null,1,1,1,1,1,null,null,1,1,1,1,1,null,null,1]
["c","1667295","CST295","Agent",null,"FIXE MATIN","AGENT",null,"TOUCHE LAURENT",70,null,1,"JASA",1,"GR",1,null,null,1,1,1,1,1,null,null,"DISPO","DISPO","DISPO","DISPO","DISPO","DISPO",null,"DISPO","DISPO","DISPO","DISPO","DISPO","DISPO",null,"DISPO",1,"DIV","DIV","ATM","ATM",null,"ATM","ATM","ATM","ATM","ATM","ATM",null,"FE","ATM","ATM","ATM","ATM","ATM",null,"ATM","ATM","ATM","ATM","ATM","ATM",null,"ATM","ATM","ATM","ATM","FE",null,null,1,1,1,1,"FE",null,null,1,1,1,1,1,1,null,1,1,1,"FE",1,null,null,1,1,1,1,1,null,null,"FE",1,1,1,1,null,null,1,1,1,1,1,1,null,1,1,1,1,1,null,null,1,1,1,1,1,null,null,1,1,1,1,1,null,null,1,1,1,1,1,1,null,1,"FE",1,1,1,null,null,1,1,1,1,1,null,null,1,1,1,1,1,null,null,"CA_p","CA_p","CA_p","CA_p","CA_p","CA_p",null,"CA_p","CA_p","CA_p","CA_p","CA_p","FE",null,"CA_p","CA_p","CA_p","CA_p","CA_p",null,null,1,1,1,1,1,null,null,1,1,1,1,1,1,null,1,1,1,1,1,null,null,1,1,1,1,1,null,null,1,1,1,1,1,null,null,1,1,1,1,1,1,null,1,1,1,1,1,null,null,1,1,1,1,1,null,null,1,1,1,1,1,null,null,1,1,1,1,1,1,"FE",1,1,1,1,1,null,null,1,1,"FE",1,1,null,null,1,1,1,1,1,null,null,1,1,1,1,1,1,null,1]
[null,"1499292","LBN760","Agent",null,"FIXE MATIN","AGENT",null,"MAZET BERNARD",100,null,"INV","INV","INV","INV","INV","INV",null,"INV","INV","INV","INV","INV","INV",null,"INV","INV","INV","INV","INV","INV",null,"INV","INV","INV","INV","INV","INV",null,"INV","INV","INV","INV","INV","INV",null,"INV","INV","INV","INV","INV","INV",null,"FE","INV","INV","INV","INV","INV",null,"INV","INV","INV","INV","INV","INV",null,"INV","INV","INV","INV","FE","INV",null,"INV","INV","INV","INV","FE","INV",null,"INV","INV","INV","INV","INV","INV",null,"INV","INV","INV","FE","INV","INV",null,"INV","INV","INV","INV","INV","INV",null,"FE","INV","INV","INV","INV","INV",null,"INV","INV","INV","INV","INV","INV",null,"INV","INV","INV","INV","INV","INV",null,"INV","INV","INV","INV","INV","INV",null,"INV","INV","INV","INV","INV","INV",null,"INV","INV","INV","INV","INV","INV",null,"INV","FE","INV","INV","INV","INV",null,"INV","INV","INV","INV","INV","INV",null,"INV","INV","INV","INV","INV","INV",null,"INV","INV","INV","INV","INV","INV",null,"INV","INV","INV","INV","INV","FE",null,"INV","INV","INV","INV","INV","INV",null,"INV","INV","INV","INV","INV","INV",null,"INV","INV","INV","INV","INV","INV",null,"INV","INV","INV","INV","INV","INV",null,"INV","INV","INV","INV","INV","INV",null,"INV","INV","INV","INV","INV","INV",null,"INV","INV","INV","INV","INV","INV",null,"INV","INV","INV","INV","INV","INV",null,"INV","INV","INV","INV","INV","INV",null,"INV","INV","INV","INV","INV","INV",null,"INV","INV","INV","INV","INV","INV","FE","INV","INV","INV","INV","INV","INV",null,"INV","INV","FE","INV","INV","INV",null,"INV","INV","INV","INV","INV","INV",null,"INV","INV","INV","INV","INV","INV",null,1]
[null,"1732627","DVM872","Agent",null,"FIXE MATIN","AGENT",null,"FEUGA CHRISTIAN",100,null,1,1,1,1,1,"CA",null,1,1,1,1,1,null,null,1,1,1,1,1,null,null,1,1,1,1,1,1,null,1,1,1,1,1,null,null,1,1,1,1,1,null,null,"FE",1,1,1,1,"CA",null,1,1,1,1,"CA","CA",null,"CA","CA","CA",1,"FE",null,null,1,1,1,1,"FE",1,null,1,1,1,1,1,null,null,1,1,1,"FE",1,null,null,1,1,1,1,1,1,null,"FE",1,1,1,1,null,null,1,1,1,1,1,null,null,1,1,1,1,1,1,null,1,1,1,1,1,null,null,1,1,1,1,1,null,null,1,1,1,1,1,1,null,1,"FE",1,1,1,null,null,1,1,1,1,1,null,null,1,1,1,1,1,1,null,"CA_p","CA_p","CA_p","CA_p","CA_p",null,null,"CA_p","CA_p","CA_p","CA_p","CA_p","FE",null,"CA_p","CA_p","CA_p","CA_p","CA_p","CA_p",null,1,1,1,1,1,null,null,1,1,1,1,1,null,null,1,1,1,1,1,1,null,1,1,1,1,1,null,null,1,1,1,1,1,null,null,1,1,1,1,1,1,null,1,1,1,1,1,null,null,1,1,1,1,1,null,null,1,1,1,1,1,1,null,1,1,1,1,1,null,"FE",1,1,1,1,1,null,null,1,1,"FE",1,1,1,null,1,1,1,1,1,null,null,1,1,1,1,1,null,null,1]
[null,"1702568","DGP639","Agent",null,"FIXE MATIN","AGENT",null,"MAZET BERNARD",100,null,"ALM","ALM","ALM","ALM","ALM","ALM",null,"ALM","ALM","ALM","ALM","ALM","ALM",null,"ALM","ALM","ALM","ALM","ALM","ALM",null,"ALM","ALM","ALM","ALM","ALM","ALM",null,"ALM","ALM","ALM","ALM","ALM","ALM",null,"ALM","ALM","ALM","ALM","ALM","ALM",null,"FE","ALM","ALM","ALM","ALM","ALM",null,"ALM","ALM","ALM","ALM","ALM","ALM",null,"ALM","ALM","ALM","ALM","FE","ALM",null,"ALM","ALM","ALM","ALM","FE","ALM",null,"ALM","ALM","ALM","ALM","ALM","ALM",null,"ALM","ALM","ALM","FE","ALM","ALM",null,"ALM","ALM","ALM","ALM","ALM","ALM",null,"FE","ALM","ALM","ALM","ALM","ALM",null,"ALM","ALM","ALM","ALM","ALM","ALM",null,"ALM","ALM","ALM","ALM","ALM","ALM",null,"ALM","ALM","ALM","ALM","ALM","ALM",null,"ALM","ALM","ALM","ALM","ALM","ALM",null,"ALM","ALM","ALM","ALM","ALM","ALM",null,"ALM","FE","ALM","ALM","ALM","ALM",null,"ALM","ALM","ALM","ALM","ALM","ALM",null,"ALM","ALM","ALM","ALM","ALM","ALM",null,"ALM","ALM","ALM","ALM","ALM","ALM",null,"ALM","ALM","ALM","ALM","ALM","FE",null,"ALM","ALM","ALM","ALM","ALM","ALM",null,"ALM","ALM","ALM","ALM","ALM","ALM",null,"ALM","ALM","ALM","ALM","ALM","ALM",null,"ALM","ALM","ALM","ALM","ALM","ALM",null,"ALM","ALM","ALM","ALM","ALM","ALM",null,"ALM","ALM","ALM","ALM","ALM","ALM",null,"ALM","ALM","ALM","ALM","ALM","ALM",null,"ALM","ALM",1,1,1,1,null,1,1,1,1,1,null,null,1,1,1,1,1,null,null,1,1,1,1,1,1,"FE",1,1,1,1,1,null,null,1,1,"FE",1,1,null,null,1,1,1,1,1,1,null,1,1,1,1,1,null,null,1]
[null,"1496800","LAN850","Agent",null,"FIXE MATIN","AGENT",null,"CATUSSE MICHEL",100,null,1,1,1,1,1,null,null,1,1,1,1,1,null,null,1,1,1,1,1,1,null,1,1,1,"DIV",1,null,null,1,1,1,1,1,null,null,"CA","CA","CA","CA","CA","CA",null,"FE",1,1,1,1,null,null,1,1,1,1,1,null,null,1,1,1,1,"FE",1,null,1,1,1,1,"FE",null,null,1,1,1,1,1,null,null,1,1,1,"FE",1,1,null,1,1,1,1,1,null,null,"FE",1,1,1,1,null,null,1,1,1,1,1,1,null,1,1,1,1,1,null,null,1,1,1,1,1,null,null,1,1,1,1,1,1,null,1,1,1,1,1,null,null,1,"FE",1,1,1,null,null,"CA_p","CA_p","CA_p","CA_p","CA_p","CA_p",null,"CA_p","CA_p","CA_p","CA_p","CA_p",null,null,"CA_p","CA_p","CA_p","CA_p","CA_p",null,null,1,1,1,1,1,"FE",null,1,1,1,1,1,null,null,1,1,1,1,1,null,null,1,1,1,1,1,1,null,1,1,1,1,1,null,null,1,1,1,1,1,null,null,1,1,1,1,1,1,null,1,1,1,1,1,null,null,1,1,1,1,1,null,null,1,1,1,1,1,1,null,1,1,1,1,1,null,null,1,1,1,1,1,null,"FE",1,1,1,1,1,1,null,1,1,"FE",1,1,null,null,1,1,1,1,1,null,null,1,1,1,1,1,1,null,1]
["c","1580521","GJU896","Agent",null,"FIXE MATIN","AGENT",null,"CATUSSE MICHEL",100,null,1,"FOR","FOR","RPO","FOR",null,null,1,1,1,1,1,null,null,1,1,1,1,1,1,null,"DIV","DIV","DIV","DIV","DIV",null,null,1,1,1,1,1,null,null,"CA","FF","RPO","FF","FF","RPO",null,"FE","FF","FF","RPO","FF",null,null,"FF","FF","RPO","FF",1,null,null,"CA","CA","CA","CA","FE","CA",null,1,1,1,"FF","FE",null,null,1,1,1,1,1,null,null,"FF","FF","RPO","FE","FF","RPO",null,"RPO","FF","FF","RPO","FF",null,null,"FE","FF","RPO","FF","FF",null,null,"RPO","FF","FF","RPO","FF","FF",null,1,1,1,1,1,null,null,1,1,1,1,1,null,null,1,1,1,1,1,1,null,1,1,1,1,1,null,null,1,"FE",1,1,1,null,null,1,1,1,1,1,1,null,1,1,1,1,1,null,null,1,1,1,1,1,null,null,1,1,1,1,1,"FE",null,1,1,1,1,1,null,null,"CA_p","CA_p","CA_p","CA_p","CA_p",null,null,"CA_p","CA_p","CA_p","CA_p","CA_p","CA_p",null,1,1,1,1,1,null,null,1,1,1,1,1,null,null,1,1,1,1,1,1,null,1,1,1,1,1,null,null,1,1,1,1,1,null,null,1,1,1,1,1,1,null,1,1,1,1,1,null,null,1,1,1,1,1,null,"FE",1,1,1,1,1,1,null,1,1,"FE",1,1,null,null,1,1,1,1,1,null,null,1,1,1,1,1,1,null,1]
[null,"1498546","ABL960","Agent",null,"FIXE MATIN","AGENT",null,"BARTHELEMY THIERRY",100,null,1,1,1,1,1,null,null,1,1,1,1,1,1,null,"CA","CA",1,"DIV",1,null,null,"ATM","ATM","ATM","ATM","ATM","ATM",null,"ATM","ATM","ATM","ATM","ATM","ATM",null,"CA","CA","DIV","DIV","DIV",null,null,"FE",1,1,1,1,null,null,1,1,1,1,1,1,null,1,1,1,1,"FE",null,null,1,1,1,1,"FE",null,null,1,1,1,1,1,1,null,1,1,1,"FE","JPS",null,null,1,1,1,1,1,null,null,"FE",1,1,1,1,1,null,1,1,1,1,1,null,null,1,1,1,1,1,null,null,1,1,1,1,1,1,null,1,1,1,1,1,null,null,1,1,1,1,1,null,null,1,"FE",1,1,1,1,null,"CA_p","CA_p",1,1,1,null,null,1,1,1,1,1,null,null,1,1,1,1,1,1,null,"CA_p","CA_p",1,1,1,"FE",null,1,1,1,1,1,null,null,1,1,1,1,1,1,null,"CA_p","CA_p",1,1,1,null,null,"CA_p","CA_p","CA_p","CA_p","CA_p",null,null,"CA_p","CA_p","CA_p","CA_p","CA_p","CA_p",null,1,1,1,1,1,null,null,1,1,1,1,1,null,null,1,1,1,1,1,1,null,1,1,1,1,1,null,null,1,1,1,1,1,null,null,1,1,1,1,1,1,"FE",1,1,1,1,1,null,null,1,1,"FE",1,1,null,null,1,1,1,1,1,1,null,1,1,1,1,1,null,null,1]
[null,"1500602","ACE829","Agent",null,"FIXE MATIN","AGENT",null,"LAVAUD JABEUR VERONIQUE",100,null,1,1,1,1,1,null,null,1,1,1,1,1,null,null,"DIV","DIV","DIV","DIV","DIV","DIV",null,"DIV","DIV","DIV","DIV","DIV",null,null,1,1,"DIV","DIV","DIV",null,null,1,1,"DIV","DIV","DIV",1,null,"FE",1,1,1,1,null,null,1,1,1,1,1,null,null,1,1,1,1,"FE",1,null,1,1,1,1,"FE",null,null,1,1,1,1,1,null,null,"CA","CA","CA","FE","CA","CA",null,1,1,1,1,1,null,null,"FE",1,1,1,1,null,null,1,1,1,1,1,1,null,1,1,1,1,1,null,null,1,1,1,1,1,null,null,1,1,1,1,1,1,null,1,1,1,1,1,null,null,1,"FE",1,1,1,null,null,1,1,1,1,1,1,null,1,1,1,1,1,null,null,"CA","CA","CA","CA","CA","CA",null,"CA","CA","CA","CA","CA","FE",null,"CA","CA","CA","CA","CA","CA",null,1,1,1,1,1,null,null,1,1,1,1,1,1,null,1,1,1,1,1,null,null,1,1,1,1,1,null,null,1,1,1,1,1,1,null,1,1,1,1,1,null,null,1,1,1,1,1,null,null,1,1,1,1,1,1,null,1,1,1,1,1,null,null,1,1,1,1,1,null,"FE",1,1,1,1,1,1,null,1,1,"FE",1,1,null,null,1,1,1,1,1,null,null,1,1,1,1,1,1,null,1]
[null,"1730676","RDZ632","Agent",null,"FIXE MATIN","AGENT",null,"ANOUILH ALAIN",100,null,1,1,1,1,1,1,null,1,1,1,1,1,null,null,1,1,1,1,1,null,null,1,1,1,1,1,1,null,1,1,1,"CA","CA","CA",null,"CA","CA","CA","CA","CA","CA",null,"FE",1,1,1,1,1,null,1,1,1,1,1,null,null,1,1,1,1,"FE",null,null,1,1,1,1,"FE",1,null,1,1,1,1,1,null,null,1,1,1,"FE",1,null,null,1,1,1,1,"CA_p","CA_p",null,"FE",1,1,1,1,null,null,1,1,1,1,1,null,null,1,1,1,1,1,1,null,1,1,1,1,1,null,null,1,1,1,1,1,null,null,1,1,1,1,1,1,null,"CA_p","FE","CA_p","CA_p","CA_p",null,null,"CA_p","CA_p","CA_p","CA_p","CA_p",null,null,"CA_p","CA_p","CA_p","CA_p","CA_p","CA_p",null,1,1,1,1,1,null,null,1,1,1,1,1,"FE",null,1,1,1,1,1,1,null,1,1,1,1,1,null,null,1,1,1,1,1,null,null,1,1,1,1,1,1,null,1,1,1,1,1,null,null,1,1,1,1,1,null,null,1,1,1,1,1,1,null,1,1,1,1,1,null,null,1,1,1,1,1,null,null,1,1,1,1,1,1,null,1,1,1,1,1,null,"FE",1,1,1,1,1,null,null,1,1,"FE",1,1,1,null,1,1,1,1,1,null,null,1,1,1,1,1,null,null,1]
[null,"1770389","FXU859","Agent",null,"FIXE MATIN","AGENT",null,"FEUGA CHRISTIAN",100,null,1,1,1,1,1,1,null,1,1,1,1,1,null,null,1,"ATM","ATM","ATM","ATM","ATM",null,"ATM","ATM","ATM","ATM","RC","RC",null,"RC","RC","RC","CA","CA","CA",null,"CA","CA","CA","CA","CA","CA",null,"FE",1,1,1,1,1,null,1,1,1,1,1,null,null,1,1,1,1,"FE",null,null,1,1,1,1,"FE",1,null,1,1,1,1,1,null,null,1,1,1,"FE",1,null,null,1,1,1,1,1,1,null,"FE",1,1,1,1,null,null,1,1,1,1,1,null,null,1,1,1,1,1,1,null,1,1,1,1,1,null,null,"CA_p","CA_p","CA_p","CA_p","CA_p",null,null,"CA_p","CA_p","CA_p","CA_p","CA_p","CA_p",null,"CA_p","FE","CA_p","CA_p","CA_p",null,null,1,1,1,1,1,null,null,1,1,1,1,1,"CA_p",null,1,1,1,1,1,null,null,1,1,1,1,1,"FE",null,1,1,1,1,1,1,null,1,1,1,1,1,null,null,1,1,1,1,1,null,null,1,1,1,1,1,1,null,1,1,1,1,1,null,null,1,1,1,1,1,null,null,1,1,1,1,1,1,null,1,1,1,1,1,null,null,1,1,1,1,1,null,null,1,1,1,1,1,1,null,1,1,1,1,1,null,"FE",1,1,1,1,1,null,null,1,1,"FE",1,1,1,null,1,1,1,1,1,null,null,1,1,1,1,1,null,null,1]
["c","1654721","NXP423","Agent",null,"FIXE MATIN","AGENT",null,"TOUCHE LAURENT",100,null,1,1,1,1,1,"JPS",null,"CA",1,1,1,1,null,null,1,1,1,1,1,null,null,1,1,1,1,"CA","CA_p",null,1,1,"CA",1,1,null,null,1,1,1,1,1,null,null,"FE",1,1,1,1,1,null,"CA_p","CA_p",1,1,1,null,null,1,1,1,1,"FE",null,null,1,"CA","CA","CA","FE","CA",null,"CA","CA","CA",1,1,null,null,1,1,1,"FE","CA","CA",null,"CA","CA","CA","CA","CA",1,null,"FE",1,1,1,"JPS",null,null,1,1,1,1,1,null,null,1,1,1,1,1,1,null,1,1,1,1,1,null,null,1,1,1,1,1,null,null,"CA_p","CA_p","CA_p","CA_p","CA_p","CA_p",null,1,"FE",1,1,1,null,null,1,1,1,1,1,null,null,1,1,1,1,1,1,null,1,1,1,1,1,null,null,1,1,1,1,1,"FE",null,1,1,1,1,1,1,null,1,1,1,1,1,null,null,1,1,1,1,1,null,null,"CA_p","CA_p","CA_p","CA_p","CA_p","CA_p",null,1,1,1,1,1,null,null,1,1,1,1,1,null,null,1,1,1,1,1,1,null,1,1,1,1,1,null,null,1,1,1,1,1,null,null,1,1,1,1,1,1,null,1,1,1,1,1,null,"FE",1,1,1,1,1,null,null,1,1,"FE",1,1,1,null,1,1,1,1,1,null,null,1,1,1,1,1,null,null,"DAF"]
[null,"1756034","KMU503","Agent",null,"FIXE MATIN","AGENT",null,"ANOUILH ALAIN",100,null,1,1,1,1,1,null,null,1,1,1,1,1,null,null,1,1,1,1,1,1,null,1,1,1,1,1,null,null,1,1,1,1,1,null,null,1,1,1,1,1,1,null,"FE",1,1,1,1,null,null,1,1,1,1,1,null,null,1,1,1,1,"FE",1,null,1,1,1,1,"FE",null,null,1,1,1,1,1,null,null,1,1,1,"FE",1,1,null,1,1,1,1,1,null,null,"FE",1,1,1,1,null,null,1,1,1,1,1,1,null,1,1,1,1,1,null,null,1,1,1,1,1,null,null,1,1,1,1,1,1,null,1,1,1,1,1,null,null,1,"FE",1,1,1,null,null,"CA_p","CA_p","CA_p","CA_p","CA_p","CA_p",null,"CA_p","CA_p","CA_p","CA_p","CA_p",null,null,"CA_p","CA_p","CA_p","CA_p","CA_p",null,null,"CA_p","CA_p","CA_p","CA_p","CA_p","FE",null,"CA_p","CA_p",1,1,1,null,null,1,1,1,1,1,null,null,1,1,1,1,1,1,null,1,1,1,1,1,null,null,1,1,1,1,1,null,null,1,1,1,1,1,1,null,1,1,1,1,1,null,null,1,1,1,1,1,null,null,1,1,1,1,1,1,null,1,1,1,1,1,null,null,1,1,1,1,1,null,"FE",1,1,1,1,1,1,null,1,1,"FE",1,1,null,null,1,1,1,1,1,null,null,1,1,1,1,1,1,null,1]
[null,"1756132","WMV526","Agent",null,"FIXE MATIN","AGENT",null,"COUTOULY MARC",100,null,1,1,1,1,1,null,null,1,1,1,1,1,null,null,"CA","CA","CA","CA","CA",1,null,"DIV","DIV",1,"DIV","DIV",null,null,1,1,"DIV","DIV","DIV",null,null,"DIV","DIV","DIV","DIV","DIV","DIV",null,"FE",1,1,1,1,null,null,1,1,1,1,1,null,null,1,1,1,1,"FE",1,null,1,1,1,1,"FE",null,null,1,1,1,1,1,null,null,1,1,1,"FE",1,1,null,1,1,1,1,1,null,null,"FE",1,1,1,1,null,null,1,1,1,1,1,1,null,1,1,1,1,1,null,null,"CA_p","CA_p","CA_p","CA_p","CA_p",null,null,"CA_p","CA_p","CA_p","CA_p","CA_p","CA_p",null,1,1,1,1,1,null,null,1,"FE",1,1,1,null,null,1,1,1,1,1,1,null,1,1,1,1,1,null,null,1,1,1,1,1,null,null,1,1,1,1,1,"FE",null,1,1,1,1,1,null,null,1,1,1,1,1,null,null,1,1,1,1,1,1,null,1,1,1,1,1,null,null,1,1,1,1,1,null,null,1,1,1,1,1,1,null,1,1,1,1,1,null,null,1,1,1,1,1,null,null,1,1,1,1,1,1,null,1,1,1,1,1,null,null,1,1,1,1,1,null,"FE",1,1,1,1,1,1,null,1,1,"FE",1,1,null,null,1,1,1,1,1,null,null,1,1,1,1,1,1,null,1]
[null,"1651809","UMN502","Agent",null,"FIXE MATIN","AGENT",null,"ANOUILH ALAIN",100,null,1,1,1,1,1,null,null,1,1,1,1,1,null,null,1,1,1,"DIV","DIV","DIV",null,"DIV","DIV","DIV","DIV","DIV",null,null,"DIV","DIV","DIV","DIV","DIV",null,null,"DIV","DIV","DIV","DIV","DIV","DIV",null,"FE",1,1,1,1,null,null,1,1,1,1,1,null,null,1,1,1,1,"FE","JPS",null,"CA","CA","CA","JPS","FE",null,null,"CA",1,1,1,1,null,null,1,1,1,"FE",1,1,null,1,1,1,1,1,null,null,"FE",1,1,1,1,null,null,1,1,1,1,1,1,null,1,1,1,1,1,null,null,1,1,1,1,1,null,null,1,1,1,1,1,1,null,1,1,1,1,1,null,null,1,"FE",1,1,1,null,null,1,1,1,1,1,1,null,1,1,1,1,1,null,null,1,1,1,1,1,null,null,1,1,1,1,1,"FE",null,"CA_p","CA_p","CA_p","CA_p","CA_p",null,null,"CA_p","CA_p","CA_p","CA_p","CA_p",null,null,"CA_p","CA_p","CA_p","CA_p","CA_p",1,null,1,1,1,1,1,null,null,1,1,1,1,1,null,null,1,1,1,1,1,1,null,1,1,1,1,1,null,null,1,1,1,1,1,null,null,1,1,1,1,1,1,null,1,1,1,1,1,null,null,1,1,1,1,1,null,"FE",1,1,1,1,1,1,null,1,1,"FE",1,1,null,null,1,1,1,1,1,null,null,1,1,1,1,1,1,null,1]
["c","1669776","PCW364","Agent",null,"FIXE MATIN","AGENT",null,"ANOUILH ALAIN",100,null,1,"JASA",1,1,1,null,null,1,1,1,"ASAF",1,null,null,"DISPO","DISPO","DISPO","DISPO","DISPO","DISPO",null,"DISPO","DISPO","DISPO","DISPO","DISPO","DISPO",null,"DISPO",1,"DIV","DIV","DIV",null,null,1,1,"DIV","DIV","DIV",1,null,"FE",1,1,1,1,null,null,1,1,1,1,1,null,null,1,1,1,1,"FE",1,null,1,1,1,1,"FE",null,null,1,1,1,1,1,null,null,1,1,1,"FE",1,1,null,1,1,1,1,1,null,null,"FE",1,1,1,1,null,null,1,1,1,1,1,1,null,1,1,1,1,1,null,null,1,1,1,1,1,null,null,1,1,1,1,1,1,null,1,1,1,1,1,null,null,1,"FE",1,1,1,null,null,"CA_p","CA_p","CA_p","CA_p","CA_p","CA_p",null,"CA_p","CA_p","CA_p","CA_p","CA_p",null,null,"CA_p","CA_p","CA_p","CA_p","CA_p",null,null,1,1,1,1,1,"FE",null,1,1,1,1,1,null,null,1,1,1,1,1,null,null,1,1,1,1,1,1,null,1,1,1,1,1,null,null,1,1,1,1,1,null,null,1,1,1,1,1,1,null,1,1,1,1,1,null,null,1,1,1,1,1,null,null,1,1,1,1,1,1,null,1,1,1,1,1,null,null,1,1,1,1,1,null,"FE",1,1,1,1,1,1,null,1,1,"FE",1,1,null,null,1,1,1,1,1,null,null,1,1,1,1,1,1,null,1]
[null,"1692371","DCA481","Agent",null,"FIXE MATIN","AGENT",null,"LAVAUD JABEUR VERONIQUE",100,null,1,1,"JPS","JPS","JPS",null,null,1,1,1,1,1,null,null,"DIV","DIV","DIV","DIV","DIV",null,null,"CA","CA","CA","CA","CA",null,null,"CA","CA","DIV","DIV","DIV",null,null,1,1,"DIV","DIV","DIV",null,null,"FE",1,1,1,1,null,null,1,1,1,1,1,null,null,1,1,1,1,"FE",null,null,1,1,1,1,"FE",null,null,1,1,1,1,1,null,null,1,1,1,"FE",1,null,null,1,1,1,1,1,null,null,"FE",1,1,1,1,null,null,1,1,1,1,1,null,null,"CA_p","CA_p","CA_p","CA_p","CA_p",null,null,"CA_p","CA_p","CA_p","CA_p","CA_p",null,null,"CA_p","CA_p",1,1,1,null,null,1,1,1,1,1,null,null,1,"FE",1,1,1,null,null,1,1,1,1,1,null,null,1,1,1,1,1,null,null,1,1,1,1,1,null,null,1,1,1,1,1,"FE",null,1,1,1,1,1,null,null,1,1,1,1,1,null,null,1,1,1,1,1,null,null,1,1,1,1,1,null,null,1,1,1,1,1,null,null,1,1,1,1,1,null,null,"CA_p","CA_p","CA_p","CA_p","CA_p",null,null,"CA_p","CA_p",1,1,1,null,null,1,1,1,1,1,null,null,1,1,1,1,1,null,null,1,1,1,1,1,null,"FE",1,1,1,1,1,null,null,1,1,"FE",1,1,null,null,1,1,1,1,1,null,null,1,1,1,1,1,null,null,1]
[null,"1578568","GJB467","Agent",null,"FIXE MATIN","AGENT",null,"LAVAUD JABEUR VERONIQUE",100,null,1,1,"ATM","ATM","ATM","ATM",null,1,1,1,1,1,null,null,1,1,1,1,1,1,null,1,1,1,1,1,null,null,1,1,1,1,1,null,null,1,1,1,1,1,1,null,"FE","CA_p","CA_?p","CA_p","CA_p",null,null,1,1,1,1,1,null,null,1,1,1,1,"FE",1,null,1,1,1,1,"FE",null,null,1,1,1,1,1,null,null,1,1,1,"FE",1,1,null,1,1,1,1,1,null,null,"FE",1,1,1,1,null,null,1,1,1,1,1,1,null,1,1,1,1,1,null,null,1,1,1,1,1,null,null,1,1,1,1,1,1,null,1,1,1,1,1,null,null,1,"FE",1,1,1,null,null,1,1,1,1,1,1,null,1,1,1,1,1,null,null,1,1,1,1,1,null,null,"CA_p","CA_p","CA_p","CA_p","CA_p","FE",null,"CA_p","CA_p","CA_p","CA_p","CA_p",null,null,1,1,1,1,1,null,null,1,1,1,1,1,1,null,1,1,1,1,1,null,null,1,1,1,1,1,null,null,1,1,1,1,1,1,null,1,1,1,1,1,null,null,1,1,1,1,1,null,null,1,1,1,1,1,1,null,1,1,1,1,1,null,null,1,1,1,1,1,null,"FE",1,1,1,1,1,1,null,1,1,"FE",1,1,null,null,1,1,1,1,1,null,null,1,1,1,1,1,1,null,1]
["c","1556266","AXV107","Agent",null,"FIXE MATIN","AGENT",null,"ANOUILH ALAIN",100,null,1,"JASA",1,"GR",1,null,null,1,1,1,1,1,1,null,"DIV","JASA",1,"DIV","DIV",null,null,"DIV","DIV",1,"DIV","DIV",null,null,1,1,"DIV","DIV","DIV",1,null,1,1,1,1,1,null,null,"FE",1,1,1,1,null,null,"CA","CA","CA","CA","CA","CA",null,1,1,1,1,"FE",null,null,1,1,1,1,"FE",null,null,"CA_p","CA_p","CA_p","CA_p","CA_p","CA_p",null,1,1,1,"FE",1,null,null,1,1,1,1,1,null,null,"FE",1,1,1,1,1,null,1,1,1,1,1,null,null,1,1,1,1,1,null,null,1,1,1,1,1,1,null,1,1,1,1,1,null,null,1,1,1,1,1,null,null,1,"FE",1,1,1,1,null,1,1,1,1,1,null,null,1,1,1,1,1,null,null,1,1,1,1,1,1,null,1,1,1,1,1,"FE",null,1,1,1,1,1,null,null,1,1,1,1,1,1,null,"CA_p","CA_p","CA_p","CA_p","CA_p",null,null,"CA_p","CA_p","CA_p","CA_p","CA_p",null,null,1,1,1,1,1,1,null,1,1,1,1,1,null,null,1,1,1,1,1,null,null,1,1,1,1,1,1,null,1,1,1,1,1,null,null,1,1,1,1,1,null,null,1,1,1,1,1,1,"FE",1,1,1,1,1,null,null,1,1,"FE",1,1,null,null,1,1,1,1,1,1,null,1,1,1,1,1,null,null,1]
[null,"1754613","RUS609","Agent",null,"FIXE MATIN","AGENT",null,"LAVAUD JABEUR VERONIQUE",100,null,1,1,1,1,1,null,null,1,1,1,1,1,1,null,1,1,1,1,1,null,null,1,1,1,1,1,null,null,1,1,1,1,1,1,null,1,1,1,1,1,null,null,"FE",1,1,1,1,null,null,1,1,1,1,1,1,null,1,1,1,1,"FE",null,null,1,1,1,1,"FE",null,null,1,1,1,1,1,1,null,1,1,1,"FE",1,null,null,1,1,1,1,1,null,null,"FE",1,1,1,1,1,null,1,1,1,1,1,null,null,1,1,1,1,1,null,null,1,1,1,1,1,1,null,1,1,1,1,1,null,null,1,1,1,1,1,null,null,1,"FE",1,1,1,1,null,1,1,1,1,1,null,null,1,1,1,1,1,null,null,1,1,1,1,1,1,null,1,1,1,1,1,"FE",null,1,1,1,1,1,null,null,1,1,1,1,1,1,null,1,1,1,1,1,null,null,1,1,1,1,1,null,null,1,1,1,1,1,1,null,1,1,1,1,1,null,null,1,1,1,1,1,null,null,1,1,1,1,1,1,null,1,1,1,1,1,null,null,1,1,1,1,1,null,null,1,1,1,1,1,1,"FE",1,1,1,1,1,null,null,1,1,"FE",1,1,null,null,1,1,1,1,1,1,null,1,1,1,1,1,null,null,1]
[null,"1759785","WRE658","Agent",null,"FIXE MATIN","AGENT",null,"LAVAUD JABEUR VERONIQUE",100,null,1,1,1,1,1,null,null,1,1,1,1,1,"JPS",null,1,1,1,1,1,null,null,1,1,1,1,1,null,null,1,1,1,1,1,1,null,1,1,1,1,1,null,null,"FE",1,1,1,1,null,null,"CA","CA","CA","CA","CA","CA",null,1,1,1,1,"FE",null,null,1,1,1,1,"FE",null,null,1,1,1,1,1,1,null,1,1,1,"FE",1,null,null,1,1,1,1,1,null,null,"FE",1,1,1,1,1,null,1,1,1,1,1,null,null,1,1,1,1,1,null,null,1,1,1,1,1,1,null,1,1,1,1,1,null,null,1,1,1,1,1,null,null,"CA_p","FE","CA_p","CA_p","CA_p","CA_p",null,"CA_p","CA_p","CA_p","CA_p","CA_p",null,null,"CA_p","CA_p","CA_p","CA_p","CA_p",null,null,1,1,1,1,1,1,null,1,1,1,1,1,"FE",null,1,1,1,1,1,null,null,1,1,1,1,1,1,null,1,1,1,1,1,null,null,1,1,1,1,1,null,null,1,1,1,1,1,1,null,1,1,1,1,1,null,null,1,1,1,1,1,null,null,1,1,1,1,1,1,null,1,1,1,1,1,null,null,1,1,1,1,1,null,null,1,1,1,1,1,1,"FE",1,1,1,1,1,null,null,1,1,"FE",1,1,null,null,1,1,1,1,1,1,null,1,1,1,1,1,null,null,1]
[null,"1577588","BGM035","Agent",null,"FIXE MATIN","AGENT",null,"COUTOULY MARC",100,null,1,1,1,1,1,null,null,1,1,1,1,1,"JPS",null,1,1,1,1,1,null,null,1,1,1,1,1,null,null,1,1,1,1,1,1,null,1,1,1,1,1,null,null,"FE",1,1,1,1,null,null,"CA","CA","CA","CA","CA","CA",null,1,1,1,1,"FE",null,null,1,1,1,1,"FE",null,null,1,1,1,1,1,1,null,1,1,1,"FE",1,null,null,1,1,1,1,1,null,null,"FE",1,1,1,1,1,null,1,1,1,1,1,null,null,1,1,1,1,1,null,null,1,1,1,1,1,1,null,1,1,1,1,1,null,null,1,1,1,1,1,null,null,"CA_p","FE","CA_p","CA_p","CA_p","CA_p",null,"CA_p","CA_p","CA_p","CA_p","CA_p",null,null,"CA_p","CA_p","CA_p","CA_p","CA_p",null,null,1,1,1,1,1,1,null,1,1,1,1,1,"FE",null,1,1,1,1,1,null,null,1,1,1,1,1,1,null,1,1,1,1,1,null,null,1,1,1,1,1,null,null,1,1,1,1,1,1,null,1,1,1,1,1,null,null,1,1,1,1,1,null,null,1,1,1,1,1,1,null,1,1,1,1,1,null,null,1,1,1,1,1,null,null,1,1,1,1,1,1,"FE",1,1,1,1,1,null,null,1,1,"FE",1,1,null,null,1,1,1,1,1,1,null,1,1,1,1,1,null,null,1]
["c","1634987","HGD261","Agent",null,"FIXE MATIN","AGENT",null,"FEUGA CHRISTIAN",100,null,1,"JASA",1,1,1,null,null,"CA","CA","CA","CA","CA","CA",null,1,1,1,"DIV",1,null,null,1,1,1,"DIV",1,null,null,1,1,"DIV","DIV","DIV","DIV",null,"DIV","DIV","DIV","DIV","DIV",null,null,"FE",1,1,1,1,null,null,"CA","CA","CA","CA","CA","CA",null,1,1,1,1,"FE",null,null,1,1,1,1,"FE",null,null,1,1,1,1,1,1,null,1,1,1,"FE",1,null,null,1,1,1,1,1,null,null,"FE",1,1,1,1,1,null,1,1,1,1,1,null,null,1,1,1,1,1,null,null,1,1,1,1,1,1,null,"CA_p","CA_p","CA_p","CA_p","CA_p",null,null,"CA_p","CA_p","CA_p","CA_p","CA_p",null,null,"CA_p","FE","CA_p","CA_p","CA_p","CA_p",null,1,1,1,1,1,null,null,1,1,1,1,1,null,null,1,1,1,1,1,1,null,1,1,1,1,1,"FE",null,1,1,1,1,"CA_p",null,null,1,1,1,1,1,1,null,1,1,1,1,1,null,null,1,1,1,1,1,null,null,1,1,1,1,1,1,null,1,1,1,1,1,null,null,1,1,1,1,1,null,null,1,1,1,1,1,1,null,1,1,1,1,1,null,null,1,1,1,1,1,null,null,1,1,1,1,1,1,"FE",1,1,1,1,1,null,null,1,1,"FE",1,1,null,null,1,1,1,1,1,1,null,1,1,1,1,1,null,null,1]
[null,"1671436","UXB430","Agent",null,"FIXE MATIN","AGENT",null,"BARTHELEMY THIERRY",100,null,1,1,1,1,1,1,null,1,1,1,1,1,null,null,1,1,1,1,1,null,null,1,1,"CA","CA","CA","CA",null,1,1,1,1,1,null,null,1,1,1,1,1,null,null,"FE",1,1,1,1,1,null,1,1,1,1,1,null,null,1,1,1,1,"FE",null,null,"CA","CA","CA","CA","FE","CA",null,1,1,1,1,1,null,null,1,1,1,"FE",1,null,null,1,1,1,1,1,1,null,"FE","CA","CA",1,1,null,null,1,1,1,1,1,null,null,1,1,1,1,1,1,null,1,1,1,1,1,null,null,1,1,1,1,1,null,null,1,1,1,1,1,1,null,1,"FE",1,1,1,null,null,1,1,1,1,1,null,null,1,1,1,1,1,1,null,1,1,1,1,1,null,null,1,1,1,1,1,"FE",null,1,1,1,1,1,1,null,1,1,1,1,1,null,null,"CA_p","CA_p","CA_p","CA_p","CA_p",null,null,"CA_p","CA_p","CA_p","CA_p","CA_p","CA_p",null,"CA_p","CA_p","CA_p","CA_p","CA_p",null,null,1,1,1,1,1,null,null,1,1,1,1,1,1,null,1,1,1,1,1,null,null,1,1,1,1,1,null,null,1,1,1,1,1,1,null,1,1,1,1,1,null,"FE",1,1,1,1,1,null,null,1,1,"FE",1,1,1,null,1,1,1,1,1,null,null,1,1,1,1,1,null,null,1]
["c","1649789","NVJ902","Agent",null,"FIXE MATIN","AGENT",null,"LAVAUD JABEUR VERONIQUE",70,null,null,null,1,1,1,null,null,null,null,1,1,1,null,null,null,null,1,1,1,null,null,null,null,"JPS","JPS","JPS",null,null,null,null,"CA","CA","CA","CA",null,"CA","CA","CA","CA","CA","CA",null,"FE","CA",1,1,1,null,null,null,null,1,1,1,null,null,null,null,1,1,"FE",null,null,null,null,1,1,"FE",null,null,null,null,1,1,1,null,null,null,null,1,"FE",1,null,null,null,null,1,1,1,null,null,"FE",null,1,1,1,null,null,null,null,1,1,1,null,null,null,null,1,1,1,null,null,null,null,1,1,1,null,null,null,null,1,1,"CA_p",null,null,null,null,1,1,1,null,null,null,"FE",1,1,1,null,null,null,null,1,1,1,null,null,null,null,1,1,1,null,null,null,null,1,1,1,null,null,null,null,1,1,1,"FE",null,null,null,1,1,1,null,null,null,null,1,1,1,null,null,null,"DAF","DAF","DAF","DAF","DAF",null,"DAF","DAF","DAF","DAF","DAF","DAF",null,"DAF","DAF","DAF","DAF","DAF","DAF",null,"DAF","DAF","DAF","DAF","DAF","DAF",null,"DAF","DAF","DAF","DAF","DAF","DAF",null,"DAF","DAF","DAF","DAF","DAF","DAF",null,"DAF","DAF","DAF","DAF","DAF","DAF",null,"DAF","DAF","DAF","DAF","DAF","DAF",null,"DAF","DAF","DAF","DAF","DAF","DAF","FE","DAF","DAF","DAF","DAF","DAF","DAF",null,"DAF","DAF","FE","DAF","DAF","DAF",null,"DAF","DAF","DAF","DAF","DAF","DAF",null,"DAF","DAF","DAF","DAF","DAF","DAF",null,1]
[null,"1588538","MSK069","Agent",null,"FIXE MATIN","AGENT",null,"COUTOULY MARC",100,null,1,1,1,1,1,null,null,1,1,1,1,1,null,null,1,"ATM","ATM","ATM","ATM","ATM",null,"ATM","ATM","ATM","ATM","ATM","ATM",null,"ATM","ATM","ATM","ATM","ATM","ATM",null,"CA","CA","CA","CA","CA","CA",null,"FE",1,1,1,1,null,null,1,1,1,1,1,null,null,1,1,1,1,"FE",1,null,1,1,1,1,"FE",null,null,1,1,1,1,1,null,null,1,1,1,"FE",1,1,null,1,1,1,1,1,null,null,"FE",1,1,1,1,null,null,1,1,1,1,1,1,null,1,1,1,1,1,null,null,1,1,1,1,1,null,null,1,1,1,1,1,1,null,1,1,1,1,1,null,null,1,"FE",1,1,1,null,null,"CA_p","CA_p","CA_p","CA_p","CA_p","CA_p",null,"CA_p","CA_p","CA_p","CA_p","CA_p",null,null,"CA_p","CA_p","CA_p","CA_p","CA_p",null,null,1,1,1,1,1,"FE",null,1,1,1,1,1,null,null,1,1,1,1,1,null,null,1,1,1,1,1,1,null,1,1,1,1,1,null,null,1,1,1,1,1,null,null,1,1,1,1,1,1,null,1,1,1,1,1,null,null,1,1,1,1,1,null,null,1,1,1,1,1,1,null,1,1,1,1,1,null,null,1,1,1,1,1,null,"FE",1,1,1,1,1,1,null,1,1,"FE",1,1,null,null,1,1,1,1,1,null,null,1,1,1,1,1,1,null,1]
["c","1525633","ALW134","Agent",null,"FIXE MATIN","AGENT",null,"LAVAUD JABEUR VERONIQUE",100,null,1,1,1,"TP","TP",null,null,1,1,1,"TP","TP",null,null,1,1,1,"TP","TP",null,null,"CA","CA","CA","TP","TP",null,null,"CA",1,1,"TP","TP",null,null,1,1,"CA","TP","TP",null,null,"FE","CA_?","CA_?","TP","TP",null,null,1,1,1,"TP","TP",null,null,1,1,1,"TP","FE",null,null,1,1,1,"TP","FE",null,null,1,1,1,"TP","TP",null,null,1,1,1,"FE","TP",null,null,1,1,1,"TP","TP",null,null,"FE",1,1,"TP","TP",null,null,1,1,1,"TP","TP",null,null,1,1,1,"TP","TP",null,null,1,1,1,"TP","TP",null,null,1,1,1,"TP","TP",null,null,1,1,1,"TP","TP",null,null,1,"FE",1,"TP","TP",null,null,1,1,1,"TP","TP",null,null,1,1,1,"TP","TP",null,null,1,1,1,"TP","TP",null,null,"CA_p","CA_p","CA_p","TP","TP","FE",null,"CA_p","CA_p","CA_p","TP","TP",null,null,"CA_p","CA_p","CA_p","TP","TP",null,null,1,1,1,"TP","TP",null,null,1,1,1,"TP","TP",null,null,1,1,1,"TP","TP",null,null,1,1,1,"TP","TP",null,null,1,1,1,"TP","TP",null,null,1,1,1,"TP","TP",null,null,1,1,1,"TP","TP",null,null,1,1,1,"TP","TP",null,null,1,1,1,"TP","TP",null,"FE",1,1,1,"TP","TP",null,null,1,1,"FE","TP","TP",null,null,1,1,1,"TP","TP",null,null,1,1,1,"TP","TP",null,null,1]
["c","1755659","KMN786","Agent",null,"FIXE MATIN","AGENT",null,"LAVAUD JABEUR VERONIQUE",100,null,1,1,1,1,1,null,null,1,1,1,1,1,1,null,1,1,1,1,1,null,null,1,1,1,1,1,null,null,1,1,1,1,1,1,null,1,1,1,1,1,null,null,"FE",1,1,1,1,null,null,1,1,1,1,1,1,null,1,1,1,1,"FE",null,null,1,1,1,1,"FE",null,null,"CA_p","CA_p","CA_p","CA_p","CA_p","CA_p",null,1,1,1,"FE",1,null,null,1,1,1,1,1,null,null,"FE",1,1,1,1,1,null,1,1,1,1,1,null,null,1,1,1,1,1,null,null,1,1,1,1,1,1,null,1,1,1,1,1,null,null,1,1,1,1,1,null,null,1,"FE",1,1,1,1,null,1,1,1,1,1,null,null,1,1,1,1,1,null,null,1,1,1,1,1,1,null,1,1,1,1,1,"FE",null,1,1,1,1,1,null,null,1,1,1,1,1,1,null,1,"CA_p","CA_p","CA_p","CA_p",null,null,"CA_p","CA_p","CA_p","CA_p","CA_p",null,null,"CA_p","CA_p","CA_p","CA_p","CA_p","CA_p",null,1,1,1,1,1,null,null,1,1,1,1,1,null,null,1,1,1,1,1,1,null,1,1,1,1,1,null,null,1,1,1,1,1,null,null,1,1,1,1,1,1,"FE",1,1,1,1,1,null,null,1,1,"FE",1,1,null,null,1,1,1,1,1,1,null,1,1,1,1,1,null,null,1]
[null,"1660404","NZV380","Agent",null,"FIXE MATIN","AGENT",null,"COUTOULY MARC",100,null,"ATM","ATM","ATM","ATM","ATM","ATM",null,"ATM","ATM","ATM","ATM","ATM","ATM",null,"ATM","ATM","ATM","ATM","ATM","ATM",null,1,1,1,"DIV","DIV",null,null,1,1,1,1,1,1,null,1,1,1,1,1,null,null,"FE",1,"CA","CA",1,null,null,"CA","CA","CA","CA","CA","CA",null,1,1,1,1,"FE",null,null,1,1,1,1,"FE",null,null,1,1,1,1,1,1,null,1,1,1,"FE",1,null,null,1,1,1,1,1,null,null,"FE",1,1,1,1,1,null,1,1,1,1,1,null,null,1,1,1,1,1,null,null,1,1,1,1,1,1,null,1,1,1,1,1,null,null,1,1,1,1,1,null,null,1,"FE",1,1,1,1,null,1,1,1,1,1,null,null,1,1,1,1,1,null,null,1,1,1,1,1,1,null,1,1,1,1,1,"FE",null,1,1,1,1,1,null,null,1,1,1,1,1,1,null,"CA_p","CA_p","CA_p","CA_p","CA_p",null,null,"CA_p","CA_p","CA_p","CA_p","CA_p",null,null,1,1,1,1,1,1,null,1,1,1,1,1,null,null,1,1,1,1,1,null,null,1,1,1,1,1,1,null,1,1,1,1,1,null,null,1,1,1,1,1,null,null,1,1,1,1,1,1,"FE",1,1,1,1,1,null,null,1,1,"FE",1,1,null,null,1,1,1,1,1,1,null,1,1,1,1,1,null,null,1]
[null,"1681029","ZGK941","Agent",null,"FIXE MATIN","AGENT",null,"TOUCHE LAURENT",100,null,"ATM","ATM","ATM","ATM","ATM","ATM",null,"ATM","ATM","ATM","ATM","ATM","ATM",null,"ATM","ATM","ATM","ATM","ATM","ATM",null,"ATM","ATM","ATM","ATM","ATM","ATM",null,"ATM","DIV","DIV","DIV","DIV",null,null,"DIV","DIV","DIV","DIV","DIV",null,null,"FE","DIV","DIV","DIV","DIV","DIV",null,"DIV","DIV","DIV","DIV","DIV",null,null,"DIV","DIV","DIV","DIV","FE",null,null,1,1,1,1,"FE",1,null,1,1,1,1,1,null,null,1,1,1,"FE",1,null,null,1,1,1,1,1,1,null,"FE",1,1,1,1,null,null,1,1,1,1,1,null,null,1,1,1,1,1,1,null,1,1,1,1,1,null,null,1,1,1,1,1,null,null,"CA_p","CA_p","CA_p","CA_p","CA_p","CA_p",null,"CA_p","FE","CA_p","CA_p","CA_p",null,null,"CA_p","CA_p","CA_p","CA_p","CA_p",null,null,1,1,1,1,1,1,null,1,1,1,1,1,null,null,1,1,1,1,1,"FE",null,1,1,1,1,1,1,null,1,1,1,1,1,null,null,1,1,1,1,1,null,null,1,1,1,1,1,1,null,1,1,1,1,1,null,null,1,1,1,1,1,null,null,1,1,1,1,1,1,null,1,1,1,1,1,null,null,1,1,1,1,1,null,null,1,1,1,1,1,1,null,1,1,1,1,1,null,"FE",1,1,1,1,1,null,null,1,1,"FE",1,1,1,null,1,1,1,1,1,null,null,1,1,1,1,1,null,null,1]
["c","1744339","RLN459","Agent",null,"FIXE MATIN","AGENT",null,"TOUCHE LAURENT",100,null,1,1,1,1,1,"GR",null,1,1,1,1,1,null,null,1,1,1,"DIV","DIV",null,null,"DIV","DIV",1,"DIV","DIV","JPS",null,1,1,"DIV","DIV","DIV",null,null,1,1,"DIV","DIV","DIV",null,null,"FE",1,1,1,1,1,null,1,1,1,1,1,null,null,1,1,"CA_p","CA_p","FE",null,null,1,1,1,1,"FE",1,null,1,1,1,1,1,null,null,1,1,1,"FE",1,null,null,1,1,1,1,1,"CA_p",null,"FE",1,1,1,1,null,null,1,1,1,1,1,null,null,1,1,1,1,1,1,null,1,1,1,1,1,null,null,1,1,1,1,1,null,null,1,1,1,1,1,1,null,1,"FE",1,1,1,null,null,1,1,1,1,1,null,null,1,1,1,1,1,1,null,1,1,1,1,1,null,null,1,1,1,1,1,"FE",null,1,1,1,1,1,1,null,1,1,1,1,1,null,null,1,1,1,1,1,null,null,"CA_p","CA_p","CA_p","CA_p","CA_p","CA_p",null,"CA_p","CA_p","CA_p","CA_p","CA_p",null,null,"CA_p","CA_p",1,1,1,null,null,1,1,1,1,1,1,null,1,1,1,1,1,null,null,1,1,1,1,1,null,null,1,1,1,1,1,1,null,1,1,1,1,1,null,"FE",1,1,1,1,1,null,null,1,1,"FE",1,1,1,null,1,1,1,1,1,null,null,1,1,1,1,1,null,null,1]
[null,"1508542","AFB438","Agent",null,"FIXE MATIN","AGENT",null,"BARTHELEMY THIERRY",100,null,1,1,1,1,1,null,null,1,1,1,1,1,null,null,1,1,1,1,1,1,null,1,1,1,1,1,null,null,1,1,1,1,1,null,null,1,1,1,1,1,1,null,"FE",1,1,1,1,null,null,1,1,1,1,1,null,null,1,1,1,1,"FE",1,null,1,1,1,1,"FE",null,null,1,1,1,1,1,null,null,1,1,1,"FE",1,1,null,1,1,1,1,1,null,null,"FE",1,1,1,1,null,null,1,1,1,1,1,1,null,1,1,1,1,1,null,null,1,1,1,1,1,null,null,1,1,1,1,1,1,null,1,1,1,1,1,null,null,1,"FE",1,1,1,null,null,1,1,1,1,1,1,null,"CA_p","CA_p","CA_p","CA_p","CA_p",null,null,"CA_p","CA_p","CA_p","CA_p","CA_p",null,null,"CA_p","CA_p","CA_p","CA_p","CA_p","FE",null,1,1,1,1,1,null,null,1,1,1,1,1,null,null,1,1,1,1,1,1,null,1,1,1,1,1,null,null,1,1,1,1,1,null,null,1,1,1,1,1,1,null,1,1,1,1,1,null,null,1,1,1,1,1,null,null,1,1,1,1,1,1,null,1,1,1,1,1,null,null,1,1,1,1,1,null,"FE",1,1,1,1,1,1,null,1,1,"FE",1,1,null,null,1,1,1,1,1,null,null,1,1,1,1,1,1,null,1]
[null,"1561803","TBE732","Agent",null,"FIXE MATIN","AGENT",null,"BARTHELEMY THIERRY",100,null,1,1,1,1,1,1,null,1,1,1,1,1,null,null,1,1,1,1,1,null,null,1,1,1,1,1,1,null,1,1,1,1,1,null,null,1,1,1,1,1,null,null,"FE",1,1,1,1,1,null,1,1,1,1,1,null,null,"CA","CA","CA","CA","FE","CA",null,1,1,1,1,"FE",1,null,1,1,1,1,1,null,null,1,1,1,"FE",1,null,null,1,1,1,1,1,1,null,"FE",1,1,1,1,null,null,"CA",1,1,1,1,null,null,1,1,1,1,1,1,null,1,1,1,1,1,null,null,1,1,1,1,1,null,null,1,1,1,1,1,1,null,1,"FE",1,1,1,null,null,1,1,1,1,1,null,null,1,1,1,1,1,1,null,1,1,1,1,1,null,null,1,1,1,1,1,"FE",null,1,1,1,1,1,1,null,1,1,1,1,1,null,null,1,1,1,1,1,null,null,1,1,1,1,1,1,null,1,1,1,1,1,null,null,1,1,1,1,1,null,null,1,1,1,1,1,1,null,1,1,1,1,1,null,null,1,1,1,1,1,null,null,1,1,1,1,1,1,null,1,1,1,1,1,null,"FE",1,1,1,1,1,null,null,1,1,"FE",1,1,1,null,1,1,1,1,1,null,null,1,1,1,1,1,null,null,1]
[null,"1588357","TLP645","Agent",null,"FIXE MATIN","AGENT",null,"LAVAUD JABEUR VERONIQUE",100,null,1,1,null,1,"CA","CA",null,1,1,null,1,1,null,null,1,1,null,1,1,null,null,1,1,null,1,1,null,null,1,1,null,1,1,null,null,1,1,null,1,1,null,null,"FE",1,null,1,1,null,null,1,1,null,1,1,null,null,1,1,null,1,"FE",null,null,1,1,null,1,"FE",null,null,1,1,null,1,1,null,null,1,1,null,"FE",1,null,null,1,1,null,1,1,null,null,"FE",1,null,1,1,null,null,1,1,null,1,1,null,null,1,1,null,1,1,null,null,1,1,null,1,1,null,null,"CA_p","CA_p",null,"CA_p","CA_p",null,null,"CA_p","CA_p",null,"CA_p","CA_p",null,null,1,"FE",null,1,1,null,null,1,1,null,1,1,null,null,1,1,null,1,1,null,null,1,1,null,1,1,null,null,1,1,null,1,1,"FE",null,1,1,null,1,1,null,null,1,1,null,1,1,null,null,1,1,null,1,1,null,null,1,1,null,1,1,null,null,1,1,null,1,1,null,null,1,1,null,1,1,null,null,1,1,null,1,1,null,null,1,1,null,1,1,null,null,1,1,null,1,1,null,null,1,1,null,1,1,null,null,1,1,null,1,1,null,"FE",1,1,null,1,1,null,null,1,1,"FE",1,1,null,null,1,1,null,1,1,null,null,1,1,null,1,1,null,null,1]
[null,"1575796","MKL345","Agent",null,"FIXE MATIN","AGENT",null,"FEUGA CHRISTIAN",100,null,1,1,1,1,1,null,null,1,1,1,1,1,null,null,1,1,1,1,1,1,null,1,1,1,1,1,null,null,1,1,1,1,1,null,null,1,1,1,1,1,1,null,"FE",1,1,1,1,null,null,1,1,1,1,1,null,null,1,1,1,1,"FE",1,null,1,1,1,1,"FE",null,null,1,1,1,1,1,null,null,1,1,1,"FE",1,1,null,1,1,1,1,1,null,null,"FE",1,1,1,1,null,null,1,1,1,1,1,1,null,1,1,1,1,1,null,null,1,1,1,1,1,null,null,1,1,1,1,1,1,null,1,1,1,1,1,null,null,1,"FE",1,1,1,null,null,"CA_p","CA_p","CA_p","CA_p","CA_p","CA_p",null,"CA_p","CA_p","CA_p","CA_p","CA_p",null,null,"CA_p","CA_p","CA_p","CA_p","CA_p",null,null,1,1,1,1,1,"FE",null,1,1,1,1,1,null,null,1,1,1,1,1,null,null,1,1,1,1,1,1,null,1,1,1,1,1,null,null,1,1,1,1,1,null,null,1,1,1,1,1,1,null,1,1,1,1,1,null,null,1,1,1,1,1,null,null,1,1,1,1,1,1,null,1,1,1,1,1,null,null,1,1,1,1,1,null,"FE",1,1,1,1,1,1,null,1,1,"FE",1,1,null,null,1,1,1,1,1,null,null,1,1,1,1,1,1,null,1]
[null,"1574115","TFR290","Agent",null,"FIXE MATIN","AGENT",null,"LAVAUD JABEUR VERONIQUE",100,null,1,1,1,1,1,null,null,"ATM",1,1,1,1,null,null,"ATM","ATM","ATM","ATM","ATM","ATM",null,1,1,1,1,1,null,null,1,1,1,"ATM","ATM","ATM",null,"ATM","ATM","CA","CA","CA","CA",null,"FE",1,1,1,1,null,null,1,1,1,1,1,null,null,1,1,1,1,"FE",1,null,1,1,1,1,"FE",null,null,1,1,1,1,1,null,null,1,1,1,"FE",1,1,null,1,1,1,1,1,null,null,"FE",1,1,1,1,null,null,1,1,1,1,1,1,null,1,1,1,1,1,null,null,1,1,1,1,1,null,null,1,1,1,1,1,1,null,"CA_p","CA_p","CA_p","CA_p","CA_p",null,null,"CA_p","FE",1,1,1,null,null,1,1,1,1,1,1,null,1,1,1,1,1,null,null,1,1,1,1,1,null,null,1,1,1,1,1,"FE",null,1,1,1,1,1,null,null,"CA_p","CA_p","CA_p","CA_p","CA_p",null,null,"CA_p","CA_p","CA_p","CA_p","CA_p","CA_p",null,1,1,1,1,1,null,null,1,1,1,1,1,null,null,1,1,1,1,1,1,null,1,1,1,1,1,null,null,1,1,1,1,1,null,null,1,1,1,1,1,1,null,1,1,1,1,1,null,null,1,1,1,1,1,null,"FE",1,1,1,1,1,1,null,1,1,"FE",1,1,null,null,1,1,1,1,1,null,null,1,1,1,1,1,1,null,1]
[null,"1764347","KUA561","Agent",null,"FIXE MATIN","AGENT",null,"CATUSSE MICHEL",100,null,1,1,1,1,1,null,null,1,1,1,1,1,null,null,1,1,1,1,1,1,null,1,1,1,1,1,null,null,1,1,"CA","ASAF","ASAF",null,null,1,1,1,1,1,1,null,"FE",1,1,1,1,null,null,1,1,1,1,1,null,null,1,1,1,1,"FE",1,null,1,1,1,1,"FE",null,null,1,1,1,1,1,null,null,1,1,1,"FE",1,1,null,1,1,1,1,1,null,null,"FE",1,1,1,1,null,null,1,1,1,1,1,1,null,1,1,1,1,1,null,null,1,1,"CA",1,1,null,null,1,1,1,1,1,1,null,1,1,1,1,1,null,null,1,"FE",1,1,1,null,null,1,1,1,1,1,1,null,1,1,1,1,1,null,null,1,1,1,1,1,null,null,"CA_p","CA_p","CA_p","CA_p","CA_p","FE",null,"CA_p","CA_p","CA_p","CA_p","CA_p",null,null,"CA_p","CA_p","CA_p","CA_p","CA_p",null,null,1,1,1,1,1,1,null,1,1,1,1,1,null,null,1,1,1,1,1,null,null,1,1,1,1,1,1,null,1,1,1,1,1,null,null,1,1,1,1,1,null,null,1,1,1,1,1,1,null,1,1,1,1,1,null,null,1,1,1,1,1,null,"FE",1,1,1,1,1,1,null,1,1,"FE",1,1,null,null,1,1,1,1,1,null,null,1,1,1,1,1,1,null,1]
["c","1603647","TSZ856","Agent",null,"FIXE MATIN","AGENT",null,"BARTHELEMY THIERRY",80,null,1,1,1,1,1,1,null,1,1,1,1,1,null,null,1,1,"DISPO","DISPO","DISPO",null,null,1,1,1,1,1,null,null,1,1,"DIV","DIV","DIV",1,null,1,1,1,1,1,null,null,"FE","CA","CA","CA","CA","CA",null,1,1,1,1,1,null,null,1,1,1,1,"FE",1,null,1,1,1,1,"FE",null,null,1,1,1,1,1,null,null,1,1,1,"FE",1,null,null,1,1,1,1,1,1,null,"FE",1,1,1,1,null,null,1,1,1,1,1,null,null,1,1,1,1,1,null,null,1,1,1,1,1,1,null,1,1,1,1,1,null,null,1,1,1,1,1,null,null,1,"FE",1,1,1,null,null,"CA_p","CA_p","CA_p","CA_p","CA_p","CA_p",null,"CA_p","CA_p","CA_p","CA_p","CA_p",null,null,1,1,1,1,1,null,null,1,1,1,1,1,"FE",null,1,1,1,1,1,1,null,1,1,1,1,1,null,null,1,1,1,1,1,null,null,1,1,1,1,1,null,null,1,1,1,1,1,1,null,1,1,1,1,1,null,null,1,1,1,1,1,null,null,1,1,1,1,1,null,null,1,1,1,1,1,1,null,1,1,1,1,1,null,null,1,1,1,1,1,null,"FE",1,1,1,1,1,null,null,1,1,"FE",1,1,1,null,1,1,1,1,1,null,null,1,1,1,1,1,null,null,1]
[null,"1601416","GTS684","Agent",null,"FIXE MATIN","AGENT",null,"CATUSSE MICHEL",100,null,1,1,1,1,1,null,null,"ATM",1,1,1,1,1,null,1,1,1,1,1,null,null,"DISPO","DISPO","DISPO","DISPO","DISPO","DISPO",null,"DISPO","DISPO","DISPO","DISPO","DISPO",1,null,"CA","CA","CA","CA","CA","CA",null,"FE",1,1,1,1,null,null,1,1,1,1,1,1,null,1,1,1,1,"FE",null,null,1,1,1,1,"FE",null,null,1,1,1,1,1,1,null,1,1,1,"FE",1,null,null,1,1,1,1,1,null,null,"FE",1,1,1,1,1,null,1,1,1,1,1,null,null,1,1,1,1,1,null,null,1,1,1,1,1,1,null,1,1,1,1,1,null,null,1,1,1,1,1,null,null,"CA_p","FE","CA_p","CA_p","CA_p","CA_p",null,1,1,1,1,1,null,null,1,1,1,1,1,null,null,1,1,1,1,1,1,null,1,1,1,1,1,"FE",null,1,1,1,1,1,null,null,1,1,1,1,1,1,null,1,1,1,1,1,null,null,1,1,1,1,1,null,null,1,1,1,1,1,1,null,"CA_p","CA_p","CA_p","CA_p","CA_p",null,null,"CA_p","CA_p","CA_p","CA_p","CA_p",null,null,1,1,1,1,1,1,null,1,1,1,1,1,null,null,1,1,1,1,1,null,null,1,1,1,1,1,1,"FE",1,1,1,1,1,null,null,1,1,"FE",1,1,null,null,1,1,1,1,1,1,null,1,1,1,1,1,null,null,1]
["c","1694076","ZMN641","Agent",null,"FIXE MATIN","AGENT",null,"LAVAUD JABEUR VERONIQUE",100,null,"ATM",1,1,1,1,1,null,1,1,1,1,"DISPO","DISPO",null,"DISPO","DISPO","DISPO","DISPO","DISPO","DISPO",null,"DISPO","DISPO","DISPO","DISPO","DISPO","DISPO",null,"DISPO",1,"DIV","DIV","DIV",null,null,"CA","CA","CA","CA","CA","CA",null,"FE",1,1,1,1,1,null,1,1,1,1,1,null,null,1,1,1,1,"FE",null,null,1,1,1,1,"FE",1,null,1,1,1,1,1,null,null,1,1,1,"FE",1,null,null,1,1,1,1,1,1,null,"FE",1,1,1,1,null,null,1,1,1,1,1,null,null,1,1,1,1,1,1,null,1,1,1,1,1,null,null,"CA_p","CA_p","CA_p","CA_p","CA_p",null,null,"CA_p","CA_p","CA_p","CA_p","CA_p","CA_p",null,"CA_p","FE","CA_p","CA_p","CA_p",null,null,"CA_p","CA_p","CA_p","CA_p","CA_p",null,null,1,1,1,1,1,"CA_p",null,1,1,1,1,1,null,null,1,1,1,1,1,"FE",null,1,1,1,1,1,1,null,1,1,1,1,1,null,null,1,1,1,1,1,null,null,1,1,1,1,1,1,null,1,1,1,1,1,null,null,1,1,1,1,1,null,null,1,1,1,1,1,1,null,1,1,1,1,1,null,null,1,1,1,1,1,null,null,1,1,1,1,1,1,null,1,1,1,1,1,null,"FE",1,1,1,1,1,null,null,1,1,"FE",1,1,1,null,1,1,1,1,1,null,null,1,1,1,1,1,null,null,1]
[null,"1649963","ULW682","Agent",null,"FIXE MATIN","AGENT",null,"LAVAUD JABEUR VERONIQUE",100,null,1,1,1,1,1,null,null,"CA","CA","CA","CA","CA","CA",null,"CA","CA","CA","CA","CA","CA",null,1,1,1,1,1,null,null,1,1,1,1,1,1,null,1,1,1,1,1,null,null,"FE",1,1,1,1,null,null,1,1,1,1,1,1,null,1,1,1,1,"FE",null,null,1,1,1,1,"FE",null,null,1,1,1,1,1,1,null,1,1,1,"FE",1,null,null,1,1,1,1,1,null,null,"FE",1,1,1,1,1,null,1,1,1,1,1,null,null,1,1,1,1,1,null,null,1,1,1,1,1,1,null,"CA_p","CA_p","CA_p","CA_p","CA_p",null,null,"CA_p","CA_p","CA_p","CA_p","CA_p",null,null,"CA_p","FE","CA_p","CA_p","CA_p","CA_p",null,1,1,1,1,1,null,null,1,1,1,1,1,null,null,1,1,1,1,1,1,null,1,1,1,1,1,"FE",null,1,1,1,1,1,null,null,1,1,1,1,1,1,null,1,1,1,1,1,null,null,1,1,1,1,1,null,null,1,1,1,1,1,1,null,1,1,1,1,1,null,null,1,1,1,1,1,null,null,1,1,1,1,1,1,null,1,1,1,1,1,null,null,1,1,1,1,1,null,null,1,1,1,1,1,1,"FE",1,1,1,1,1,null,null,1,1,"FE",1,1,null,null,1,1,1,1,1,1,null,1,1,1,1,1,null,null,1]
[null,"1660371","NZV194","Agent",null,"FIXE MATIN","AGENT",null,"CATUSSE MICHEL",100,null,1,1,1,1,"ATM","ATM",null,"ATM","ATM","ATM","ATM","ATM","ATM",null,1,1,1,"DIV","DIV",null,null,"CA","CA","CA","CA","CA","CA",null,1,1,"DIV","DIV","DIV",1,null,1,1,"DIV","DIV","DIV",null,null,"FE",1,1,1,1,null,null,"CA","CA","CA","CA","CA","CA",null,1,1,1,1,"FE",null,null,1,1,1,1,"FE",null,null,1,1,1,1,1,1,null,1,1,1,"FE",1,null,null,1,1,1,1,1,null,null,"FE",1,1,1,1,1,null,1,1,1,1,1,null,null,1,1,1,1,1,null,null,1,1,1,1,1,1,null,1,1,1,1,1,null,null,1,1,1,1,1,null,null,1,"FE",1,1,1,1,null,1,1,1,1,1,null,null,1,1,1,1,1,null,null,1,1,1,1,1,1,null,"CA","CA","CA","CA","CA","FE",null,"CA","CA","CA","CA","CA","CA",null,"CA","CA","CA","CA","CA","CA",null,1,1,1,1,1,null,null,1,1,1,1,1,null,null,1,1,1,1,1,1,null,1,1,1,1,1,null,null,1,1,1,1,1,null,null,1,1,1,1,1,1,null,1,1,1,1,1,null,null,1,1,1,1,1,null,null,1,1,1,1,1,1,"FE",1,1,1,1,1,null,null,1,1,"FE",1,1,null,null,1,1,1,1,1,1,null,1,1,1,1,1,null,null,1]
["c","1709464","DJZ058","Agent",null,"FIXE MATIN","AGENT",null,"LAVAUD JABEUR VERONIQUE",100,null,1,1,1,1,1,1,null,"JPS",1,1,1,1,null,null,"FF","FF","FF","FF","FF",null,null,"CA","CA","CA",1,1,1,null,1,1,1,1,1,null,null,1,1,1,"CA_p",1,null,null,"FE",1,1,1,1,1,null,1,1,1,1,1,null,null,1,1,1,1,"FE",null,null,"CA_p","CA_p","CA_p","CA_p","FE","CA_p",null,1,1,1,1,1,null,null,1,1,1,"FE",1,null,null,1,1,1,1,1,1,null,"FE",1,1,1,1,null,null,1,1,1,1,1,null,null,1,1,1,1,1,1,null,1,1,1,1,1,null,null,1,1,1,1,1,null,null,1,1,1,1,1,1,null,1,"FE",1,1,1,null,null,1,1,1,1,1,null,null,1,1,1,1,1,1,null,1,1,1,1,1,null,null,1,1,1,1,1,"FE",null,"CA_p","CA_p","CA_p","CA_p","CA_p","CA_p",null,"CA_p","CA_p","CA_p","CA_p","CA_p",null,null,1,1,1,1,1,null,null,1,1,1,1,1,1,null,1,1,1,1,1,null,null,1,1,1,1,1,null,null,1,1,1,1,1,1,null,1,1,1,1,1,null,null,1,1,1,1,1,null,null,1,1,1,1,1,1,null,1,1,1,1,1,null,"FE",1,1,1,1,1,null,null,1,1,"FE",1,1,1,null,1,1,1,1,1,null,null,1,1,1,1,1,null,null,1]
[null,"1619176","YEN980","Agent",null,"FIXE MATIN","AGENT",null,"ANOUILH ALAIN",100,null,1,1,1,1,1,null,null,"CA","CA","CA","CA","CA","CA",null,1,1,1,1,1,null,null,"ATM","ATM","ATM","ATM","ATM","ATM",null,"ATM","ATM","ATM","ATM","ATM",1,null,1,1,"DIV","DIV","DIV",null,null,"FE","DIV","DIV","DIV","DIV",null,null,1,1,1,1,1,1,null,"CA","CA","CA","JPS","FE",null,null,"CA","CA","CA","JPS","FE",null,null,1,1,1,1,1,1,null,1,1,1,"FE",1,null,null,1,1,1,1,1,null,null,"FE",1,1,1,1,1,null,1,1,1,1,1,null,null,1,1,1,1,1,null,null,1,1,1,1,1,1,null,1,1,1,1,1,null,null,1,1,1,1,1,null,null,1,"FE",1,1,1,1,null,1,1,1,1,1,null,null,1,1,1,1,1,null,null,1,1,1,1,1,1,null,"CA_p","CA_p","CA_p","CA_p","CA_p","FE",null,"CA_p","CA_p","CA_p","CA_p","CA_p",null,null,"CA_p","CA_p","CA_p","CA_p","CA_p","CA_p",null,1,1,1,1,1,null,null,1,1,1,1,1,null,null,1,1,1,1,1,1,null,1,1,1,1,1,null,null,1,1,1,1,1,null,null,1,1,1,1,1,1,null,1,1,1,1,1,null,null,1,1,1,1,1,null,null,1,1,1,1,1,1,"FE",1,1,1,1,1,null,null,1,1,"FE",1,1,null,null,1,1,1,1,1,1,null,1,1,1,1,1,null,null,1]
[null,"1568424","XGD015","Agent",null,"FIXE MATIN","AGENT",null,"COUTOULY MARC",100,null,1,1,1,1,1,null,null,1,1,1,1,1,1,null,1,1,1,1,1,null,null,1,1,1,1,1,null,null,1,1,1,1,1,1,null,1,1,1,1,1,null,null,"FE",1,1,1,1,null,null,1,1,1,1,1,1,null,1,1,1,1,"FE",null,null,1,1,1,1,"FE",null,null,1,1,1,1,1,1,null,1,1,1,"FE",1,null,null,1,1,1,1,1,null,null,"FE",1,1,1,1,1,null,1,1,1,1,1,null,null,1,1,1,1,1,null,null,1,1,1,1,1,1,null,1,1,1,1,1,null,null,1,1,1,1,1,null,null,1,"FE",1,1,1,1,null,"CA_p","CA_p","CA_p","CA_p","CA_p",null,null,"CA_p","CA_p","CA_p","CA_p","CA_p",null,null,"CA_p","CA_p","CA_p","CA_p","CA_p","CA_p",null,"CA_p","CA_p","CA_p","CA_p","CA_p","FE",null,"CA_p",1,1,1,1,null,null,1,1,1,1,1,1,null,1,1,1,1,1,null,null,1,1,1,1,1,null,null,1,1,1,1,1,1,null,1,1,1,1,1,null,null,1,1,1,1,1,null,null,1,1,1,1,1,1,null,1,1,1,1,1,null,null,1,1,1,1,1,null,null,1,1,1,1,1,1,"FE",1,1,1,1,1,null,null,1,1,"FE",1,1,null,null,1,1,1,1,1,1,null,1,1,1,1,1,null,null,1]
[null,"1574082","MJT602","Agent",null,"FIXE MATIN","AGENT",null,"CATUSSE MICHEL",100,null,"ATM","ATM","MAT","MAT","MAT","MAT",null,"MAT","MAT","MAT","MAT","MAT","MAT",null,"MAT","MAT","MAT","MAT","MAT","MAT",null,"MAT","MAT","MAT","MAT","MAT","MAT",null,"MAT","MAT","MAT","MAT","MAT","MAT",null,"MAT","MAT","MAT","MAT","MAT","MAT",null,"FE","MAT","MAT","MAT","MAT","MAT",null,"MAT","MAT","MAT","MAT","MAT","MAT",null,"MAT","MAT","MAT","MAT","FE","MAT",null,"MAT","MAT","MAT","MAT","FE","MAT",null,"MAT","MAT","MAT","MAT","MAT","MAT",null,"MAT","MAT","MAT","FE","MAT","MAT",null,"MAT","MAT","MAT","MAT","MAT","MAT",null,"FE","MAT","MAT","MAT","MAT","MAT",null,"MAT","MAT","MAT","MAT","MAT","MAT",null,"MAT","MAT","MAT","MAT","MAT","MAT",null,"MAT","MAT","MAT","MAT","MAT","MAT",null,"MAT","MAT","MAT","MAT","MAT","MAT",null,"MAT","MAT","MAT","MAT","MAT","MAT",null,"MAT","FE","MAT","MAT","MAT","MAT",null,"MAT","MAT","MAT","MAT","MAT","MAT",null,"MAT","MAT","MAT","MAT","MAT","MAT",null,"MAT","MAT","MAT","MAT","MAT","MAT",null,"MAT","MAT","MAT","MAT","MAT","FE",null,"MAT","MAT","MAT","MAT","MAT","MAT",null,"MAT","MAT","MAT","MAT","MAT","MAT",null,"MAT","MAT","MAT","MAT","MAT","MAT",null,"MAT","MAT","MAT","MAT","MAT","MAT",null,"MAT","MAT",1,1,1,1,null,1,1,1,1,1,null,null,1,1,1,1,1,null,null,1,1,1,1,1,1,null,1,1,1,1,1,null,null,1,1,1,1,1,null,null,1,1,1,1,1,1,"FE",1,1,1,1,1,null,null,1,1,"FE",1,1,null,null,1,1,1,1,1,1,null,1,1,1,1,1,null,null,1]
["c","1530383","SNJ567","Agent",null,"FIXE MATIN","AGENT",null,"ANOUILH ALAIN",100,null,1,1,1,1,1,"GR",null,1,1,1,1,"GR",null,null,"DIV",1,1,"DIV","DIV",null,null,"DIV","DIV",1,"DIV","DIV",1,null,1,1,"DIV","DIV","DIV",null,null,1,1,"DIV","DIV","DIV",null,null,"FE",1,1,1,1,1,null,1,1,1,1,1,null,null,1,1,1,1,"FE",null,null,1,1,1,1,"FE",1,null,1,1,1,1,1,null,null,1,1,1,"FE",1,null,null,1,1,1,1,1,1,null,"FE",1,1,1,1,null,null,1,1,1,1,1,null,null,1,1,1,1,1,1,null,1,1,1,1,1,null,null,1,1,1,1,1,null,null,1,1,1,1,1,1,null,1,"FE",1,1,1,null,null,1,1,1,1,1,null,null,1,1,1,1,1,1,null,1,1,1,1,1,null,null,1,1,1,1,1,"FE",null,1,1,1,1,1,1,null,"CA_p","CA_p","CA_p","CA_p","CA_p",null,null,"CA_p","CA_p","CA_p","CA_p","CA_p",null,null,"CA_p","CA_p","CA_p","CA_p","CA_p","CA_p",null,1,1,1,1,1,null,null,1,1,1,1,1,null,null,1,1,1,1,1,1,null,1,1,1,1,1,null,null,1,1,1,1,1,null,null,1,1,1,1,1,1,null,1,1,1,1,1,null,"FE",1,1,1,1,1,null,null,1,1,"FE",1,1,1,null,1,1,1,1,1,null,null,1,1,1,1,1,null,null,1]
[null,"1719996","ZYV248","Agent",null,"FIXE MATIN","AGENT",null,"COUTOULY MARC",100,null,1,1,1,1,1,null,null,1,1,1,1,1,1,null,1,1,1,1,1,null,null,"CA","CA","CA","CA","CA","CA",null,"CA","CA","CA","CA",1,1,null,1,1,1,1,1,null,null,"FE",1,1,1,1,null,null,1,1,1,1,1,1,null,1,1,1,1,"FE",null,null,1,1,1,1,"FE",null,null,1,1,1,1,1,1,null,1,1,1,"FE",1,null,null,1,1,1,1,1,null,null,"FE",1,1,1,1,1,null,1,1,1,1,1,null,null,1,1,1,1,1,null,null,1,1,1,1,1,1,null,1,1,1,1,1,null,null,1,1,1,1,1,null,null,"CA_p","FE","CA_p","CA_p","CA_p","CA_p",null,"CA_p","CA_p","CA_p","CA_p","CA_p",null,null,1,1,1,1,1,null,null,1,1,1,1,1,1,null,1,1,1,1,1,"FE",null,1,1,1,1,1,null,null,1,1,1,1,1,1,null,1,1,1,1,1,null,null,1,1,1,1,1,null,null,1,1,1,1,1,1,null,1,1,1,1,1,null,null,1,1,1,1,1,null,null,1,1,1,1,1,1,null,1,1,1,1,1,null,null,1,1,1,1,1,null,null,1,1,1,1,1,1,"FE",1,1,1,1,1,null,null,1,1,"FE",1,1,null,null,1,1,1,1,1,1,null,1,1,1,1,1,null,null,1]
[null,"1992020","VBT819","Agent",null,"FIXE MATIN","AGENT",null,"BARTHELEMY THIERRY",100,null,1,1,1,1,1,1,null,"CA","CA","CA",1,1,null,null,1,"DIV","DIV","DIV","DIV",null,null,"DIV","DIV","DIV","DIV","DIV",1,null,1,1,"DIV","DIV","DIV",null,null,1,1,"DIV","DIV","DIV",null,null,"FE","CA","CA","CA","CA","CA",null,1,1,1,1,1,null,null,1,1,1,1,"FE",null,null,1,1,1,1,"FE",1,null,1,1,1,1,1,null,null,1,1,1,"FE",1,null,null,1,1,1,1,1,1,null,"FE",1,1,1,1,null,null,1,1,1,1,1,null,null,1,1,1,1,1,1,null,1,1,1,1,1,null,null,1,1,1,1,1,null,null,1,1,1,1,1,1,null,1,"FE",1,1,1,null,null,1,1,1,1,1,null,null,1,1,1,1,1,1,null,1,1,1,1,1,null,null,1,1,1,1,1,"FE",null,"CA_p","CA_p","CA_p","CA_p","CA_p","CA_p",null,"CA_p","CA_p","CA_p","CA_p","CA_p",null,null,1,1,1,1,1,null,null,1,1,1,1,1,1,null,1,1,1,1,1,null,null,1,1,1,1,1,null,null,1,1,1,1,1,1,null,1,1,1,1,1,null,null,1,1,1,1,1,null,null,1,1,1,1,1,1,null,1,1,1,1,1,null,"FE",1,1,1,1,1,null,null,1,1,"FE",1,1,1,null,1,1,1,1,1,null,null,1,1,1,1,1,null,null,1]
[null,"1581482","XMP594","Agent",null,"FIXE MATIN","AGENT",null,"LAVAUD JABEUR VERONIQUE",100,null,1,1,1,1,1,null,null,1,1,1,1,1,null,null,"CA","CA","CA","CA","CA","CA",null,1,1,1,1,1,null,null,1,1,1,1,1,null,null,1,1,1,1,1,1,null,"FE",1,1,1,1,null,null,1,1,1,1,1,null,null,"CA","CA","CA","CA","FE","CA",null,1,1,1,1,"FE",null,null,1,1,1,1,1,null,null,1,1,1,"FE",1,1,null,1,1,1,1,1,null,null,"FE",1,1,1,1,null,null,1,1,1,1,1,1,null,1,1,1,1,1,null,null,1,1,1,1,1,null,null,1,1,1,1,1,1,null,1,1,1,1,1,null,null,"CA_p","FE","CA_p","CA_p","CA_p",null,null,"CA_p","CA_p","CA_p","CA_p","CA_p","CA_p",null,"CA_p","CA_p","CA_p","CA_p","CA_p",null,null,1,1,1,1,1,null,null,1,1,1,1,1,"FE",null,1,1,1,1,1,null,null,1,1,1,1,1,null,null,1,1,1,1,1,1,null,1,1,1,1,1,null,null,1,1,1,1,1,null,null,1,1,1,1,1,1,null,1,1,1,1,1,null,null,1,1,1,1,1,null,null,1,1,1,1,1,1,null,1,1,1,1,1,null,null,1,1,1,1,1,null,"FE",1,1,1,1,1,1,null,1,1,"FE",1,1,null,null,1,1,1,1,1,null,null,1,1,1,1,1,1,null,1]
["c","1695515","PNJ219","Agent",null,"FIXE MATIN","AGENT",null,"COUTOULY MARC",100,null,1,"JASA",1,"GR",1,1,null,1,1,1,1,1,null,null,1,1,1,1,1,1,null,1,1,1,1,1,"RPO",null,"CA","CA","CA","CA","CA","CA",null,"CA","CA","CA","CA","CA","CA",null,"FE",1,1,1,1,1,null,1,1,1,1,1,null,null,1,1,1,1,"FE",null,null,1,1,1,1,"FE",1,null,1,1,1,1,1,null,null,1,1,1,"FE",1,null,null,1,1,1,1,1,1,null,"FE",1,1,1,1,null,null,1,1,1,1,1,null,null,1,1,1,1,1,1,null,1,1,1,1,1,null,null,1,1,1,1,1,null,null,1,1,1,1,1,1,null,1,"FE",1,1,1,null,null,1,1,1,1,1,null,null,1,1,1,1,1,1,null,1,1,1,1,1,null,null,1,1,1,1,1,"FE",null,1,1,1,1,1,1,null,1,1,1,1,1,null,null,"CA","CA","CA","CA","CA","CA",null,"CA","CA","CA","CA","CA","CA",null,1,1,1,1,1,null,null,1,1,1,1,1,null,null,1,1,1,1,1,1,null,1,1,1,1,1,null,null,1,1,1,1,1,null,null,1,1,1,1,1,1,null,1,1,1,1,1,null,"FE",1,1,1,1,1,null,null,1,1,"FE",1,1,1,null,1,1,1,1,1,null,null,1,1,1,1,1,null,null,1]
["c","1658111","YWL584","Agent",null,"FIXE MATIN","AGENT",null,"COUTOULY MARC",100,null,"RC",1,1,1,1,null,null,1,1,1,1,1,"CA",null,"DISPO","DISPO",1,1,"DISPO","DISPO",null,"DISPO","DISPO","DISPO","DISPO","DISPO","DISPO",null,"DISPO",1,"DIV","DIV","DIV",1,null,1,1,"DIV","DIV","DIV",null,null,"FE",1,1,1,1,null,null,1,1,1,1,1,1,null,1,1,1,1,"FE",null,null,1,1,1,1,"FE",null,null,1,1,1,1,1,1,null,1,1,1,"FE",1,null,null,1,1,1,1,1,null,null,"FE",1,1,1,1,1,null,1,1,1,1,1,null,null,1,1,1,1,1,null,null,1,1,1,1,1,1,null,1,1,1,1,1,null,null,1,1,1,1,1,null,null,1,"FE",1,1,1,1,null,1,1,1,1,1,null,null,1,1,1,1,1,null,null,"CA","CA","CA","CA","CA","CA",null,"CA","CA","CA","CA","CA","FE",null,"CA","CA","CA","CA","CA","CA",null,1,1,1,1,1,1,null,1,1,1,1,1,null,null,1,1,1,1,1,null,null,1,1,1,1,1,1,null,1,1,1,1,1,null,null,1,1,1,1,1,null,null,1,1,1,1,1,1,null,1,1,1,1,1,null,null,1,1,1,1,1,null,null,1,1,1,1,1,1,"FE",1,1,1,1,1,null,null,1,1,"FE",1,1,null,null,1,1,1,1,1,1,null,1,1,1,1,1,null,null,"TP"]
[null,"1576247","MKS058","Agent",null,"FIXE MATIN","AGENT",null,"FEUGA CHRISTIAN",100,null,1,1,1,1,1,null,null,1,1,"JPS","JPS",1,null,null,"CA","CA","CA","CA","CA","CA",null,1,"ATM","ATM","ATM","ATM","ATM",null,"ATM","ATM","ATM","ATM","ATM","ATM",null,"ATM",1,1,1,1,1,null,"FE",1,1,1,1,null,null,1,1,1,1,1,null,null,1,1,1,1,"FE",1,null,1,1,1,1,"FE",null,null,1,1,1,1,1,null,null,1,1,1,"FE",1,1,null,1,1,1,1,1,null,null,"FE",1,1,1,1,null,null,1,1,1,1,1,1,null,1,1,1,1,1,null,null,1,1,1,1,1,null,null,1,1,1,1,1,1,null,1,1,1,1,1,null,null,1,"FE",1,1,1,null,null,1,1,1,1,1,1,null,"CA_p","CA_p","CA_p","CA_p","CA_p",null,null,"CA_p","CA_p","CA_p","CA_p","CA_p",null,null,"CA_p","CA_p","CA_p","CA_p","CA_p","FE",null,1,1,1,1,1,null,null,1,1,1,1,1,null,null,1,1,1,1,1,1,null,1,1,1,1,1,null,null,1,1,1,1,1,null,null,1,1,1,1,1,1,null,1,1,1,1,1,null,null,1,1,1,1,1,null,null,1,1,1,1,1,1,null,1,1,1,1,1,null,null,1,1,1,1,1,null,"FE",1,1,1,1,1,1,null,1,1,"FE",1,1,null,null,1,1,1,1,1,null,null,1,1,1,1,1,1,null,1]
["c","1569573","BDF752","Agent",null,"FIXE MATIN","AGENT",null,"TOUCHE LAURENT",100,null,1,1,1,1,1,1,null,1,1,1,1,1,null,null,"CA","DISPO","DISPO","DISPO","DISPO","DISPO",null,"DISPO","DISPO","DISPO","DISPO","DISPO","DISPO",null,"DISPO",1,"DIV","DIV","DIV",null,null,"CA","CA","CA","CA","CA","CA",null,"FE",1,1,1,1,1,null,1,1,1,1,1,null,null,1,1,1,1,"FE",null,null,1,1,1,1,"FE",1,null,1,1,1,1,1,null,null,1,1,1,"FE",1,null,null,1,1,1,1,1,1,null,"FE",1,1,1,1,null,null,1,1,1,1,1,null,null,1,1,1,1,1,1,null,1,1,1,1,1,null,null,1,1,1,1,1,null,null,1,1,1,1,1,1,null,1,"FE",1,1,1,null,null,1,1,1,1,1,null,null,1,1,1,1,1,1,null,"CA_p","CA_p","CA_p","CA_p","CA_p",null,null,"CA_p","CA_p","CA_p","CA_p","CA_p","FE",null,"CA_p","CA_p","CA_p","CA_p","CA_p","CA_p",null,1,1,1,1,1,null,null,1,1,1,1,1,null,null,1,1,1,1,1,1,null,1,1,1,1,1,null,null,1,1,1,1,1,null,null,1,1,1,1,1,1,null,1,1,1,1,1,null,null,1,1,1,1,1,null,null,1,1,1,1,1,1,null,1,1,1,1,1,null,"FE",1,1,1,1,1,null,null,1,1,"FE",1,1,1,null,1,1,1,1,1,null,null,1,1,1,1,1,null,null,1]
[null,"1630326","HEJ475","Agent",null,"FIXE MATIN","AGENT",null,"COUTOULY MARC",100,null,1,1,1,1,1,null,null,1,1,1,1,1,null,null,"CA","CA","CA","CA","CA",1,null,"DIV",1,1,"DIV","DIV",null,null,1,1,"DIV","DIV","DIV",null,null,"DIV","DIV","DIV","DIV","DIV","DIV",null,"FE",1,1,1,1,null,null,1,1,1,1,1,null,null,1,1,1,1,"FE",1,null,1,1,1,1,"FE",null,null,1,1,1,1,1,null,null,1,1,1,"FE",1,1,null,1,1,1,1,1,null,null,"FE",1,1,1,1,null,null,1,1,1,1,1,1,null,1,1,1,1,1,null,null,"CA_p","CA_p","CA_p","CA_p","CA_p",null,null,"CA_p","CA_p","CA_p","CA_p","CA_p","CA_p",null,1,1,1,1,1,null,null,1,"FE",1,1,1,null,null,1,1,1,1,1,1,null,1,1,1,1,1,null,null,1,1,1,1,1,null,null,1,1,1,1,1,"FE",null,1,1,1,1,1,null,null,1,1,1,1,1,null,null,1,1,1,1,1,1,null,1,1,1,1,1,null,null,1,1,1,1,1,null,null,1,1,1,1,1,1,null,1,1,1,1,1,null,null,1,1,1,1,1,null,null,1,1,1,1,1,1,null,1,1,1,1,1,null,null,1,1,1,1,1,null,"FE",1,1,1,1,1,1,null,1,1,"FE",1,1,null,null,1,1,1,1,1,null,null,1,1,1,1,1,1,null,1]
[null,"2062451","TMP35367","Agent",null,"INTERIM FIXE MATIN","INTERIM",null,null,100,null,null,null,null,null,null,null,null,null,null,null,null,null,null,null,null,null,null,null,null,null,null,null,null,null,null,null,null,null,null,null,null,null,1,null,null,null,null,1,1,1,null,null,"FE"]
[null,"2064292","TMP36500","Agent",null,"INTERIM FIXE MATIN","INTERIM",null,null,100,null,null,null,null,null,null,null,null,null,null,null,null,null,null,null,null,null,null,null,null,null,null,null,null,null,null,null,null,null,null,null,null,1,1,null,null,null,null,1,1,1,null,null,"FE"]
[null,"2064309","TMP36517","Agent",null,"INTERIM FIXE MATIN","INTERIM",null,null,100,null,null,null,null,null,null,null,null,null,null,null,null,null,null,null,null,null,null,null,null,null,null,null,null,null,null,null,null,null,null,null,null,1,1,null,null,null,null,1,1,1,null,null,"FE"]
[null,"2085364","TMP49093","Agent",null,"INTERIM FIXE MATIN","INTERIM",null,null,100,null,null,null,null,null,null,1]
[null,"2088751","TMP51304","Agent",null,"INTERIM FIXE MATIN","INTERIM",null,null,100,null,null,null,null,null,null,null,null,null,null,null,null,null,null,null,null,null,null,null,null,null,null,null,null,null,null,null,null,null,null,null,null,1,1,null,null,null,null,1,1,1,null,null,"FE"]
[null,"2119520","TMP68326","Agent",null,"INTERIM FIXE MATIN","INTERIM",null,null,100,null,null,null,null,null,null,null,null,null,null,null,null,null,null,null,null,null,null,null,null,null,null,null,null,null,null,null,null,null,null,null,null,1,1,null,null,null,null,null,null,null,null,null,"FE"]
[null,"2119864","TMP68401","Agent",null,"INTERIM FIXE MATIN","INTERIM",null,null,100,null,null,null,null,null,null,null,null,null,null,null,null,null,null,null,null,null,null,null,null,null,null,null,null,null,null,null,null,null,null,null,null,1,1,null,null,null,null,1,1,1,null,null,"FE"]
[null,"2145160","TMP83982","Agent",null,"INTERIM FIXE MATIN","INTERIM",null,null,100,null,null,null,null,null,null,1]
[null,"2153753","TMP90119","Agent",null,"INTERIM FIXE MATIN","INTERIM",null,null,100,null,null,null,null,null,null,null,null,null,null,null,null,null,null,null,null,null,null,null,null,null,null,null,null,null,null,null,null,null,null,null,null,1,1,null,null,null,null,1,1,1,null,null,"FE"]
[null,"2165974","TMP99951","Agent",null,"INTERIM FIXE MATIN","INTERIM",null,null,100,null,null,null,null,null,null,1]
[null,"2171511","TMP104233","Agent",null,"INTERIM FIXE MATIN","INTERIM",null,null,100,null,null,null,null,null,null,1]
[null,"2175037","TMP106492","Agent",null,"INTERIM FIXE MATIN","INTERIM",null,null,100,null,null,null,null,null,null,null,null,null,null,null,null,null,null,null,null,null,null,null,null,null,null,null,null,null,null,null,null,null,null,null,null,1,1,null,null,null,null,1,1,1,null,null,"FE"]
["c","1511996","SGA026","Agent",null,"MATINALE","AGENT",null,"TOUCHE LAURENT",100,null,null,1,1,1,null,1,null,null,1,1,1,1,null,null,null,null,1,1,1,1,null,null,1,null,1,1,1,null,null,1,1,null,1,1,null,null,1,1,1,null,1,null,"FE",1,1,1,1,null,null,null,null,1,1,1,1,null,null,1,null,1,"FE",1,null,null,1,1,null,"FE",1,null,null,1,1,1,null,1,null,null,1,1,"FE",1,null,null,null,null,1,1,1,1,null,"FE",1,null,1,1,1,null,null,1,1,null,1,1,null,null,1,1,1,null,1,null,null,1,1,1,1,null,null,null,null,1,1,1,1,null,null,1,null,1,1,1,null,null,"FE",1,null,1,1,null,null,1,1,1,null,1,null,null,1,1,1,1,null,null,null,null,"CA_p","CA_p","CA_p","CA_p",null,null,"CA_p",null,"CA_p","CA_p","FE",null,null,"CA_p","CA_p",null,"CA_p","CA_p",null,null,1,1,1,null,1,null,null,1,1,1,1,null,null,null,null,1,1,1,1,null,null,1,null,1,1,1,null,null,1,1,null,1,1,null,null,1,1,1,null,1,null,null,1,1,1,1,null,null,null,null,1,1,1,1,null,null,1,null,1,1,1,null,null,1,1,null,1,1,"FE",null,1,1,1,null,1,null,null,1,"FE",1,1,null,null,null,null,1,1,1,1,null,null,1,null,1,1,1]
["c","1700845","ZRE028","Agent",null,"MATINALE","AGENT",null,"TOUCHE LAURENT",100,null,null,1,1,null,1,1,null,null,1,"CA",1,null,1,null,null,1,1,"ATM","ATM","ATM",null,null,"ATM","ATM","ATM","ATM","ATM",null,null,"ATM","ATM","ATM","ATM","ATM",null,null,1,1,null,1,1,null,"FE","CA","CA","CA","CA","CA",null,null,1,1,1,1,null,null,null,null,1,1,"FE",1,null,null,1,null,1,"FE",1,null,null,1,1,null,1,1,null,null,1,1,"FE",null,1,null,null,1,1,1,1,null,null,"FE",null,1,1,1,1,null,null,1,null,1,1,1,null,null,1,1,null,1,1,null,null,1,1,1,null,1,null,null,1,1,1,1,null,null,null,null,1,1,1,1,null,null,"FE",null,1,1,1,null,null,1,1,null,1,1,null,null,1,1,1,null,1,null,null,1,1,1,1,null,null,null,null,1,1,1,"FE",null,null,1,null,1,1,1,null,null,1,1,null,1,1,null,null,"CA_p","CA_p","CA_p",null,"CA_p",null,null,"CA_p","CA_p","CA_p","CA_p",null,null,null,null,"CA_p","CA_p","CA_p","CA_p",null,null,1,null,1,1,1,null,null,1,1,null,1,1,null,null,1,1,1,null,1,null,null,1,1,1,1,null,null,null,null,1,1,1,1,null,null,1,null,1,1,1,"FE",null,1,1,null,1,1,null,null,1,"FE",1,null,1,null,null,1,1,1,1,null,null,null,null,1,1,1,1]
["c","1525800","SLU457","Agent",null,"MATINALE","AGENT",null,"BARTHELEMY THIERRY",100,null,null,null,1,1,1,1,null,null,1,null,1,1,1,null,null,1,1,null,1,1,null,null,1,1,1,null,1,null,null,1,1,1,1,null,null,null,null,1,1,1,1,null,"FE",1,null,1,1,1,null,null,1,1,null,1,1,null,null,1,1,1,"FE",1,null,null,1,1,1,"FE",null,null,null,null,1,1,1,1,null,null,1,null,"FE","RC",1,null,null,1,1,null,1,1,null,"FE",1,1,1,null,1,null,null,1,1,1,1,null,null,null,null,1,1,1,1,null,null,1,null,1,1,1,null,null,1,1,null,1,1,null,null,1,1,1,null,"CA_p",null,null,"FE","CA_p","CA_p","CA_p",null,null,null,null,"CA_p","CA_p","CA_p","CA_p",null,null,"CA_p",null,"CA_p","CA_p","CA_p",null,null,"CA_p",1,null,1,1,null,null,1,1,1,null,"FE",null,null,1,1,1,1,null,null,null,null,1,1,1,1,null,null,1,null,1,1,1,null,null,1,1,null,1,1,null,null,1,1,1,null,1,null,null,1,1,1,1,null,null,null,null,1,1,1,1,null,null,1,null,1,1,1,null,null,1,1,null,1,1,null,null,1,1,1,null,1,null,null,1,1,1,1,null,"FE",null,null,1,1,1,1,null,null,1,"FE",1,1,1,null,null,1,1,null,1,1,null,null,1,1,1,null,1]
[null,"1841322","TWN707","Agent",null,"MATINALE","AGENT",null,"COUTOULY MARC",100,null,null,1,1,1,1,null,null,null,null,1,1,1,1,null,null,1,null,"DIV",1,1,null,null,1,1,null,1,1,null,null,1,1,1,null,1,null,null,1,1,1,1,null,null,"FE",null,1,1,1,1,null,null,1,null,1,1,1,null,null,1,1,null,"FE",1,null,null,1,1,1,"FE",1,null,null,1,1,1,1,null,null,null,null,1,"FE",1,1,null,null,1,null,1,1,1,null,"FE",1,1,null,1,1,null,null,1,1,1,null,1,null,null,1,1,1,1,null,null,null,null,1,1,1,1,null,null,"CA","CA","CA","CA","CA",null,null,1,1,null,1,1,null,null,"FE",1,1,null,1,null,null,1,1,1,1,null,null,null,null,1,1,1,1,null,null,1,null,1,1,1,null,null,1,1,null,1,"FE",null,null,1,1,1,null,1,null,null,1,1,1,1,null,null,null,null,1,1,1,1,null,null,1,null,1,1,1,null,null,"CA_p","CA_p",null,"CA_p","CA_p",null,null,1,1,1,null,1,null,null,1,1,1,1,null,null,null,null,1,1,1,1,null,null,1,null,1,1,1,null,null,1,1,null,1,1,null,null,1,1,1,null,1,"FE",null,1,1,1,1,null,null,null,null,"FE",1,1,1,null,null,1,null,1,1,1,null,null,1,1,null,1,1]
[null,"1788451","XCE419","Agent",null,"MATINALE","AGENT",null,"COUTOULY MARC",100,null,null,1,1,1,null,1,null,null,1,1,1,1,null,null,null,null,1,1,1,1,null,null,1,null,"DIV","DIV","DIV",null,null,"DIV","DIV",null,"DIV",1,null,null,1,"DIV","DIV",null,1,null,"FE",1,1,1,1,null,null,null,null,1,1,1,1,null,null,1,null,1,"FE",1,null,null,"CA","CA","CA","FE","CA",null,null,1,1,1,null,1,null,null,1,1,"FE",1,null,null,null,null,1,1,1,1,null,"FE",1,null,1,1,1,null,null,1,1,null,1,1,null,null,1,1,1,null,1,null,null,1,1,1,1,null,null,null,null,1,1,1,1,null,null,1,null,1,1,1,null,null,"FE",1,null,1,1,null,null,1,1,1,null,1,null,null,1,1,1,1,null,null,null,null,1,1,1,1,null,null,"CA","CA","CA","CA","FE",null,null,"CA","CA","CA","CA","CA",null,null,1,1,1,null,1,null,null,1,1,1,1,null,null,null,null,1,1,1,1,null,null,"CA","CA","CA","CA","CA",null,null,1,1,null,1,1,null,null,1,1,1,null,1,null,null,1,1,1,1,null,null,null,null,1,1,1,1,null,null,1,null,1,1,1,null,null,1,1,null,1,1,"FE",null,1,1,1,null,1,null,null,1,"FE",1,1,null,null,null,null,1,1,1,1,null,null,1,null,1,1,1]
["c","1732316","JYE012","Agent",null,"MATINALE","AGENT",null,"CATUSSE MICHEL",100,null,null,1,1,1,1,null,null,null,null,"CA",1,1,1,null,null,"DISPO","DISPO","DISPO","DISPO","DISPO",null,null,"DISPO","DISPO","DISPO","DISPO","DISPO",null,null,1,"DIV","DIV",null,1,null,null,1,"DIV","DIV","DIV",null,null,"FE",null,1,1,1,1,null,null,1,null,1,1,1,null,null,1,1,null,"FE",1,null,null,1,1,1,"FE",1,null,null,1,1,1,1,null,null,null,null,"CA","FE",1,1,null,null,1,null,1,1,1,null,"FE",1,1,null,1,1,null,null,1,1,1,null,1,null,null,1,1,1,1,null,null,null,null,1,1,1,1,null,null,1,null,1,1,1,null,null,1,1,null,1,1,null,null,"FE",1,1,null,1,null,null,1,1,1,1,null,null,null,null,1,1,1,1,null,null,1,null,1,1,1,null,null,"CA_p","CA_p",null,"CA_p","FE",null,null,"CA_p","CA_p","CA_p",null,"CA_p",null,null,"CA_p","CA_p","CA_p","CA_p",null,null,null,null,1,1,1,1,null,null,1,null,1,1,1,null,null,1,1,null,1,1,null,null,1,1,1,null,1,null,null,1,1,1,1,null,null,null,null,1,1,1,1,null,null,1,null,1,1,1,null,null,1,1,null,1,1,null,null,1,1,1,null,1,"FE",null,1,1,1,1,null,null,null,null,"FE",1,1,1,null,null,1,null,1,1,1,null,null,1,1,null,1,1]
[null,"1598317","TRC529","Agent",null,"MATINALE","AGENT",null,"FEUGA CHRISTIAN",100,null,null,1,1,1,null,1,null,null,"CA",1,1,1,null,null,null,null,1,1,1,1,null,null,1,null,1,1,1,null,null,1,1,null,1,1,null,null,1,1,1,null,1,null,"FE",1,1,1,1,null,null,null,null,1,1,1,1,null,null,1,null,1,"FE",1,null,null,1,1,null,"FE",1,null,null,1,1,1,null,1,null,null,1,1,"FE",1,null,null,null,null,1,1,1,1,null,"FE",1,null,1,1,1,null,null,1,1,null,1,1,null,null,1,1,1,null,1,null,null,1,1,1,1,null,null,null,null,"CA","CA","CA","CA",null,null,1,null,1,1,1,null,null,"FE",1,null,1,1,null,null,1,1,1,null,1,null,null,1,1,1,1,null,null,null,null,"CA","CA","CA","CA",null,null,"CA","CA","CA","CA","FE",null,null,1,1,null,1,1,null,null,1,1,1,null,1,null,null,1,1,1,1,null,null,null,null,1,1,1,1,null,null,1,null,1,1,1,null,null,1,1,null,1,1,null,null,1,1,1,null,1,null,null,1,1,1,1,null,null,null,null,1,1,1,1,null,null,1,null,1,1,1,null,null,1,1,null,1,1,"FE",null,1,1,1,null,1,null,null,1,"FE",1,1,null,null,null,null,1,1,1,1,null,null,1,null,1,1,1]
[null,"1520778","EMN917","Agent",null,"MATINALE","AGENT",null,"BARTHELEMY THIERRY",78,null,null,null,"CA","CA",1,null,null,null,null,1,1,1,null,null,null,null,1,1,1,null,null,null,null,"CA","CA","CA",null,null,null,"CA",1,1,1,null,null,null,null,1,1,1,null,null,"FE",null,1,1,1,null,null,null,null,1,1,1,null,null,null,null,1,1,"FE",null,null,null,null,1,1,"FE",null,null,null,null,1,1,1,null,null,null,null,1,"FE",1,null,null,null,null,1,1,1,null,null,"FE",null,1,1,1,null,null,null,null,1,1,1,null,null,null,null,1,1,1,null,null,null,null,1,1,1,null,null,null,null,1,1,1,null,null,null,null,1,1,1,null,null,null,"FE",1,1,1,null,null,null,null,1,1,1,null,null,null,null,1,1,1,null,null,null,null,"CA_p","CA_p","CA_p",null,null,null,null,"CA_p","CA_p","CA_p","FE",null,null,null,"CA_p","CA_p","CA_p",null,null,null,null,1,1,1,null,null,null,null,1,1,1,null,null,null,null,1,1,1,null,null,null,null,1,1,1,null,null,null,null,1,1,1,null,null,null,null,1,1,1,null,null,null,null,1,1,1,null,null,null,null,1,1,1,null,null,null,null,1,1,1,null,null,null,null,1,1,1,null,"FE",null,null,1,1,1,null,null,null,null,"FE",1,1,null,null,null,null,1,1,1,null,null,null,null,1,1,1]
[null,"1660482","CPT310","Agent",null,"MATINALE","AGENT",null,"ANOUILH ALAIN",100,null,null,1,1,1,null,"GR",null,null,1,1,1,1,null,null,null,null,"CA","CA","CA","CA",null,null,"CA","CA","CA","CA","CA",null,null,1,1,null,1,1,null,null,1,1,1,null,1,null,"FE",1,1,1,1,null,null,null,null,1,1,1,1,null,null,1,null,1,"FE",1,null,null,1,1,null,"FE",1,null,null,1,1,1,null,1,null,null,1,1,"FE",1,null,null,null,null,1,1,1,1,null,"FE",1,null,1,1,1,null,null,1,1,null,1,1,null,null,1,1,1,null,1,null,null,1,1,1,1,null,null,null,null,"CA_p","CA_p","CA_p","CA_p",null,null,"CA_p",null,"CA_p","CA_p","CA_p",null,null,"FE","CA_p",null,"CA_p","CA_p",null,null,1,1,1,null,1,null,null,1,1,1,1,null,null,null,null,1,1,1,1,null,null,1,null,1,1,"FE",null,null,1,1,null,1,1,null,null,1,1,1,null,1,null,null,1,1,1,1,null,null,null,null,1,1,1,1,null,null,1,null,1,1,1,null,null,1,1,null,1,1,null,null,1,1,1,null,1,null,null,1,1,1,1,null,null,null,null,1,1,1,1,null,null,1,null,1,1,1,null,null,1,1,null,1,1,"FE",null,1,1,1,null,1,null,null,1,"FE",1,1,null,null,null,null,1,1,1,1,null,null,1,null,1,1,1]
[null,"1624420","BZY160","Agent",null,"MATINALE","AGENT",null,"FEUGA CHRISTIAN",100,null,null,1,null,1,1,1,null,null,1,1,null,1,1,null,null,"JPS","JPS","JPS",null,1,null,null,"CA","CA","CA","DIV",null,null,null,null,"CA","CA","CA","CA",null,null,"CA","CA","CA","CA","CA",null,"FE","CA","CA","CA","CA","CA",null,null,"CA","CA","CA","CA","CA",null,null,"CA","CA","CA","FE",null,null,null,null,1,1,"FE",1,null,null,1,null,1,1,1,null,null,1,1,"FE",1,1,null,null,1,1,1,null,1,null,"FE",1,1,1,1,null,null,null,null,1,"CA_p","CA_p","CA_p",null,null,1,null,1,1,1,null,null,1,1,null,1,1,null,null,1,1,1,null,1,null,null,1,1,1,1,null,null,null,"FE","CA_p","CA_p","CA_p","CA_p",null,null,1,null,1,1,1,null,null,1,1,null,1,1,null,null,1,1,1,null,1,null,null,1,1,1,1,"FE",null,null,null,1,1,1,1,null,null,1,null,1,1,1,null,null,1,1,null,1,1,null,null,1,1,1,null,1,null,null,1,1,1,1,null,null,null,null,"CA_p","CA_p","CA_p","CA_p",null,null,1,null,1,1,1,null,null,1,1,null,1,1,null,null,1,1,1,null,1,null,null,1,1,1,1,null,null,null,null,1,1,1,1,"FE",null,1,null,1,1,1,null,null,1,"FE",null,1,1,null,null,1,1,1,null,1,null,null,1,1,1,1]
[null,"1571174","GEK534","Agent",null,"MATINALE","AGENT",null,"CATUSSE MICHEL",100,null,null,1,null,1,1,1,null,null,1,1,null,1,1,null,null,1,1,"ATM","ATM","ATM",null,null,"ATM","ATM","ATM","ATM","ATM",null,null,"ATM",1,1,1,1,null,null,1,null,1,1,1,null,"FE","CA","CA","CA","CA","CA",null,null,1,1,1,null,1,null,null,1,1,1,"FE",null,null,null,null,1,1,"FE",1,null,null,1,null,1,1,1,null,null,1,1,"FE",1,1,null,null,1,1,1,null,1,null,"FE",1,1,1,1,null,null,null,null,1,1,1,1,null,null,1,null,1,1,1,null,null,1,1,null,1,1,null,null,1,1,1,null,1,null,null,1,1,1,1,null,null,null,"FE",1,1,1,1,null,null,1,null,1,1,1,null,null,1,1,null,1,1,null,null,1,1,1,null,1,null,null,1,1,1,1,"FE",null,null,null,1,1,1,1,null,null,"CA_p",null,"CA_p","CA_p","CA_p",null,null,"CA_p","CA_p",null,"CA_p","CA_p",null,null,"CA_p","CA_p","CA_p",null,"CA_p",null,null,1,1,1,1,null,null,null,null,1,1,1,1,null,null,1,null,1,1,1,null,null,1,1,null,1,1,null,null,1,1,1,null,1,null,null,1,1,1,1,null,null,null,null,1,1,1,1,"FE",null,1,null,1,1,1,null,null,1,"FE",null,1,1,null,null,1,1,1,null,1,null,null,1,1,1,1]
["c","1502488","LCP463","Agent",null,"MATINALE","AGENT",null,"TOUCHE LAURENT",100,null,null,1,1,1,1,"RPO",null,null,1,1,null,"CA","CA",null,null,1,"ATM","ATM","ATM","ATM",null,null,"ATM","ATM","ATM","ATM","ATM",null,null,"ATM","ATM","ATM","ATM","ATM",null,null,1,null,1,1,1,null,"FE","CA","CA","CA","CA","CA",null,null,1,"CA_?p",1,null,1,null,null,1,1,1,"FE",null,null,null,null,1,1,"FE",1,null,null,1,null,1,1,1,null,null,1,1,"FE",1,1,null,null,1,1,1,null,1,null,"FE",1,1,1,1,null,null,null,null,1,1,1,1,null,null,1,null,1,1,1,null,null,1,1,null,1,1,null,null,1,1,1,null,1,null,null,1,1,1,1,null,null,null,"FE","CA_p","CA_p","CA_p","CA_p",null,null,"CA_p",null,"CA_p","CA_p","CA_p",null,null,"CA_p","CA_p",null,"CA_p","CA_p",null,null,1,1,1,null,1,null,null,1,1,1,1,"FE",null,null,null,1,1,1,1,null,null,1,null,1,1,1,null,null,1,1,null,1,1,null,null,1,1,1,null,1,null,null,1,1,1,1,null,null,null,null,1,1,1,1,null,null,1,null,1,1,1,null,null,1,1,null,1,1,null,null,1,1,1,null,1,null,null,1,1,1,1,null,null,null,null,1,1,1,1,"FE",null,1,null,1,1,1,null,null,1,"FE",null,1,1,null,null,1,1,1,null,1,null,null,1,1,1,1]
[null,"1680984","JBM057","Agent",null,"MATINALE","AGENT",null,"BARTHELEMY THIERRY",100,null,null,1,1,1,1,null,null,null,null,1,1,1,1,null,null,1,null,1,1,1,null,null,1,1,null,1,1,null,null,1,1,1,null,1,null,null,1,1,1,1,null,null,"FE",null,1,1,1,1,null,null,"CA","CA","CA","CA","CA",null,null,"CA","CA","CA","FE","CA",null,null,1,1,1,"FE",1,null,null,1,1,1,1,null,null,null,null,1,"FE",1,1,null,null,1,null,1,1,1,null,"FE",1,1,null,1,1,null,null,1,1,1,null,1,null,null,1,1,1,1,null,null,null,null,1,1,1,1,null,null,1,null,1,1,1,null,null,1,1,null,1,1,null,null,"FE",1,1,null,1,null,null,1,1,1,1,null,null,null,null,1,1,1,1,null,null,1,null,1,1,1,null,null,1,1,null,1,"FE",null,null,1,1,1,null,1,null,null,1,1,1,1,null,null,null,null,"CA","CA","CA","CA",null,null,"CA","CA","CA","CA","CA",null,null,"CA","CA","CA","CA","CA",null,null,1,1,1,null,1,null,null,1,1,1,1,null,null,null,null,1,1,1,1,null,null,1,null,1,1,1,null,null,1,1,null,1,1,null,null,1,1,1,null,1,"FE",null,1,1,1,1,null,null,null,null,"FE",1,1,1,null,null,1,null,1,1,1,null,null,1,1,null,1,1]
[null,"1718140","DNH281","Agent",null,"MATINALE","AGENT",null,"ANOUILH ALAIN",100,null,null,1,1,1,1,null,null,null,null,1,1,1,1,null,null,1,null,1,1,1,null,null,1,1,null,1,1,null,null,1,1,1,null,1,null,null,1,1,1,1,null,null,"FE",null,1,1,1,1,null,null,1,null,1,1,1,null,null,1,1,null,"FE",1,null,null,1,1,1,"FE",1,null,null,1,1,1,1,null,null,null,null,1,"FE",1,1,null,null,1,null,1,1,1,null,"FE",1,1,null,1,1,null,null,"CA","CA","CA","CA","CA",null,null,"CA","CA","CA","CA","CA",null,null,"CA",1,1,1,1,null,null,1,null,1,1,1,null,null,1,1,null,1,1,null,null,"FE",1,1,null,1,null,null,1,1,1,1,null,null,null,null,1,1,1,1,null,null,1,null,1,1,1,null,null,1,1,null,1,"FE",null,null,1,1,1,null,1,null,null,1,1,1,1,null,null,null,null,1,1,1,1,null,null,1,null,1,1,1,null,null,1,1,null,1,1,null,null,1,1,1,null,1,null,null,1,1,1,1,null,null,null,null,1,1,1,1,null,null,1,null,1,1,1,null,null,1,1,null,1,1,null,null,1,1,1,null,1,"FE",null,1,1,1,1,null,null,null,null,"FE",1,1,1,null,null,1,null,1,1,1,null,null,1,1,null,1,1]
["c","1677204","CWS243","Agent",null,"MATINALE","AGENT",null,"FEUGA CHRISTIAN",100,null,null,"JASA",1,1,1,null,null,null,null,1,"CA","CA",1,null,null,1,null,"DIV",1,1,null,null,1,1,null,1,1,null,null,1,1,1,null,1,null,null,1,1,1,1,null,null,"FE",null,1,1,1,1,null,null,1,null,1,1,1,null,null,1,1,null,"FE",1,null,null,"CA_p","CA_p","CA_p","FE","CA_p",null,null,1,1,1,1,null,null,null,null,1,"FE",1,1,null,null,1,null,1,1,1,null,"FE",1,1,null,1,1,null,null,1,1,1,null,1,null,null,1,1,1,1,null,null,null,null,1,1,1,1,null,null,1,null,1,1,1,null,null,1,1,null,1,1,null,null,"FE",1,1,null,1,null,null,1,1,1,1,null,null,null,null,1,1,1,1,null,null,1,null,1,1,1,null,null,1,1,null,1,"FE",null,null,1,1,1,null,1,null,null,"CA_p","CA_p","CA_p","CA_p",null,null,null,null,"CA_p","CA_p","CA_p","CA_p",null,null,1,null,1,1,1,null,null,1,1,null,1,1,null,null,1,1,1,null,1,null,null,1,1,1,1,null,null,null,null,1,1,1,1,null,null,1,null,1,1,1,null,null,1,1,null,1,1,null,null,1,1,1,null,1,"FE",null,1,1,1,1,null,null,null,null,"FE",1,1,1,null,null,1,null,1,1,1,null,null,1,1,null,1,1]
["c","1601607","XWS324","Agent",null,"MATINALE","AGENT",null,"COUTOULY MARC",100,null,null,null,1,1,1,1,null,null,1,null,1,1,1,null,null,1,1,null,"RC",1,null,null,"JASA",1,1,null,1,null,null,1,1,1,1,null,null,null,null,"CA","CA","CA","CA",null,"FE",1,null,1,1,1,null,null,1,1,null,1,1,null,null,1,1,1,"FE",1,null,null,1,1,1,"FE",null,null,null,null,1,1,1,1,null,null,1,null,"FE",1,1,null,null,1,1,null,1,1,null,"FE",1,1,1,null,1,null,null,1,1,1,1,null,null,null,null,1,1,1,1,null,null,1,null,1,1,"RC",null,null,1,1,null,1,1,null,null,1,1,1,null,1,null,null,"FE",1,1,1,null,null,null,null,1,1,1,1,null,null,1,null,1,1,1,null,null,1,1,null,1,1,null,null,1,1,1,null,"FE",null,null,"CA","CA","CA","CA","CA",null,null,"CA","CA","CA","CA","CA",null,null,"CA","CA","CA","CA","CA",null,null,1,1,null,1,1,null,null,1,1,1,null,1,null,null,1,1,1,1,null,null,null,null,1,1,1,1,null,null,1,null,1,1,1,null,null,1,1,null,1,1,null,null,1,1,1,null,1,null,null,1,1,1,1,null,"FE",null,null,1,1,1,1,null,null,1,"FE",1,1,1,null,null,1,1,null,1,1,null,null,1,1,1,null,1]
[null,"1735643","DXA071","Agent",null,"MATINALE","AGENT",null,"LAVAUD JABEUR VERONIQUE",100,null,null,1,1,null,1,1,null,null,1,1,1,null,1,null,null,1,1,"JPS",1,null,null,null,null,"CA","CA","JPS","CA",null,null,1,null,1,1,1,null,null,1,1,null,1,1,null,"FE",1,1,1,null,1,null,null,1,1,1,1,null,null,null,null,1,1,"FE",1,null,null,1,null,1,"FE",1,null,null,1,1,null,1,1,null,null,1,1,"FE",null,1,null,null,1,1,1,1,null,null,"FE",null,1,1,1,1,null,null,1,null,1,1,1,null,null,1,1,null,1,1,null,null,1,1,1,null,1,null,null,1,1,1,1,null,null,null,null,1,1,1,1,null,null,"FE",null,"CA","CA","CA",null,null,"CA","CA","CA","CA","CA",null,null,"CA","CA","CA","CA","CA",null,null,1,1,1,1,null,null,null,null,1,1,1,"FE",null,null,1,null,1,1,1,null,null,1,1,null,1,1,null,null,1,1,1,null,1,null,null,1,1,1,1,null,null,null,null,1,1,1,1,null,null,1,null,1,1,1,null,null,1,1,null,1,1,null,null,1,1,1,null,1,null,null,1,1,1,1,null,null,null,null,1,1,1,1,null,null,1,null,1,1,1,"FE",null,1,1,null,1,1,null,null,1,"FE",1,null,1,null,null,1,1,1,1,null,null,null,null,1,1,1,1]
["c","2151989","EWT836","Agent",null,"MATINALE","AGENT",null,"BARTHELEMY THIERRY",100,null,null,1,1,1,1,null,null,null,null,"CA","CA","CA","CA",null,null,1,null,"ATM","ATM","ATM",null,null,"ATM","ATM",null,1,1,null,null,1,1,1,null,1,null,null,1,1,1,1,null,null,"FE",null,1,1,1,1,null,null,1,null,1,1,1,null,null,1,1,null,"FE",1,null,null,1,1,1,"FE",1,null,null,1,1,1,1,null,null,null,null,"CA","FE","CA","CA",null,null,1,null,1,1,1,null,"FE",1,1,null,1,1,null,null,1,1,1,null,1,null,null,1,1,1,1,null,null,null,null,1,1,1,1,null,null,1,null,1,1,1,null,null,1,1,null,1,1,null,null,"FE",1,1,null,1,null,null,1,1,1,1,null,null,null,null,1,1,1,1,null,null,1,null,1,1,1,null,null,1,1,null,1,"FE",null,null,1,1,1,null,1,null,null,1,1,1,1,null,null,null,null,1,1,1,1,null,null,1,null,1,1,1,null,null,1,1,null,1,1,null,null,1,1,1,null,1,null,null,1,1,1,1,null,null,null,null,1,1,1,1,null,null,1,null,1,1,1,null,null,1,1,null,1,1,null,null,1,1,1,null,1,"FE",null,1,1,1,1,null,null,null,null,"FE",1,1,1,null,null,1,null,1,1,1,null,null,1,1,null,1,1]
[null,"1692985","PMR339","Agent",null,"MATINALE","AGENT",null,"BARTHELEMY THIERRY",100,null,null,1,1,null,1,"RC",null,null,"ATM","ATM","ATM",null,1,null,null,"ATM","ATM","ATM","ATM","ATM",null,null,"ATM","ATM","ATM","ATM","ATM",null,null,1,null,"DIV","DIV",1,null,null,1,"DIV",null,"DIV",1,null,"FE",1,1,1,null,1,null,null,1,1,1,1,null,null,null,null,"CA_p","CA_p","FE","CA_p",null,null,1,null,1,"FE",1,null,null,1,1,null,1,1,null,null,1,1,"FE",null,1,null,null,1,1,1,1,null,null,"FE",null,1,1,1,1,null,null,1,null,1,1,1,null,null,1,1,null,1,1,null,null,1,1,1,null,1,null,null,1,1,1,1,null,null,null,null,"CA_p","CA_p","CA_p","CA_p",null,null,"FE",null,1,1,1,null,null,1,1,null,1,1,null,null,1,1,1,null,1,null,null,1,1,1,1,null,null,null,null,1,1,1,"FE",null,null,1,null,1,1,1,null,null,1,1,null,1,1,null,null,1,1,1,null,1,null,null,1,1,1,1,null,null,null,null,1,1,1,1,null,null,1,null,1,1,1,null,null,1,1,null,1,1,null,null,1,1,1,null,1,null,null,1,1,1,1,null,null,null,null,1,1,1,1,null,null,1,null,1,1,1,"FE",null,1,1,null,1,1,null,null,1,"FE",1,null,1,null,null,1,1,1,1,null,null,null,null,1,1,1,1]
[null,"1622165","BZC705","Agent",null,"MATINALE","AGENT",null,"FEUGA CHRISTIAN",100,null,null,null,"CA","CA","CA","CA",null,null,1,null,1,1,1,null,null,1,1,null,"DIV","DIV",null,null,"DIV","DIV","DIV",null,"DIV",null,null,"DIV","DIV","DIV","DIV",null,null,null,null,"CA",1,1,1,null,"FE",1,null,1,1,1,null,null,1,1,null,1,1,null,null,1,1,1,"FE",1,null,null,1,1,1,"FE",null,null,null,null,1,1,1,1,null,null,1,null,"FE",1,1,null,null,1,1,null,1,1,null,"FE",1,1,1,null,1,null,null,1,1,1,1,null,null,null,null,1,1,1,1,null,null,1,null,1,1,1,null,null,1,1,null,1,1,null,null,1,1,1,null,1,null,null,"FE",1,1,1,null,null,null,null,1,1,1,1,null,null,1,null,1,1,1,null,null,1,1,null,1,1,null,null,1,1,1,null,"FE",null,null,1,1,1,1,null,null,null,null,1,1,1,1,null,null,1,null,1,1,1,null,null,"CA_p","CA_p",null,"CA_p","CA_p",null,null,"CA_p","CA_p","CA_p",null,"CA_p",null,null,1,1,1,1,null,null,null,null,1,1,1,1,null,null,1,null,1,1,1,null,null,1,1,null,1,1,null,null,1,1,1,null,1,null,null,1,1,1,1,null,"FE",null,null,1,1,1,1,null,null,1,"FE",1,1,1,null,null,1,1,null,1,1,null,null,1,1,1,null,1]
[null,"1758206","RWV061","Agent",null,"MATINALE","AGENT",null,"ANOUILH ALAIN",100,null,null,null,"CA","CA","CA","CA",null,null,1,null,1,1,1,null,null,"ATM","ATM","ATM","ATM","ATM",null,null,"DIV",1,"DIV",null,1,null,null,1,1,1,1,null,null,null,null,1,1,1,1,null,"FE",1,null,1,1,1,null,null,"CA","CA","CA","CA","CA",null,null,1,1,1,"FE",1,null,null,1,1,1,"FE",null,null,null,null,1,1,1,1,null,null,1,null,"FE",1,1,null,null,1,1,null,1,1,null,"FE",1,1,1,null,1,null,null,1,1,1,1,null,null,null,null,"CA_p","CA_p","CA_p","CA_p",null,null,"CA_p",null,"CA_p","CA_p","CA_p",null,null,1,1,null,1,1,null,null,1,1,1,null,1,null,null,"FE",1,1,1,null,null,null,null,1,1,1,1,null,null,1,null,1,1,1,null,null,1,1,null,1,1,null,null,1,1,1,null,"FE",null,null,1,1,1,1,null,null,null,null,1,1,1,1,null,null,1,null,1,1,1,null,null,"CA_p","CA_p",null,"CA_p","CA_p",null,null,1,1,1,null,1,null,null,1,1,1,1,null,null,null,null,1,1,1,1,null,null,1,null,1,1,1,null,null,1,1,null,1,1,null,null,1,1,1,null,1,null,null,1,1,1,1,null,"FE",null,null,1,1,1,1,null,null,1,"FE",1,1,1,null,null,1,1,null,1,1,null,null,1,1,1,null,1]
["c","1738087","RHF178","Agent",null,"MATINALE","AGENT",null,"ANOUILH ALAIN",100,null,null,1,1,1,1,null,null,null,null,1,1,1,1,null,null,1,null,"ATM",1,1,null,null,1,1,null,1,1,null,null,1,"CA","CA","CA",1,null,null,1,1,1,1,null,null,"FE",null,"CA","CA","CA","CA",null,null,1,null,1,1,1,null,null,1,1,null,"FE",1,null,null,1,1,1,"FE",1,null,null,1,1,1,1,null,null,null,null,1,"FE",1,1,null,null,1,null,1,1,1,null,"FE",1,1,null,1,1,null,null,1,1,1,null,1,null,null,1,1,1,1,null,null,null,null,1,1,1,1,null,null,1,null,1,1,1,null,null,1,1,null,1,1,null,null,"FE","CA_p","CA_p",null,"CA_p",null,null,"CA_p","CA_p","CA_p","CA_p",null,null,null,null,"CA_p","CA_p","CA_p","CA_p",null,null,1,null,1,1,1,null,null,1,1,null,1,"FE",null,null,1,1,1,null,1,null,null,1,1,1,1,null,null,null,null,1,1,1,1,null,null,1,null,1,1,1,null,null,1,1,null,1,1,null,null,1,1,1,null,1,null,null,1,1,1,1,null,null,null,null,1,1,1,1,null,null,1,null,1,1,1,null,null,1,1,null,1,1,null,null,1,1,1,null,1,"FE",null,1,1,1,1,null,null,null,null,"FE",1,1,1,null,null,1,null,1,1,1,null,null,1,1,null,1,1]
[null,"1512902","LGU489","Agent",null,"MATINALE","AGENT",null,"BARTHELEMY THIERRY",100,null,null,1,null,1,1,1,null,null,1,1,null,1,1,null,null,1,1,1,null,1,null,null,1,1,1,1,null,null,null,null,1,1,1,1,null,null,1,null,1,1,1,null,"FE",1,1,null,1,1,null,null,1,1,1,null,1,null,null,1,1,1,"FE",null,null,null,null,1,1,"FE",1,null,null,1,null,1,1,1,null,null,1,1,"FE",1,1,null,null,1,1,1,null,1,null,"FE",1,1,1,1,null,null,null,null,1,1,1,1,null,null,1,null,1,1,1,null,null,1,1,null,1,1,null,null,1,1,1,null,1,null,null,1,1,1,1,null,null,null,"FE",1,1,1,1,null,null,"CA_p",null,"CA_p","CA_p","CA_p",null,null,"CA_p","CA_p",null,"CA_p","CA_p",null,null,1,1,1,null,1,null,null,1,1,1,1,"FE",null,null,null,1,1,1,1,null,null,1,null,1,1,1,null,null,1,1,null,1,1,null,null,1,1,1,null,1,null,null,1,1,1,1,null,null,null,null,1,1,1,1,null,null,1,null,1,1,1,null,null,1,1,null,1,1,null,null,1,1,1,null,1,null,null,1,1,1,1,null,null,null,null,1,1,1,1,"FE",null,1,null,1,1,1,null,null,1,"FE",null,1,1,null,null,1,1,1,null,1,null,null,1,1,1,1]
["c","1503003","FBU789","Agent",null,"MIXTE MATIN","AGENT",null,"TOUCHE LAURENT",100,null,1,"JASA",1,"GR",1,null,null,1,1,1,1,"CA",null,null,"CA",1,1,"DIV",1,null,null,1,1,1,"DIV","DIV",null,null,1,1,"DIV",1,1,null,null,1,1,1,1,1,null,null,"FE",1,1,1,1,null,null,1,1,1,1,1,null,null,1,1,1,1,"FE",null,null,"CA_p","CA_p","CA_p","CA_p","FE",null,null,1,1,1,1,1,null,null,1,1,1,"FE",1,null,null,1,1,1,1,1,null,null,"FE",1,1,1,1,null,null,1,1,1,1,1,null,null,1,1,1,1,1,null,null,1,1,1,1,1,null,null,1,1,1,1,1,null,null,1,1,1,1,1,null,null,1,"FE",1,1,1,null,null,1,1,1,1,1,null,null,1,1,1,1,1,null,null,1,1,1,1,1,null,null,1,1,1,1,1,"FE",null,1,1,1,1,1,null,null,1,1,1,1,1,null,null,"CA_p","CA_p","CA_p","CA_p","CA_p",null,null,"CA_p","CA_p","CA_p","CA_p","CA_p",null,null,"CA_p","CA_p","CA_p","CA_p","CA_p",null,null,1,1,1,1,1,null,null,1,1,1,1,1,null,null,1,1,1,1,1,null,null,1,1,1,1,1,null,null,1,1,1,1,1,null,null,1,1,1,1,1,null,"FE",1,1,1,1,1,null,null,1,1,"FE",1,1,null,null,1,1,1,1,1,null,null,1,1,1,1,1,null,null,1]
["c","1497049","EBV691","Agent",null,"MIXTE MATIN","AGENT",null,"BARTHELEMY THIERRY",100,null,1,1,1,1,1,null,null,1,1,1,1,1,null,null,"ATM","ATM","ATM","ATM","ATM",null,null,"ATM","ATM","ATM","ATM","ATM",null,null,"ATM","DIV","DIV","DIV","DIV",null,null,"DIV","DIV","DIV","DIV","DIV",null,null,"FE","DIV","DIV","DIV","DIV",null,null,1,1,1,1,1,null,null,1,1,1,1,"FE",null,null,"CA","CA","CA","CA","FE",null,null,"CA","CA","CA","CA","CA",null,null,1,1,1,"FE",1,null,null,1,1,1,1,1,null,null,"FE",1,1,1,1,null,null,1,1,1,1,1,null,null,1,1,1,1,1,null,null,1,1,1,1,1,null,null,1,1,1,1,1,null,null,1,1,1,1,1,null,null,1,"FE",1,1,1,null,null,1,1,1,1,1,null,null,1,1,1,1,1,null,null,1,1,1,1,1,null,null,1,1,1,1,1,"FE",null,1,1,1,1,1,null,null,1,1,1,1,1,null,null,"CA_p","CA_p","CA_p","CA_p","CA_p",null,null,"CA_p","CA_p","CA_p","CA_p","CA_p",null,null,"CA_p","CA_p","CA_p","CA_p","CA_p",null,null,1,1,1,1,1,null,null,1,1,1,1,1,null,null,1,1,1,1,1,null,null,1,1,1,1,1,null,null,1,1,1,1,1,null,null,1,1,1,1,1,null,"FE",1,1,1,1,1,null,null,1,1,"FE",1,1,null,null,1,1,1,1,1,null,null,1,1,1,1,1,null,null,1]
["c","1761808","KSE624","Agent",null,"MIXTE MATIN","AGENT",null,"CATUSSE MICHEL",100,null,"GR","JASA","GR","GR","GR",null,null,1,1,1,"GR","GR",null,null,"DIV",1,"GR","GR","GR",null,null,"GR","DIV",1,"DIV","DIV",null,null,1,1,"DIV","DIV","DIV",null,null,"CA","CA","CA","CA","CA",null,null,"FE","CA",1,1,1,null,null,1,1,1,1,1,null,null,1,1,1,1,"FE",null,null,1,1,1,1,"FE",null,null,1,1,1,1,1,null,null,1,1,1,"FE",1,null,null,1,1,1,1,1,null,null,"FE",1,1,1,1,null,null,1,1,1,1,1,null,null,1,1,1,1,1,null,null,"CA_p","CA_p","CA_p","CA_p","CA_p",null,null,1,1,1,1,1,null,null,1,1,1,1,1,null,null,1,"FE",1,1,1,null,null,1,1,1,1,1,null,null,1,1,1,1,1,null,null,1,1,1,1,1,null,null,1,1,1,1,1,"FE",null,1,1,1,1,1,null,null,1,1,1,1,1,null,null,1,1,1,1,1,null,null,"CA_p","CA_p","CA_p","CA_p","CA_p",null,null,"CA_p","CA_p","CA_p","CA_p","CA_p",null,null,1,1,1,1,1,null,null,1,1,1,1,1,null,null,1,1,1,1,1,null,null,1,1,1,1,1,null,null,1,1,1,1,1,null,null,1,1,1,1,1,null,"FE",1,1,1,1,1,null,null,1,1,"FE",1,1,null,null,1,1,1,1,1,null,null,1,1,1,1,1,null,null,1]
[null,"1561609","TBD723","Agent",null,"MIXTE MATIN","AGENT",null,"CATUSSE MICHEL",100,null,1,1,1,1,1,null,null,1,1,1,1,1,null,null,1,1,1,1,1,null,null,1,1,1,1,1,null,null,1,1,1,1,1,null,null,1,1,1,1,1,null,null,"FE","CA","CA","CA","CA",null,null,"CA",1,1,1,1,null,null,1,1,1,1,"FE",null,null,1,1,1,1,"FE",null,null,1,1,1,1,1,null,null,1,1,1,"FE",1,null,null,1,1,1,1,1,null,null,"FE",1,1,1,1,null,null,1,1,1,1,1,null,null,1,1,1,1,1,null,null,1,1,1,1,1,null,null,1,1,1,1,1,null,null,1,1,1,1,1,null,null,1,"FE",1,1,1,null,null,1,1,1,1,1,null,null,"CA_?p","CA_?p","CA_?p","CA_?p","CA_?p","CA_?p","CA_?p","CA_?p","CA_?p","CA_?p","CA_?p","CA_?p",null,null,1,1,1,1,1,"FE",null,1,1,1,1,1,null,null,1,1,1,1,1,null,null,1,1,1,1,1,null,null,"CA_?p","CA_?p","CA_?p","CA_?p","CA_?p",null,null,1,1,1,1,1,null,null,1,1,1,1,1,null,null,1,1,1,1,1,null,null,1,1,1,1,1,null,null,1,1,1,1,1,null,null,1,1,1,1,1,null,null,1,1,1,1,1,null,"FE",1,1,1,1,1,null,null,1,1,"FE",1,1,null,null,1,1,1,1,1,null,null,1,1,1,1,1,null,null,1]
[null,"1600814","TSB036","Agent",null,"MIXTE MATIN","AGENT",null,"TOUCHE LAURENT",80,null,1,1,1,1,1,null,null,1,1,1,1,1,null,null,"ATM","ATM","ATM","ATM","ATM",null,null,"ATM","ATM","ATM","ATM","ATM",null,null,"ATM",1,1,1,"CA_p",null,null,"CA_p","CA_p","CA_p","CA_p","CA_p",null,null,"FE","CA_?","CA_?","CA_?","CA_?",null,null,1,1,1,1,1,null,null,1,1,1,1,"FE",null,null,1,1,1,1,"FE",null,null,1,1,1,1,1,null,null,1,1,1,"FE","CA_p",null,null,1,1,1,1,1,null,null,"FE",1,1,1,1,null,null,1,1,1,1,1,null,null,1,1,1,1,1,null,null,1,1,1,1,1,null,null,1,1,1,1,1,null,null,1,1,1,1,1,null,null,1,"FE",1,1,1,null,null,1,1,1,1,1,null,null,1,1,1,1,1,null,null,"CA_p","CA_p","CA_p","CA_p","CA_p",null,null,"CA_p","CA_p","CA_p","CA_p","CA_p","FE",null,"CA_p","CA_p","CA_p","CA_p","CA_p",null,null,1,1,1,1,1,null,null,1,1,1,1,1,null,null,1,1,1,1,1,null,null,1,1,1,1,1,null,null,1,1,1,1,1,null,null,1,1,1,1,1,null,null,1,1,1,1,1,null,null,1,1,1,1,1,null,null,1,1,1,1,1,null,null,1,1,1,1,1,null,"FE",1,1,1,1,1,null,null,1,1,"FE",1,1,null,null,1,1,1,1,1,null,null,1,1,1,1,1,null,null,1]
[null,"1651187","CLJ300","Agent",null,"MIXTE MATIN","AGENT",null,"ANOUILH ALAIN",100,null,"CA","CA","CA","CA","CA",null,null,1,1,1,1,1,null,null,1,1,1,1,1,null,null,1,1,1,1,1,null,null,1,1,1,1,1,null,null,1,1,1,1,1,null,null,"FE",1,1,1,1,null,null,1,1,1,1,"CA_p",null,null,1,"CA","CA","CA","FE",null,null,1,1,1,1,"FE",null,null,1,1,1,1,1,null,null,1,1,1,"FE","CA",null,null,1,1,1,1,1,null,null,"FE",1,1,1,1,null,null,1,1,1,1,1,null,null,1,1,1,1,1,null,null,1,1,1,1,1,null,null,1,1,1,1,1,null,null,"CA_p","CA_p","CA_p","CA_p","CA_p",null,null,"CA_p","FE","CA_p","CA_p","CA_p",null,null,1,1,1,1,1,null,null,1,1,1,1,1,null,null,1,1,1,1,1,null,null,1,1,1,1,1,"FE",null,1,1,1,1,1,null,null,1,1,1,1,1,null,null,1,1,1,1,1,null,null,1,1,1,1,1,null,null,1,1,1,1,1,null,null,1,1,1,1,1,null,null,1,1,1,1,1,null,null,1,1,1,1,1,null,null,1,1,1,1,1,null,null,1,1,1,1,1,null,null,1,1,1,1,1,null,"FE",1,1,1,1,1,null,null,1,1,"FE",1,1,null,null,1,1,1,1,1,null,null,1,1,1,1,1,null,null,1]
[null,"1739637","DYZ415","Agent",null,"MIXTE MATIN","AGENT",null,"FEUGA CHRISTIAN",100,null,1,1,1,1,1,null,null,1,1,1,1,1,null,null,1,"ATM","ATM","ATM","ATM",null,null,1,1,1,"DIV",1,null,null,1,1,1,1,1,null,null,1,1,1,1,1,null,null,"FE",1,1,1,1,null,null,"CA_p","CA_p","CA_p","CA_p","CA_p",null,null,1,1,1,1,"FE",null,null,1,1,1,1,"FE",null,null,1,1,1,1,1,null,null,1,1,1,"FE",1,null,null,1,1,1,1,1,null,null,"FE",1,1,1,1,null,null,1,1,1,1,1,null,null,1,1,1,1,1,null,null,1,1,1,1,1,null,null,1,1,1,1,1,null,null,1,1,1,1,1,null,null,1,"FE",1,1,1,null,null,1,1,1,1,1,null,null,1,1,1,1,1,null,null,1,1,1,1,1,null,null,1,1,1,1,1,"FE",null,1,1,1,1,1,null,null,1,1,1,1,1,null,null,"CA_p","CA_p","CA_p","CA_p","CA_p",null,null,"CA_p","CA_p","CA_p","CA_p","CA_p",null,null,"CA_p","CA_p","CA_p","CA_p","CA_p",null,null,1,1,1,1,1,null,null,1,1,1,1,1,null,null,1,1,1,1,1,null,null,1,1,1,1,1,null,null,1,1,1,1,1,null,null,1,1,1,1,1,null,"FE",1,1,1,1,1,null,null,1,1,"FE",1,1,null,null,1,1,1,1,1,null,null,1,1,1,1,1,null,null,1]
[null,"1694226","DCR095","Agent",null,"MIXTE MATIN","AGENT",null,"TOUCHE LAURENT",100,null,"ATM","ATM","ATM","ATM","ATM",null,null,"ATM","ATM","ATM","ATM","ATM",null,null,"ATM","ATM","ATM","ATM","ATM",null,null,"ATM","ATM","ATM","ATM","ATM",null,null,1,1,"DIV","DIV","DIV",null,null,"DIV","DIV","DIV","DIV","DIV",null,null,"FE","CA","CA","CA","CA",null,null,1,1,1,1,1,null,null,1,1,1,1,"FE",null,null,1,1,1,1,"FE",null,null,1,1,1,1,1,null,null,1,1,1,"FE",1,null,null,1,1,1,1,1,null,null,"FE",1,1,1,1,null,null,1,1,1,1,1,null,null,1,1,1,1,1,null,null,1,1,1,1,1,null,null,1,1,1,1,1,null,null,1,1,1,1,1,null,null,1,"FE",1,1,1,null,null,1,1,1,1,1,null,null,1,1,1,1,1,null,null,"CA_p","CA_p","CA_p","CA_p","CA_p",null,null,"CA_p","CA_p","CA_p","CA_p","CA_p","FE",null,"CA_p","CA_p","CA_p","CA_p","CA_p",null,null,"CA_p",1,1,1,1,null,null,1,1,1,1,1,null,null,1,1,1,1,1,null,null,1,1,1,1,1,null,null,1,1,1,1,1,null,null,1,1,1,1,1,null,null,1,1,1,1,1,null,null,1,1,1,1,1,null,null,1,1,1,1,1,null,null,1,1,1,1,1,null,"FE",1,1,1,1,1,null,null,1,1,"FE",1,1,null,null,1,1,1,1,1,null,null,1,1,1,1,1,null,null,1]
[null,"1592188","XSV247","Agent",null,"MIXTE MATIN","AGENT",null,"COUTOULY MARC",80,null,1,1,1,1,1,null,null,1,1,1,1,1,null,null,"ATM","ATM","ATM","ATM","ATM",null,null,"ATM","ATM","ATM","ATM","ATM",null,null,"ATM","ATM","ATM","ATM","ATM",null,null,"ATM","ATM","ATM","ATM","ATM",null,null,"FE","CA","CA","CA","CA",null,null,1,1,1,1,1,null,null,1,1,1,1,"FE",null,null,1,1,1,1,"FE",null,null,1,1,1,1,1,null,null,1,1,1,"FE",1,null,null,1,1,1,1,1,null,null,"FE",1,1,1,1,null,null,1,1,1,1,1,null,null,1,1,1,1,1,null,null,1,1,1,1,1,null,null,"MAT","MAT","MAT","MAT","MAT",null,null,"MAT","MAT","MAT","MAT","MAT",null,null,"MAT","FE","MAT","MAT","MAT",null,null,"MAT","MAT","MAT","MAT","MAT",null,null,"MAT","MAT","MAT","MAT","MAT",null,null,"MAT","MAT","MAT","MAT","MAT",null,null,"MAT","MAT","MAT","MAT","MAT","FE",null,"MAT","MAT","MAT","MAT","MAT",null,null,"MAT","MAT","MAT","MAT","MAT",null,null,"MAT","MAT","MAT","MAT","MAT",null,null,"MAT","MAT","MAT","MAT","MAT",null,null,"MAT","MAT","MAT","MAT","MAT",null,null,"MAT","MAT","MAT","MAT","MAT",null,null,"MAT","MAT","MAT","MAT","MAT",null,null,"MAT","MAT","MAT","MAT","MAT",null,null,"MAT","MAT","MAT","MAT","MAT",null,null,1,1,1,1,1,null,null,1,1,1,1,1,null,"FE",1,1,1,1,1,null,null,1,1,"FE",1,1,null,null,1,1,1,1,1,null,null,1,1,1,1,1,null,null,"DAF"]
[null,"1716157","VPG197","Agent",null,"MIXTE MATIN","AGENT",null,"CATUSSE MICHEL",100,null,"CA",1,1,1,1,null,null,1,1,1,1,1,null,null,"CA","CA","CA",1,1,null,null,1,1,1,1,1,null,null,1,1,1,1,1,null,null,1,1,1,1,1,null,null,"FE",1,1,1,1,null,null,1,1,1,1,1,null,null,1,1,1,1,"FE",null,null,"CA","CA","CA","CA","FE",null,null,"CA","CA","CA","CA","CA",null,null,"JPS","JPS","JPS","FE","CA",null,null,1,1,1,1,1,null,null,"FE",1,1,1,1,null,null,1,1,1,1,1,null,null,1,1,1,1,1,null,null,1,1,1,1,1,null,null,1,1,1,1,1,null,null,1,1,1,1,1,null,null,"CA_p","FE","CA_p","CA_p","CA_p",null,null,"CA_p","CA_p","CA_p","CA_p","CA_p",null,null,1,1,1,1,1,null,null,1,1,1,1,1,null,null,1,1,1,1,1,"FE",null,1,1,1,1,1,null,null,1,1,1,1,1,null,null,1,1,1,1,1,null,null,1,1,1,1,1,null,null,1,1,1,1,1,null,null,1,1,1,1,1,null,null,1,1,1,1,1,null,null,1,1,1,1,1,null,null,1,1,1,1,1,null,null,1,1,1,1,1,null,null,1,1,1,1,1,null,"FE",1,1,1,1,1,null,null,1,1,"FE",1,1,null,null,1,1,1,1,1,null,null,1,1,1,1,1,null,null,1]
["c","1557108","FZN123","Agent",null,"MIXTE MATIN","AGENT",null,"BARTHELEMY THIERRY",100,null,"CA",1,1,1,1,null,null,1,1,1,1,1,null,null,"CA",1,1,1,1,null,null,1,1,1,1,1,null,null,1,1,1,1,1,null,null,1,1,1,1,1,null,null,"FE",1,1,1,1,null,null,1,1,1,1,1,null,null,"CA","CA","CA","CA","FE",null,null,1,1,1,1,"FE",null,null,1,1,1,1,1,null,null,1,1,1,"FE",1,null,null,1,1,1,1,1,null,null,"FE",1,1,1,1,null,null,1,1,1,1,1,null,null,1,1,1,1,1,null,null,1,1,1,1,1,null,null,1,1,1,1,1,null,null,"CA_p","CA_p","CA_p","CA_p","CA_p",null,null,"CA_p","FE","CA_p","CA_p","CA_p",null,null,1,1,1,1,1,null,null,1,1,1,1,1,null,null,1,1,1,1,1,null,null,1,1,1,1,1,"FE",null,1,1,1,1,1,null,null,1,1,1,1,1,null,null,1,1,1,1,1,null,null,1,1,1,1,1,null,null,1,1,1,1,1,null,null,1,1,1,1,1,null,null,1,1,1,1,1,null,null,1,1,1,1,1,null,null,1,1,1,1,1,null,null,1,1,1,1,1,null,null,1,1,1,1,1,null,"FE",1,1,1,1,1,null,null,1,1,"FE",1,1,null,null,1,1,1,1,1,null,null,1,1,1,1,1,null,null,1]
[null,"1611740","BVE276","Agent",null,"MIXTE MATIN","AGENT",null,"COUTOULY MARC",70,null,"DAF","DAF","DAF","DAF","DAF",null,null,"DAF","DAF","DAF","DAF","DAF",null,null,"DAF","DAF","DAF","DAF","DAF",null,null,"DAF","DAF","DAF","DAF","DAF",null,null,"DAF","DAF","DAF","DAF","DAF",null,null,"DAF","DAF","DAF","DAF","DAF",null,null,"FE","DAF","DAF","DAF","DAF",null,null,"DAF","DAF","DAF","DAF","DAF",null,null,"DAF","DAF","DAF","DAF","FE",null,null,"DAF","DAF","DAF","DAF","FE",null,null,"DAF","DAF","DAF","DAF","DAF",null,null,"DAF","DAF","DAF","FE","DAF",null,null,"DAF","DAF","DAF","DAF","DAF",null,null,"FE","DAF","DAF","DAF","DAF",null,null,"DAF","DAF","DAF","DAF","DAF",null,null,"DAF","DAF","DAF","DAF","DAF",null,null,"DAF","DAF","DAF","DAF","DAF",null,null,"DAF","DAF","DAF","DAF","DAF",null,null,"DAF","DAF","DAF","DAF","DAF",null,null,"DAF","FE","DAF","DAF","DAF",null,null,"DAF","DAF","DAF","DAF","DAF",null,null,"DAF","DAF","DAF","DAF","DAF",null,null,"DAF","DAF","DAF","DAF","DAF",null,null,"DAF","DAF","DAF","DAF","DAF","FE",null,"DAF","DAF","DAF","DAF","DAF",null,null,"DAF","DAF","DAF","DAF","DAF",null,null,"DAF","DAF","DAF","DAF","DAF",null,null,"DAF","DAF","DAF","DAF","DAF",null,null,"DAF","DAF","DAF","DAF","DAF",null,null,"DAF","DAF","DAF","DAF","DAF",null,null,"DAF","DAF","DAF","DAF","DAF",null,null,"DAF","DAF","DAF","DAF","DAF",null,null,"DAF","DAF","DAF","DAF","DAF",null,null,"DAF","DAF","DAF","DAF","DAF",null,null,"DAF","DAF","DAF","DAF","DAF",null,"FE","DAF","DAF","DAF","DAF","DAF",null,null,"DAF","DAF","FE","DAF","DAF",null,null,"DAF","DAF","DAF","DAF","DAF",null,null,"DAF","DAF","DAF","DAF","DAF",null,null,1]
[null,"1516385","EKW064","Agent",null,"MIXTE MATIN","AGENT",null,"BARTHELEMY THIERRY",100,null,1,1,1,1,1,null,null,1,1,1,1,1,null,null,1,1,1,1,1,null,null,1,1,1,1,"DIV",null,null,"CA","CA","CA","CA","CA",null,null,1,1,1,1,1,null,null,"FE",1,1,1,1,null,null,1,1,1,1,1,null,null,1,1,1,1,"FE",null,null,1,1,1,1,"FE",null,null,1,1,1,1,1,null,null,1,1,1,"FE",1,null,null,1,1,1,1,1,null,null,"FE",1,1,1,1,null,null,1,1,1,1,1,null,null,1,1,1,1,1,null,null,1,1,1,1,1,null,null,1,1,1,1,1,null,null,1,1,1,1,1,null,null,"CA","FE","CA","CA","CA",null,null,"CA","CA","CA","CA","CA",null,null,1,1,1,1,1,null,null,1,1,1,1,1,null,null,1,1,1,1,1,"FE",null,1,1,1,1,1,null,null,"CA","CA","CA","CA","CA",null,null,1,1,1,1,1,null,null,1,1,1,1,1,null,null,1,1,1,1,1,null,null,1,1,1,1,1,null,null,1,1,1,1,1,null,null,1,1,1,1,1,null,null,1,1,1,1,1,null,null,1,1,1,1,1,null,null,1,1,1,1,1,null,"FE",1,1,1,1,1,null,null,1,1,"FE",1,1,null,null,1,1,1,1,1,null,null,1,1,1,1,1,null,null,1]
["c","1665973","HVT896","Agent",null,"MIXTE MATIN","AGENT",null,"LAVAUD JABEUR VERONIQUE",100,null,1,1,1,1,1,null,null,1,"FF","FF","FF","FF",null,null,1,1,1,1,"ATM",null,null,"ATM","ATM","ATM","ATM","ATM",null,null,"ATM","ATM","ATM","ATM","ATM",null,null,"DIV","DIV","DIV","DIV","DIV",null,null,"FE","CA","CA",1,1,null,null,1,1,1,1,1,null,null,1,1,1,1,"FE",null,null,1,1,1,1,"FE",null,null,1,1,1,1,1,null,null,1,1,1,"FE",1,null,null,1,1,1,1,1,null,null,"FE",1,1,1,1,null,null,1,1,1,1,1,null,null,1,1,1,1,1,null,null,1,1,1,1,1,null,null,1,1,1,1,1,null,null,1,1,1,1,1,null,null,1,"FE",1,1,1,null,null,1,1,1,1,1,null,null,"CA_p","CA_p","CA_p","CA_p","CA_p",null,null,"CA_p","CA_p","CA_p","CA_p","CA_p",null,null,"CA_p","CA_p","CA_p","CA_p","CA_p","FE",null,1,1,1,1,1,null,null,1,1,1,1,1,null,null,1,1,1,1,1,null,null,1,1,1,1,1,null,null,1,1,1,1,1,null,null,1,1,1,1,1,null,null,1,1,1,1,1,null,null,1,1,1,1,1,null,null,1,1,1,1,1,null,null,1,1,1,1,1,null,null,1,1,1,1,1,null,"FE",1,1,1,1,1,null,null,1,1,"FE",1,1,null,null,1,1,1,1,1,null,null,1,1,1,1,1,null,null,1]
["c","1576680","BGC749","Agent",null,"MIXTE MATIN","AGENT",null,"FEUGA CHRISTIAN",100,null,1,1,1,1,1,null,null,1,1,1,"RPO","FF",null,null,"RPO","FF","FF","RPO","FF",null,null,"FF","FF",1,1,1,null,null,1,1,1,1,1,null,null,1,1,1,1,1,null,null,"FE",1,1,1,1,null,null,"CA_p","CA_p","CA_p","CA_p","CA_p",null,null,1,1,1,"FF","FE",null,null,"FF","FF","RPO","FF","FE",null,null,1,1,1,1,1,null,null,1,1,1,"FE","FF",null,null,1,1,1,1,1,null,null,"FE",1,1,1,1,null,null,1,1,1,1,1,null,null,1,1,1,1,1,null,null,1,1,1,1,1,null,null,1,1,1,1,1,null,null,1,1,1,1,1,null,null,1,"FE",1,1,1,null,null,1,1,1,1,1,null,null,1,1,1,1,1,null,null,1,1,1,1,1,null,null,1,1,1,1,1,"FE",null,1,1,1,1,1,null,null,1,1,1,1,1,null,null,"CA_p","CA_p","CA_p","CA_p","CA_p",null,null,"CA_p","CA_p","CA_p","CA_p","CA_p",null,null,"CA_p","CA_p","CA_p","CA_p","CA_p",null,null,1,1,1,1,1,null,null,1,1,1,1,1,null,null,1,1,1,1,1,null,null,1,1,1,1,1,null,null,1,1,1,1,1,null,null,1,1,1,1,1,null,"FE",1,1,1,1,1,null,null,1,1,"FE",1,1,null,null,1,1,1,1,1,null,null,1,1,1,1,1,null,null,1]
[null,"1706306","DJA107","Agent",null,"MIXTE MATIN","AGENT",null,"TOUCHE LAURENT",100,null,"CA","CA","CA","CA","CA",null,null,1,1,1,1,1,null,null,1,1,1,1,1,null,null,1,1,1,"DIV",1,null,null,1,1,1,1,1,null,null,1,1,1,1,1,null,null,"FE",1,1,1,1,null,null,1,1,1,1,"CA_p",null,null,1,"CA","CA","CA","FE",null,null,1,1,1,1,"FE",null,null,1,1,1,1,1,null,null,1,1,1,"FE","CA",null,null,1,1,1,1,1,null,null,"FE",1,1,1,1,null,null,1,1,1,1,1,null,null,1,1,1,1,1,null,null,1,1,1,1,1,null,null,1,1,1,1,1,null,null,"CA_p","CA_p","CA_p","CA_p","CA_p",null,null,"CA_p","FE","CA_p","CA_p","CA_p",null,null,1,1,1,1,1,null,null,1,1,1,1,1,null,null,1,1,1,1,1,null,null,1,1,1,1,1,"FE",null,1,1,1,1,1,null,null,1,1,1,1,1,null,null,1,1,1,1,1,null,null,1,1,1,1,1,null,null,1,1,1,1,1,null,null,1,1,1,1,1,null,null,1,1,1,1,1,null,null,1,1,1,1,1,null,null,1,1,1,1,1,null,null,1,1,1,1,1,null,null,1,1,1,1,1,null,"FE",1,1,1,1,1,null,null,1,1,"FE",1,1,null,null,1,1,1,1,1,null,null,1,1,1,1,1,null,null,1]
["c","1743310","WDR047","Agent",null,"MIXTE MATIN","AGENT",null,"BARTHELEMY THIERRY",100,null,1,"JASA",1,"GR",1,null,null,1,1,1,1,1,null,null,1,1,1,1,1,null,null,"CA","CA","CA","CA","CA",null,null,"CA","CA","CA","CA","CA",null,null,1,1,1,1,1,null,null,"FE",1,1,1,1,null,null,1,1,1,1,1,null,null,1,1,1,"RC","FE",null,null,"RC","RC","RC","RC","FE",null,null,1,1,1,1,1,null,null,1,1,1,"FE",1,null,null,1,1,1,1,1,null,null,"FE",1,1,1,1,null,null,1,1,1,1,1,null,null,1,1,1,1,1,null,null,1,1,1,1,1,null,null,1,1,1,1,1,null,null,"CA_p","CA_p","CA_p","CA_p","CA_p",null,null,"CA_p","FE","CA_p","CA_p","CA_p",null,null,"CA_p","CA_p","CA_p","CA_p","CA_p",null,null,1,1,1,1,1,null,null,1,1,1,1,1,null,null,1,1,1,1,1,"FE",null,1,1,1,1,1,null,null,1,1,1,1,1,null,null,1,1,1,1,1,null,null,1,1,1,1,1,null,null,1,1,1,1,1,null,null,1,1,1,1,1,null,null,1,1,1,1,1,null,null,1,1,1,1,1,null,null,1,1,1,1,1,null,null,1,1,1,1,1,null,null,1,1,1,1,1,null,"FE",1,1,1,1,1,null,null,1,1,"FE",1,1,null,null,1,1,1,1,1,null,null,1,1,1,1,1,null,null,1]
[null,"1697598","PRD097","Agent",null,"MIXTE SOCIALE","AGENT",null,"MAZET BERNARD",100,null,1,1,1,1,"CA",null,null,1,1,1,"ATM","ATM",null,null,1,"DIV",1,"DIV","DIV",null,null,"DIV","DIV",1,"DIV",1,null,null,1,1,"DIV","DIV","DIV",null,null,1,1,"DIV","DIV","DIV",null,null,"FE","DIV","DIV","DIV","DIV",null,null,"DIV","DIV","DIV","DIV","DIV",null,null,1,1,1,1,"FE",null,null,1,1,1,1,"FE",null,null,1,1,1,1,1,null,null,1,1,1,"FE",1,null,null,1,1,1,1,1,null,null,"FE",1,1,1,1,null,null,1,1,1,1,1,null,null,1,1,1,1,1,null,null,1,1,1,1,1,null,null,1,1,1,1,1,null,null,1,1,1,1,1,null,null,1,"FE",1,1,1,null,null,1,1,1,1,1,null,null,1,1,1,1,1,null,null,1,1,1,1,1,null,null,1,1,1,1,1,"FE",null,1,1,1,1,1,null,null,1,1,1,1,1,null,null,1,1,1,1,1,null,null,1,1,1,1,1,null,null,1,1,1,1,1,null,null,1,1,1,1,1,null,null,1,1,1,1,1,null,null,1,1,1,1,1,null,null,1,1,1,1,1,null,null,1,1,1,1,1,null,null,1,1,1,1,1,null,"FE",1,1,1,1,1,null,null,1,1,"FE",1,1,null,null,1,1,1,1,1,null,null,1,1,1,1,1,null,null,1]
[null,"1564736","TCD238","Agent",null,"MIXTE SOCIALE","AGENT",null,"LAVAUD JABEUR VERONIQUE",100,null,"ALM","ALM","ALM","ALM","ALM",null,null,"ALM","ALM","ALM","ALM","ALM",null,null,"ALM","ALM","ALM","ALM","ALM",null,null,"ALM","ALM","ALM","ALM","ALM",null,null,"ALM","ALM","ALM","ALM","ALM",null,null,"ALM","ALM","ALM","ALM","ALM",null,null,"FE","ALM","ALM","ALM","ALM",null,null,"ALM","ALM","ALM","ALM","ALM",null,null,"ALM","ALM","ALM","ALM","FE",null,null,"ALM","ALM","ALM","ALM","FE",null,null,"ALM","ALM","ALM","ALM","ALM",null,null,"ALM","ALM","ALM","FE","ALM",null,null,"ALM",1,1,1,1,null,null,"FE",1,1,1,1,null,null,1,1,1,1,1,null,null,1,1,1,1,1,null,null,1,1,1,1,1,null,null,1,1,1,1,1,null,null,1,1,1,1,1,null,null,1,"FE",1,1,1,null,null,1,1,1,1,1,null,null,1,1,1,1,1,null,null,1,1,1,1,1,null,null,1,1,1,1,1,"FE",null,1,1,1,1,1,null,null,1,1,1,1,1,null,null,1,1,1,1,1,null,null,1,1,1,1,1,null,null,1,1,1,1,1,null,null,1,1,1,1,1,null,null,1,1,1,1,1,null,null,1,1,1,1,1,null,null,1,1,1,1,1,null,null,1,1,1,1,1,null,null,1,1,1,1,1,null,"FE",1,1,1,1,1,null,null,1,1,"FE",1,1,null,null,1,1,1,1,1,null,null,1,1,1,1,1,null,null,1]